{"text_format":"1","workbook":"xlsx","n_sheets":1,"sheets":["Séries_Máq_Agri&Rodo"],"not_rendered":{"charts":0,"images":0,"macros":1,"external_links":2,"defined_names":6,"comments":0,"pivot_tables":0},"unopened":[],"bounds":{"document_bytes":16777216,"sheet_cells":100000,"rows_first":2000,"rows_last":500,"rows_between":2000,"halvings":0,"cell_chars":16384,"cell_head_chars":4096},"cells_cut":0,"cells_raw":0,"read":"whole","date_system":"1900"}

{"sheet":"Séries_Máq_Agri&Rodo","index":0,"n_rows":735,"n_cols":36,"rows_kept":735,"cut":false,"hidden":false,"merged":[[1,31,1,35],[1,1,1,5],[1,6,1,10],[1,11,1,15],[1,16,1,20],[1,21,1,25],[1,26,1,30]]}
[]
[null,"MÁQUINAS AGRÍCOLAS E RODOVIÁRIAS TOTAL",null,null,null,null,"TRATORES DE RODAS",null,null,null,null,"TRATORES DE ESTEIRAS",null,null,null,null,"CULTIVADORES MOTORIZADOS",null,null,null,null,"COLHEITADEIRAS DE GRÃOS",null,null,null,null,"COLHEDORAS DE CANA",null,null,null,null,"RETROESCAVADEIRAS"]
[null,"Vendas Total","Vendas Nacionais","Vendas Importados","Produção","Exportação",{"$f":"+B3","v":"Vendas Total"},{"$f":"+C3","v":"Vendas Nacionais"},"Vendas Importados","Produção","Exportação","Vendas Total","Vendas Nacionais","Vendas Importados","Produção","Exportação","Vendas Total","Vendas Nacionais","Vendas Importados","Produção","Exportação","Vendas Total","Vendas Nacionais","Vendas Importados","Produção","Exportação",{"$f":"+V3","v":"Vendas Total"},{"$f":"+W3","v":"Vendas Nacionais"},{"$f":"+X3","v":"Vendas Importados"},{"$f":"+Y3","v":"Produção"},{"$f":"+Z3","v":"Exportação"},{"$f":"+V3","v":"Vendas Total"},{"$f":"+W3","v":"Vendas Nacionais"},{"$f":"+X3","v":"Vendas Importados"},{"$f":"+Y3","v":"Produção"},{"$f":"+Z3","v":"Exportação"}]
["1960-01-01",{"$f":"+[2]Séries_Site!B6","v":1},{"$f":"+[2]Séries_Site!C6","v":1},{"$f":"+[2]Séries_Site!D6","v":0},{"$f":"+[2]Séries_Site!E6","v":1},{"$f":"+[2]Séries_Site!F6","v":0},{"$f":"+[2]Séries_Site!G6","v":1},{"$f":"+[2]Séries_Site!H6","v":1},{"$f":"+[2]Séries_Site!I6","v":0},{"$f":"+[2]Séries_Site!J6","v":1},{"$f":"+[2]Séries_Site!K6","v":0},{"$f":"+[2]Séries_Site!L6","v":0},{"$f":"+[2]Séries_Site!M6","v":0},{"$f":"+[2]Séries_Site!N6","v":0},{"$f":"+[2]Séries_Site!O6","v":0},{"$f":"+[2]Séries_Site!P6","v":0},{"$f":"+[2]Séries_Site!Q6","v":0},{"$f":"+[2]Séries_Site!R6","v":0},{"$f":"+[2]Séries_Site!S6","v":0},{"$f":"+[2]Séries_Site!T6","v":0},{"$f":"+[2]Séries_Site!U6","v":0},{"$f":"+[2]Séries_Site!V6","v":0},{"$f":"+[2]Séries_Site!W6","v":0},{"$f":"+[2]Séries_Site!X6","v":0},{"$f":"+[2]Séries_Site!Y6","v":0},{"$f":"+[2]Séries_Site!Z6","v":0},{"$f":"+[2]Séries_Site!AA6","v":0},{"$f":"+[2]Séries_Site!AB6","v":0},{"$f":"+[2]Séries_Site!AC6","v":0},{"$f":"+[2]Séries_Site!AD6","v":0},{"$f":"+[2]Séries_Site!AE6","v":0},{"$f":"+[2]Séries_Site!AF6","v":0},{"$f":"+[2]Séries_Site!AG6","v":0},{"$f":"+[2]Séries_Site!AH6","v":0},{"$f":"+[2]Séries_Site!AI6","v":0},{"$f":"+[2]Séries_Site!AJ6","v":0}]
["1960-02-01",{"$f":"+[2]Séries_Site!B7","v":2},{"$f":"+[2]Séries_Site!C7","v":2},{"$f":"+[2]Séries_Site!D7","v":0},{"$f":"+[2]Séries_Site!E7","v":2},{"$f":"+[2]Séries_Site!F7","v":0},{"$f":"+[2]Séries_Site!G7","v":2},{"$f":"+[2]Séries_Site!H7","v":2},{"$f":"+[2]Séries_Site!I7","v":0},{"$f":"+[2]Séries_Site!J7","v":2},{"$f":"+[2]Séries_Site!K7","v":0},{"$f":"+[2]Séries_Site!L7","v":0},{"$f":"+[2]Séries_Site!M7","v":0},{"$f":"+[2]Séries_Site!N7","v":0},{"$f":"+[2]Séries_Site!O7","v":0},{"$f":"+[2]Séries_Site!P7","v":0},{"$f":"+[2]Séries_Site!Q7","v":0},{"$f":"+[2]Séries_Site!R7","v":0},{"$f":"+[2]Séries_Site!S7","v":0},{"$f":"+[2]Séries_Site!T7","v":0},{"$f":"+[2]Séries_Site!U7","v":0},{"$f":"+[2]Séries_Site!V7","v":0},{"$f":"+[2]Séries_Site!W7","v":0},{"$f":"+[2]Séries_Site!X7","v":0},{"$f":"+[2]Séries_Site!Y7","v":0},{"$f":"+[2]Séries_Site!Z7","v":0},{"$f":"+[2]Séries_Site!AA7","v":0},{"$f":"+[2]Séries_Site!AB7","v":0},{"$f":"+[2]Séries_Site!AC7","v":0},{"$f":"+[2]Séries_Site!AD7","v":0},{"$f":"+[2]Séries_Site!AE7","v":0},{"$f":"+[2]Séries_Site!AF7","v":0},{"$f":"+[2]Séries_Site!AG7","v":0},{"$f":"+[2]Séries_Site!AH7","v":0},{"$f":"+[2]Séries_Site!AI7","v":0},{"$f":"+[2]Séries_Site!AJ7","v":0}]
["1960-03-01",{"$f":"+[2]Séries_Site!B8","v":3},{"$f":"+[2]Séries_Site!C8","v":3},{"$f":"+[2]Séries_Site!D8","v":0},{"$f":"+[2]Séries_Site!E8","v":3},{"$f":"+[2]Séries_Site!F8","v":0},{"$f":"+[2]Séries_Site!G8","v":3},{"$f":"+[2]Séries_Site!H8","v":3},{"$f":"+[2]Séries_Site!I8","v":0},{"$f":"+[2]Séries_Site!J8","v":3},{"$f":"+[2]Séries_Site!K8","v":0},{"$f":"+[2]Séries_Site!L8","v":0},{"$f":"+[2]Séries_Site!M8","v":0},{"$f":"+[2]Séries_Site!N8","v":0},{"$f":"+[2]Séries_Site!O8","v":0},{"$f":"+[2]Séries_Site!P8","v":0},{"$f":"+[2]Séries_Site!Q8","v":0},{"$f":"+[2]Séries_Site!R8","v":0},{"$f":"+[2]Séries_Site!S8","v":0},{"$f":"+[2]Séries_Site!T8","v":0},{"$f":"+[2]Séries_Site!U8","v":0},{"$f":"+[2]Séries_Site!V8","v":0},{"$f":"+[2]Séries_Site!W8","v":0},{"$f":"+[2]Séries_Site!X8","v":0},{"$f":"+[2]Séries_Site!Y8","v":0},{"$f":"+[2]Séries_Site!Z8","v":0},{"$f":"+[2]Séries_Site!AA8","v":0},{"$f":"+[2]Séries_Site!AB8","v":0},{"$f":"+[2]Séries_Site!AC8","v":0},{"$f":"+[2]Séries_Site!AD8","v":0},{"$f":"+[2]Séries_Site!AE8","v":0},{"$f":"+[2]Séries_Site!AF8","v":0},{"$f":"+[2]Séries_Site!AG8","v":0},{"$f":"+[2]Séries_Site!AH8","v":0},{"$f":"+[2]Séries_Site!AI8","v":0},{"$f":"+[2]Séries_Site!AJ8","v":0}]
["1960-04-01",{"$f":"+[2]Séries_Site!B9","v":2},{"$f":"+[2]Séries_Site!C9","v":2},{"$f":"+[2]Séries_Site!D9","v":0},{"$f":"+[2]Séries_Site!E9","v":2},{"$f":"+[2]Séries_Site!F9","v":0},{"$f":"+[2]Séries_Site!G9","v":2},{"$f":"+[2]Séries_Site!H9","v":2},{"$f":"+[2]Séries_Site!I9","v":0},{"$f":"+[2]Séries_Site!J9","v":2},{"$f":"+[2]Séries_Site!K9","v":0},{"$f":"+[2]Séries_Site!L9","v":0},{"$f":"+[2]Séries_Site!M9","v":0},{"$f":"+[2]Séries_Site!N9","v":0},{"$f":"+[2]Séries_Site!O9","v":0},{"$f":"+[2]Séries_Site!P9","v":0},{"$f":"+[2]Séries_Site!Q9","v":0},{"$f":"+[2]Séries_Site!R9","v":0},{"$f":"+[2]Séries_Site!S9","v":0},{"$f":"+[2]Séries_Site!T9","v":0},{"$f":"+[2]Séries_Site!U9","v":0},{"$f":"+[2]Séries_Site!V9","v":0},{"$f":"+[2]Séries_Site!W9","v":0},{"$f":"+[2]Séries_Site!X9","v":0},{"$f":"+[2]Séries_Site!Y9","v":0},{"$f":"+[2]Séries_Site!Z9","v":0},{"$f":"+[2]Séries_Site!AA9","v":0},{"$f":"+[2]Séries_Site!AB9","v":0},{"$f":"+[2]Séries_Site!AC9","v":0},{"$f":"+[2]Séries_Site!AD9","v":0},{"$f":"+[2]Séries_Site!AE9","v":0},{"$f":"+[2]Séries_Site!AF9","v":0},{"$f":"+[2]Séries_Site!AG9","v":0},{"$f":"+[2]Séries_Site!AH9","v":0},{"$f":"+[2]Séries_Site!AI9","v":0},{"$f":"+[2]Séries_Site!AJ9","v":0}]
["1960-05-01",{"$f":"+[2]Séries_Site!B10","v":4},{"$f":"+[2]Séries_Site!C10","v":4},{"$f":"+[2]Séries_Site!D10","v":0},{"$f":"+[2]Séries_Site!E10","v":4},{"$f":"+[2]Séries_Site!F10","v":0},{"$f":"+[2]Séries_Site!G10","v":4},{"$f":"+[2]Séries_Site!H10","v":4},{"$f":"+[2]Séries_Site!I10","v":0},{"$f":"+[2]Séries_Site!J10","v":4},{"$f":"+[2]Séries_Site!K10","v":0},{"$f":"+[2]Séries_Site!L10","v":0},{"$f":"+[2]Séries_Site!M10","v":0},{"$f":"+[2]Séries_Site!N10","v":0},{"$f":"+[2]Séries_Site!O10","v":0},{"$f":"+[2]Séries_Site!P10","v":0},{"$f":"+[2]Séries_Site!Q10","v":0},{"$f":"+[2]Séries_Site!R10","v":0},{"$f":"+[2]Séries_Site!S10","v":0},{"$f":"+[2]Séries_Site!T10","v":0},{"$f":"+[2]Séries_Site!U10","v":0},{"$f":"+[2]Séries_Site!V10","v":0},{"$f":"+[2]Séries_Site!W10","v":0},{"$f":"+[2]Séries_Site!X10","v":0},{"$f":"+[2]Séries_Site!Y10","v":0},{"$f":"+[2]Séries_Site!Z10","v":0},{"$f":"+[2]Séries_Site!AA10","v":0},{"$f":"+[2]Séries_Site!AB10","v":0},{"$f":"+[2]Séries_Site!AC10","v":0},{"$f":"+[2]Séries_Site!AD10","v":0},{"$f":"+[2]Séries_Site!AE10","v":0},{"$f":"+[2]Séries_Site!AF10","v":0},{"$f":"+[2]Séries_Site!AG10","v":0},{"$f":"+[2]Séries_Site!AH10","v":0},{"$f":"+[2]Séries_Site!AI10","v":0},{"$f":"+[2]Séries_Site!AJ10","v":0}]
["1960-06-01",{"$f":"+[2]Séries_Site!B11","v":5},{"$f":"+[2]Séries_Site!C11","v":5},{"$f":"+[2]Séries_Site!D11","v":0},{"$f":"+[2]Séries_Site!E11","v":5},{"$f":"+[2]Séries_Site!F11","v":0},{"$f":"+[2]Séries_Site!G11","v":5},{"$f":"+[2]Séries_Site!H11","v":5},{"$f":"+[2]Séries_Site!I11","v":0},{"$f":"+[2]Séries_Site!J11","v":5},{"$f":"+[2]Séries_Site!K11","v":0},{"$f":"+[2]Séries_Site!L11","v":0},{"$f":"+[2]Séries_Site!M11","v":0},{"$f":"+[2]Séries_Site!N11","v":0},{"$f":"+[2]Séries_Site!O11","v":0},{"$f":"+[2]Séries_Site!P11","v":0},{"$f":"+[2]Séries_Site!Q11","v":0},{"$f":"+[2]Séries_Site!R11","v":0},{"$f":"+[2]Séries_Site!S11","v":0},{"$f":"+[2]Séries_Site!T11","v":0},{"$f":"+[2]Séries_Site!U11","v":0},{"$f":"+[2]Séries_Site!V11","v":0},{"$f":"+[2]Séries_Site!W11","v":0},{"$f":"+[2]Séries_Site!X11","v":0},{"$f":"+[2]Séries_Site!Y11","v":0},{"$f":"+[2]Séries_Site!Z11","v":0},{"$f":"+[2]Séries_Site!AA11","v":0},{"$f":"+[2]Séries_Site!AB11","v":0},{"$f":"+[2]Séries_Site!AC11","v":0},{"$f":"+[2]Séries_Site!AD11","v":0},{"$f":"+[2]Séries_Site!AE11","v":0},{"$f":"+[2]Séries_Site!AF11","v":0},{"$f":"+[2]Séries_Site!AG11","v":0},{"$f":"+[2]Séries_Site!AH11","v":0},{"$f":"+[2]Séries_Site!AI11","v":0},{"$f":"+[2]Séries_Site!AJ11","v":0}]
["1960-07-01",{"$f":"+[2]Séries_Site!B12","v":5},{"$f":"+[2]Séries_Site!C12","v":5},{"$f":"+[2]Séries_Site!D12","v":0},{"$f":"+[2]Séries_Site!E12","v":5},{"$f":"+[2]Séries_Site!F12","v":0},{"$f":"+[2]Séries_Site!G12","v":5},{"$f":"+[2]Séries_Site!H12","v":5},{"$f":"+[2]Séries_Site!I12","v":0},{"$f":"+[2]Séries_Site!J12","v":5},{"$f":"+[2]Séries_Site!K12","v":0},{"$f":"+[2]Séries_Site!L12","v":0},{"$f":"+[2]Séries_Site!M12","v":0},{"$f":"+[2]Séries_Site!N12","v":0},{"$f":"+[2]Séries_Site!O12","v":0},{"$f":"+[2]Séries_Site!P12","v":0},{"$f":"+[2]Séries_Site!Q12","v":0},{"$f":"+[2]Séries_Site!R12","v":0},{"$f":"+[2]Séries_Site!S12","v":0},{"$f":"+[2]Séries_Site!T12","v":0},{"$f":"+[2]Séries_Site!U12","v":0},{"$f":"+[2]Séries_Site!V12","v":0},{"$f":"+[2]Séries_Site!W12","v":0},{"$f":"+[2]Séries_Site!X12","v":0},{"$f":"+[2]Séries_Site!Y12","v":0},{"$f":"+[2]Séries_Site!Z12","v":0},{"$f":"+[2]Séries_Site!AA12","v":0},{"$f":"+[2]Séries_Site!AB12","v":0},{"$f":"+[2]Séries_Site!AC12","v":0},{"$f":"+[2]Séries_Site!AD12","v":0},{"$f":"+[2]Séries_Site!AE12","v":0},{"$f":"+[2]Séries_Site!AF12","v":0},{"$f":"+[2]Séries_Site!AG12","v":0},{"$f":"+[2]Séries_Site!AH12","v":0},{"$f":"+[2]Séries_Site!AI12","v":0},{"$f":"+[2]Séries_Site!AJ12","v":0}]
["1960-08-01",{"$f":"+[2]Séries_Site!B13","v":5},{"$f":"+[2]Séries_Site!C13","v":5},{"$f":"+[2]Séries_Site!D13","v":0},{"$f":"+[2]Séries_Site!E13","v":5},{"$f":"+[2]Séries_Site!F13","v":0},{"$f":"+[2]Séries_Site!G13","v":5},{"$f":"+[2]Séries_Site!H13","v":5},{"$f":"+[2]Séries_Site!I13","v":0},{"$f":"+[2]Séries_Site!J13","v":5},{"$f":"+[2]Séries_Site!K13","v":0},{"$f":"+[2]Séries_Site!L13","v":0},{"$f":"+[2]Séries_Site!M13","v":0},{"$f":"+[2]Séries_Site!N13","v":0},{"$f":"+[2]Séries_Site!O13","v":0},{"$f":"+[2]Séries_Site!P13","v":0},{"$f":"+[2]Séries_Site!Q13","v":0},{"$f":"+[2]Séries_Site!R13","v":0},{"$f":"+[2]Séries_Site!S13","v":0},{"$f":"+[2]Séries_Site!T13","v":0},{"$f":"+[2]Séries_Site!U13","v":0},{"$f":"+[2]Séries_Site!V13","v":0},{"$f":"+[2]Séries_Site!W13","v":0},{"$f":"+[2]Séries_Site!X13","v":0},{"$f":"+[2]Séries_Site!Y13","v":0},{"$f":"+[2]Séries_Site!Z13","v":0},{"$f":"+[2]Séries_Site!AA13","v":0},{"$f":"+[2]Séries_Site!AB13","v":0},{"$f":"+[2]Séries_Site!AC13","v":0},{"$f":"+[2]Séries_Site!AD13","v":0},{"$f":"+[2]Séries_Site!AE13","v":0},{"$f":"+[2]Séries_Site!AF13","v":0},{"$f":"+[2]Séries_Site!AG13","v":0},{"$f":"+[2]Séries_Site!AH13","v":0},{"$f":"+[2]Séries_Site!AI13","v":0},{"$f":"+[2]Séries_Site!AJ13","v":0}]
["1960-09-01",{"$f":"+[2]Séries_Site!B14","v":4},{"$f":"+[2]Séries_Site!C14","v":4},{"$f":"+[2]Séries_Site!D14","v":0},{"$f":"+[2]Séries_Site!E14","v":4},{"$f":"+[2]Séries_Site!F14","v":0},{"$f":"+[2]Séries_Site!G14","v":4},{"$f":"+[2]Séries_Site!H14","v":4},{"$f":"+[2]Séries_Site!I14","v":0},{"$f":"+[2]Séries_Site!J14","v":4},{"$f":"+[2]Séries_Site!K14","v":0},{"$f":"+[2]Séries_Site!L14","v":0},{"$f":"+[2]Séries_Site!M14","v":0},{"$f":"+[2]Séries_Site!N14","v":0},{"$f":"+[2]Séries_Site!O14","v":0},{"$f":"+[2]Séries_Site!P14","v":0},{"$f":"+[2]Séries_Site!Q14","v":0},{"$f":"+[2]Séries_Site!R14","v":0},{"$f":"+[2]Séries_Site!S14","v":0},{"$f":"+[2]Séries_Site!T14","v":0},{"$f":"+[2]Séries_Site!U14","v":0},{"$f":"+[2]Séries_Site!V14","v":0},{"$f":"+[2]Séries_Site!W14","v":0},{"$f":"+[2]Séries_Site!X14","v":0},{"$f":"+[2]Séries_Site!Y14","v":0},{"$f":"+[2]Séries_Site!Z14","v":0},{"$f":"+[2]Séries_Site!AA14","v":0},{"$f":"+[2]Séries_Site!AB14","v":0},{"$f":"+[2]Séries_Site!AC14","v":0},{"$f":"+[2]Séries_Site!AD14","v":0},{"$f":"+[2]Séries_Site!AE14","v":0},{"$f":"+[2]Séries_Site!AF14","v":0},{"$f":"+[2]Séries_Site!AG14","v":0},{"$f":"+[2]Séries_Site!AH14","v":0},{"$f":"+[2]Séries_Site!AI14","v":0},{"$f":"+[2]Séries_Site!AJ14","v":0}]
["1960-10-01",{"$f":"+[2]Séries_Site!B15","v":4},{"$f":"+[2]Séries_Site!C15","v":4},{"$f":"+[2]Séries_Site!D15","v":0},{"$f":"+[2]Séries_Site!E15","v":4},{"$f":"+[2]Séries_Site!F15","v":0},{"$f":"+[2]Séries_Site!G15","v":4},{"$f":"+[2]Séries_Site!H15","v":4},{"$f":"+[2]Séries_Site!I15","v":0},{"$f":"+[2]Séries_Site!J15","v":4},{"$f":"+[2]Séries_Site!K15","v":0},{"$f":"+[2]Séries_Site!L15","v":0},{"$f":"+[2]Séries_Site!M15","v":0},{"$f":"+[2]Séries_Site!N15","v":0},{"$f":"+[2]Séries_Site!O15","v":0},{"$f":"+[2]Séries_Site!P15","v":0},{"$f":"+[2]Séries_Site!Q15","v":0},{"$f":"+[2]Séries_Site!R15","v":0},{"$f":"+[2]Séries_Site!S15","v":0},{"$f":"+[2]Séries_Site!T15","v":0},{"$f":"+[2]Séries_Site!U15","v":0},{"$f":"+[2]Séries_Site!V15","v":0},{"$f":"+[2]Séries_Site!W15","v":0},{"$f":"+[2]Séries_Site!X15","v":0},{"$f":"+[2]Séries_Site!Y15","v":0},{"$f":"+[2]Séries_Site!Z15","v":0},{"$f":"+[2]Séries_Site!AA15","v":0},{"$f":"+[2]Séries_Site!AB15","v":0},{"$f":"+[2]Séries_Site!AC15","v":0},{"$f":"+[2]Séries_Site!AD15","v":0},{"$f":"+[2]Séries_Site!AE15","v":0},{"$f":"+[2]Séries_Site!AF15","v":0},{"$f":"+[2]Séries_Site!AG15","v":0},{"$f":"+[2]Séries_Site!AH15","v":0},{"$f":"+[2]Séries_Site!AI15","v":0},{"$f":"+[2]Séries_Site!AJ15","v":0}]
["1960-11-01",{"$f":"+[2]Séries_Site!B16","v":1},{"$f":"+[2]Séries_Site!C16","v":1},{"$f":"+[2]Séries_Site!D16","v":0},{"$f":"+[2]Séries_Site!E16","v":1},{"$f":"+[2]Séries_Site!F16","v":0},{"$f":"+[2]Séries_Site!G16","v":1},{"$f":"+[2]Séries_Site!H16","v":1},{"$f":"+[2]Séries_Site!I16","v":0},{"$f":"+[2]Séries_Site!J16","v":1},{"$f":"+[2]Séries_Site!K16","v":0},{"$f":"+[2]Séries_Site!L16","v":0},{"$f":"+[2]Séries_Site!M16","v":0},{"$f":"+[2]Séries_Site!N16","v":0},{"$f":"+[2]Séries_Site!O16","v":0},{"$f":"+[2]Séries_Site!P16","v":0},{"$f":"+[2]Séries_Site!Q16","v":0},{"$f":"+[2]Séries_Site!R16","v":0},{"$f":"+[2]Séries_Site!S16","v":0},{"$f":"+[2]Séries_Site!T16","v":0},{"$f":"+[2]Séries_Site!U16","v":0},{"$f":"+[2]Séries_Site!V16","v":0},{"$f":"+[2]Séries_Site!W16","v":0},{"$f":"+[2]Séries_Site!X16","v":0},{"$f":"+[2]Séries_Site!Y16","v":0},{"$f":"+[2]Séries_Site!Z16","v":0},{"$f":"+[2]Séries_Site!AA16","v":0},{"$f":"+[2]Séries_Site!AB16","v":0},{"$f":"+[2]Séries_Site!AC16","v":0},{"$f":"+[2]Séries_Site!AD16","v":0},{"$f":"+[2]Séries_Site!AE16","v":0},{"$f":"+[2]Séries_Site!AF16","v":0},{"$f":"+[2]Séries_Site!AG16","v":0},{"$f":"+[2]Séries_Site!AH16","v":0},{"$f":"+[2]Séries_Site!AI16","v":0},{"$f":"+[2]Séries_Site!AJ16","v":0}]
["1960-12-01",{"$f":"+[2]Séries_Site!B17","v":1},{"$f":"+[2]Séries_Site!C17","v":1},{"$f":"+[2]Séries_Site!D17","v":0},{"$f":"+[2]Séries_Site!E17","v":1},{"$f":"+[2]Séries_Site!F17","v":0},{"$f":"+[2]Séries_Site!G17","v":1},{"$f":"+[2]Séries_Site!H17","v":1},{"$f":"+[2]Séries_Site!I17","v":0},{"$f":"+[2]Séries_Site!J17","v":1},{"$f":"+[2]Séries_Site!K17","v":0},{"$f":"+[2]Séries_Site!L17","v":0},{"$f":"+[2]Séries_Site!M17","v":0},{"$f":"+[2]Séries_Site!N17","v":0},{"$f":"+[2]Séries_Site!O17","v":0},{"$f":"+[2]Séries_Site!P17","v":0},{"$f":"+[2]Séries_Site!Q17","v":0},{"$f":"+[2]Séries_Site!R17","v":0},{"$f":"+[2]Séries_Site!S17","v":0},{"$f":"+[2]Séries_Site!T17","v":0},{"$f":"+[2]Séries_Site!U17","v":0},{"$f":"+[2]Séries_Site!V17","v":0},{"$f":"+[2]Séries_Site!W17","v":0},{"$f":"+[2]Séries_Site!X17","v":0},{"$f":"+[2]Séries_Site!Y17","v":0},{"$f":"+[2]Séries_Site!Z17","v":0},{"$f":"+[2]Séries_Site!AA17","v":0},{"$f":"+[2]Séries_Site!AB17","v":0},{"$f":"+[2]Séries_Site!AC17","v":0},{"$f":"+[2]Séries_Site!AD17","v":0},{"$f":"+[2]Séries_Site!AE17","v":0},{"$f":"+[2]Séries_Site!AF17","v":0},{"$f":"+[2]Séries_Site!AG17","v":0},{"$f":"+[2]Séries_Site!AH17","v":0},{"$f":"+[2]Séries_Site!AI17","v":0},{"$f":"+[2]Séries_Site!AJ17","v":0}]
["1961-01-01",{"$f":"+[2]Séries_Site!B18","v":239},{"$f":"+[2]Séries_Site!C18","v":239},{"$f":"+[2]Séries_Site!D18","v":0},{"$f":"+[2]Séries_Site!E18","v":239},{"$f":"+[2]Séries_Site!F18","v":0},{"$f":"+[2]Séries_Site!G18","v":183},{"$f":"+[2]Séries_Site!H18","v":183},{"$f":"+[2]Séries_Site!I18","v":0},{"$f":"+[2]Séries_Site!J18","v":183},{"$f":"+[2]Séries_Site!K18","v":0},{"$f":"+[2]Séries_Site!L18","v":0},{"$f":"+[2]Séries_Site!M18","v":0},{"$f":"+[2]Séries_Site!N18","v":0},{"$f":"+[2]Séries_Site!O18","v":0},{"$f":"+[2]Séries_Site!P18","v":0},{"$f":"+[2]Séries_Site!Q18","v":56},{"$f":"+[2]Séries_Site!R18","v":56},{"$f":"+[2]Séries_Site!S18","v":0},{"$f":"+[2]Séries_Site!T18","v":56},{"$f":"+[2]Séries_Site!U18","v":0},{"$f":"+[2]Séries_Site!V18","v":0},{"$f":"+[2]Séries_Site!W18","v":0},{"$f":"+[2]Séries_Site!X18","v":0},{"$f":"+[2]Séries_Site!Y18","v":0},{"$f":"+[2]Séries_Site!Z18","v":0},{"$f":"+[2]Séries_Site!AA18","v":0},{"$f":"+[2]Séries_Site!AB18","v":0},{"$f":"+[2]Séries_Site!AC18","v":0},{"$f":"+[2]Séries_Site!AD18","v":0},{"$f":"+[2]Séries_Site!AE18","v":0},{"$f":"+[2]Séries_Site!AF18","v":0},{"$f":"+[2]Séries_Site!AG18","v":0},{"$f":"+[2]Séries_Site!AH18","v":0},{"$f":"+[2]Séries_Site!AI18","v":0},{"$f":"+[2]Séries_Site!AJ18","v":0}]
["1961-02-01",{"$f":"+[2]Séries_Site!B19","v":256},{"$f":"+[2]Séries_Site!C19","v":256},{"$f":"+[2]Séries_Site!D19","v":0},{"$f":"+[2]Séries_Site!E19","v":256},{"$f":"+[2]Séries_Site!F19","v":0},{"$f":"+[2]Séries_Site!G19","v":200},{"$f":"+[2]Séries_Site!H19","v":200},{"$f":"+[2]Séries_Site!I19","v":0},{"$f":"+[2]Séries_Site!J19","v":200},{"$f":"+[2]Séries_Site!K19","v":0},{"$f":"+[2]Séries_Site!L19","v":0},{"$f":"+[2]Séries_Site!M19","v":0},{"$f":"+[2]Séries_Site!N19","v":0},{"$f":"+[2]Séries_Site!O19","v":0},{"$f":"+[2]Séries_Site!P19","v":0},{"$f":"+[2]Séries_Site!Q19","v":56},{"$f":"+[2]Séries_Site!R19","v":56},{"$f":"+[2]Séries_Site!S19","v":0},{"$f":"+[2]Séries_Site!T19","v":56},{"$f":"+[2]Séries_Site!U19","v":0},{"$f":"+[2]Séries_Site!V19","v":0},{"$f":"+[2]Séries_Site!W19","v":0},{"$f":"+[2]Séries_Site!X19","v":0},{"$f":"+[2]Séries_Site!Y19","v":0},{"$f":"+[2]Séries_Site!Z19","v":0},{"$f":"+[2]Séries_Site!AA19","v":0},{"$f":"+[2]Séries_Site!AB19","v":0},{"$f":"+[2]Séries_Site!AC19","v":0},{"$f":"+[2]Séries_Site!AD19","v":0},{"$f":"+[2]Séries_Site!AE19","v":0},{"$f":"+[2]Séries_Site!AF19","v":0},{"$f":"+[2]Séries_Site!AG19","v":0},{"$f":"+[2]Séries_Site!AH19","v":0},{"$f":"+[2]Séries_Site!AI19","v":0},{"$f":"+[2]Séries_Site!AJ19","v":0}]
["1961-03-01",{"$f":"+[2]Séries_Site!B20","v":231},{"$f":"+[2]Séries_Site!C20","v":231},{"$f":"+[2]Séries_Site!D20","v":0},{"$f":"+[2]Séries_Site!E20","v":231},{"$f":"+[2]Séries_Site!F20","v":0},{"$f":"+[2]Séries_Site!G20","v":175},{"$f":"+[2]Séries_Site!H20","v":175},{"$f":"+[2]Séries_Site!I20","v":0},{"$f":"+[2]Séries_Site!J20","v":175},{"$f":"+[2]Séries_Site!K20","v":0},{"$f":"+[2]Séries_Site!L20","v":0},{"$f":"+[2]Séries_Site!M20","v":0},{"$f":"+[2]Séries_Site!N20","v":0},{"$f":"+[2]Séries_Site!O20","v":0},{"$f":"+[2]Séries_Site!P20","v":0},{"$f":"+[2]Séries_Site!Q20","v":56},{"$f":"+[2]Séries_Site!R20","v":56},{"$f":"+[2]Séries_Site!S20","v":0},{"$f":"+[2]Séries_Site!T20","v":56},{"$f":"+[2]Séries_Site!U20","v":0},{"$f":"+[2]Séries_Site!V20","v":0},{"$f":"+[2]Séries_Site!W20","v":0},{"$f":"+[2]Séries_Site!X20","v":0},{"$f":"+[2]Séries_Site!Y20","v":0},{"$f":"+[2]Séries_Site!Z20","v":0},{"$f":"+[2]Séries_Site!AA20","v":0},{"$f":"+[2]Séries_Site!AB20","v":0},{"$f":"+[2]Séries_Site!AC20","v":0},{"$f":"+[2]Séries_Site!AD20","v":0},{"$f":"+[2]Séries_Site!AE20","v":0},{"$f":"+[2]Séries_Site!AF20","v":0},{"$f":"+[2]Séries_Site!AG20","v":0},{"$f":"+[2]Séries_Site!AH20","v":0},{"$f":"+[2]Séries_Site!AI20","v":0},{"$f":"+[2]Séries_Site!AJ20","v":0}]
["1961-04-01",{"$f":"+[2]Séries_Site!B21","v":178},{"$f":"+[2]Séries_Site!C21","v":178},{"$f":"+[2]Séries_Site!D21","v":0},{"$f":"+[2]Séries_Site!E21","v":178},{"$f":"+[2]Séries_Site!F21","v":0},{"$f":"+[2]Séries_Site!G21","v":118},{"$f":"+[2]Séries_Site!H21","v":118},{"$f":"+[2]Séries_Site!I21","v":0},{"$f":"+[2]Séries_Site!J21","v":118},{"$f":"+[2]Séries_Site!K21","v":0},{"$f":"+[2]Séries_Site!L21","v":0},{"$f":"+[2]Séries_Site!M21","v":0},{"$f":"+[2]Séries_Site!N21","v":0},{"$f":"+[2]Séries_Site!O21","v":0},{"$f":"+[2]Séries_Site!P21","v":0},{"$f":"+[2]Séries_Site!Q21","v":60},{"$f":"+[2]Séries_Site!R21","v":60},{"$f":"+[2]Séries_Site!S21","v":0},{"$f":"+[2]Séries_Site!T21","v":60},{"$f":"+[2]Séries_Site!U21","v":0},{"$f":"+[2]Séries_Site!V21","v":0},{"$f":"+[2]Séries_Site!W21","v":0},{"$f":"+[2]Séries_Site!X21","v":0},{"$f":"+[2]Séries_Site!Y21","v":0},{"$f":"+[2]Séries_Site!Z21","v":0},{"$f":"+[2]Séries_Site!AA21","v":0},{"$f":"+[2]Séries_Site!AB21","v":0},{"$f":"+[2]Séries_Site!AC21","v":0},{"$f":"+[2]Séries_Site!AD21","v":0},{"$f":"+[2]Séries_Site!AE21","v":0},{"$f":"+[2]Séries_Site!AF21","v":0},{"$f":"+[2]Séries_Site!AG21","v":0},{"$f":"+[2]Séries_Site!AH21","v":0},{"$f":"+[2]Séries_Site!AI21","v":0},{"$f":"+[2]Séries_Site!AJ21","v":0}]
["1961-05-01",{"$f":"+[2]Séries_Site!B22","v":161},{"$f":"+[2]Séries_Site!C22","v":161},{"$f":"+[2]Séries_Site!D22","v":0},{"$f":"+[2]Séries_Site!E22","v":169},{"$f":"+[2]Séries_Site!F22","v":0},{"$f":"+[2]Séries_Site!G22","v":101},{"$f":"+[2]Séries_Site!H22","v":101},{"$f":"+[2]Séries_Site!I22","v":0},{"$f":"+[2]Séries_Site!J22","v":101},{"$f":"+[2]Séries_Site!K22","v":0},{"$f":"+[2]Séries_Site!L22","v":0},{"$f":"+[2]Séries_Site!M22","v":0},{"$f":"+[2]Séries_Site!N22","v":0},{"$f":"+[2]Séries_Site!O22","v":0},{"$f":"+[2]Séries_Site!P22","v":0},{"$f":"+[2]Séries_Site!Q22","v":60},{"$f":"+[2]Séries_Site!R22","v":60},{"$f":"+[2]Séries_Site!S22","v":0},{"$f":"+[2]Séries_Site!T22","v":68},{"$f":"+[2]Séries_Site!U22","v":0},{"$f":"+[2]Séries_Site!V22","v":0},{"$f":"+[2]Séries_Site!W22","v":0},{"$f":"+[2]Séries_Site!X22","v":0},{"$f":"+[2]Séries_Site!Y22","v":0},{"$f":"+[2]Séries_Site!Z22","v":0},{"$f":"+[2]Séries_Site!AA22","v":0},{"$f":"+[2]Séries_Site!AB22","v":0},{"$f":"+[2]Séries_Site!AC22","v":0},{"$f":"+[2]Séries_Site!AD22","v":0},{"$f":"+[2]Séries_Site!AE22","v":0},{"$f":"+[2]Séries_Site!AF22","v":0},{"$f":"+[2]Séries_Site!AG22","v":0},{"$f":"+[2]Séries_Site!AH22","v":0},{"$f":"+[2]Séries_Site!AI22","v":0},{"$f":"+[2]Séries_Site!AJ22","v":0}]
["1961-06-01",{"$f":"+[2]Séries_Site!B23","v":252},{"$f":"+[2]Séries_Site!C23","v":252},{"$f":"+[2]Séries_Site!D23","v":0},{"$f":"+[2]Séries_Site!E23","v":252},{"$f":"+[2]Séries_Site!F23","v":0},{"$f":"+[2]Séries_Site!G23","v":184},{"$f":"+[2]Séries_Site!H23","v":184},{"$f":"+[2]Séries_Site!I23","v":0},{"$f":"+[2]Séries_Site!J23","v":184},{"$f":"+[2]Séries_Site!K23","v":0},{"$f":"+[2]Séries_Site!L23","v":0},{"$f":"+[2]Séries_Site!M23","v":0},{"$f":"+[2]Séries_Site!N23","v":0},{"$f":"+[2]Séries_Site!O23","v":0},{"$f":"+[2]Séries_Site!P23","v":0},{"$f":"+[2]Séries_Site!Q23","v":68},{"$f":"+[2]Séries_Site!R23","v":68},{"$f":"+[2]Séries_Site!S23","v":0},{"$f":"+[2]Séries_Site!T23","v":68},{"$f":"+[2]Séries_Site!U23","v":0},{"$f":"+[2]Séries_Site!V23","v":0},{"$f":"+[2]Séries_Site!W23","v":0},{"$f":"+[2]Séries_Site!X23","v":0},{"$f":"+[2]Séries_Site!Y23","v":0},{"$f":"+[2]Séries_Site!Z23","v":0},{"$f":"+[2]Séries_Site!AA23","v":0},{"$f":"+[2]Séries_Site!AB23","v":0},{"$f":"+[2]Séries_Site!AC23","v":0},{"$f":"+[2]Séries_Site!AD23","v":0},{"$f":"+[2]Séries_Site!AE23","v":0},{"$f":"+[2]Séries_Site!AF23","v":0},{"$f":"+[2]Séries_Site!AG23","v":0},{"$f":"+[2]Séries_Site!AH23","v":0},{"$f":"+[2]Séries_Site!AI23","v":0},{"$f":"+[2]Séries_Site!AJ23","v":0}]
["1961-07-01",{"$f":"+[2]Séries_Site!B24","v":107},{"$f":"+[2]Séries_Site!C24","v":107},{"$f":"+[2]Séries_Site!D24","v":0},{"$f":"+[2]Séries_Site!E24","v":107},{"$f":"+[2]Séries_Site!F24","v":0},{"$f":"+[2]Séries_Site!G24","v":39},{"$f":"+[2]Séries_Site!H24","v":39},{"$f":"+[2]Séries_Site!I24","v":0},{"$f":"+[2]Séries_Site!J24","v":39},{"$f":"+[2]Séries_Site!K24","v":0},{"$f":"+[2]Séries_Site!L24","v":0},{"$f":"+[2]Séries_Site!M24","v":0},{"$f":"+[2]Séries_Site!N24","v":0},{"$f":"+[2]Séries_Site!O24","v":0},{"$f":"+[2]Séries_Site!P24","v":0},{"$f":"+[2]Séries_Site!Q24","v":68},{"$f":"+[2]Séries_Site!R24","v":68},{"$f":"+[2]Séries_Site!S24","v":0},{"$f":"+[2]Séries_Site!T24","v":68},{"$f":"+[2]Séries_Site!U24","v":0},{"$f":"+[2]Séries_Site!V24","v":0},{"$f":"+[2]Séries_Site!W24","v":0},{"$f":"+[2]Séries_Site!X24","v":0},{"$f":"+[2]Séries_Site!Y24","v":0},{"$f":"+[2]Séries_Site!Z24","v":0},{"$f":"+[2]Séries_Site!AA24","v":0},{"$f":"+[2]Séries_Site!AB24","v":0},{"$f":"+[2]Séries_Site!AC24","v":0},{"$f":"+[2]Séries_Site!AD24","v":0},{"$f":"+[2]Séries_Site!AE24","v":0},{"$f":"+[2]Séries_Site!AF24","v":0},{"$f":"+[2]Séries_Site!AG24","v":0},{"$f":"+[2]Séries_Site!AH24","v":0},{"$f":"+[2]Séries_Site!AI24","v":0},{"$f":"+[2]Séries_Site!AJ24","v":0}]
["1961-08-01",{"$f":"+[2]Séries_Site!B25","v":263},{"$f":"+[2]Séries_Site!C25","v":263},{"$f":"+[2]Séries_Site!D25","v":0},{"$f":"+[2]Séries_Site!E25","v":263},{"$f":"+[2]Séries_Site!F25","v":0},{"$f":"+[2]Séries_Site!G25","v":195},{"$f":"+[2]Séries_Site!H25","v":195},{"$f":"+[2]Séries_Site!I25","v":0},{"$f":"+[2]Séries_Site!J25","v":195},{"$f":"+[2]Séries_Site!K25","v":0},{"$f":"+[2]Séries_Site!L25","v":0},{"$f":"+[2]Séries_Site!M25","v":0},{"$f":"+[2]Séries_Site!N25","v":0},{"$f":"+[2]Séries_Site!O25","v":0},{"$f":"+[2]Séries_Site!P25","v":0},{"$f":"+[2]Séries_Site!Q25","v":68},{"$f":"+[2]Séries_Site!R25","v":68},{"$f":"+[2]Séries_Site!S25","v":0},{"$f":"+[2]Séries_Site!T25","v":68},{"$f":"+[2]Séries_Site!U25","v":0},{"$f":"+[2]Séries_Site!V25","v":0},{"$f":"+[2]Séries_Site!W25","v":0},{"$f":"+[2]Séries_Site!X25","v":0},{"$f":"+[2]Séries_Site!Y25","v":0},{"$f":"+[2]Séries_Site!Z25","v":0},{"$f":"+[2]Séries_Site!AA25","v":0},{"$f":"+[2]Séries_Site!AB25","v":0},{"$f":"+[2]Séries_Site!AC25","v":0},{"$f":"+[2]Séries_Site!AD25","v":0},{"$f":"+[2]Séries_Site!AE25","v":0},{"$f":"+[2]Séries_Site!AF25","v":0},{"$f":"+[2]Séries_Site!AG25","v":0},{"$f":"+[2]Séries_Site!AH25","v":0},{"$f":"+[2]Séries_Site!AI25","v":0},{"$f":"+[2]Séries_Site!AJ25","v":0}]
["1961-09-01",{"$f":"+[2]Séries_Site!B26","v":192},{"$f":"+[2]Séries_Site!C26","v":192},{"$f":"+[2]Séries_Site!D26","v":0},{"$f":"+[2]Séries_Site!E26","v":192},{"$f":"+[2]Séries_Site!F26","v":0},{"$f":"+[2]Séries_Site!G26","v":124},{"$f":"+[2]Séries_Site!H26","v":124},{"$f":"+[2]Séries_Site!I26","v":0},{"$f":"+[2]Séries_Site!J26","v":124},{"$f":"+[2]Séries_Site!K26","v":0},{"$f":"+[2]Séries_Site!L26","v":0},{"$f":"+[2]Séries_Site!M26","v":0},{"$f":"+[2]Séries_Site!N26","v":0},{"$f":"+[2]Séries_Site!O26","v":0},{"$f":"+[2]Séries_Site!P26","v":0},{"$f":"+[2]Séries_Site!Q26","v":68},{"$f":"+[2]Séries_Site!R26","v":68},{"$f":"+[2]Séries_Site!S26","v":0},{"$f":"+[2]Séries_Site!T26","v":68},{"$f":"+[2]Séries_Site!U26","v":0},{"$f":"+[2]Séries_Site!V26","v":0},{"$f":"+[2]Séries_Site!W26","v":0},{"$f":"+[2]Séries_Site!X26","v":0},{"$f":"+[2]Séries_Site!Y26","v":0},{"$f":"+[2]Séries_Site!Z26","v":0},{"$f":"+[2]Séries_Site!AA26","v":0},{"$f":"+[2]Séries_Site!AB26","v":0},{"$f":"+[2]Séries_Site!AC26","v":0},{"$f":"+[2]Séries_Site!AD26","v":0},{"$f":"+[2]Séries_Site!AE26","v":0},{"$f":"+[2]Séries_Site!AF26","v":0},{"$f":"+[2]Séries_Site!AG26","v":0},{"$f":"+[2]Séries_Site!AH26","v":0},{"$f":"+[2]Séries_Site!AI26","v":0},{"$f":"+[2]Séries_Site!AJ26","v":0}]
["1961-10-01",{"$f":"+[2]Séries_Site!B27","v":191},{"$f":"+[2]Séries_Site!C27","v":191},{"$f":"+[2]Séries_Site!D27","v":0},{"$f":"+[2]Séries_Site!E27","v":183},{"$f":"+[2]Séries_Site!F27","v":0},{"$f":"+[2]Séries_Site!G27","v":123},{"$f":"+[2]Séries_Site!H27","v":123},{"$f":"+[2]Séries_Site!I27","v":0},{"$f":"+[2]Séries_Site!J27","v":123},{"$f":"+[2]Séries_Site!K27","v":0},{"$f":"+[2]Séries_Site!L27","v":0},{"$f":"+[2]Séries_Site!M27","v":0},{"$f":"+[2]Séries_Site!N27","v":0},{"$f":"+[2]Séries_Site!O27","v":0},{"$f":"+[2]Séries_Site!P27","v":0},{"$f":"+[2]Séries_Site!Q27","v":68},{"$f":"+[2]Séries_Site!R27","v":68},{"$f":"+[2]Séries_Site!S27","v":0},{"$f":"+[2]Séries_Site!T27","v":60},{"$f":"+[2]Séries_Site!U27","v":0},{"$f":"+[2]Séries_Site!V27","v":0},{"$f":"+[2]Séries_Site!W27","v":0},{"$f":"+[2]Séries_Site!X27","v":0},{"$f":"+[2]Séries_Site!Y27","v":0},{"$f":"+[2]Séries_Site!Z27","v":0},{"$f":"+[2]Séries_Site!AA27","v":0},{"$f":"+[2]Séries_Site!AB27","v":0},{"$f":"+[2]Séries_Site!AC27","v":0},{"$f":"+[2]Séries_Site!AD27","v":0},{"$f":"+[2]Séries_Site!AE27","v":0},{"$f":"+[2]Séries_Site!AF27","v":0},{"$f":"+[2]Séries_Site!AG27","v":0},{"$f":"+[2]Séries_Site!AH27","v":0},{"$f":"+[2]Séries_Site!AI27","v":0},{"$f":"+[2]Séries_Site!AJ27","v":0}]
["1961-11-01",{"$f":"+[2]Séries_Site!B28","v":173},{"$f":"+[2]Séries_Site!C28","v":173},{"$f":"+[2]Séries_Site!D28","v":0},{"$f":"+[2]Séries_Site!E28","v":173},{"$f":"+[2]Séries_Site!F28","v":0},{"$f":"+[2]Séries_Site!G28","v":113},{"$f":"+[2]Séries_Site!H28","v":113},{"$f":"+[2]Séries_Site!I28","v":0},{"$f":"+[2]Séries_Site!J28","v":113},{"$f":"+[2]Séries_Site!K28","v":0},{"$f":"+[2]Séries_Site!L28","v":0},{"$f":"+[2]Séries_Site!M28","v":0},{"$f":"+[2]Séries_Site!N28","v":0},{"$f":"+[2]Séries_Site!O28","v":0},{"$f":"+[2]Séries_Site!P28","v":0},{"$f":"+[2]Séries_Site!Q28","v":60},{"$f":"+[2]Séries_Site!R28","v":60},{"$f":"+[2]Séries_Site!S28","v":0},{"$f":"+[2]Séries_Site!T28","v":60},{"$f":"+[2]Séries_Site!U28","v":0},{"$f":"+[2]Séries_Site!V28","v":0},{"$f":"+[2]Séries_Site!W28","v":0},{"$f":"+[2]Séries_Site!X28","v":0},{"$f":"+[2]Séries_Site!Y28","v":0},{"$f":"+[2]Séries_Site!Z28","v":0},{"$f":"+[2]Séries_Site!AA28","v":0},{"$f":"+[2]Séries_Site!AB28","v":0},{"$f":"+[2]Séries_Site!AC28","v":0},{"$f":"+[2]Séries_Site!AD28","v":0},{"$f":"+[2]Séries_Site!AE28","v":0},{"$f":"+[2]Séries_Site!AF28","v":0},{"$f":"+[2]Séries_Site!AG28","v":0},{"$f":"+[2]Séries_Site!AH28","v":0},{"$f":"+[2]Séries_Site!AI28","v":0},{"$f":"+[2]Séries_Site!AJ28","v":0}]
["1961-12-01",{"$f":"+[2]Séries_Site!B29","v":187},{"$f":"+[2]Séries_Site!C29","v":187},{"$f":"+[2]Séries_Site!D29","v":0},{"$f":"+[2]Séries_Site!E29","v":187},{"$f":"+[2]Séries_Site!F29","v":0},{"$f":"+[2]Séries_Site!G29","v":124},{"$f":"+[2]Séries_Site!H29","v":124},{"$f":"+[2]Séries_Site!I29","v":0},{"$f":"+[2]Séries_Site!J29","v":124},{"$f":"+[2]Séries_Site!K29","v":0},{"$f":"+[2]Séries_Site!L29","v":0},{"$f":"+[2]Séries_Site!M29","v":0},{"$f":"+[2]Séries_Site!N29","v":0},{"$f":"+[2]Séries_Site!O29","v":0},{"$f":"+[2]Séries_Site!P29","v":0},{"$f":"+[2]Séries_Site!Q29","v":63},{"$f":"+[2]Séries_Site!R29","v":63},{"$f":"+[2]Séries_Site!S29","v":0},{"$f":"+[2]Séries_Site!T29","v":63},{"$f":"+[2]Séries_Site!U29","v":0},{"$f":"+[2]Séries_Site!V29","v":0},{"$f":"+[2]Séries_Site!W29","v":0},{"$f":"+[2]Séries_Site!X29","v":0},{"$f":"+[2]Séries_Site!Y29","v":0},{"$f":"+[2]Séries_Site!Z29","v":0},{"$f":"+[2]Séries_Site!AA29","v":0},{"$f":"+[2]Séries_Site!AB29","v":0},{"$f":"+[2]Séries_Site!AC29","v":0},{"$f":"+[2]Séries_Site!AD29","v":0},{"$f":"+[2]Séries_Site!AE29","v":0},{"$f":"+[2]Séries_Site!AF29","v":0},{"$f":"+[2]Séries_Site!AG29","v":0},{"$f":"+[2]Séries_Site!AH29","v":0},{"$f":"+[2]Séries_Site!AI29","v":0},{"$f":"+[2]Séries_Site!AJ29","v":0}]
["1962-01-01",{"$f":"+[2]Séries_Site!B30","v":812},{"$f":"+[2]Séries_Site!C30","v":812},{"$f":"+[2]Séries_Site!D30","v":0},{"$f":"+[2]Séries_Site!E30","v":812},{"$f":"+[2]Séries_Site!F30","v":0},{"$f":"+[2]Séries_Site!G30","v":719},{"$f":"+[2]Séries_Site!H30","v":719},{"$f":"+[2]Séries_Site!I30","v":0},{"$f":"+[2]Séries_Site!J30","v":719},{"$f":"+[2]Séries_Site!K30","v":0},{"$f":"+[2]Séries_Site!L30","v":0},{"$f":"+[2]Séries_Site!M30","v":0},{"$f":"+[2]Séries_Site!N30","v":0},{"$f":"+[2]Séries_Site!O30","v":0},{"$f":"+[2]Séries_Site!P30","v":0},{"$f":"+[2]Séries_Site!Q30","v":93},{"$f":"+[2]Séries_Site!R30","v":93},{"$f":"+[2]Séries_Site!S30","v":0},{"$f":"+[2]Séries_Site!T30","v":93},{"$f":"+[2]Séries_Site!U30","v":0},{"$f":"+[2]Séries_Site!V30","v":0},{"$f":"+[2]Séries_Site!W30","v":0},{"$f":"+[2]Séries_Site!X30","v":0},{"$f":"+[2]Séries_Site!Y30","v":0},{"$f":"+[2]Séries_Site!Z30","v":0},{"$f":"+[2]Séries_Site!AA30","v":0},{"$f":"+[2]Séries_Site!AB30","v":0},{"$f":"+[2]Séries_Site!AC30","v":0},{"$f":"+[2]Séries_Site!AD30","v":0},{"$f":"+[2]Séries_Site!AE30","v":0},{"$f":"+[2]Séries_Site!AF30","v":0},{"$f":"+[2]Séries_Site!AG30","v":0},{"$f":"+[2]Séries_Site!AH30","v":0},{"$f":"+[2]Séries_Site!AI30","v":0},{"$f":"+[2]Séries_Site!AJ30","v":0}]
["1962-02-01",{"$f":"+[2]Séries_Site!B31","v":802},{"$f":"+[2]Séries_Site!C31","v":802},{"$f":"+[2]Séries_Site!D31","v":0},{"$f":"+[2]Séries_Site!E31","v":802},{"$f":"+[2]Séries_Site!F31","v":0},{"$f":"+[2]Séries_Site!G31","v":709},{"$f":"+[2]Séries_Site!H31","v":709},{"$f":"+[2]Séries_Site!I31","v":0},{"$f":"+[2]Séries_Site!J31","v":709},{"$f":"+[2]Séries_Site!K31","v":0},{"$f":"+[2]Séries_Site!L31","v":0},{"$f":"+[2]Séries_Site!M31","v":0},{"$f":"+[2]Séries_Site!N31","v":0},{"$f":"+[2]Séries_Site!O31","v":0},{"$f":"+[2]Séries_Site!P31","v":0},{"$f":"+[2]Séries_Site!Q31","v":93},{"$f":"+[2]Séries_Site!R31","v":93},{"$f":"+[2]Séries_Site!S31","v":0},{"$f":"+[2]Séries_Site!T31","v":93},{"$f":"+[2]Séries_Site!U31","v":0},{"$f":"+[2]Séries_Site!V31","v":0},{"$f":"+[2]Séries_Site!W31","v":0},{"$f":"+[2]Séries_Site!X31","v":0},{"$f":"+[2]Séries_Site!Y31","v":0},{"$f":"+[2]Séries_Site!Z31","v":0},{"$f":"+[2]Séries_Site!AA31","v":0},{"$f":"+[2]Séries_Site!AB31","v":0},{"$f":"+[2]Séries_Site!AC31","v":0},{"$f":"+[2]Séries_Site!AD31","v":0},{"$f":"+[2]Séries_Site!AE31","v":0},{"$f":"+[2]Séries_Site!AF31","v":0},{"$f":"+[2]Séries_Site!AG31","v":0},{"$f":"+[2]Séries_Site!AH31","v":0},{"$f":"+[2]Séries_Site!AI31","v":0},{"$f":"+[2]Séries_Site!AJ31","v":0}]
["1962-03-01",{"$f":"+[2]Séries_Site!B32","v":828},{"$f":"+[2]Séries_Site!C32","v":828},{"$f":"+[2]Séries_Site!D32","v":0},{"$f":"+[2]Séries_Site!E32","v":828},{"$f":"+[2]Séries_Site!F32","v":0},{"$f":"+[2]Séries_Site!G32","v":735},{"$f":"+[2]Séries_Site!H32","v":735},{"$f":"+[2]Séries_Site!I32","v":0},{"$f":"+[2]Séries_Site!J32","v":735},{"$f":"+[2]Séries_Site!K32","v":0},{"$f":"+[2]Séries_Site!L32","v":0},{"$f":"+[2]Séries_Site!M32","v":0},{"$f":"+[2]Séries_Site!N32","v":0},{"$f":"+[2]Séries_Site!O32","v":0},{"$f":"+[2]Séries_Site!P32","v":0},{"$f":"+[2]Séries_Site!Q32","v":93},{"$f":"+[2]Séries_Site!R32","v":93},{"$f":"+[2]Séries_Site!S32","v":0},{"$f":"+[2]Séries_Site!T32","v":93},{"$f":"+[2]Séries_Site!U32","v":0},{"$f":"+[2]Séries_Site!V32","v":0},{"$f":"+[2]Séries_Site!W32","v":0},{"$f":"+[2]Séries_Site!X32","v":0},{"$f":"+[2]Séries_Site!Y32","v":0},{"$f":"+[2]Séries_Site!Z32","v":0},{"$f":"+[2]Séries_Site!AA32","v":0},{"$f":"+[2]Séries_Site!AB32","v":0},{"$f":"+[2]Séries_Site!AC32","v":0},{"$f":"+[2]Séries_Site!AD32","v":0},{"$f":"+[2]Séries_Site!AE32","v":0},{"$f":"+[2]Séries_Site!AF32","v":0},{"$f":"+[2]Séries_Site!AG32","v":0},{"$f":"+[2]Séries_Site!AH32","v":0},{"$f":"+[2]Séries_Site!AI32","v":0},{"$f":"+[2]Séries_Site!AJ32","v":0}]
["1962-04-01",{"$f":"+[2]Séries_Site!B33","v":702},{"$f":"+[2]Séries_Site!C33","v":702},{"$f":"+[2]Séries_Site!D33","v":0},{"$f":"+[2]Séries_Site!E33","v":702},{"$f":"+[2]Séries_Site!F33","v":0},{"$f":"+[2]Séries_Site!G33","v":603},{"$f":"+[2]Séries_Site!H33","v":603},{"$f":"+[2]Séries_Site!I33","v":0},{"$f":"+[2]Séries_Site!J33","v":603},{"$f":"+[2]Séries_Site!K33","v":0},{"$f":"+[2]Séries_Site!L33","v":0},{"$f":"+[2]Séries_Site!M33","v":0},{"$f":"+[2]Séries_Site!N33","v":0},{"$f":"+[2]Séries_Site!O33","v":0},{"$f":"+[2]Séries_Site!P33","v":0},{"$f":"+[2]Séries_Site!Q33","v":99},{"$f":"+[2]Séries_Site!R33","v":99},{"$f":"+[2]Séries_Site!S33","v":0},{"$f":"+[2]Séries_Site!T33","v":99},{"$f":"+[2]Séries_Site!U33","v":0},{"$f":"+[2]Séries_Site!V33","v":0},{"$f":"+[2]Séries_Site!W33","v":0},{"$f":"+[2]Séries_Site!X33","v":0},{"$f":"+[2]Séries_Site!Y33","v":0},{"$f":"+[2]Séries_Site!Z33","v":0},{"$f":"+[2]Séries_Site!AA33","v":0},{"$f":"+[2]Séries_Site!AB33","v":0},{"$f":"+[2]Séries_Site!AC33","v":0},{"$f":"+[2]Séries_Site!AD33","v":0},{"$f":"+[2]Séries_Site!AE33","v":0},{"$f":"+[2]Séries_Site!AF33","v":0},{"$f":"+[2]Séries_Site!AG33","v":0},{"$f":"+[2]Séries_Site!AH33","v":0},{"$f":"+[2]Séries_Site!AI33","v":0},{"$f":"+[2]Séries_Site!AJ33","v":0}]
["1962-05-01",{"$f":"+[2]Séries_Site!B34","v":708},{"$f":"+[2]Séries_Site!C34","v":708},{"$f":"+[2]Séries_Site!D34","v":0},{"$f":"+[2]Séries_Site!E34","v":708},{"$f":"+[2]Séries_Site!F34","v":0},{"$f":"+[2]Séries_Site!G34","v":596},{"$f":"+[2]Séries_Site!H34","v":596},{"$f":"+[2]Séries_Site!I34","v":0},{"$f":"+[2]Séries_Site!J34","v":596},{"$f":"+[2]Séries_Site!K34","v":0},{"$f":"+[2]Séries_Site!L34","v":0},{"$f":"+[2]Séries_Site!M34","v":0},{"$f":"+[2]Séries_Site!N34","v":0},{"$f":"+[2]Séries_Site!O34","v":0},{"$f":"+[2]Séries_Site!P34","v":0},{"$f":"+[2]Séries_Site!Q34","v":112},{"$f":"+[2]Séries_Site!R34","v":112},{"$f":"+[2]Séries_Site!S34","v":0},{"$f":"+[2]Séries_Site!T34","v":112},{"$f":"+[2]Séries_Site!U34","v":0},{"$f":"+[2]Séries_Site!V34","v":0},{"$f":"+[2]Séries_Site!W34","v":0},{"$f":"+[2]Séries_Site!X34","v":0},{"$f":"+[2]Séries_Site!Y34","v":0},{"$f":"+[2]Séries_Site!Z34","v":0},{"$f":"+[2]Séries_Site!AA34","v":0},{"$f":"+[2]Séries_Site!AB34","v":0},{"$f":"+[2]Séries_Site!AC34","v":0},{"$f":"+[2]Séries_Site!AD34","v":0},{"$f":"+[2]Séries_Site!AE34","v":0},{"$f":"+[2]Séries_Site!AF34","v":0},{"$f":"+[2]Séries_Site!AG34","v":0},{"$f":"+[2]Séries_Site!AH34","v":0},{"$f":"+[2]Séries_Site!AI34","v":0},{"$f":"+[2]Séries_Site!AJ34","v":0}]
["1962-06-01",{"$f":"+[2]Séries_Site!B35","v":915},{"$f":"+[2]Séries_Site!C35","v":915},{"$f":"+[2]Séries_Site!D35","v":0},{"$f":"+[2]Séries_Site!E35","v":915},{"$f":"+[2]Séries_Site!F35","v":0},{"$f":"+[2]Séries_Site!G35","v":803},{"$f":"+[2]Séries_Site!H35","v":803},{"$f":"+[2]Séries_Site!I35","v":0},{"$f":"+[2]Séries_Site!J35","v":803},{"$f":"+[2]Séries_Site!K35","v":0},{"$f":"+[2]Séries_Site!L35","v":0},{"$f":"+[2]Séries_Site!M35","v":0},{"$f":"+[2]Séries_Site!N35","v":0},{"$f":"+[2]Séries_Site!O35","v":0},{"$f":"+[2]Séries_Site!P35","v":0},{"$f":"+[2]Séries_Site!Q35","v":112},{"$f":"+[2]Séries_Site!R35","v":112},{"$f":"+[2]Séries_Site!S35","v":0},{"$f":"+[2]Séries_Site!T35","v":112},{"$f":"+[2]Séries_Site!U35","v":0},{"$f":"+[2]Séries_Site!V35","v":0},{"$f":"+[2]Séries_Site!W35","v":0},{"$f":"+[2]Séries_Site!X35","v":0},{"$f":"+[2]Séries_Site!Y35","v":0},{"$f":"+[2]Séries_Site!Z35","v":0},{"$f":"+[2]Séries_Site!AA35","v":0},{"$f":"+[2]Séries_Site!AB35","v":0},{"$f":"+[2]Séries_Site!AC35","v":0},{"$f":"+[2]Séries_Site!AD35","v":0},{"$f":"+[2]Séries_Site!AE35","v":0},{"$f":"+[2]Séries_Site!AF35","v":0},{"$f":"+[2]Séries_Site!AG35","v":0},{"$f":"+[2]Séries_Site!AH35","v":0},{"$f":"+[2]Séries_Site!AI35","v":0},{"$f":"+[2]Séries_Site!AJ35","v":0}]
["1962-07-01",{"$f":"+[2]Séries_Site!B36","v":590},{"$f":"+[2]Séries_Site!C36","v":590},{"$f":"+[2]Séries_Site!D36","v":0},{"$f":"+[2]Séries_Site!E36","v":590},{"$f":"+[2]Séries_Site!F36","v":0},{"$f":"+[2]Séries_Site!G36","v":478},{"$f":"+[2]Séries_Site!H36","v":478},{"$f":"+[2]Séries_Site!I36","v":0},{"$f":"+[2]Séries_Site!J36","v":478},{"$f":"+[2]Séries_Site!K36","v":0},{"$f":"+[2]Séries_Site!L36","v":0},{"$f":"+[2]Séries_Site!M36","v":0},{"$f":"+[2]Séries_Site!N36","v":0},{"$f":"+[2]Séries_Site!O36","v":0},{"$f":"+[2]Séries_Site!P36","v":0},{"$f":"+[2]Séries_Site!Q36","v":112},{"$f":"+[2]Séries_Site!R36","v":112},{"$f":"+[2]Séries_Site!S36","v":0},{"$f":"+[2]Séries_Site!T36","v":112},{"$f":"+[2]Séries_Site!U36","v":0},{"$f":"+[2]Séries_Site!V36","v":0},{"$f":"+[2]Séries_Site!W36","v":0},{"$f":"+[2]Séries_Site!X36","v":0},{"$f":"+[2]Séries_Site!Y36","v":0},{"$f":"+[2]Séries_Site!Z36","v":0},{"$f":"+[2]Séries_Site!AA36","v":0},{"$f":"+[2]Séries_Site!AB36","v":0},{"$f":"+[2]Séries_Site!AC36","v":0},{"$f":"+[2]Séries_Site!AD36","v":0},{"$f":"+[2]Séries_Site!AE36","v":0},{"$f":"+[2]Séries_Site!AF36","v":0},{"$f":"+[2]Séries_Site!AG36","v":0},{"$f":"+[2]Séries_Site!AH36","v":0},{"$f":"+[2]Séries_Site!AI36","v":0},{"$f":"+[2]Séries_Site!AJ36","v":0}]
["1962-08-01",{"$f":"+[2]Séries_Site!B37","v":934},{"$f":"+[2]Séries_Site!C37","v":934},{"$f":"+[2]Séries_Site!D37","v":0},{"$f":"+[2]Séries_Site!E37","v":934},{"$f":"+[2]Séries_Site!F37","v":0},{"$f":"+[2]Séries_Site!G37","v":822},{"$f":"+[2]Séries_Site!H37","v":822},{"$f":"+[2]Séries_Site!I37","v":0},{"$f":"+[2]Séries_Site!J37","v":822},{"$f":"+[2]Séries_Site!K37","v":0},{"$f":"+[2]Séries_Site!L37","v":0},{"$f":"+[2]Séries_Site!M37","v":0},{"$f":"+[2]Séries_Site!N37","v":0},{"$f":"+[2]Séries_Site!O37","v":0},{"$f":"+[2]Séries_Site!P37","v":0},{"$f":"+[2]Séries_Site!Q37","v":112},{"$f":"+[2]Séries_Site!R37","v":112},{"$f":"+[2]Séries_Site!S37","v":0},{"$f":"+[2]Séries_Site!T37","v":112},{"$f":"+[2]Séries_Site!U37","v":0},{"$f":"+[2]Séries_Site!V37","v":0},{"$f":"+[2]Séries_Site!W37","v":0},{"$f":"+[2]Séries_Site!X37","v":0},{"$f":"+[2]Séries_Site!Y37","v":0},{"$f":"+[2]Séries_Site!Z37","v":0},{"$f":"+[2]Séries_Site!AA37","v":0},{"$f":"+[2]Séries_Site!AB37","v":0},{"$f":"+[2]Séries_Site!AC37","v":0},{"$f":"+[2]Séries_Site!AD37","v":0},{"$f":"+[2]Séries_Site!AE37","v":0},{"$f":"+[2]Séries_Site!AF37","v":0},{"$f":"+[2]Séries_Site!AG37","v":0},{"$f":"+[2]Séries_Site!AH37","v":0},{"$f":"+[2]Séries_Site!AI37","v":0},{"$f":"+[2]Séries_Site!AJ37","v":0}]
["1962-09-01",{"$f":"+[2]Séries_Site!B38","v":691},{"$f":"+[2]Séries_Site!C38","v":691},{"$f":"+[2]Séries_Site!D38","v":0},{"$f":"+[2]Séries_Site!E38","v":691},{"$f":"+[2]Séries_Site!F38","v":0},{"$f":"+[2]Séries_Site!G38","v":579},{"$f":"+[2]Séries_Site!H38","v":579},{"$f":"+[2]Séries_Site!I38","v":0},{"$f":"+[2]Séries_Site!J38","v":579},{"$f":"+[2]Séries_Site!K38","v":0},{"$f":"+[2]Séries_Site!L38","v":0},{"$f":"+[2]Séries_Site!M38","v":0},{"$f":"+[2]Séries_Site!N38","v":0},{"$f":"+[2]Séries_Site!O38","v":0},{"$f":"+[2]Séries_Site!P38","v":0},{"$f":"+[2]Séries_Site!Q38","v":112},{"$f":"+[2]Séries_Site!R38","v":112},{"$f":"+[2]Séries_Site!S38","v":0},{"$f":"+[2]Séries_Site!T38","v":112},{"$f":"+[2]Séries_Site!U38","v":0},{"$f":"+[2]Séries_Site!V38","v":0},{"$f":"+[2]Séries_Site!W38","v":0},{"$f":"+[2]Séries_Site!X38","v":0},{"$f":"+[2]Séries_Site!Y38","v":0},{"$f":"+[2]Séries_Site!Z38","v":0},{"$f":"+[2]Séries_Site!AA38","v":0},{"$f":"+[2]Séries_Site!AB38","v":0},{"$f":"+[2]Séries_Site!AC38","v":0},{"$f":"+[2]Séries_Site!AD38","v":0},{"$f":"+[2]Séries_Site!AE38","v":0},{"$f":"+[2]Séries_Site!AF38","v":0},{"$f":"+[2]Séries_Site!AG38","v":0},{"$f":"+[2]Séries_Site!AH38","v":0},{"$f":"+[2]Séries_Site!AI38","v":0},{"$f":"+[2]Séries_Site!AJ38","v":0}]
["1962-10-01",{"$f":"+[2]Séries_Site!B39","v":674},{"$f":"+[2]Séries_Site!C39","v":674},{"$f":"+[2]Séries_Site!D39","v":0},{"$f":"+[2]Séries_Site!E39","v":674},{"$f":"+[2]Séries_Site!F39","v":0},{"$f":"+[2]Séries_Site!G39","v":575},{"$f":"+[2]Séries_Site!H39","v":575},{"$f":"+[2]Séries_Site!I39","v":0},{"$f":"+[2]Séries_Site!J39","v":575},{"$f":"+[2]Séries_Site!K39","v":0},{"$f":"+[2]Séries_Site!L39","v":0},{"$f":"+[2]Séries_Site!M39","v":0},{"$f":"+[2]Séries_Site!N39","v":0},{"$f":"+[2]Séries_Site!O39","v":0},{"$f":"+[2]Séries_Site!P39","v":0},{"$f":"+[2]Séries_Site!Q39","v":99},{"$f":"+[2]Séries_Site!R39","v":99},{"$f":"+[2]Séries_Site!S39","v":0},{"$f":"+[2]Séries_Site!T39","v":99},{"$f":"+[2]Séries_Site!U39","v":0},{"$f":"+[2]Séries_Site!V39","v":0},{"$f":"+[2]Séries_Site!W39","v":0},{"$f":"+[2]Séries_Site!X39","v":0},{"$f":"+[2]Séries_Site!Y39","v":0},{"$f":"+[2]Séries_Site!Z39","v":0},{"$f":"+[2]Séries_Site!AA39","v":0},{"$f":"+[2]Séries_Site!AB39","v":0},{"$f":"+[2]Séries_Site!AC39","v":0},{"$f":"+[2]Séries_Site!AD39","v":0},{"$f":"+[2]Séries_Site!AE39","v":0},{"$f":"+[2]Séries_Site!AF39","v":0},{"$f":"+[2]Séries_Site!AG39","v":0},{"$f":"+[2]Séries_Site!AH39","v":0},{"$f":"+[2]Séries_Site!AI39","v":0},{"$f":"+[2]Séries_Site!AJ39","v":0}]
["1962-11-01",{"$f":"+[2]Séries_Site!B40","v":566},{"$f":"+[2]Séries_Site!C40","v":566},{"$f":"+[2]Séries_Site!D40","v":0},{"$f":"+[2]Séries_Site!E40","v":566},{"$f":"+[2]Séries_Site!F40","v":0},{"$f":"+[2]Séries_Site!G40","v":467},{"$f":"+[2]Séries_Site!H40","v":467},{"$f":"+[2]Séries_Site!I40","v":0},{"$f":"+[2]Séries_Site!J40","v":467},{"$f":"+[2]Séries_Site!K40","v":0},{"$f":"+[2]Séries_Site!L40","v":0},{"$f":"+[2]Séries_Site!M40","v":0},{"$f":"+[2]Séries_Site!N40","v":0},{"$f":"+[2]Séries_Site!O40","v":0},{"$f":"+[2]Séries_Site!P40","v":0},{"$f":"+[2]Séries_Site!Q40","v":99},{"$f":"+[2]Séries_Site!R40","v":99},{"$f":"+[2]Séries_Site!S40","v":0},{"$f":"+[2]Séries_Site!T40","v":99},{"$f":"+[2]Séries_Site!U40","v":0},{"$f":"+[2]Séries_Site!V40","v":0},{"$f":"+[2]Séries_Site!W40","v":0},{"$f":"+[2]Séries_Site!X40","v":0},{"$f":"+[2]Séries_Site!Y40","v":0},{"$f":"+[2]Séries_Site!Z40","v":0},{"$f":"+[2]Séries_Site!AA40","v":0},{"$f":"+[2]Séries_Site!AB40","v":0},{"$f":"+[2]Séries_Site!AC40","v":0},{"$f":"+[2]Séries_Site!AD40","v":0},{"$f":"+[2]Séries_Site!AE40","v":0},{"$f":"+[2]Séries_Site!AF40","v":0},{"$f":"+[2]Séries_Site!AG40","v":0},{"$f":"+[2]Séries_Site!AH40","v":0},{"$f":"+[2]Séries_Site!AI40","v":0},{"$f":"+[2]Séries_Site!AJ40","v":0}]
["1962-12-01",{"$f":"+[2]Séries_Site!B41","v":604},{"$f":"+[2]Séries_Site!C41","v":604},{"$f":"+[2]Séries_Site!D41","v":0},{"$f":"+[2]Séries_Site!E41","v":604},{"$f":"+[2]Séries_Site!F41","v":0},{"$f":"+[2]Séries_Site!G41","v":500},{"$f":"+[2]Séries_Site!H41","v":500},{"$f":"+[2]Séries_Site!I41","v":0},{"$f":"+[2]Séries_Site!J41","v":500},{"$f":"+[2]Séries_Site!K41","v":0},{"$f":"+[2]Séries_Site!L41","v":0},{"$f":"+[2]Séries_Site!M41","v":0},{"$f":"+[2]Séries_Site!N41","v":0},{"$f":"+[2]Séries_Site!O41","v":0},{"$f":"+[2]Séries_Site!P41","v":0},{"$f":"+[2]Séries_Site!Q41","v":104},{"$f":"+[2]Séries_Site!R41","v":104},{"$f":"+[2]Séries_Site!S41","v":0},{"$f":"+[2]Séries_Site!T41","v":104},{"$f":"+[2]Séries_Site!U41","v":0},{"$f":"+[2]Séries_Site!V41","v":0},{"$f":"+[2]Séries_Site!W41","v":0},{"$f":"+[2]Séries_Site!X41","v":0},{"$f":"+[2]Séries_Site!Y41","v":0},{"$f":"+[2]Séries_Site!Z41","v":0},{"$f":"+[2]Séries_Site!AA41","v":0},{"$f":"+[2]Séries_Site!AB41","v":0},{"$f":"+[2]Séries_Site!AC41","v":0},{"$f":"+[2]Séries_Site!AD41","v":0},{"$f":"+[2]Séries_Site!AE41","v":0},{"$f":"+[2]Séries_Site!AF41","v":0},{"$f":"+[2]Séries_Site!AG41","v":0},{"$f":"+[2]Séries_Site!AH41","v":0},{"$f":"+[2]Séries_Site!AI41","v":0},{"$f":"+[2]Séries_Site!AJ41","v":0}]
["1963-01-01",{"$f":"+[2]Séries_Site!B42","v":915},{"$f":"+[2]Séries_Site!C42","v":915},{"$f":"+[2]Séries_Site!D42","v":0},{"$f":"+[2]Séries_Site!E42","v":915},{"$f":"+[2]Séries_Site!F42","v":0},{"$f":"+[2]Séries_Site!G42","v":832},{"$f":"+[2]Séries_Site!H42","v":832},{"$f":"+[2]Séries_Site!I42","v":0},{"$f":"+[2]Séries_Site!J42","v":832},{"$f":"+[2]Séries_Site!K42","v":0},{"$f":"+[2]Séries_Site!L42","v":0},{"$f":"+[2]Séries_Site!M42","v":0},{"$f":"+[2]Séries_Site!N42","v":0},{"$f":"+[2]Séries_Site!O42","v":0},{"$f":"+[2]Séries_Site!P42","v":0},{"$f":"+[2]Séries_Site!Q42","v":83},{"$f":"+[2]Séries_Site!R42","v":83},{"$f":"+[2]Séries_Site!S42","v":0},{"$f":"+[2]Séries_Site!T42","v":83},{"$f":"+[2]Séries_Site!U42","v":0},{"$f":"+[2]Séries_Site!V42","v":0},{"$f":"+[2]Séries_Site!W42","v":0},{"$f":"+[2]Séries_Site!X42","v":0},{"$f":"+[2]Séries_Site!Y42","v":0},{"$f":"+[2]Séries_Site!Z42","v":0},{"$f":"+[2]Séries_Site!AA42","v":0},{"$f":"+[2]Séries_Site!AB42","v":0},{"$f":"+[2]Séries_Site!AC42","v":0},{"$f":"+[2]Séries_Site!AD42","v":0},{"$f":"+[2]Séries_Site!AE42","v":0},{"$f":"+[2]Séries_Site!AF42","v":0},{"$f":"+[2]Séries_Site!AG42","v":0},{"$f":"+[2]Séries_Site!AH42","v":0},{"$f":"+[2]Séries_Site!AI42","v":0},{"$f":"+[2]Séries_Site!AJ42","v":0}]
["1963-02-01",{"$f":"+[2]Séries_Site!B43","v":877},{"$f":"+[2]Séries_Site!C43","v":877},{"$f":"+[2]Séries_Site!D43","v":0},{"$f":"+[2]Séries_Site!E43","v":877},{"$f":"+[2]Séries_Site!F43","v":0},{"$f":"+[2]Séries_Site!G43","v":794},{"$f":"+[2]Séries_Site!H43","v":794},{"$f":"+[2]Séries_Site!I43","v":0},{"$f":"+[2]Séries_Site!J43","v":794},{"$f":"+[2]Séries_Site!K43","v":0},{"$f":"+[2]Séries_Site!L43","v":0},{"$f":"+[2]Séries_Site!M43","v":0},{"$f":"+[2]Séries_Site!N43","v":0},{"$f":"+[2]Séries_Site!O43","v":0},{"$f":"+[2]Séries_Site!P43","v":0},{"$f":"+[2]Séries_Site!Q43","v":83},{"$f":"+[2]Séries_Site!R43","v":83},{"$f":"+[2]Séries_Site!S43","v":0},{"$f":"+[2]Séries_Site!T43","v":83},{"$f":"+[2]Séries_Site!U43","v":0},{"$f":"+[2]Séries_Site!V43","v":0},{"$f":"+[2]Séries_Site!W43","v":0},{"$f":"+[2]Séries_Site!X43","v":0},{"$f":"+[2]Séries_Site!Y43","v":0},{"$f":"+[2]Séries_Site!Z43","v":0},{"$f":"+[2]Séries_Site!AA43","v":0},{"$f":"+[2]Séries_Site!AB43","v":0},{"$f":"+[2]Séries_Site!AC43","v":0},{"$f":"+[2]Séries_Site!AD43","v":0},{"$f":"+[2]Séries_Site!AE43","v":0},{"$f":"+[2]Séries_Site!AF43","v":0},{"$f":"+[2]Séries_Site!AG43","v":0},{"$f":"+[2]Séries_Site!AH43","v":0},{"$f":"+[2]Séries_Site!AI43","v":0},{"$f":"+[2]Séries_Site!AJ43","v":0}]
["1963-03-01",{"$f":"+[2]Séries_Site!B44","v":1017},{"$f":"+[2]Séries_Site!C44","v":1017},{"$f":"+[2]Séries_Site!D44","v":0},{"$f":"+[2]Séries_Site!E44","v":1017},{"$f":"+[2]Séries_Site!F44","v":0},{"$f":"+[2]Séries_Site!G44","v":934},{"$f":"+[2]Séries_Site!H44","v":934},{"$f":"+[2]Séries_Site!I44","v":0},{"$f":"+[2]Séries_Site!J44","v":934},{"$f":"+[2]Séries_Site!K44","v":0},{"$f":"+[2]Séries_Site!L44","v":0},{"$f":"+[2]Séries_Site!M44","v":0},{"$f":"+[2]Séries_Site!N44","v":0},{"$f":"+[2]Séries_Site!O44","v":0},{"$f":"+[2]Séries_Site!P44","v":0},{"$f":"+[2]Séries_Site!Q44","v":83},{"$f":"+[2]Séries_Site!R44","v":83},{"$f":"+[2]Séries_Site!S44","v":0},{"$f":"+[2]Séries_Site!T44","v":83},{"$f":"+[2]Séries_Site!U44","v":0},{"$f":"+[2]Séries_Site!V44","v":0},{"$f":"+[2]Séries_Site!W44","v":0},{"$f":"+[2]Séries_Site!X44","v":0},{"$f":"+[2]Séries_Site!Y44","v":0},{"$f":"+[2]Séries_Site!Z44","v":0},{"$f":"+[2]Séries_Site!AA44","v":0},{"$f":"+[2]Séries_Site!AB44","v":0},{"$f":"+[2]Séries_Site!AC44","v":0},{"$f":"+[2]Séries_Site!AD44","v":0},{"$f":"+[2]Séries_Site!AE44","v":0},{"$f":"+[2]Séries_Site!AF44","v":0},{"$f":"+[2]Séries_Site!AG44","v":0},{"$f":"+[2]Séries_Site!AH44","v":0},{"$f":"+[2]Séries_Site!AI44","v":0},{"$f":"+[2]Séries_Site!AJ44","v":0}]
["1963-04-01",{"$f":"+[2]Séries_Site!B45","v":944},{"$f":"+[2]Séries_Site!C45","v":944},{"$f":"+[2]Séries_Site!D45","v":0},{"$f":"+[2]Séries_Site!E45","v":944},{"$f":"+[2]Séries_Site!F45","v":0},{"$f":"+[2]Séries_Site!G45","v":855},{"$f":"+[2]Séries_Site!H45","v":855},{"$f":"+[2]Séries_Site!I45","v":0},{"$f":"+[2]Séries_Site!J45","v":855},{"$f":"+[2]Séries_Site!K45","v":0},{"$f":"+[2]Séries_Site!L45","v":0},{"$f":"+[2]Séries_Site!M45","v":0},{"$f":"+[2]Séries_Site!N45","v":0},{"$f":"+[2]Séries_Site!O45","v":0},{"$f":"+[2]Séries_Site!P45","v":0},{"$f":"+[2]Séries_Site!Q45","v":89},{"$f":"+[2]Séries_Site!R45","v":89},{"$f":"+[2]Séries_Site!S45","v":0},{"$f":"+[2]Séries_Site!T45","v":89},{"$f":"+[2]Séries_Site!U45","v":0},{"$f":"+[2]Séries_Site!V45","v":0},{"$f":"+[2]Séries_Site!W45","v":0},{"$f":"+[2]Séries_Site!X45","v":0},{"$f":"+[2]Séries_Site!Y45","v":0},{"$f":"+[2]Séries_Site!Z45","v":0},{"$f":"+[2]Séries_Site!AA45","v":0},{"$f":"+[2]Séries_Site!AB45","v":0},{"$f":"+[2]Séries_Site!AC45","v":0},{"$f":"+[2]Séries_Site!AD45","v":0},{"$f":"+[2]Séries_Site!AE45","v":0},{"$f":"+[2]Séries_Site!AF45","v":0},{"$f":"+[2]Séries_Site!AG45","v":0},{"$f":"+[2]Séries_Site!AH45","v":0},{"$f":"+[2]Séries_Site!AI45","v":0},{"$f":"+[2]Séries_Site!AJ45","v":0}]
["1963-05-01",{"$f":"+[2]Séries_Site!B46","v":983},{"$f":"+[2]Séries_Site!C46","v":983},{"$f":"+[2]Séries_Site!D46","v":0},{"$f":"+[2]Séries_Site!E46","v":983},{"$f":"+[2]Séries_Site!F46","v":0},{"$f":"+[2]Séries_Site!G46","v":883},{"$f":"+[2]Séries_Site!H46","v":883},{"$f":"+[2]Séries_Site!I46","v":0},{"$f":"+[2]Séries_Site!J46","v":883},{"$f":"+[2]Séries_Site!K46","v":0},{"$f":"+[2]Séries_Site!L46","v":0},{"$f":"+[2]Séries_Site!M46","v":0},{"$f":"+[2]Séries_Site!N46","v":0},{"$f":"+[2]Séries_Site!O46","v":0},{"$f":"+[2]Séries_Site!P46","v":0},{"$f":"+[2]Séries_Site!Q46","v":100},{"$f":"+[2]Séries_Site!R46","v":100},{"$f":"+[2]Séries_Site!S46","v":0},{"$f":"+[2]Séries_Site!T46","v":100},{"$f":"+[2]Séries_Site!U46","v":0},{"$f":"+[2]Séries_Site!V46","v":0},{"$f":"+[2]Séries_Site!W46","v":0},{"$f":"+[2]Séries_Site!X46","v":0},{"$f":"+[2]Séries_Site!Y46","v":0},{"$f":"+[2]Séries_Site!Z46","v":0},{"$f":"+[2]Séries_Site!AA46","v":0},{"$f":"+[2]Séries_Site!AB46","v":0},{"$f":"+[2]Séries_Site!AC46","v":0},{"$f":"+[2]Séries_Site!AD46","v":0},{"$f":"+[2]Séries_Site!AE46","v":0},{"$f":"+[2]Séries_Site!AF46","v":0},{"$f":"+[2]Séries_Site!AG46","v":0},{"$f":"+[2]Séries_Site!AH46","v":0},{"$f":"+[2]Séries_Site!AI46","v":0},{"$f":"+[2]Séries_Site!AJ46","v":0}]
["1963-06-01",{"$f":"+[2]Séries_Site!B47","v":1126},{"$f":"+[2]Séries_Site!C47","v":1126},{"$f":"+[2]Séries_Site!D47","v":0},{"$f":"+[2]Séries_Site!E47","v":1126},{"$f":"+[2]Séries_Site!F47","v":0},{"$f":"+[2]Séries_Site!G47","v":1026},{"$f":"+[2]Séries_Site!H47","v":1026},{"$f":"+[2]Séries_Site!I47","v":0},{"$f":"+[2]Séries_Site!J47","v":1026},{"$f":"+[2]Séries_Site!K47","v":0},{"$f":"+[2]Séries_Site!L47","v":0},{"$f":"+[2]Séries_Site!M47","v":0},{"$f":"+[2]Séries_Site!N47","v":0},{"$f":"+[2]Séries_Site!O47","v":0},{"$f":"+[2]Séries_Site!P47","v":0},{"$f":"+[2]Séries_Site!Q47","v":100},{"$f":"+[2]Séries_Site!R47","v":100},{"$f":"+[2]Séries_Site!S47","v":0},{"$f":"+[2]Séries_Site!T47","v":100},{"$f":"+[2]Séries_Site!U47","v":0},{"$f":"+[2]Séries_Site!V47","v":0},{"$f":"+[2]Séries_Site!W47","v":0},{"$f":"+[2]Séries_Site!X47","v":0},{"$f":"+[2]Séries_Site!Y47","v":0},{"$f":"+[2]Séries_Site!Z47","v":0},{"$f":"+[2]Séries_Site!AA47","v":0},{"$f":"+[2]Séries_Site!AB47","v":0},{"$f":"+[2]Séries_Site!AC47","v":0},{"$f":"+[2]Séries_Site!AD47","v":0},{"$f":"+[2]Séries_Site!AE47","v":0},{"$f":"+[2]Séries_Site!AF47","v":0},{"$f":"+[2]Séries_Site!AG47","v":0},{"$f":"+[2]Séries_Site!AH47","v":0},{"$f":"+[2]Séries_Site!AI47","v":0},{"$f":"+[2]Séries_Site!AJ47","v":0}]
["1963-07-01",{"$f":"+[2]Séries_Site!B48","v":934},{"$f":"+[2]Séries_Site!C48","v":934},{"$f":"+[2]Séries_Site!D48","v":0},{"$f":"+[2]Séries_Site!E48","v":934},{"$f":"+[2]Séries_Site!F48","v":0},{"$f":"+[2]Séries_Site!G48","v":834},{"$f":"+[2]Séries_Site!H48","v":834},{"$f":"+[2]Séries_Site!I48","v":0},{"$f":"+[2]Séries_Site!J48","v":834},{"$f":"+[2]Séries_Site!K48","v":0},{"$f":"+[2]Séries_Site!L48","v":0},{"$f":"+[2]Séries_Site!M48","v":0},{"$f":"+[2]Séries_Site!N48","v":0},{"$f":"+[2]Séries_Site!O48","v":0},{"$f":"+[2]Séries_Site!P48","v":0},{"$f":"+[2]Séries_Site!Q48","v":100},{"$f":"+[2]Séries_Site!R48","v":100},{"$f":"+[2]Séries_Site!S48","v":0},{"$f":"+[2]Séries_Site!T48","v":100},{"$f":"+[2]Séries_Site!U48","v":0},{"$f":"+[2]Séries_Site!V48","v":0},{"$f":"+[2]Séries_Site!W48","v":0},{"$f":"+[2]Séries_Site!X48","v":0},{"$f":"+[2]Séries_Site!Y48","v":0},{"$f":"+[2]Séries_Site!Z48","v":0},{"$f":"+[2]Séries_Site!AA48","v":0},{"$f":"+[2]Séries_Site!AB48","v":0},{"$f":"+[2]Séries_Site!AC48","v":0},{"$f":"+[2]Séries_Site!AD48","v":0},{"$f":"+[2]Séries_Site!AE48","v":0},{"$f":"+[2]Séries_Site!AF48","v":0},{"$f":"+[2]Séries_Site!AG48","v":0},{"$f":"+[2]Séries_Site!AH48","v":0},{"$f":"+[2]Séries_Site!AI48","v":0},{"$f":"+[2]Séries_Site!AJ48","v":0}]
["1963-08-01",{"$f":"+[2]Séries_Site!B49","v":1128},{"$f":"+[2]Séries_Site!C49","v":1128},{"$f":"+[2]Séries_Site!D49","v":0},{"$f":"+[2]Séries_Site!E49","v":1128},{"$f":"+[2]Séries_Site!F49","v":0},{"$f":"+[2]Séries_Site!G49","v":1028},{"$f":"+[2]Séries_Site!H49","v":1028},{"$f":"+[2]Séries_Site!I49","v":0},{"$f":"+[2]Séries_Site!J49","v":1028},{"$f":"+[2]Séries_Site!K49","v":0},{"$f":"+[2]Séries_Site!L49","v":0},{"$f":"+[2]Séries_Site!M49","v":0},{"$f":"+[2]Séries_Site!N49","v":0},{"$f":"+[2]Séries_Site!O49","v":0},{"$f":"+[2]Séries_Site!P49","v":0},{"$f":"+[2]Séries_Site!Q49","v":100},{"$f":"+[2]Séries_Site!R49","v":100},{"$f":"+[2]Séries_Site!S49","v":0},{"$f":"+[2]Séries_Site!T49","v":100},{"$f":"+[2]Séries_Site!U49","v":0},{"$f":"+[2]Séries_Site!V49","v":0},{"$f":"+[2]Séries_Site!W49","v":0},{"$f":"+[2]Séries_Site!X49","v":0},{"$f":"+[2]Séries_Site!Y49","v":0},{"$f":"+[2]Séries_Site!Z49","v":0},{"$f":"+[2]Séries_Site!AA49","v":0},{"$f":"+[2]Séries_Site!AB49","v":0},{"$f":"+[2]Séries_Site!AC49","v":0},{"$f":"+[2]Séries_Site!AD49","v":0},{"$f":"+[2]Séries_Site!AE49","v":0},{"$f":"+[2]Séries_Site!AF49","v":0},{"$f":"+[2]Séries_Site!AG49","v":0},{"$f":"+[2]Séries_Site!AH49","v":0},{"$f":"+[2]Séries_Site!AI49","v":0},{"$f":"+[2]Séries_Site!AJ49","v":0}]
["1963-09-01",{"$f":"+[2]Séries_Site!B50","v":852},{"$f":"+[2]Séries_Site!C50","v":852},{"$f":"+[2]Séries_Site!D50","v":0},{"$f":"+[2]Séries_Site!E50","v":852},{"$f":"+[2]Séries_Site!F50","v":0},{"$f":"+[2]Séries_Site!G50","v":752},{"$f":"+[2]Séries_Site!H50","v":752},{"$f":"+[2]Séries_Site!I50","v":0},{"$f":"+[2]Séries_Site!J50","v":752},{"$f":"+[2]Séries_Site!K50","v":0},{"$f":"+[2]Séries_Site!L50","v":0},{"$f":"+[2]Séries_Site!M50","v":0},{"$f":"+[2]Séries_Site!N50","v":0},{"$f":"+[2]Séries_Site!O50","v":0},{"$f":"+[2]Séries_Site!P50","v":0},{"$f":"+[2]Séries_Site!Q50","v":100},{"$f":"+[2]Séries_Site!R50","v":100},{"$f":"+[2]Séries_Site!S50","v":0},{"$f":"+[2]Séries_Site!T50","v":100},{"$f":"+[2]Séries_Site!U50","v":0},{"$f":"+[2]Séries_Site!V50","v":0},{"$f":"+[2]Séries_Site!W50","v":0},{"$f":"+[2]Séries_Site!X50","v":0},{"$f":"+[2]Séries_Site!Y50","v":0},{"$f":"+[2]Séries_Site!Z50","v":0},{"$f":"+[2]Séries_Site!AA50","v":0},{"$f":"+[2]Séries_Site!AB50","v":0},{"$f":"+[2]Séries_Site!AC50","v":0},{"$f":"+[2]Séries_Site!AD50","v":0},{"$f":"+[2]Séries_Site!AE50","v":0},{"$f":"+[2]Séries_Site!AF50","v":0},{"$f":"+[2]Séries_Site!AG50","v":0},{"$f":"+[2]Séries_Site!AH50","v":0},{"$f":"+[2]Séries_Site!AI50","v":0},{"$f":"+[2]Séries_Site!AJ50","v":0}]
["1963-10-01",{"$f":"+[2]Séries_Site!B51","v":842},{"$f":"+[2]Séries_Site!C51","v":842},{"$f":"+[2]Séries_Site!D51","v":0},{"$f":"+[2]Séries_Site!E51","v":842},{"$f":"+[2]Séries_Site!F51","v":0},{"$f":"+[2]Séries_Site!G51","v":753},{"$f":"+[2]Séries_Site!H51","v":753},{"$f":"+[2]Séries_Site!I51","v":0},{"$f":"+[2]Séries_Site!J51","v":753},{"$f":"+[2]Séries_Site!K51","v":0},{"$f":"+[2]Séries_Site!L51","v":0},{"$f":"+[2]Séries_Site!M51","v":0},{"$f":"+[2]Séries_Site!N51","v":0},{"$f":"+[2]Séries_Site!O51","v":0},{"$f":"+[2]Séries_Site!P51","v":0},{"$f":"+[2]Séries_Site!Q51","v":89},{"$f":"+[2]Séries_Site!R51","v":89},{"$f":"+[2]Séries_Site!S51","v":0},{"$f":"+[2]Séries_Site!T51","v":89},{"$f":"+[2]Séries_Site!U51","v":0},{"$f":"+[2]Séries_Site!V51","v":0},{"$f":"+[2]Séries_Site!W51","v":0},{"$f":"+[2]Séries_Site!X51","v":0},{"$f":"+[2]Séries_Site!Y51","v":0},{"$f":"+[2]Séries_Site!Z51","v":0},{"$f":"+[2]Séries_Site!AA51","v":0},{"$f":"+[2]Séries_Site!AB51","v":0},{"$f":"+[2]Séries_Site!AC51","v":0},{"$f":"+[2]Séries_Site!AD51","v":0},{"$f":"+[2]Séries_Site!AE51","v":0},{"$f":"+[2]Séries_Site!AF51","v":0},{"$f":"+[2]Séries_Site!AG51","v":0},{"$f":"+[2]Séries_Site!AH51","v":0},{"$f":"+[2]Séries_Site!AI51","v":0},{"$f":"+[2]Séries_Site!AJ51","v":0}]
["1963-11-01",{"$f":"+[2]Séries_Site!B52","v":692},{"$f":"+[2]Séries_Site!C52","v":692},{"$f":"+[2]Séries_Site!D52","v":0},{"$f":"+[2]Séries_Site!E52","v":692},{"$f":"+[2]Séries_Site!F52","v":0},{"$f":"+[2]Séries_Site!G52","v":603},{"$f":"+[2]Séries_Site!H52","v":603},{"$f":"+[2]Séries_Site!I52","v":0},{"$f":"+[2]Séries_Site!J52","v":603},{"$f":"+[2]Séries_Site!K52","v":0},{"$f":"+[2]Séries_Site!L52","v":0},{"$f":"+[2]Séries_Site!M52","v":0},{"$f":"+[2]Séries_Site!N52","v":0},{"$f":"+[2]Séries_Site!O52","v":0},{"$f":"+[2]Séries_Site!P52","v":0},{"$f":"+[2]Séries_Site!Q52","v":89},{"$f":"+[2]Séries_Site!R52","v":89},{"$f":"+[2]Séries_Site!S52","v":0},{"$f":"+[2]Séries_Site!T52","v":89},{"$f":"+[2]Séries_Site!U52","v":0},{"$f":"+[2]Séries_Site!V52","v":0},{"$f":"+[2]Séries_Site!W52","v":0},{"$f":"+[2]Séries_Site!X52","v":0},{"$f":"+[2]Séries_Site!Y52","v":0},{"$f":"+[2]Séries_Site!Z52","v":0},{"$f":"+[2]Séries_Site!AA52","v":0},{"$f":"+[2]Séries_Site!AB52","v":0},{"$f":"+[2]Séries_Site!AC52","v":0},{"$f":"+[2]Séries_Site!AD52","v":0},{"$f":"+[2]Séries_Site!AE52","v":0},{"$f":"+[2]Séries_Site!AF52","v":0},{"$f":"+[2]Séries_Site!AG52","v":0},{"$f":"+[2]Séries_Site!AH52","v":0},{"$f":"+[2]Séries_Site!AI52","v":0},{"$f":"+[2]Séries_Site!AJ52","v":0}]
["1963-12-01",{"$f":"+[2]Séries_Site!B53","v":708},{"$f":"+[2]Séries_Site!C53","v":708},{"$f":"+[2]Séries_Site!D53","v":0},{"$f":"+[2]Séries_Site!E53","v":708},{"$f":"+[2]Séries_Site!F53","v":0},{"$f":"+[2]Séries_Site!G53","v":614},{"$f":"+[2]Séries_Site!H53","v":614},{"$f":"+[2]Séries_Site!I53","v":0},{"$f":"+[2]Séries_Site!J53","v":614},{"$f":"+[2]Séries_Site!K53","v":0},{"$f":"+[2]Séries_Site!L53","v":0},{"$f":"+[2]Séries_Site!M53","v":0},{"$f":"+[2]Séries_Site!N53","v":0},{"$f":"+[2]Séries_Site!O53","v":0},{"$f":"+[2]Séries_Site!P53","v":0},{"$f":"+[2]Séries_Site!Q53","v":94},{"$f":"+[2]Séries_Site!R53","v":94},{"$f":"+[2]Séries_Site!S53","v":0},{"$f":"+[2]Séries_Site!T53","v":94},{"$f":"+[2]Séries_Site!U53","v":0},{"$f":"+[2]Séries_Site!V53","v":0},{"$f":"+[2]Séries_Site!W53","v":0},{"$f":"+[2]Séries_Site!X53","v":0},{"$f":"+[2]Séries_Site!Y53","v":0},{"$f":"+[2]Séries_Site!Z53","v":0},{"$f":"+[2]Séries_Site!AA53","v":0},{"$f":"+[2]Séries_Site!AB53","v":0},{"$f":"+[2]Séries_Site!AC53","v":0},{"$f":"+[2]Séries_Site!AD53","v":0},{"$f":"+[2]Séries_Site!AE53","v":0},{"$f":"+[2]Séries_Site!AF53","v":0},{"$f":"+[2]Séries_Site!AG53","v":0},{"$f":"+[2]Séries_Site!AH53","v":0},{"$f":"+[2]Séries_Site!AI53","v":0},{"$f":"+[2]Séries_Site!AJ53","v":0}]
["1964-01-01",{"$f":"+[2]Séries_Site!B54","v":1094},{"$f":"+[2]Séries_Site!C54","v":1094},{"$f":"+[2]Séries_Site!D54","v":0},{"$f":"+[2]Séries_Site!E54","v":1094},{"$f":"+[2]Séries_Site!F54","v":0},{"$f":"+[2]Séries_Site!G54","v":955},{"$f":"+[2]Séries_Site!H54","v":955},{"$f":"+[2]Séries_Site!I54","v":0},{"$f":"+[2]Séries_Site!J54","v":955},{"$f":"+[2]Séries_Site!K54","v":0},{"$f":"+[2]Séries_Site!L54","v":0},{"$f":"+[2]Séries_Site!M54","v":0},{"$f":"+[2]Séries_Site!N54","v":0},{"$f":"+[2]Séries_Site!O54","v":0},{"$f":"+[2]Séries_Site!P54","v":0},{"$f":"+[2]Séries_Site!Q54","v":139},{"$f":"+[2]Séries_Site!R54","v":139},{"$f":"+[2]Séries_Site!S54","v":0},{"$f":"+[2]Séries_Site!T54","v":139},{"$f":"+[2]Séries_Site!U54","v":0},{"$f":"+[2]Séries_Site!V54","v":0},{"$f":"+[2]Séries_Site!W54","v":0},{"$f":"+[2]Séries_Site!X54","v":0},{"$f":"+[2]Séries_Site!Y54","v":0},{"$f":"+[2]Séries_Site!Z54","v":0},{"$f":"+[2]Séries_Site!AA54","v":0},{"$f":"+[2]Séries_Site!AB54","v":0},{"$f":"+[2]Séries_Site!AC54","v":0},{"$f":"+[2]Séries_Site!AD54","v":0},{"$f":"+[2]Séries_Site!AE54","v":0},{"$f":"+[2]Séries_Site!AF54","v":0},{"$f":"+[2]Séries_Site!AG54","v":0},{"$f":"+[2]Séries_Site!AH54","v":0},{"$f":"+[2]Séries_Site!AI54","v":0},{"$f":"+[2]Séries_Site!AJ54","v":0}]
["1964-02-01",{"$f":"+[2]Séries_Site!B55","v":1005},{"$f":"+[2]Séries_Site!C55","v":1005},{"$f":"+[2]Séries_Site!D55","v":0},{"$f":"+[2]Séries_Site!E55","v":1005},{"$f":"+[2]Séries_Site!F55","v":0},{"$f":"+[2]Séries_Site!G55","v":873},{"$f":"+[2]Séries_Site!H55","v":873},{"$f":"+[2]Séries_Site!I55","v":0},{"$f":"+[2]Séries_Site!J55","v":873},{"$f":"+[2]Séries_Site!K55","v":0},{"$f":"+[2]Séries_Site!L55","v":0},{"$f":"+[2]Séries_Site!M55","v":0},{"$f":"+[2]Séries_Site!N55","v":0},{"$f":"+[2]Séries_Site!O55","v":0},{"$f":"+[2]Séries_Site!P55","v":0},{"$f":"+[2]Séries_Site!Q55","v":132},{"$f":"+[2]Séries_Site!R55","v":132},{"$f":"+[2]Séries_Site!S55","v":0},{"$f":"+[2]Séries_Site!T55","v":132},{"$f":"+[2]Séries_Site!U55","v":0},{"$f":"+[2]Séries_Site!V55","v":0},{"$f":"+[2]Séries_Site!W55","v":0},{"$f":"+[2]Séries_Site!X55","v":0},{"$f":"+[2]Séries_Site!Y55","v":0},{"$f":"+[2]Séries_Site!Z55","v":0},{"$f":"+[2]Séries_Site!AA55","v":0},{"$f":"+[2]Séries_Site!AB55","v":0},{"$f":"+[2]Séries_Site!AC55","v":0},{"$f":"+[2]Séries_Site!AD55","v":0},{"$f":"+[2]Séries_Site!AE55","v":0},{"$f":"+[2]Séries_Site!AF55","v":0},{"$f":"+[2]Séries_Site!AG55","v":0},{"$f":"+[2]Séries_Site!AH55","v":0},{"$f":"+[2]Séries_Site!AI55","v":0},{"$f":"+[2]Séries_Site!AJ55","v":0}]
["1964-03-01",{"$f":"+[2]Séries_Site!B56","v":1206},{"$f":"+[2]Séries_Site!C56","v":1206},{"$f":"+[2]Séries_Site!D56","v":0},{"$f":"+[2]Séries_Site!E56","v":1206},{"$f":"+[2]Séries_Site!F56","v":0},{"$f":"+[2]Séries_Site!G56","v":1074},{"$f":"+[2]Séries_Site!H56","v":1074},{"$f":"+[2]Séries_Site!I56","v":0},{"$f":"+[2]Séries_Site!J56","v":1074},{"$f":"+[2]Séries_Site!K56","v":0},{"$f":"+[2]Séries_Site!L56","v":0},{"$f":"+[2]Séries_Site!M56","v":0},{"$f":"+[2]Séries_Site!N56","v":0},{"$f":"+[2]Séries_Site!O56","v":0},{"$f":"+[2]Séries_Site!P56","v":0},{"$f":"+[2]Séries_Site!Q56","v":132},{"$f":"+[2]Séries_Site!R56","v":132},{"$f":"+[2]Séries_Site!S56","v":0},{"$f":"+[2]Séries_Site!T56","v":132},{"$f":"+[2]Séries_Site!U56","v":0},{"$f":"+[2]Séries_Site!V56","v":0},{"$f":"+[2]Séries_Site!W56","v":0},{"$f":"+[2]Séries_Site!X56","v":0},{"$f":"+[2]Séries_Site!Y56","v":0},{"$f":"+[2]Séries_Site!Z56","v":0},{"$f":"+[2]Séries_Site!AA56","v":0},{"$f":"+[2]Séries_Site!AB56","v":0},{"$f":"+[2]Séries_Site!AC56","v":0},{"$f":"+[2]Séries_Site!AD56","v":0},{"$f":"+[2]Séries_Site!AE56","v":0},{"$f":"+[2]Séries_Site!AF56","v":0},{"$f":"+[2]Séries_Site!AG56","v":0},{"$f":"+[2]Séries_Site!AH56","v":0},{"$f":"+[2]Séries_Site!AI56","v":0},{"$f":"+[2]Séries_Site!AJ56","v":0}]
["1964-04-01",{"$f":"+[2]Séries_Site!B57","v":1148},{"$f":"+[2]Séries_Site!C57","v":1148},{"$f":"+[2]Séries_Site!D57","v":0},{"$f":"+[2]Séries_Site!E57","v":1148},{"$f":"+[2]Séries_Site!F57","v":0},{"$f":"+[2]Séries_Site!G57","v":1007},{"$f":"+[2]Séries_Site!H57","v":1007},{"$f":"+[2]Séries_Site!I57","v":0},{"$f":"+[2]Séries_Site!J57","v":1007},{"$f":"+[2]Séries_Site!K57","v":0},{"$f":"+[2]Séries_Site!L57","v":0},{"$f":"+[2]Séries_Site!M57","v":0},{"$f":"+[2]Séries_Site!N57","v":0},{"$f":"+[2]Séries_Site!O57","v":0},{"$f":"+[2]Séries_Site!P57","v":0},{"$f":"+[2]Séries_Site!Q57","v":141},{"$f":"+[2]Séries_Site!R57","v":141},{"$f":"+[2]Séries_Site!S57","v":0},{"$f":"+[2]Séries_Site!T57","v":141},{"$f":"+[2]Séries_Site!U57","v":0},{"$f":"+[2]Séries_Site!V57","v":0},{"$f":"+[2]Séries_Site!W57","v":0},{"$f":"+[2]Séries_Site!X57","v":0},{"$f":"+[2]Séries_Site!Y57","v":0},{"$f":"+[2]Séries_Site!Z57","v":0},{"$f":"+[2]Séries_Site!AA57","v":0},{"$f":"+[2]Séries_Site!AB57","v":0},{"$f":"+[2]Séries_Site!AC57","v":0},{"$f":"+[2]Séries_Site!AD57","v":0},{"$f":"+[2]Séries_Site!AE57","v":0},{"$f":"+[2]Séries_Site!AF57","v":0},{"$f":"+[2]Séries_Site!AG57","v":0},{"$f":"+[2]Séries_Site!AH57","v":0},{"$f":"+[2]Séries_Site!AI57","v":0},{"$f":"+[2]Séries_Site!AJ57","v":0}]
["1964-05-01",{"$f":"+[2]Séries_Site!B58","v":1222},{"$f":"+[2]Séries_Site!C58","v":1222},{"$f":"+[2]Séries_Site!D58","v":0},{"$f":"+[2]Séries_Site!E58","v":1222},{"$f":"+[2]Séries_Site!F58","v":0},{"$f":"+[2]Séries_Site!G58","v":1064},{"$f":"+[2]Séries_Site!H58","v":1064},{"$f":"+[2]Séries_Site!I58","v":0},{"$f":"+[2]Séries_Site!J58","v":1064},{"$f":"+[2]Séries_Site!K58","v":0},{"$f":"+[2]Séries_Site!L58","v":0},{"$f":"+[2]Séries_Site!M58","v":0},{"$f":"+[2]Séries_Site!N58","v":0},{"$f":"+[2]Séries_Site!O58","v":0},{"$f":"+[2]Séries_Site!P58","v":0},{"$f":"+[2]Séries_Site!Q58","v":158},{"$f":"+[2]Séries_Site!R58","v":158},{"$f":"+[2]Séries_Site!S58","v":0},{"$f":"+[2]Séries_Site!T58","v":158},{"$f":"+[2]Séries_Site!U58","v":0},{"$f":"+[2]Séries_Site!V58","v":0},{"$f":"+[2]Séries_Site!W58","v":0},{"$f":"+[2]Séries_Site!X58","v":0},{"$f":"+[2]Séries_Site!Y58","v":0},{"$f":"+[2]Séries_Site!Z58","v":0},{"$f":"+[2]Séries_Site!AA58","v":0},{"$f":"+[2]Séries_Site!AB58","v":0},{"$f":"+[2]Séries_Site!AC58","v":0},{"$f":"+[2]Séries_Site!AD58","v":0},{"$f":"+[2]Séries_Site!AE58","v":0},{"$f":"+[2]Séries_Site!AF58","v":0},{"$f":"+[2]Séries_Site!AG58","v":0},{"$f":"+[2]Séries_Site!AH58","v":0},{"$f":"+[2]Séries_Site!AI58","v":0},{"$f":"+[2]Séries_Site!AJ58","v":0}]
["1964-06-01",{"$f":"+[2]Séries_Site!B59","v":1358},{"$f":"+[2]Séries_Site!C59","v":1358},{"$f":"+[2]Séries_Site!D59","v":0},{"$f":"+[2]Séries_Site!E59","v":1358},{"$f":"+[2]Séries_Site!F59","v":0},{"$f":"+[2]Séries_Site!G59","v":1200},{"$f":"+[2]Séries_Site!H59","v":1200},{"$f":"+[2]Séries_Site!I59","v":0},{"$f":"+[2]Séries_Site!J59","v":1200},{"$f":"+[2]Séries_Site!K59","v":0},{"$f":"+[2]Séries_Site!L59","v":0},{"$f":"+[2]Séries_Site!M59","v":0},{"$f":"+[2]Séries_Site!N59","v":0},{"$f":"+[2]Séries_Site!O59","v":0},{"$f":"+[2]Séries_Site!P59","v":0},{"$f":"+[2]Séries_Site!Q59","v":158},{"$f":"+[2]Séries_Site!R59","v":158},{"$f":"+[2]Séries_Site!S59","v":0},{"$f":"+[2]Séries_Site!T59","v":158},{"$f":"+[2]Séries_Site!U59","v":0},{"$f":"+[2]Séries_Site!V59","v":0},{"$f":"+[2]Séries_Site!W59","v":0},{"$f":"+[2]Séries_Site!X59","v":0},{"$f":"+[2]Séries_Site!Y59","v":0},{"$f":"+[2]Séries_Site!Z59","v":0},{"$f":"+[2]Séries_Site!AA59","v":0},{"$f":"+[2]Séries_Site!AB59","v":0},{"$f":"+[2]Séries_Site!AC59","v":0},{"$f":"+[2]Séries_Site!AD59","v":0},{"$f":"+[2]Séries_Site!AE59","v":0},{"$f":"+[2]Séries_Site!AF59","v":0},{"$f":"+[2]Séries_Site!AG59","v":0},{"$f":"+[2]Séries_Site!AH59","v":0},{"$f":"+[2]Séries_Site!AI59","v":0},{"$f":"+[2]Séries_Site!AJ59","v":0}]
["1964-07-01",{"$f":"+[2]Séries_Site!B60","v":1205},{"$f":"+[2]Séries_Site!C60","v":1205},{"$f":"+[2]Séries_Site!D60","v":0},{"$f":"+[2]Séries_Site!E60","v":1207},{"$f":"+[2]Séries_Site!F60","v":2},{"$f":"+[2]Séries_Site!G60","v":1047},{"$f":"+[2]Séries_Site!H60","v":1047},{"$f":"+[2]Séries_Site!I60","v":0},{"$f":"+[2]Séries_Site!J60","v":1049},{"$f":"+[2]Séries_Site!K60","v":2},{"$f":"+[2]Séries_Site!L60","v":0},{"$f":"+[2]Séries_Site!M60","v":0},{"$f":"+[2]Séries_Site!N60","v":0},{"$f":"+[2]Séries_Site!O60","v":0},{"$f":"+[2]Séries_Site!P60","v":0},{"$f":"+[2]Séries_Site!Q60","v":158},{"$f":"+[2]Séries_Site!R60","v":158},{"$f":"+[2]Séries_Site!S60","v":0},{"$f":"+[2]Séries_Site!T60","v":158},{"$f":"+[2]Séries_Site!U60","v":0},{"$f":"+[2]Séries_Site!V60","v":0},{"$f":"+[2]Séries_Site!W60","v":0},{"$f":"+[2]Séries_Site!X60","v":0},{"$f":"+[2]Séries_Site!Y60","v":0},{"$f":"+[2]Séries_Site!Z60","v":0},{"$f":"+[2]Séries_Site!AA60","v":0},{"$f":"+[2]Séries_Site!AB60","v":0},{"$f":"+[2]Séries_Site!AC60","v":0},{"$f":"+[2]Séries_Site!AD60","v":0},{"$f":"+[2]Séries_Site!AE60","v":0},{"$f":"+[2]Séries_Site!AF60","v":0},{"$f":"+[2]Séries_Site!AG60","v":0},{"$f":"+[2]Séries_Site!AH60","v":0},{"$f":"+[2]Séries_Site!AI60","v":0},{"$f":"+[2]Séries_Site!AJ60","v":0}]
["1964-08-01",{"$f":"+[2]Séries_Site!B61","v":1333},{"$f":"+[2]Séries_Site!C61","v":1333},{"$f":"+[2]Séries_Site!D61","v":0},{"$f":"+[2]Séries_Site!E61","v":1333},{"$f":"+[2]Séries_Site!F61","v":0},{"$f":"+[2]Séries_Site!G61","v":1175},{"$f":"+[2]Séries_Site!H61","v":1175},{"$f":"+[2]Séries_Site!I61","v":0},{"$f":"+[2]Séries_Site!J61","v":1175},{"$f":"+[2]Séries_Site!K61","v":0},{"$f":"+[2]Séries_Site!L61","v":0},{"$f":"+[2]Séries_Site!M61","v":0},{"$f":"+[2]Séries_Site!N61","v":0},{"$f":"+[2]Séries_Site!O61","v":0},{"$f":"+[2]Séries_Site!P61","v":0},{"$f":"+[2]Séries_Site!Q61","v":158},{"$f":"+[2]Séries_Site!R61","v":158},{"$f":"+[2]Séries_Site!S61","v":0},{"$f":"+[2]Séries_Site!T61","v":158},{"$f":"+[2]Séries_Site!U61","v":0},{"$f":"+[2]Séries_Site!V61","v":0},{"$f":"+[2]Séries_Site!W61","v":0},{"$f":"+[2]Séries_Site!X61","v":0},{"$f":"+[2]Séries_Site!Y61","v":0},{"$f":"+[2]Séries_Site!Z61","v":0},{"$f":"+[2]Séries_Site!AA61","v":0},{"$f":"+[2]Séries_Site!AB61","v":0},{"$f":"+[2]Séries_Site!AC61","v":0},{"$f":"+[2]Séries_Site!AD61","v":0},{"$f":"+[2]Séries_Site!AE61","v":0},{"$f":"+[2]Séries_Site!AF61","v":0},{"$f":"+[2]Séries_Site!AG61","v":0},{"$f":"+[2]Séries_Site!AH61","v":0},{"$f":"+[2]Séries_Site!AI61","v":0},{"$f":"+[2]Séries_Site!AJ61","v":0}]
["1964-09-01",{"$f":"+[2]Séries_Site!B62","v":1037},{"$f":"+[2]Séries_Site!C62","v":1037},{"$f":"+[2]Séries_Site!D62","v":0},{"$f":"+[2]Séries_Site!E62","v":1037},{"$f":"+[2]Séries_Site!F62","v":0},{"$f":"+[2]Séries_Site!G62","v":879},{"$f":"+[2]Séries_Site!H62","v":879},{"$f":"+[2]Séries_Site!I62","v":0},{"$f":"+[2]Séries_Site!J62","v":879},{"$f":"+[2]Séries_Site!K62","v":0},{"$f":"+[2]Séries_Site!L62","v":0},{"$f":"+[2]Séries_Site!M62","v":0},{"$f":"+[2]Séries_Site!N62","v":0},{"$f":"+[2]Séries_Site!O62","v":0},{"$f":"+[2]Séries_Site!P62","v":0},{"$f":"+[2]Séries_Site!Q62","v":158},{"$f":"+[2]Séries_Site!R62","v":158},{"$f":"+[2]Séries_Site!S62","v":0},{"$f":"+[2]Séries_Site!T62","v":158},{"$f":"+[2]Séries_Site!U62","v":0},{"$f":"+[2]Séries_Site!V62","v":0},{"$f":"+[2]Séries_Site!W62","v":0},{"$f":"+[2]Séries_Site!X62","v":0},{"$f":"+[2]Séries_Site!Y62","v":0},{"$f":"+[2]Séries_Site!Z62","v":0},{"$f":"+[2]Séries_Site!AA62","v":0},{"$f":"+[2]Séries_Site!AB62","v":0},{"$f":"+[2]Séries_Site!AC62","v":0},{"$f":"+[2]Séries_Site!AD62","v":0},{"$f":"+[2]Séries_Site!AE62","v":0},{"$f":"+[2]Séries_Site!AF62","v":0},{"$f":"+[2]Séries_Site!AG62","v":0},{"$f":"+[2]Séries_Site!AH62","v":0},{"$f":"+[2]Séries_Site!AI62","v":0},{"$f":"+[2]Séries_Site!AJ62","v":0}]
["1964-10-01",{"$f":"+[2]Séries_Site!B63","v":1013},{"$f":"+[2]Séries_Site!C63","v":1013},{"$f":"+[2]Séries_Site!D63","v":0},{"$f":"+[2]Séries_Site!E63","v":1013},{"$f":"+[2]Séries_Site!F63","v":0},{"$f":"+[2]Séries_Site!G63","v":872},{"$f":"+[2]Séries_Site!H63","v":872},{"$f":"+[2]Séries_Site!I63","v":0},{"$f":"+[2]Séries_Site!J63","v":872},{"$f":"+[2]Séries_Site!K63","v":0},{"$f":"+[2]Séries_Site!L63","v":0},{"$f":"+[2]Séries_Site!M63","v":0},{"$f":"+[2]Séries_Site!N63","v":0},{"$f":"+[2]Séries_Site!O63","v":0},{"$f":"+[2]Séries_Site!P63","v":0},{"$f":"+[2]Séries_Site!Q63","v":141},{"$f":"+[2]Séries_Site!R63","v":141},{"$f":"+[2]Séries_Site!S63","v":0},{"$f":"+[2]Séries_Site!T63","v":141},{"$f":"+[2]Séries_Site!U63","v":0},{"$f":"+[2]Séries_Site!V63","v":0},{"$f":"+[2]Séries_Site!W63","v":0},{"$f":"+[2]Séries_Site!X63","v":0},{"$f":"+[2]Séries_Site!Y63","v":0},{"$f":"+[2]Séries_Site!Z63","v":0},{"$f":"+[2]Séries_Site!AA63","v":0},{"$f":"+[2]Séries_Site!AB63","v":0},{"$f":"+[2]Séries_Site!AC63","v":0},{"$f":"+[2]Séries_Site!AD63","v":0},{"$f":"+[2]Séries_Site!AE63","v":0},{"$f":"+[2]Séries_Site!AF63","v":0},{"$f":"+[2]Séries_Site!AG63","v":0},{"$f":"+[2]Séries_Site!AH63","v":0},{"$f":"+[2]Séries_Site!AI63","v":0},{"$f":"+[2]Séries_Site!AJ63","v":0}]
["1964-11-01",{"$f":"+[2]Séries_Site!B64","v":820},{"$f":"+[2]Séries_Site!C64","v":820},{"$f":"+[2]Séries_Site!D64","v":0},{"$f":"+[2]Séries_Site!E64","v":820},{"$f":"+[2]Séries_Site!F64","v":0},{"$f":"+[2]Séries_Site!G64","v":679},{"$f":"+[2]Séries_Site!H64","v":679},{"$f":"+[2]Séries_Site!I64","v":0},{"$f":"+[2]Séries_Site!J64","v":679},{"$f":"+[2]Séries_Site!K64","v":0},{"$f":"+[2]Séries_Site!L64","v":0},{"$f":"+[2]Séries_Site!M64","v":0},{"$f":"+[2]Séries_Site!N64","v":0},{"$f":"+[2]Séries_Site!O64","v":0},{"$f":"+[2]Séries_Site!P64","v":0},{"$f":"+[2]Séries_Site!Q64","v":141},{"$f":"+[2]Séries_Site!R64","v":141},{"$f":"+[2]Séries_Site!S64","v":0},{"$f":"+[2]Séries_Site!T64","v":141},{"$f":"+[2]Séries_Site!U64","v":0},{"$f":"+[2]Séries_Site!V64","v":0},{"$f":"+[2]Séries_Site!W64","v":0},{"$f":"+[2]Séries_Site!X64","v":0},{"$f":"+[2]Séries_Site!Y64","v":0},{"$f":"+[2]Séries_Site!Z64","v":0},{"$f":"+[2]Séries_Site!AA64","v":0},{"$f":"+[2]Séries_Site!AB64","v":0},{"$f":"+[2]Séries_Site!AC64","v":0},{"$f":"+[2]Séries_Site!AD64","v":0},{"$f":"+[2]Séries_Site!AE64","v":0},{"$f":"+[2]Séries_Site!AF64","v":0},{"$f":"+[2]Séries_Site!AG64","v":0},{"$f":"+[2]Séries_Site!AH64","v":0},{"$f":"+[2]Séries_Site!AI64","v":0},{"$f":"+[2]Séries_Site!AJ64","v":0}]
["1964-12-01",{"$f":"+[2]Séries_Site!B65","v":859},{"$f":"+[2]Séries_Site!C65","v":859},{"$f":"+[2]Séries_Site!D65","v":0},{"$f":"+[2]Séries_Site!E65","v":859},{"$f":"+[2]Séries_Site!F65","v":0},{"$f":"+[2]Séries_Site!G65","v":710},{"$f":"+[2]Séries_Site!H65","v":710},{"$f":"+[2]Séries_Site!I65","v":0},{"$f":"+[2]Séries_Site!J65","v":710},{"$f":"+[2]Séries_Site!K65","v":0},{"$f":"+[2]Séries_Site!L65","v":0},{"$f":"+[2]Séries_Site!M65","v":0},{"$f":"+[2]Séries_Site!N65","v":0},{"$f":"+[2]Séries_Site!O65","v":0},{"$f":"+[2]Séries_Site!P65","v":0},{"$f":"+[2]Séries_Site!Q65","v":149},{"$f":"+[2]Séries_Site!R65","v":149},{"$f":"+[2]Séries_Site!S65","v":0},{"$f":"+[2]Séries_Site!T65","v":149},{"$f":"+[2]Séries_Site!U65","v":0},{"$f":"+[2]Séries_Site!V65","v":0},{"$f":"+[2]Séries_Site!W65","v":0},{"$f":"+[2]Séries_Site!X65","v":0},{"$f":"+[2]Séries_Site!Y65","v":0},{"$f":"+[2]Séries_Site!Z65","v":0},{"$f":"+[2]Séries_Site!AA65","v":0},{"$f":"+[2]Séries_Site!AB65","v":0},{"$f":"+[2]Séries_Site!AC65","v":0},{"$f":"+[2]Séries_Site!AD65","v":0},{"$f":"+[2]Séries_Site!AE65","v":0},{"$f":"+[2]Séries_Site!AF65","v":0},{"$f":"+[2]Séries_Site!AG65","v":0},{"$f":"+[2]Séries_Site!AH65","v":0},{"$f":"+[2]Séries_Site!AI65","v":0},{"$f":"+[2]Séries_Site!AJ65","v":0}]
["1965-01-01",{"$f":"+[2]Séries_Site!B66","v":894},{"$f":"+[2]Séries_Site!C66","v":894},{"$f":"+[2]Séries_Site!D66","v":0},{"$f":"+[2]Séries_Site!E66","v":894},{"$f":"+[2]Séries_Site!F66","v":0},{"$f":"+[2]Séries_Site!G66","v":719},{"$f":"+[2]Séries_Site!H66","v":719},{"$f":"+[2]Séries_Site!I66","v":0},{"$f":"+[2]Séries_Site!J66","v":719},{"$f":"+[2]Séries_Site!K66","v":0},{"$f":"+[2]Séries_Site!L66","v":0},{"$f":"+[2]Séries_Site!M66","v":0},{"$f":"+[2]Séries_Site!N66","v":0},{"$f":"+[2]Séries_Site!O66","v":0},{"$f":"+[2]Séries_Site!P66","v":0},{"$f":"+[2]Séries_Site!Q66","v":175},{"$f":"+[2]Séries_Site!R66","v":175},{"$f":"+[2]Séries_Site!S66","v":0},{"$f":"+[2]Séries_Site!T66","v":175},{"$f":"+[2]Séries_Site!U66","v":0},{"$f":"+[2]Séries_Site!V66","v":0},{"$f":"+[2]Séries_Site!W66","v":0},{"$f":"+[2]Séries_Site!X66","v":0},{"$f":"+[2]Séries_Site!Y66","v":0},{"$f":"+[2]Séries_Site!Z66","v":0},{"$f":"+[2]Séries_Site!AA66","v":0},{"$f":"+[2]Séries_Site!AB66","v":0},{"$f":"+[2]Séries_Site!AC66","v":0},{"$f":"+[2]Séries_Site!AD66","v":0},{"$f":"+[2]Séries_Site!AE66","v":0},{"$f":"+[2]Séries_Site!AF66","v":0},{"$f":"+[2]Séries_Site!AG66","v":0},{"$f":"+[2]Séries_Site!AH66","v":0},{"$f":"+[2]Séries_Site!AI66","v":0},{"$f":"+[2]Séries_Site!AJ66","v":0}]
["1965-02-01",{"$f":"+[2]Séries_Site!B67","v":830},{"$f":"+[2]Séries_Site!C67","v":830},{"$f":"+[2]Séries_Site!D67","v":0},{"$f":"+[2]Séries_Site!E67","v":830},{"$f":"+[2]Séries_Site!F67","v":0},{"$f":"+[2]Séries_Site!G67","v":640},{"$f":"+[2]Séries_Site!H67","v":640},{"$f":"+[2]Séries_Site!I67","v":0},{"$f":"+[2]Séries_Site!J67","v":640},{"$f":"+[2]Séries_Site!K67","v":0},{"$f":"+[2]Séries_Site!L67","v":0},{"$f":"+[2]Séries_Site!M67","v":0},{"$f":"+[2]Séries_Site!N67","v":0},{"$f":"+[2]Séries_Site!O67","v":0},{"$f":"+[2]Séries_Site!P67","v":0},{"$f":"+[2]Séries_Site!Q67","v":190},{"$f":"+[2]Séries_Site!R67","v":190},{"$f":"+[2]Séries_Site!S67","v":0},{"$f":"+[2]Séries_Site!T67","v":190},{"$f":"+[2]Séries_Site!U67","v":0},{"$f":"+[2]Séries_Site!V67","v":0},{"$f":"+[2]Séries_Site!W67","v":0},{"$f":"+[2]Séries_Site!X67","v":0},{"$f":"+[2]Séries_Site!Y67","v":0},{"$f":"+[2]Séries_Site!Z67","v":0},{"$f":"+[2]Séries_Site!AA67","v":0},{"$f":"+[2]Séries_Site!AB67","v":0},{"$f":"+[2]Séries_Site!AC67","v":0},{"$f":"+[2]Séries_Site!AD67","v":0},{"$f":"+[2]Séries_Site!AE67","v":0},{"$f":"+[2]Séries_Site!AF67","v":0},{"$f":"+[2]Séries_Site!AG67","v":0},{"$f":"+[2]Séries_Site!AH67","v":0},{"$f":"+[2]Séries_Site!AI67","v":0},{"$f":"+[2]Séries_Site!AJ67","v":0}]
["1965-03-01",{"$f":"+[2]Séries_Site!B68","v":949},{"$f":"+[2]Séries_Site!C68","v":949},{"$f":"+[2]Séries_Site!D68","v":0},{"$f":"+[2]Séries_Site!E68","v":949},{"$f":"+[2]Séries_Site!F68","v":0},{"$f":"+[2]Séries_Site!G68","v":777},{"$f":"+[2]Séries_Site!H68","v":777},{"$f":"+[2]Séries_Site!I68","v":0},{"$f":"+[2]Séries_Site!J68","v":777},{"$f":"+[2]Séries_Site!K68","v":0},{"$f":"+[2]Séries_Site!L68","v":0},{"$f":"+[2]Séries_Site!M68","v":0},{"$f":"+[2]Séries_Site!N68","v":0},{"$f":"+[2]Séries_Site!O68","v":0},{"$f":"+[2]Séries_Site!P68","v":0},{"$f":"+[2]Séries_Site!Q68","v":172},{"$f":"+[2]Séries_Site!R68","v":172},{"$f":"+[2]Séries_Site!S68","v":0},{"$f":"+[2]Séries_Site!T68","v":172},{"$f":"+[2]Séries_Site!U68","v":0},{"$f":"+[2]Séries_Site!V68","v":0},{"$f":"+[2]Séries_Site!W68","v":0},{"$f":"+[2]Séries_Site!X68","v":0},{"$f":"+[2]Séries_Site!Y68","v":0},{"$f":"+[2]Séries_Site!Z68","v":0},{"$f":"+[2]Séries_Site!AA68","v":0},{"$f":"+[2]Séries_Site!AB68","v":0},{"$f":"+[2]Séries_Site!AC68","v":0},{"$f":"+[2]Séries_Site!AD68","v":0},{"$f":"+[2]Séries_Site!AE68","v":0},{"$f":"+[2]Séries_Site!AF68","v":0},{"$f":"+[2]Séries_Site!AG68","v":0},{"$f":"+[2]Séries_Site!AH68","v":0},{"$f":"+[2]Séries_Site!AI68","v":0},{"$f":"+[2]Séries_Site!AJ68","v":0}]
["1965-04-01",{"$f":"+[2]Séries_Site!B69","v":1035},{"$f":"+[2]Séries_Site!C69","v":1035},{"$f":"+[2]Séries_Site!D69","v":0},{"$f":"+[2]Séries_Site!E69","v":1035},{"$f":"+[2]Séries_Site!F69","v":0},{"$f":"+[2]Séries_Site!G69","v":804},{"$f":"+[2]Séries_Site!H69","v":804},{"$f":"+[2]Séries_Site!I69","v":0},{"$f":"+[2]Séries_Site!J69","v":804},{"$f":"+[2]Séries_Site!K69","v":0},{"$f":"+[2]Séries_Site!L69","v":0},{"$f":"+[2]Séries_Site!M69","v":0},{"$f":"+[2]Séries_Site!N69","v":0},{"$f":"+[2]Séries_Site!O69","v":0},{"$f":"+[2]Séries_Site!P69","v":0},{"$f":"+[2]Séries_Site!Q69","v":231},{"$f":"+[2]Séries_Site!R69","v":231},{"$f":"+[2]Séries_Site!S69","v":0},{"$f":"+[2]Séries_Site!T69","v":231},{"$f":"+[2]Séries_Site!U69","v":0},{"$f":"+[2]Séries_Site!V69","v":0},{"$f":"+[2]Séries_Site!W69","v":0},{"$f":"+[2]Séries_Site!X69","v":0},{"$f":"+[2]Séries_Site!Y69","v":0},{"$f":"+[2]Séries_Site!Z69","v":0},{"$f":"+[2]Séries_Site!AA69","v":0},{"$f":"+[2]Séries_Site!AB69","v":0},{"$f":"+[2]Séries_Site!AC69","v":0},{"$f":"+[2]Séries_Site!AD69","v":0},{"$f":"+[2]Séries_Site!AE69","v":0},{"$f":"+[2]Séries_Site!AF69","v":0},{"$f":"+[2]Séries_Site!AG69","v":0},{"$f":"+[2]Séries_Site!AH69","v":0},{"$f":"+[2]Séries_Site!AI69","v":0},{"$f":"+[2]Séries_Site!AJ69","v":0}]
["1965-05-01",{"$f":"+[2]Séries_Site!B70","v":1049},{"$f":"+[2]Séries_Site!C70","v":1049},{"$f":"+[2]Séries_Site!D70","v":0},{"$f":"+[2]Séries_Site!E70","v":1049},{"$f":"+[2]Séries_Site!F70","v":0},{"$f":"+[2]Séries_Site!G70","v":780},{"$f":"+[2]Séries_Site!H70","v":780},{"$f":"+[2]Séries_Site!I70","v":0},{"$f":"+[2]Séries_Site!J70","v":780},{"$f":"+[2]Séries_Site!K70","v":0},{"$f":"+[2]Séries_Site!L70","v":0},{"$f":"+[2]Séries_Site!M70","v":0},{"$f":"+[2]Séries_Site!N70","v":0},{"$f":"+[2]Séries_Site!O70","v":0},{"$f":"+[2]Séries_Site!P70","v":0},{"$f":"+[2]Séries_Site!Q70","v":269},{"$f":"+[2]Séries_Site!R70","v":269},{"$f":"+[2]Séries_Site!S70","v":0},{"$f":"+[2]Séries_Site!T70","v":269},{"$f":"+[2]Séries_Site!U70","v":0},{"$f":"+[2]Séries_Site!V70","v":0},{"$f":"+[2]Séries_Site!W70","v":0},{"$f":"+[2]Séries_Site!X70","v":0},{"$f":"+[2]Séries_Site!Y70","v":0},{"$f":"+[2]Séries_Site!Z70","v":0},{"$f":"+[2]Séries_Site!AA70","v":0},{"$f":"+[2]Séries_Site!AB70","v":0},{"$f":"+[2]Séries_Site!AC70","v":0},{"$f":"+[2]Séries_Site!AD70","v":0},{"$f":"+[2]Séries_Site!AE70","v":0},{"$f":"+[2]Séries_Site!AF70","v":0},{"$f":"+[2]Séries_Site!AG70","v":0},{"$f":"+[2]Séries_Site!AH70","v":0},{"$f":"+[2]Séries_Site!AI70","v":0},{"$f":"+[2]Séries_Site!AJ70","v":0}]
["1965-06-01",{"$f":"+[2]Séries_Site!B71","v":1077},{"$f":"+[2]Séries_Site!C71","v":1077},{"$f":"+[2]Séries_Site!D71","v":0},{"$f":"+[2]Séries_Site!E71","v":1077},{"$f":"+[2]Séries_Site!F71","v":0},{"$f":"+[2]Séries_Site!G71","v":858},{"$f":"+[2]Séries_Site!H71","v":858},{"$f":"+[2]Séries_Site!I71","v":0},{"$f":"+[2]Séries_Site!J71","v":858},{"$f":"+[2]Séries_Site!K71","v":0},{"$f":"+[2]Séries_Site!L71","v":0},{"$f":"+[2]Séries_Site!M71","v":0},{"$f":"+[2]Séries_Site!N71","v":0},{"$f":"+[2]Séries_Site!O71","v":0},{"$f":"+[2]Séries_Site!P71","v":0},{"$f":"+[2]Séries_Site!Q71","v":219},{"$f":"+[2]Séries_Site!R71","v":219},{"$f":"+[2]Séries_Site!S71","v":0},{"$f":"+[2]Séries_Site!T71","v":219},{"$f":"+[2]Séries_Site!U71","v":0},{"$f":"+[2]Séries_Site!V71","v":0},{"$f":"+[2]Séries_Site!W71","v":0},{"$f":"+[2]Séries_Site!X71","v":0},{"$f":"+[2]Séries_Site!Y71","v":0},{"$f":"+[2]Séries_Site!Z71","v":0},{"$f":"+[2]Séries_Site!AA71","v":0},{"$f":"+[2]Séries_Site!AB71","v":0},{"$f":"+[2]Séries_Site!AC71","v":0},{"$f":"+[2]Séries_Site!AD71","v":0},{"$f":"+[2]Séries_Site!AE71","v":0},{"$f":"+[2]Séries_Site!AF71","v":0},{"$f":"+[2]Séries_Site!AG71","v":0},{"$f":"+[2]Séries_Site!AH71","v":0},{"$f":"+[2]Séries_Site!AI71","v":0},{"$f":"+[2]Séries_Site!AJ71","v":0}]
["1965-07-01",{"$f":"+[2]Séries_Site!B72","v":962},{"$f":"+[2]Séries_Site!C72","v":962},{"$f":"+[2]Séries_Site!D72","v":0},{"$f":"+[2]Séries_Site!E72","v":962},{"$f":"+[2]Séries_Site!F72","v":0},{"$f":"+[2]Séries_Site!G72","v":751},{"$f":"+[2]Séries_Site!H72","v":751},{"$f":"+[2]Séries_Site!I72","v":0},{"$f":"+[2]Séries_Site!J72","v":751},{"$f":"+[2]Séries_Site!K72","v":0},{"$f":"+[2]Séries_Site!L72","v":0},{"$f":"+[2]Séries_Site!M72","v":0},{"$f":"+[2]Séries_Site!N72","v":0},{"$f":"+[2]Séries_Site!O72","v":0},{"$f":"+[2]Séries_Site!P72","v":0},{"$f":"+[2]Séries_Site!Q72","v":211},{"$f":"+[2]Séries_Site!R72","v":211},{"$f":"+[2]Séries_Site!S72","v":0},{"$f":"+[2]Séries_Site!T72","v":211},{"$f":"+[2]Séries_Site!U72","v":0},{"$f":"+[2]Séries_Site!V72","v":0},{"$f":"+[2]Séries_Site!W72","v":0},{"$f":"+[2]Séries_Site!X72","v":0},{"$f":"+[2]Séries_Site!Y72","v":0},{"$f":"+[2]Séries_Site!Z72","v":0},{"$f":"+[2]Séries_Site!AA72","v":0},{"$f":"+[2]Séries_Site!AB72","v":0},{"$f":"+[2]Séries_Site!AC72","v":0},{"$f":"+[2]Séries_Site!AD72","v":0},{"$f":"+[2]Séries_Site!AE72","v":0},{"$f":"+[2]Séries_Site!AF72","v":0},{"$f":"+[2]Séries_Site!AG72","v":0},{"$f":"+[2]Séries_Site!AH72","v":0},{"$f":"+[2]Séries_Site!AI72","v":0},{"$f":"+[2]Séries_Site!AJ72","v":0}]
["1965-08-01",{"$f":"+[2]Séries_Site!B73","v":1058},{"$f":"+[2]Séries_Site!C73","v":1058},{"$f":"+[2]Séries_Site!D73","v":0},{"$f":"+[2]Séries_Site!E73","v":1058},{"$f":"+[2]Séries_Site!F73","v":0},{"$f":"+[2]Séries_Site!G73","v":817},{"$f":"+[2]Séries_Site!H73","v":817},{"$f":"+[2]Séries_Site!I73","v":0},{"$f":"+[2]Séries_Site!J73","v":817},{"$f":"+[2]Séries_Site!K73","v":0},{"$f":"+[2]Séries_Site!L73","v":0},{"$f":"+[2]Séries_Site!M73","v":0},{"$f":"+[2]Séries_Site!N73","v":0},{"$f":"+[2]Séries_Site!O73","v":0},{"$f":"+[2]Séries_Site!P73","v":0},{"$f":"+[2]Séries_Site!Q73","v":241},{"$f":"+[2]Séries_Site!R73","v":241},{"$f":"+[2]Séries_Site!S73","v":0},{"$f":"+[2]Séries_Site!T73","v":241},{"$f":"+[2]Séries_Site!U73","v":0},{"$f":"+[2]Séries_Site!V73","v":0},{"$f":"+[2]Séries_Site!W73","v":0},{"$f":"+[2]Séries_Site!X73","v":0},{"$f":"+[2]Séries_Site!Y73","v":0},{"$f":"+[2]Séries_Site!Z73","v":0},{"$f":"+[2]Séries_Site!AA73","v":0},{"$f":"+[2]Séries_Site!AB73","v":0},{"$f":"+[2]Séries_Site!AC73","v":0},{"$f":"+[2]Séries_Site!AD73","v":0},{"$f":"+[2]Séries_Site!AE73","v":0},{"$f":"+[2]Séries_Site!AF73","v":0},{"$f":"+[2]Séries_Site!AG73","v":0},{"$f":"+[2]Séries_Site!AH73","v":0},{"$f":"+[2]Séries_Site!AI73","v":0},{"$f":"+[2]Séries_Site!AJ73","v":0}]
["1965-09-01",{"$f":"+[2]Séries_Site!B74","v":830},{"$f":"+[2]Séries_Site!C74","v":830},{"$f":"+[2]Séries_Site!D74","v":0},{"$f":"+[2]Séries_Site!E74","v":830},{"$f":"+[2]Séries_Site!F74","v":0},{"$f":"+[2]Séries_Site!G74","v":615},{"$f":"+[2]Séries_Site!H74","v":615},{"$f":"+[2]Séries_Site!I74","v":0},{"$f":"+[2]Séries_Site!J74","v":615},{"$f":"+[2]Séries_Site!K74","v":0},{"$f":"+[2]Séries_Site!L74","v":0},{"$f":"+[2]Séries_Site!M74","v":0},{"$f":"+[2]Séries_Site!N74","v":0},{"$f":"+[2]Séries_Site!O74","v":0},{"$f":"+[2]Séries_Site!P74","v":0},{"$f":"+[2]Séries_Site!Q74","v":215},{"$f":"+[2]Séries_Site!R74","v":215},{"$f":"+[2]Séries_Site!S74","v":0},{"$f":"+[2]Séries_Site!T74","v":215},{"$f":"+[2]Séries_Site!U74","v":0},{"$f":"+[2]Séries_Site!V74","v":0},{"$f":"+[2]Séries_Site!W74","v":0},{"$f":"+[2]Séries_Site!X74","v":0},{"$f":"+[2]Séries_Site!Y74","v":0},{"$f":"+[2]Séries_Site!Z74","v":0},{"$f":"+[2]Séries_Site!AA74","v":0},{"$f":"+[2]Séries_Site!AB74","v":0},{"$f":"+[2]Séries_Site!AC74","v":0},{"$f":"+[2]Séries_Site!AD74","v":0},{"$f":"+[2]Séries_Site!AE74","v":0},{"$f":"+[2]Séries_Site!AF74","v":0},{"$f":"+[2]Séries_Site!AG74","v":0},{"$f":"+[2]Séries_Site!AH74","v":0},{"$f":"+[2]Séries_Site!AI74","v":0},{"$f":"+[2]Séries_Site!AJ74","v":0}]
["1965-10-01",{"$f":"+[2]Séries_Site!B75","v":794},{"$f":"+[2]Séries_Site!C75","v":794},{"$f":"+[2]Séries_Site!D75","v":0},{"$f":"+[2]Séries_Site!E75","v":794},{"$f":"+[2]Séries_Site!F75","v":0},{"$f":"+[2]Séries_Site!G75","v":612},{"$f":"+[2]Séries_Site!H75","v":612},{"$f":"+[2]Séries_Site!I75","v":0},{"$f":"+[2]Séries_Site!J75","v":612},{"$f":"+[2]Séries_Site!K75","v":0},{"$f":"+[2]Séries_Site!L75","v":0},{"$f":"+[2]Séries_Site!M75","v":0},{"$f":"+[2]Séries_Site!N75","v":0},{"$f":"+[2]Séries_Site!O75","v":0},{"$f":"+[2]Séries_Site!P75","v":0},{"$f":"+[2]Séries_Site!Q75","v":182},{"$f":"+[2]Séries_Site!R75","v":182},{"$f":"+[2]Séries_Site!S75","v":0},{"$f":"+[2]Séries_Site!T75","v":182},{"$f":"+[2]Séries_Site!U75","v":0},{"$f":"+[2]Séries_Site!V75","v":0},{"$f":"+[2]Séries_Site!W75","v":0},{"$f":"+[2]Séries_Site!X75","v":0},{"$f":"+[2]Séries_Site!Y75","v":0},{"$f":"+[2]Séries_Site!Z75","v":0},{"$f":"+[2]Séries_Site!AA75","v":0},{"$f":"+[2]Séries_Site!AB75","v":0},{"$f":"+[2]Séries_Site!AC75","v":0},{"$f":"+[2]Séries_Site!AD75","v":0},{"$f":"+[2]Séries_Site!AE75","v":0},{"$f":"+[2]Séries_Site!AF75","v":0},{"$f":"+[2]Séries_Site!AG75","v":0},{"$f":"+[2]Séries_Site!AH75","v":0},{"$f":"+[2]Séries_Site!AI75","v":0},{"$f":"+[2]Séries_Site!AJ75","v":0}]
["1965-11-01",{"$f":"+[2]Séries_Site!B76","v":679},{"$f":"+[2]Séries_Site!C76","v":679},{"$f":"+[2]Séries_Site!D76","v":0},{"$f":"+[2]Séries_Site!E76","v":679},{"$f":"+[2]Séries_Site!F76","v":0},{"$f":"+[2]Séries_Site!G76","v":502},{"$f":"+[2]Séries_Site!H76","v":502},{"$f":"+[2]Séries_Site!I76","v":0},{"$f":"+[2]Séries_Site!J76","v":502},{"$f":"+[2]Séries_Site!K76","v":0},{"$f":"+[2]Séries_Site!L76","v":0},{"$f":"+[2]Séries_Site!M76","v":0},{"$f":"+[2]Séries_Site!N76","v":0},{"$f":"+[2]Séries_Site!O76","v":0},{"$f":"+[2]Séries_Site!P76","v":0},{"$f":"+[2]Séries_Site!Q76","v":177},{"$f":"+[2]Séries_Site!R76","v":177},{"$f":"+[2]Séries_Site!S76","v":0},{"$f":"+[2]Séries_Site!T76","v":177},{"$f":"+[2]Séries_Site!U76","v":0},{"$f":"+[2]Séries_Site!V76","v":0},{"$f":"+[2]Séries_Site!W76","v":0},{"$f":"+[2]Séries_Site!X76","v":0},{"$f":"+[2]Séries_Site!Y76","v":0},{"$f":"+[2]Séries_Site!Z76","v":0},{"$f":"+[2]Séries_Site!AA76","v":0},{"$f":"+[2]Séries_Site!AB76","v":0},{"$f":"+[2]Séries_Site!AC76","v":0},{"$f":"+[2]Séries_Site!AD76","v":0},{"$f":"+[2]Séries_Site!AE76","v":0},{"$f":"+[2]Séries_Site!AF76","v":0},{"$f":"+[2]Séries_Site!AG76","v":0},{"$f":"+[2]Séries_Site!AH76","v":0},{"$f":"+[2]Séries_Site!AI76","v":0},{"$f":"+[2]Séries_Site!AJ76","v":0}]
["1965-12-01",{"$f":"+[2]Séries_Site!B77","v":647},{"$f":"+[2]Séries_Site!C77","v":647},{"$f":"+[2]Séries_Site!D77","v":0},{"$f":"+[2]Séries_Site!E77","v":647},{"$f":"+[2]Séries_Site!F77","v":0},{"$f":"+[2]Séries_Site!G77","v":526},{"$f":"+[2]Séries_Site!H77","v":526},{"$f":"+[2]Séries_Site!I77","v":0},{"$f":"+[2]Séries_Site!J77","v":526},{"$f":"+[2]Séries_Site!K77","v":0},{"$f":"+[2]Séries_Site!L77","v":0},{"$f":"+[2]Séries_Site!M77","v":0},{"$f":"+[2]Séries_Site!N77","v":0},{"$f":"+[2]Séries_Site!O77","v":0},{"$f":"+[2]Séries_Site!P77","v":0},{"$f":"+[2]Séries_Site!Q77","v":121},{"$f":"+[2]Séries_Site!R77","v":121},{"$f":"+[2]Séries_Site!S77","v":0},{"$f":"+[2]Séries_Site!T77","v":121},{"$f":"+[2]Séries_Site!U77","v":0},{"$f":"+[2]Séries_Site!V77","v":0},{"$f":"+[2]Séries_Site!W77","v":0},{"$f":"+[2]Séries_Site!X77","v":0},{"$f":"+[2]Séries_Site!Y77","v":0},{"$f":"+[2]Séries_Site!Z77","v":0},{"$f":"+[2]Séries_Site!AA77","v":0},{"$f":"+[2]Séries_Site!AB77","v":0},{"$f":"+[2]Séries_Site!AC77","v":0},{"$f":"+[2]Séries_Site!AD77","v":0},{"$f":"+[2]Séries_Site!AE77","v":0},{"$f":"+[2]Séries_Site!AF77","v":0},{"$f":"+[2]Séries_Site!AG77","v":0},{"$f":"+[2]Séries_Site!AH77","v":0},{"$f":"+[2]Séries_Site!AI77","v":0},{"$f":"+[2]Séries_Site!AJ77","v":0}]
["1966-01-01",{"$f":"+[2]Séries_Site!B78","v":594},{"$f":"+[2]Séries_Site!C78","v":594},{"$f":"+[2]Séries_Site!D78","v":0},{"$f":"+[2]Séries_Site!E78","v":967},{"$f":"+[2]Séries_Site!F78","v":0},{"$f":"+[2]Séries_Site!G78","v":340},{"$f":"+[2]Séries_Site!H78","v":340},{"$f":"+[2]Séries_Site!I78","v":0},{"$f":"+[2]Séries_Site!J78","v":720},{"$f":"+[2]Séries_Site!K78","v":0},{"$f":"+[2]Séries_Site!L78","v":0},{"$f":"+[2]Séries_Site!M78","v":0},{"$f":"+[2]Séries_Site!N78","v":0},{"$f":"+[2]Séries_Site!O78","v":0},{"$f":"+[2]Séries_Site!P78","v":0},{"$f":"+[2]Séries_Site!Q78","v":254},{"$f":"+[2]Séries_Site!R78","v":254},{"$f":"+[2]Séries_Site!S78","v":0},{"$f":"+[2]Séries_Site!T78","v":247},{"$f":"+[2]Séries_Site!U78","v":0},{"$f":"+[2]Séries_Site!V78","v":0},{"$f":"+[2]Séries_Site!W78","v":0},{"$f":"+[2]Séries_Site!X78","v":0},{"$f":"+[2]Séries_Site!Y78","v":0},{"$f":"+[2]Séries_Site!Z78","v":0},{"$f":"+[2]Séries_Site!AA78","v":0},{"$f":"+[2]Séries_Site!AB78","v":0},{"$f":"+[2]Séries_Site!AC78","v":0},{"$f":"+[2]Séries_Site!AD78","v":0},{"$f":"+[2]Séries_Site!AE78","v":0},{"$f":"+[2]Séries_Site!AF78","v":0},{"$f":"+[2]Séries_Site!AG78","v":0},{"$f":"+[2]Séries_Site!AH78","v":0},{"$f":"+[2]Séries_Site!AI78","v":0},{"$f":"+[2]Séries_Site!AJ78","v":0}]
["1966-02-01",{"$f":"+[2]Séries_Site!B79","v":1065},{"$f":"+[2]Séries_Site!C79","v":1065},{"$f":"+[2]Séries_Site!D79","v":0},{"$f":"+[2]Séries_Site!E79","v":938},{"$f":"+[2]Séries_Site!F79","v":0},{"$f":"+[2]Séries_Site!G79","v":801},{"$f":"+[2]Séries_Site!H79","v":801},{"$f":"+[2]Séries_Site!I79","v":0},{"$f":"+[2]Séries_Site!J79","v":674},{"$f":"+[2]Séries_Site!K79","v":0},{"$f":"+[2]Séries_Site!L79","v":0},{"$f":"+[2]Séries_Site!M79","v":0},{"$f":"+[2]Séries_Site!N79","v":0},{"$f":"+[2]Séries_Site!O79","v":0},{"$f":"+[2]Séries_Site!P79","v":0},{"$f":"+[2]Séries_Site!Q79","v":264},{"$f":"+[2]Séries_Site!R79","v":264},{"$f":"+[2]Séries_Site!S79","v":0},{"$f":"+[2]Séries_Site!T79","v":264},{"$f":"+[2]Séries_Site!U79","v":0},{"$f":"+[2]Séries_Site!V79","v":0},{"$f":"+[2]Séries_Site!W79","v":0},{"$f":"+[2]Séries_Site!X79","v":0},{"$f":"+[2]Séries_Site!Y79","v":0},{"$f":"+[2]Séries_Site!Z79","v":0},{"$f":"+[2]Séries_Site!AA79","v":0},{"$f":"+[2]Séries_Site!AB79","v":0},{"$f":"+[2]Séries_Site!AC79","v":0},{"$f":"+[2]Séries_Site!AD79","v":0},{"$f":"+[2]Séries_Site!AE79","v":0},{"$f":"+[2]Séries_Site!AF79","v":0},{"$f":"+[2]Séries_Site!AG79","v":0},{"$f":"+[2]Séries_Site!AH79","v":0},{"$f":"+[2]Séries_Site!AI79","v":0},{"$f":"+[2]Séries_Site!AJ79","v":0}]
["1966-03-01",{"$f":"+[2]Séries_Site!B80","v":1183},{"$f":"+[2]Séries_Site!C80","v":1183},{"$f":"+[2]Séries_Site!D80","v":0},{"$f":"+[2]Séries_Site!E80","v":1130},{"$f":"+[2]Séries_Site!F80","v":0},{"$f":"+[2]Séries_Site!G80","v":932},{"$f":"+[2]Séries_Site!H80","v":932},{"$f":"+[2]Séries_Site!I80","v":0},{"$f":"+[2]Séries_Site!J80","v":888},{"$f":"+[2]Séries_Site!K80","v":0},{"$f":"+[2]Séries_Site!L80","v":0},{"$f":"+[2]Séries_Site!M80","v":0},{"$f":"+[2]Séries_Site!N80","v":0},{"$f":"+[2]Séries_Site!O80","v":0},{"$f":"+[2]Séries_Site!P80","v":0},{"$f":"+[2]Séries_Site!Q80","v":251},{"$f":"+[2]Séries_Site!R80","v":251},{"$f":"+[2]Séries_Site!S80","v":0},{"$f":"+[2]Séries_Site!T80","v":242},{"$f":"+[2]Séries_Site!U80","v":0},{"$f":"+[2]Séries_Site!V80","v":0},{"$f":"+[2]Séries_Site!W80","v":0},{"$f":"+[2]Séries_Site!X80","v":0},{"$f":"+[2]Séries_Site!Y80","v":0},{"$f":"+[2]Séries_Site!Z80","v":0},{"$f":"+[2]Séries_Site!AA80","v":0},{"$f":"+[2]Séries_Site!AB80","v":0},{"$f":"+[2]Séries_Site!AC80","v":0},{"$f":"+[2]Séries_Site!AD80","v":0},{"$f":"+[2]Séries_Site!AE80","v":0},{"$f":"+[2]Séries_Site!AF80","v":0},{"$f":"+[2]Séries_Site!AG80","v":0},{"$f":"+[2]Séries_Site!AH80","v":0},{"$f":"+[2]Séries_Site!AI80","v":0},{"$f":"+[2]Séries_Site!AJ80","v":0}]
["1966-04-01",{"$f":"+[2]Séries_Site!B81","v":1229},{"$f":"+[2]Séries_Site!C81","v":1229},{"$f":"+[2]Séries_Site!D81","v":0},{"$f":"+[2]Séries_Site!E81","v":1212},{"$f":"+[2]Séries_Site!F81","v":0},{"$f":"+[2]Séries_Site!G81","v":954},{"$f":"+[2]Séries_Site!H81","v":954},{"$f":"+[2]Séries_Site!I81","v":0},{"$f":"+[2]Séries_Site!J81","v":899},{"$f":"+[2]Séries_Site!K81","v":0},{"$f":"+[2]Séries_Site!L81","v":0},{"$f":"+[2]Séries_Site!M81","v":0},{"$f":"+[2]Séries_Site!N81","v":0},{"$f":"+[2]Séries_Site!O81","v":0},{"$f":"+[2]Séries_Site!P81","v":0},{"$f":"+[2]Séries_Site!Q81","v":275},{"$f":"+[2]Séries_Site!R81","v":275},{"$f":"+[2]Séries_Site!S81","v":0},{"$f":"+[2]Séries_Site!T81","v":313},{"$f":"+[2]Séries_Site!U81","v":0},{"$f":"+[2]Séries_Site!V81","v":0},{"$f":"+[2]Séries_Site!W81","v":0},{"$f":"+[2]Séries_Site!X81","v":0},{"$f":"+[2]Séries_Site!Y81","v":0},{"$f":"+[2]Séries_Site!Z81","v":0},{"$f":"+[2]Séries_Site!AA81","v":0},{"$f":"+[2]Séries_Site!AB81","v":0},{"$f":"+[2]Séries_Site!AC81","v":0},{"$f":"+[2]Séries_Site!AD81","v":0},{"$f":"+[2]Séries_Site!AE81","v":0},{"$f":"+[2]Séries_Site!AF81","v":0},{"$f":"+[2]Séries_Site!AG81","v":0},{"$f":"+[2]Séries_Site!AH81","v":0},{"$f":"+[2]Séries_Site!AI81","v":0},{"$f":"+[2]Séries_Site!AJ81","v":0}]
["1966-05-01",{"$f":"+[2]Séries_Site!B82","v":1190},{"$f":"+[2]Séries_Site!C82","v":1190},{"$f":"+[2]Séries_Site!D82","v":0},{"$f":"+[2]Séries_Site!E82","v":1253},{"$f":"+[2]Séries_Site!F82","v":0},{"$f":"+[2]Séries_Site!G82","v":922},{"$f":"+[2]Séries_Site!H82","v":922},{"$f":"+[2]Séries_Site!I82","v":0},{"$f":"+[2]Séries_Site!J82","v":890},{"$f":"+[2]Séries_Site!K82","v":0},{"$f":"+[2]Séries_Site!L82","v":0},{"$f":"+[2]Séries_Site!M82","v":0},{"$f":"+[2]Séries_Site!N82","v":0},{"$f":"+[2]Séries_Site!O82","v":0},{"$f":"+[2]Séries_Site!P82","v":0},{"$f":"+[2]Séries_Site!Q82","v":268},{"$f":"+[2]Séries_Site!R82","v":268},{"$f":"+[2]Séries_Site!S82","v":0},{"$f":"+[2]Séries_Site!T82","v":363},{"$f":"+[2]Séries_Site!U82","v":0},{"$f":"+[2]Séries_Site!V82","v":0},{"$f":"+[2]Séries_Site!W82","v":0},{"$f":"+[2]Séries_Site!X82","v":0},{"$f":"+[2]Séries_Site!Y82","v":0},{"$f":"+[2]Séries_Site!Z82","v":0},{"$f":"+[2]Séries_Site!AA82","v":0},{"$f":"+[2]Séries_Site!AB82","v":0},{"$f":"+[2]Séries_Site!AC82","v":0},{"$f":"+[2]Séries_Site!AD82","v":0},{"$f":"+[2]Séries_Site!AE82","v":0},{"$f":"+[2]Séries_Site!AF82","v":0},{"$f":"+[2]Séries_Site!AG82","v":0},{"$f":"+[2]Séries_Site!AH82","v":0},{"$f":"+[2]Séries_Site!AI82","v":0},{"$f":"+[2]Séries_Site!AJ82","v":0}]
["1966-06-01",{"$f":"+[2]Séries_Site!B83","v":1286},{"$f":"+[2]Séries_Site!C83","v":1286},{"$f":"+[2]Séries_Site!D83","v":0},{"$f":"+[2]Séries_Site!E83","v":1276},{"$f":"+[2]Séries_Site!F83","v":1},{"$f":"+[2]Séries_Site!G83","v":1003},{"$f":"+[2]Séries_Site!H83","v":1003},{"$f":"+[2]Séries_Site!I83","v":0},{"$f":"+[2]Séries_Site!J83","v":973},{"$f":"+[2]Séries_Site!K83","v":1},{"$f":"+[2]Séries_Site!L83","v":0},{"$f":"+[2]Séries_Site!M83","v":0},{"$f":"+[2]Séries_Site!N83","v":0},{"$f":"+[2]Séries_Site!O83","v":0},{"$f":"+[2]Séries_Site!P83","v":0},{"$f":"+[2]Séries_Site!Q83","v":283},{"$f":"+[2]Séries_Site!R83","v":283},{"$f":"+[2]Séries_Site!S83","v":0},{"$f":"+[2]Séries_Site!T83","v":303},{"$f":"+[2]Séries_Site!U83","v":0},{"$f":"+[2]Séries_Site!V83","v":0},{"$f":"+[2]Séries_Site!W83","v":0},{"$f":"+[2]Séries_Site!X83","v":0},{"$f":"+[2]Séries_Site!Y83","v":0},{"$f":"+[2]Séries_Site!Z83","v":0},{"$f":"+[2]Séries_Site!AA83","v":0},{"$f":"+[2]Séries_Site!AB83","v":0},{"$f":"+[2]Séries_Site!AC83","v":0},{"$f":"+[2]Séries_Site!AD83","v":0},{"$f":"+[2]Séries_Site!AE83","v":0},{"$f":"+[2]Séries_Site!AF83","v":0},{"$f":"+[2]Séries_Site!AG83","v":0},{"$f":"+[2]Séries_Site!AH83","v":0},{"$f":"+[2]Séries_Site!AI83","v":0},{"$f":"+[2]Séries_Site!AJ83","v":0}]
["1966-07-01",{"$f":"+[2]Séries_Site!B84","v":1116},{"$f":"+[2]Séries_Site!C84","v":1116},{"$f":"+[2]Séries_Site!D84","v":0},{"$f":"+[2]Séries_Site!E84","v":1172},{"$f":"+[2]Séries_Site!F84","v":0},{"$f":"+[2]Séries_Site!G84","v":754},{"$f":"+[2]Séries_Site!H84","v":754},{"$f":"+[2]Séries_Site!I84","v":0},{"$f":"+[2]Séries_Site!J84","v":880},{"$f":"+[2]Séries_Site!K84","v":0},{"$f":"+[2]Séries_Site!L84","v":0},{"$f":"+[2]Séries_Site!M84","v":0},{"$f":"+[2]Séries_Site!N84","v":0},{"$f":"+[2]Séries_Site!O84","v":0},{"$f":"+[2]Séries_Site!P84","v":0},{"$f":"+[2]Séries_Site!Q84","v":362},{"$f":"+[2]Séries_Site!R84","v":362},{"$f":"+[2]Séries_Site!S84","v":0},{"$f":"+[2]Séries_Site!T84","v":292},{"$f":"+[2]Séries_Site!U84","v":0},{"$f":"+[2]Séries_Site!V84","v":0},{"$f":"+[2]Séries_Site!W84","v":0},{"$f":"+[2]Séries_Site!X84","v":0},{"$f":"+[2]Séries_Site!Y84","v":0},{"$f":"+[2]Séries_Site!Z84","v":0},{"$f":"+[2]Séries_Site!AA84","v":0},{"$f":"+[2]Séries_Site!AB84","v":0},{"$f":"+[2]Séries_Site!AC84","v":0},{"$f":"+[2]Séries_Site!AD84","v":0},{"$f":"+[2]Séries_Site!AE84","v":0},{"$f":"+[2]Séries_Site!AF84","v":0},{"$f":"+[2]Séries_Site!AG84","v":0},{"$f":"+[2]Séries_Site!AH84","v":0},{"$f":"+[2]Séries_Site!AI84","v":0},{"$f":"+[2]Séries_Site!AJ84","v":0}]
["1966-08-01",{"$f":"+[2]Séries_Site!B85","v":1094},{"$f":"+[2]Séries_Site!C85","v":1094},{"$f":"+[2]Séries_Site!D85","v":0},{"$f":"+[2]Séries_Site!E85","v":1268},{"$f":"+[2]Séries_Site!F85","v":0},{"$f":"+[2]Séries_Site!G85","v":866},{"$f":"+[2]Séries_Site!H85","v":866},{"$f":"+[2]Séries_Site!I85","v":0},{"$f":"+[2]Séries_Site!J85","v":939},{"$f":"+[2]Séries_Site!K85","v":0},{"$f":"+[2]Séries_Site!L85","v":0},{"$f":"+[2]Séries_Site!M85","v":0},{"$f":"+[2]Séries_Site!N85","v":0},{"$f":"+[2]Séries_Site!O85","v":0},{"$f":"+[2]Séries_Site!P85","v":0},{"$f":"+[2]Séries_Site!Q85","v":228},{"$f":"+[2]Séries_Site!R85","v":228},{"$f":"+[2]Séries_Site!S85","v":0},{"$f":"+[2]Séries_Site!T85","v":329},{"$f":"+[2]Séries_Site!U85","v":0},{"$f":"+[2]Séries_Site!V85","v":0},{"$f":"+[2]Séries_Site!W85","v":0},{"$f":"+[2]Séries_Site!X85","v":0},{"$f":"+[2]Séries_Site!Y85","v":0},{"$f":"+[2]Séries_Site!Z85","v":0},{"$f":"+[2]Séries_Site!AA85","v":0},{"$f":"+[2]Séries_Site!AB85","v":0},{"$f":"+[2]Séries_Site!AC85","v":0},{"$f":"+[2]Séries_Site!AD85","v":0},{"$f":"+[2]Séries_Site!AE85","v":0},{"$f":"+[2]Séries_Site!AF85","v":0},{"$f":"+[2]Séries_Site!AG85","v":0},{"$f":"+[2]Séries_Site!AH85","v":0},{"$f":"+[2]Séries_Site!AI85","v":0},{"$f":"+[2]Séries_Site!AJ85","v":0}]
["1966-09-01",{"$f":"+[2]Séries_Site!B86","v":1138},{"$f":"+[2]Séries_Site!C86","v":1138},{"$f":"+[2]Séries_Site!D86","v":0},{"$f":"+[2]Séries_Site!E86","v":1009},{"$f":"+[2]Séries_Site!F86","v":4},{"$f":"+[2]Séries_Site!G86","v":919},{"$f":"+[2]Séries_Site!H86","v":919},{"$f":"+[2]Séries_Site!I86","v":0},{"$f":"+[2]Séries_Site!J86","v":711},{"$f":"+[2]Séries_Site!K86","v":4},{"$f":"+[2]Séries_Site!L86","v":0},{"$f":"+[2]Séries_Site!M86","v":0},{"$f":"+[2]Séries_Site!N86","v":0},{"$f":"+[2]Séries_Site!O86","v":0},{"$f":"+[2]Séries_Site!P86","v":0},{"$f":"+[2]Séries_Site!Q86","v":219},{"$f":"+[2]Séries_Site!R86","v":219},{"$f":"+[2]Séries_Site!S86","v":0},{"$f":"+[2]Séries_Site!T86","v":298},{"$f":"+[2]Séries_Site!U86","v":0},{"$f":"+[2]Séries_Site!V86","v":0},{"$f":"+[2]Séries_Site!W86","v":0},{"$f":"+[2]Séries_Site!X86","v":0},{"$f":"+[2]Séries_Site!Y86","v":0},{"$f":"+[2]Séries_Site!Z86","v":0},{"$f":"+[2]Séries_Site!AA86","v":0},{"$f":"+[2]Séries_Site!AB86","v":0},{"$f":"+[2]Séries_Site!AC86","v":0},{"$f":"+[2]Séries_Site!AD86","v":0},{"$f":"+[2]Séries_Site!AE86","v":0},{"$f":"+[2]Séries_Site!AF86","v":0},{"$f":"+[2]Séries_Site!AG86","v":0},{"$f":"+[2]Séries_Site!AH86","v":0},{"$f":"+[2]Séries_Site!AI86","v":0},{"$f":"+[2]Séries_Site!AJ86","v":0}]
["1966-10-01",{"$f":"+[2]Séries_Site!B87","v":830},{"$f":"+[2]Séries_Site!C87","v":830},{"$f":"+[2]Séries_Site!D87","v":0},{"$f":"+[2]Séries_Site!E87","v":958},{"$f":"+[2]Séries_Site!F87","v":0},{"$f":"+[2]Séries_Site!G87","v":647},{"$f":"+[2]Séries_Site!H87","v":647},{"$f":"+[2]Séries_Site!I87","v":0},{"$f":"+[2]Séries_Site!J87","v":704},{"$f":"+[2]Séries_Site!K87","v":0},{"$f":"+[2]Séries_Site!L87","v":0},{"$f":"+[2]Séries_Site!M87","v":0},{"$f":"+[2]Séries_Site!N87","v":0},{"$f":"+[2]Séries_Site!O87","v":0},{"$f":"+[2]Séries_Site!P87","v":0},{"$f":"+[2]Séries_Site!Q87","v":183},{"$f":"+[2]Séries_Site!R87","v":183},{"$f":"+[2]Séries_Site!S87","v":0},{"$f":"+[2]Séries_Site!T87","v":254},{"$f":"+[2]Séries_Site!U87","v":0},{"$f":"+[2]Séries_Site!V87","v":0},{"$f":"+[2]Séries_Site!W87","v":0},{"$f":"+[2]Séries_Site!X87","v":0},{"$f":"+[2]Séries_Site!Y87","v":0},{"$f":"+[2]Séries_Site!Z87","v":0},{"$f":"+[2]Séries_Site!AA87","v":0},{"$f":"+[2]Séries_Site!AB87","v":0},{"$f":"+[2]Séries_Site!AC87","v":0},{"$f":"+[2]Séries_Site!AD87","v":0},{"$f":"+[2]Séries_Site!AE87","v":0},{"$f":"+[2]Séries_Site!AF87","v":0},{"$f":"+[2]Séries_Site!AG87","v":0},{"$f":"+[2]Séries_Site!AH87","v":0},{"$f":"+[2]Séries_Site!AI87","v":0},{"$f":"+[2]Séries_Site!AJ87","v":0}]
["1966-11-01",{"$f":"+[2]Séries_Site!B88","v":665},{"$f":"+[2]Séries_Site!C88","v":665},{"$f":"+[2]Séries_Site!D88","v":0},{"$f":"+[2]Séries_Site!E88","v":800},{"$f":"+[2]Séries_Site!F88","v":0},{"$f":"+[2]Séries_Site!G88","v":364},{"$f":"+[2]Séries_Site!H88","v":364},{"$f":"+[2]Séries_Site!I88","v":0},{"$f":"+[2]Séries_Site!J88","v":545},{"$f":"+[2]Séries_Site!K88","v":0},{"$f":"+[2]Séries_Site!L88","v":0},{"$f":"+[2]Séries_Site!M88","v":0},{"$f":"+[2]Séries_Site!N88","v":0},{"$f":"+[2]Séries_Site!O88","v":7},{"$f":"+[2]Séries_Site!P88","v":0},{"$f":"+[2]Séries_Site!Q88","v":301},{"$f":"+[2]Séries_Site!R88","v":301},{"$f":"+[2]Séries_Site!S88","v":0},{"$f":"+[2]Séries_Site!T88","v":248},{"$f":"+[2]Séries_Site!U88","v":0},{"$f":"+[2]Séries_Site!V88","v":0},{"$f":"+[2]Séries_Site!W88","v":0},{"$f":"+[2]Séries_Site!X88","v":0},{"$f":"+[2]Séries_Site!Y88","v":0},{"$f":"+[2]Séries_Site!Z88","v":0},{"$f":"+[2]Séries_Site!AA88","v":0},{"$f":"+[2]Séries_Site!AB88","v":0},{"$f":"+[2]Séries_Site!AC88","v":0},{"$f":"+[2]Séries_Site!AD88","v":0},{"$f":"+[2]Séries_Site!AE88","v":0},{"$f":"+[2]Séries_Site!AF88","v":0},{"$f":"+[2]Séries_Site!AG88","v":0},{"$f":"+[2]Séries_Site!AH88","v":0},{"$f":"+[2]Séries_Site!AI88","v":0},{"$f":"+[2]Séries_Site!AJ88","v":0}]
["1966-12-01",{"$f":"+[2]Séries_Site!B89","v":1273},{"$f":"+[2]Séries_Site!C89","v":1273},{"$f":"+[2]Séries_Site!D89","v":0},{"$f":"+[2]Séries_Site!E89","v":726},{"$f":"+[2]Séries_Site!F89","v":1},{"$f":"+[2]Séries_Site!G89","v":1041},{"$f":"+[2]Séries_Site!H89","v":1041},{"$f":"+[2]Séries_Site!I89","v":0},{"$f":"+[2]Séries_Site!J89","v":537},{"$f":"+[2]Séries_Site!K89","v":1},{"$f":"+[2]Séries_Site!L89","v":0},{"$f":"+[2]Séries_Site!M89","v":0},{"$f":"+[2]Séries_Site!N89","v":0},{"$f":"+[2]Séries_Site!O89","v":6},{"$f":"+[2]Séries_Site!P89","v":0},{"$f":"+[2]Séries_Site!Q89","v":232},{"$f":"+[2]Séries_Site!R89","v":232},{"$f":"+[2]Séries_Site!S89","v":0},{"$f":"+[2]Séries_Site!T89","v":183},{"$f":"+[2]Séries_Site!U89","v":0},{"$f":"+[2]Séries_Site!V89","v":0},{"$f":"+[2]Séries_Site!W89","v":0},{"$f":"+[2]Séries_Site!X89","v":0},{"$f":"+[2]Séries_Site!Y89","v":0},{"$f":"+[2]Séries_Site!Z89","v":0},{"$f":"+[2]Séries_Site!AA89","v":0},{"$f":"+[2]Séries_Site!AB89","v":0},{"$f":"+[2]Séries_Site!AC89","v":0},{"$f":"+[2]Séries_Site!AD89","v":0},{"$f":"+[2]Séries_Site!AE89","v":0},{"$f":"+[2]Séries_Site!AF89","v":0},{"$f":"+[2]Séries_Site!AG89","v":0},{"$f":"+[2]Séries_Site!AH89","v":0},{"$f":"+[2]Séries_Site!AI89","v":0},{"$f":"+[2]Séries_Site!AJ89","v":0}]
["1967-01-01",{"$f":"+[2]Séries_Site!B90","v":454},{"$f":"+[2]Séries_Site!C90","v":454},{"$f":"+[2]Séries_Site!D90","v":0},{"$f":"+[2]Séries_Site!E90","v":517},{"$f":"+[2]Séries_Site!F90","v":1},{"$f":"+[2]Séries_Site!G90","v":309},{"$f":"+[2]Séries_Site!H90","v":309},{"$f":"+[2]Séries_Site!I90","v":0},{"$f":"+[2]Séries_Site!J90","v":328},{"$f":"+[2]Séries_Site!K90","v":1},{"$f":"+[2]Séries_Site!L90","v":1},{"$f":"+[2]Séries_Site!M90","v":1},{"$f":"+[2]Séries_Site!N90","v":0},{"$f":"+[2]Séries_Site!O90","v":6},{"$f":"+[2]Séries_Site!P90","v":0},{"$f":"+[2]Séries_Site!Q90","v":144},{"$f":"+[2]Séries_Site!R90","v":144},{"$f":"+[2]Séries_Site!S90","v":0},{"$f":"+[2]Séries_Site!T90","v":183},{"$f":"+[2]Séries_Site!U90","v":0},{"$f":"+[2]Séries_Site!V90","v":0},{"$f":"+[2]Séries_Site!W90","v":0},{"$f":"+[2]Séries_Site!X90","v":0},{"$f":"+[2]Séries_Site!Y90","v":0},{"$f":"+[2]Séries_Site!Z90","v":0},{"$f":"+[2]Séries_Site!AA90","v":0},{"$f":"+[2]Séries_Site!AB90","v":0},{"$f":"+[2]Séries_Site!AC90","v":0},{"$f":"+[2]Séries_Site!AD90","v":0},{"$f":"+[2]Séries_Site!AE90","v":0},{"$f":"+[2]Séries_Site!AF90","v":0},{"$f":"+[2]Séries_Site!AG90","v":0},{"$f":"+[2]Séries_Site!AH90","v":0},{"$f":"+[2]Séries_Site!AI90","v":0},{"$f":"+[2]Séries_Site!AJ90","v":0}]
["1967-02-01",{"$f":"+[2]Séries_Site!B91","v":503},{"$f":"+[2]Séries_Site!C91","v":503},{"$f":"+[2]Séries_Site!D91","v":0},{"$f":"+[2]Séries_Site!E91","v":705},{"$f":"+[2]Séries_Site!F91","v":1},{"$f":"+[2]Séries_Site!G91","v":374},{"$f":"+[2]Séries_Site!H91","v":374},{"$f":"+[2]Séries_Site!I91","v":0},{"$f":"+[2]Séries_Site!J91","v":498},{"$f":"+[2]Séries_Site!K91","v":1},{"$f":"+[2]Séries_Site!L91","v":5},{"$f":"+[2]Séries_Site!M91","v":5},{"$f":"+[2]Séries_Site!N91","v":0},{"$f":"+[2]Séries_Site!O91","v":5},{"$f":"+[2]Séries_Site!P91","v":0},{"$f":"+[2]Séries_Site!Q91","v":124},{"$f":"+[2]Séries_Site!R91","v":124},{"$f":"+[2]Séries_Site!S91","v":0},{"$f":"+[2]Séries_Site!T91","v":202},{"$f":"+[2]Séries_Site!U91","v":0},{"$f":"+[2]Séries_Site!V91","v":0},{"$f":"+[2]Séries_Site!W91","v":0},{"$f":"+[2]Séries_Site!X91","v":0},{"$f":"+[2]Séries_Site!Y91","v":0},{"$f":"+[2]Séries_Site!Z91","v":0},{"$f":"+[2]Séries_Site!AA91","v":0},{"$f":"+[2]Séries_Site!AB91","v":0},{"$f":"+[2]Séries_Site!AC91","v":0},{"$f":"+[2]Séries_Site!AD91","v":0},{"$f":"+[2]Séries_Site!AE91","v":0},{"$f":"+[2]Séries_Site!AF91","v":0},{"$f":"+[2]Séries_Site!AG91","v":0},{"$f":"+[2]Séries_Site!AH91","v":0},{"$f":"+[2]Séries_Site!AI91","v":0},{"$f":"+[2]Séries_Site!AJ91","v":0}]
["1967-03-01",{"$f":"+[2]Séries_Site!B92","v":682},{"$f":"+[2]Séries_Site!C92","v":682},{"$f":"+[2]Séries_Site!D92","v":0},{"$f":"+[2]Séries_Site!E92","v":700},{"$f":"+[2]Séries_Site!F92","v":1},{"$f":"+[2]Séries_Site!G92","v":539},{"$f":"+[2]Séries_Site!H92","v":539},{"$f":"+[2]Séries_Site!I92","v":0},{"$f":"+[2]Séries_Site!J92","v":499},{"$f":"+[2]Séries_Site!K92","v":1},{"$f":"+[2]Séries_Site!L92","v":0},{"$f":"+[2]Séries_Site!M92","v":0},{"$f":"+[2]Séries_Site!N92","v":0},{"$f":"+[2]Séries_Site!O92","v":3},{"$f":"+[2]Séries_Site!P92","v":0},{"$f":"+[2]Séries_Site!Q92","v":143},{"$f":"+[2]Séries_Site!R92","v":143},{"$f":"+[2]Séries_Site!S92","v":0},{"$f":"+[2]Séries_Site!T92","v":198},{"$f":"+[2]Séries_Site!U92","v":0},{"$f":"+[2]Séries_Site!V92","v":0},{"$f":"+[2]Séries_Site!W92","v":0},{"$f":"+[2]Séries_Site!X92","v":0},{"$f":"+[2]Séries_Site!Y92","v":0},{"$f":"+[2]Séries_Site!Z92","v":0},{"$f":"+[2]Séries_Site!AA92","v":0},{"$f":"+[2]Séries_Site!AB92","v":0},{"$f":"+[2]Séries_Site!AC92","v":0},{"$f":"+[2]Séries_Site!AD92","v":0},{"$f":"+[2]Séries_Site!AE92","v":0},{"$f":"+[2]Séries_Site!AF92","v":0},{"$f":"+[2]Séries_Site!AG92","v":0},{"$f":"+[2]Séries_Site!AH92","v":0},{"$f":"+[2]Séries_Site!AI92","v":0},{"$f":"+[2]Séries_Site!AJ92","v":0}]
["1967-04-01",{"$f":"+[2]Séries_Site!B93","v":645},{"$f":"+[2]Séries_Site!C93","v":645},{"$f":"+[2]Séries_Site!D93","v":0},{"$f":"+[2]Séries_Site!E93","v":731},{"$f":"+[2]Séries_Site!F93","v":1},{"$f":"+[2]Séries_Site!G93","v":507},{"$f":"+[2]Séries_Site!H93","v":507},{"$f":"+[2]Séries_Site!I93","v":0},{"$f":"+[2]Séries_Site!J93","v":493},{"$f":"+[2]Séries_Site!K93","v":1},{"$f":"+[2]Séries_Site!L93","v":7},{"$f":"+[2]Séries_Site!M93","v":7},{"$f":"+[2]Séries_Site!N93","v":0},{"$f":"+[2]Séries_Site!O93","v":10},{"$f":"+[2]Séries_Site!P93","v":0},{"$f":"+[2]Séries_Site!Q93","v":131},{"$f":"+[2]Séries_Site!R93","v":131},{"$f":"+[2]Séries_Site!S93","v":0},{"$f":"+[2]Séries_Site!T93","v":228},{"$f":"+[2]Séries_Site!U93","v":0},{"$f":"+[2]Séries_Site!V93","v":0},{"$f":"+[2]Séries_Site!W93","v":0},{"$f":"+[2]Séries_Site!X93","v":0},{"$f":"+[2]Séries_Site!Y93","v":0},{"$f":"+[2]Séries_Site!Z93","v":0},{"$f":"+[2]Séries_Site!AA93","v":0},{"$f":"+[2]Séries_Site!AB93","v":0},{"$f":"+[2]Séries_Site!AC93","v":0},{"$f":"+[2]Séries_Site!AD93","v":0},{"$f":"+[2]Séries_Site!AE93","v":0},{"$f":"+[2]Séries_Site!AF93","v":0},{"$f":"+[2]Séries_Site!AG93","v":0},{"$f":"+[2]Séries_Site!AH93","v":0},{"$f":"+[2]Séries_Site!AI93","v":0},{"$f":"+[2]Séries_Site!AJ93","v":0}]
["1967-05-01",{"$f":"+[2]Séries_Site!B94","v":736},{"$f":"+[2]Séries_Site!C94","v":736},{"$f":"+[2]Séries_Site!D94","v":0},{"$f":"+[2]Séries_Site!E94","v":816},{"$f":"+[2]Séries_Site!F94","v":1},{"$f":"+[2]Séries_Site!G94","v":551},{"$f":"+[2]Séries_Site!H94","v":551},{"$f":"+[2]Séries_Site!I94","v":0},{"$f":"+[2]Séries_Site!J94","v":577},{"$f":"+[2]Séries_Site!K94","v":1},{"$f":"+[2]Séries_Site!L94","v":2},{"$f":"+[2]Séries_Site!M94","v":2},{"$f":"+[2]Séries_Site!N94","v":0},{"$f":"+[2]Séries_Site!O94","v":1},{"$f":"+[2]Séries_Site!P94","v":0},{"$f":"+[2]Séries_Site!Q94","v":183},{"$f":"+[2]Séries_Site!R94","v":183},{"$f":"+[2]Séries_Site!S94","v":0},{"$f":"+[2]Séries_Site!T94","v":238},{"$f":"+[2]Séries_Site!U94","v":0},{"$f":"+[2]Séries_Site!V94","v":0},{"$f":"+[2]Séries_Site!W94","v":0},{"$f":"+[2]Séries_Site!X94","v":0},{"$f":"+[2]Séries_Site!Y94","v":0},{"$f":"+[2]Séries_Site!Z94","v":0},{"$f":"+[2]Séries_Site!AA94","v":0},{"$f":"+[2]Séries_Site!AB94","v":0},{"$f":"+[2]Séries_Site!AC94","v":0},{"$f":"+[2]Séries_Site!AD94","v":0},{"$f":"+[2]Séries_Site!AE94","v":0},{"$f":"+[2]Séries_Site!AF94","v":0},{"$f":"+[2]Séries_Site!AG94","v":0},{"$f":"+[2]Séries_Site!AH94","v":0},{"$f":"+[2]Séries_Site!AI94","v":0},{"$f":"+[2]Séries_Site!AJ94","v":0}]
["1967-06-01",{"$f":"+[2]Séries_Site!B95","v":1255},{"$f":"+[2]Séries_Site!C95","v":1255},{"$f":"+[2]Séries_Site!D95","v":0},{"$f":"+[2]Séries_Site!E95","v":903},{"$f":"+[2]Séries_Site!F95","v":1},{"$f":"+[2]Séries_Site!G95","v":1017},{"$f":"+[2]Séries_Site!H95","v":1017},{"$f":"+[2]Séries_Site!I95","v":0},{"$f":"+[2]Séries_Site!J95","v":656},{"$f":"+[2]Séries_Site!K95","v":1},{"$f":"+[2]Séries_Site!L95","v":8},{"$f":"+[2]Séries_Site!M95","v":8},{"$f":"+[2]Séries_Site!N95","v":0},{"$f":"+[2]Séries_Site!O95","v":9},{"$f":"+[2]Séries_Site!P95","v":0},{"$f":"+[2]Séries_Site!Q95","v":230},{"$f":"+[2]Séries_Site!R95","v":230},{"$f":"+[2]Séries_Site!S95","v":0},{"$f":"+[2]Séries_Site!T95","v":238},{"$f":"+[2]Séries_Site!U95","v":0},{"$f":"+[2]Séries_Site!V95","v":0},{"$f":"+[2]Séries_Site!W95","v":0},{"$f":"+[2]Séries_Site!X95","v":0},{"$f":"+[2]Séries_Site!Y95","v":0},{"$f":"+[2]Séries_Site!Z95","v":0},{"$f":"+[2]Séries_Site!AA95","v":0},{"$f":"+[2]Séries_Site!AB95","v":0},{"$f":"+[2]Séries_Site!AC95","v":0},{"$f":"+[2]Séries_Site!AD95","v":0},{"$f":"+[2]Séries_Site!AE95","v":0},{"$f":"+[2]Séries_Site!AF95","v":0},{"$f":"+[2]Séries_Site!AG95","v":0},{"$f":"+[2]Séries_Site!AH95","v":0},{"$f":"+[2]Séries_Site!AI95","v":0},{"$f":"+[2]Séries_Site!AJ95","v":0}]
["1967-07-01",{"$f":"+[2]Séries_Site!B96","v":655},{"$f":"+[2]Séries_Site!C96","v":655},{"$f":"+[2]Séries_Site!D96","v":0},{"$f":"+[2]Séries_Site!E96","v":968},{"$f":"+[2]Séries_Site!F96","v":4},{"$f":"+[2]Séries_Site!G96","v":507},{"$f":"+[2]Séries_Site!H96","v":507},{"$f":"+[2]Séries_Site!I96","v":0},{"$f":"+[2]Séries_Site!J96","v":679},{"$f":"+[2]Séries_Site!K96","v":4},{"$f":"+[2]Séries_Site!L96","v":5},{"$f":"+[2]Séries_Site!M96","v":5},{"$f":"+[2]Séries_Site!N96","v":0},{"$f":"+[2]Séries_Site!O96","v":1},{"$f":"+[2]Séries_Site!P96","v":0},{"$f":"+[2]Séries_Site!Q96","v":143},{"$f":"+[2]Séries_Site!R96","v":143},{"$f":"+[2]Séries_Site!S96","v":0},{"$f":"+[2]Séries_Site!T96","v":288},{"$f":"+[2]Séries_Site!U96","v":0},{"$f":"+[2]Séries_Site!V96","v":0},{"$f":"+[2]Séries_Site!W96","v":0},{"$f":"+[2]Séries_Site!X96","v":0},{"$f":"+[2]Séries_Site!Y96","v":0},{"$f":"+[2]Séries_Site!Z96","v":0},{"$f":"+[2]Séries_Site!AA96","v":0},{"$f":"+[2]Séries_Site!AB96","v":0},{"$f":"+[2]Séries_Site!AC96","v":0},{"$f":"+[2]Séries_Site!AD96","v":0},{"$f":"+[2]Séries_Site!AE96","v":0},{"$f":"+[2]Séries_Site!AF96","v":0},{"$f":"+[2]Séries_Site!AG96","v":0},{"$f":"+[2]Séries_Site!AH96","v":0},{"$f":"+[2]Séries_Site!AI96","v":0},{"$f":"+[2]Séries_Site!AJ96","v":0}]
["1967-08-01",{"$f":"+[2]Séries_Site!B97","v":823},{"$f":"+[2]Séries_Site!C97","v":823},{"$f":"+[2]Séries_Site!D97","v":0},{"$f":"+[2]Séries_Site!E97","v":882},{"$f":"+[2]Séries_Site!F97","v":4},{"$f":"+[2]Séries_Site!G97","v":628},{"$f":"+[2]Séries_Site!H97","v":628},{"$f":"+[2]Séries_Site!I97","v":0},{"$f":"+[2]Séries_Site!J97","v":672},{"$f":"+[2]Séries_Site!K97","v":4},{"$f":"+[2]Séries_Site!L97","v":4},{"$f":"+[2]Séries_Site!M97","v":4},{"$f":"+[2]Séries_Site!N97","v":0},{"$f":"+[2]Séries_Site!O97","v":2},{"$f":"+[2]Séries_Site!P97","v":0},{"$f":"+[2]Séries_Site!Q97","v":191},{"$f":"+[2]Séries_Site!R97","v":191},{"$f":"+[2]Séries_Site!S97","v":0},{"$f":"+[2]Séries_Site!T97","v":208},{"$f":"+[2]Séries_Site!U97","v":0},{"$f":"+[2]Séries_Site!V97","v":0},{"$f":"+[2]Séries_Site!W97","v":0},{"$f":"+[2]Séries_Site!X97","v":0},{"$f":"+[2]Séries_Site!Y97","v":0},{"$f":"+[2]Séries_Site!Z97","v":0},{"$f":"+[2]Séries_Site!AA97","v":0},{"$f":"+[2]Séries_Site!AB97","v":0},{"$f":"+[2]Séries_Site!AC97","v":0},{"$f":"+[2]Séries_Site!AD97","v":0},{"$f":"+[2]Séries_Site!AE97","v":0},{"$f":"+[2]Séries_Site!AF97","v":0},{"$f":"+[2]Séries_Site!AG97","v":0},{"$f":"+[2]Séries_Site!AH97","v":0},{"$f":"+[2]Séries_Site!AI97","v":0},{"$f":"+[2]Séries_Site!AJ97","v":0}]
["1967-09-01",{"$f":"+[2]Séries_Site!B98","v":824},{"$f":"+[2]Séries_Site!C98","v":824},{"$f":"+[2]Séries_Site!D98","v":0},{"$f":"+[2]Séries_Site!E98","v":777},{"$f":"+[2]Séries_Site!F98","v":4},{"$f":"+[2]Séries_Site!G98","v":633},{"$f":"+[2]Séries_Site!H98","v":633},{"$f":"+[2]Séries_Site!I98","v":0},{"$f":"+[2]Séries_Site!J98","v":564},{"$f":"+[2]Séries_Site!K98","v":4},{"$f":"+[2]Séries_Site!L98","v":9},{"$f":"+[2]Séries_Site!M98","v":9},{"$f":"+[2]Séries_Site!N98","v":0},{"$f":"+[2]Séries_Site!O98","v":5},{"$f":"+[2]Séries_Site!P98","v":0},{"$f":"+[2]Séries_Site!Q98","v":182},{"$f":"+[2]Séries_Site!R98","v":182},{"$f":"+[2]Séries_Site!S98","v":0},{"$f":"+[2]Séries_Site!T98","v":208},{"$f":"+[2]Séries_Site!U98","v":0},{"$f":"+[2]Séries_Site!V98","v":0},{"$f":"+[2]Séries_Site!W98","v":0},{"$f":"+[2]Séries_Site!X98","v":0},{"$f":"+[2]Séries_Site!Y98","v":0},{"$f":"+[2]Séries_Site!Z98","v":0},{"$f":"+[2]Séries_Site!AA98","v":0},{"$f":"+[2]Séries_Site!AB98","v":0},{"$f":"+[2]Séries_Site!AC98","v":0},{"$f":"+[2]Séries_Site!AD98","v":0},{"$f":"+[2]Séries_Site!AE98","v":0},{"$f":"+[2]Séries_Site!AF98","v":0},{"$f":"+[2]Séries_Site!AG98","v":0},{"$f":"+[2]Séries_Site!AH98","v":0},{"$f":"+[2]Séries_Site!AI98","v":0},{"$f":"+[2]Séries_Site!AJ98","v":0}]
["1967-10-01",{"$f":"+[2]Séries_Site!B99","v":755},{"$f":"+[2]Séries_Site!C99","v":755},{"$f":"+[2]Séries_Site!D99","v":0},{"$f":"+[2]Séries_Site!E99","v":805},{"$f":"+[2]Séries_Site!F99","v":4},{"$f":"+[2]Séries_Site!G99","v":575},{"$f":"+[2]Séries_Site!H99","v":575},{"$f":"+[2]Séries_Site!I99","v":0},{"$f":"+[2]Séries_Site!J99","v":586},{"$f":"+[2]Séries_Site!K99","v":4},{"$f":"+[2]Séries_Site!L99","v":11},{"$f":"+[2]Séries_Site!M99","v":11},{"$f":"+[2]Séries_Site!N99","v":0},{"$f":"+[2]Séries_Site!O99","v":11},{"$f":"+[2]Séries_Site!P99","v":0},{"$f":"+[2]Séries_Site!Q99","v":169},{"$f":"+[2]Séries_Site!R99","v":169},{"$f":"+[2]Séries_Site!S99","v":0},{"$f":"+[2]Séries_Site!T99","v":208},{"$f":"+[2]Séries_Site!U99","v":0},{"$f":"+[2]Séries_Site!V99","v":0},{"$f":"+[2]Séries_Site!W99","v":0},{"$f":"+[2]Séries_Site!X99","v":0},{"$f":"+[2]Séries_Site!Y99","v":0},{"$f":"+[2]Séries_Site!Z99","v":0},{"$f":"+[2]Séries_Site!AA99","v":0},{"$f":"+[2]Séries_Site!AB99","v":0},{"$f":"+[2]Séries_Site!AC99","v":0},{"$f":"+[2]Séries_Site!AD99","v":0},{"$f":"+[2]Séries_Site!AE99","v":0},{"$f":"+[2]Séries_Site!AF99","v":0},{"$f":"+[2]Séries_Site!AG99","v":0},{"$f":"+[2]Séries_Site!AH99","v":0},{"$f":"+[2]Séries_Site!AI99","v":0},{"$f":"+[2]Séries_Site!AJ99","v":0}]
["1967-11-01",{"$f":"+[2]Séries_Site!B100","v":538},{"$f":"+[2]Séries_Site!C100","v":538},{"$f":"+[2]Séries_Site!D100","v":0},{"$f":"+[2]Séries_Site!E100","v":656},{"$f":"+[2]Séries_Site!F100","v":14},{"$f":"+[2]Séries_Site!G100","v":355},{"$f":"+[2]Séries_Site!H100","v":355},{"$f":"+[2]Séries_Site!I100","v":0},{"$f":"+[2]Séries_Site!J100","v":441},{"$f":"+[2]Séries_Site!K100","v":4},{"$f":"+[2]Séries_Site!L100","v":12},{"$f":"+[2]Séries_Site!M100","v":12},{"$f":"+[2]Séries_Site!N100","v":0},{"$f":"+[2]Séries_Site!O100","v":12},{"$f":"+[2]Séries_Site!P100","v":0},{"$f":"+[2]Séries_Site!Q100","v":171},{"$f":"+[2]Séries_Site!R100","v":171},{"$f":"+[2]Séries_Site!S100","v":0},{"$f":"+[2]Séries_Site!T100","v":203},{"$f":"+[2]Séries_Site!U100","v":10},{"$f":"+[2]Séries_Site!V100","v":0},{"$f":"+[2]Séries_Site!W100","v":0},{"$f":"+[2]Séries_Site!X100","v":0},{"$f":"+[2]Séries_Site!Y100","v":0},{"$f":"+[2]Séries_Site!Z100","v":0},{"$f":"+[2]Séries_Site!AA100","v":0},{"$f":"+[2]Séries_Site!AB100","v":0},{"$f":"+[2]Séries_Site!AC100","v":0},{"$f":"+[2]Séries_Site!AD100","v":0},{"$f":"+[2]Séries_Site!AE100","v":0},{"$f":"+[2]Séries_Site!AF100","v":0},{"$f":"+[2]Séries_Site!AG100","v":0},{"$f":"+[2]Séries_Site!AH100","v":0},{"$f":"+[2]Séries_Site!AI100","v":0},{"$f":"+[2]Séries_Site!AJ100","v":0}]
["1967-12-01",{"$f":"+[2]Séries_Site!B101","v":679},{"$f":"+[2]Séries_Site!C101","v":679},{"$f":"+[2]Séries_Site!D101","v":0},{"$f":"+[2]Séries_Site!E101","v":408},{"$f":"+[2]Séries_Site!F101","v":5},{"$f":"+[2]Séries_Site!G101","v":511},{"$f":"+[2]Séries_Site!H101","v":511},{"$f":"+[2]Séries_Site!I101","v":0},{"$f":"+[2]Séries_Site!J101","v":302},{"$f":"+[2]Séries_Site!K101","v":5},{"$f":"+[2]Séries_Site!L101","v":8},{"$f":"+[2]Séries_Site!M101","v":8},{"$f":"+[2]Séries_Site!N101","v":0},{"$f":"+[2]Séries_Site!O101","v":8},{"$f":"+[2]Séries_Site!P101","v":0},{"$f":"+[2]Séries_Site!Q101","v":160},{"$f":"+[2]Séries_Site!R101","v":160},{"$f":"+[2]Séries_Site!S101","v":0},{"$f":"+[2]Séries_Site!T101","v":98},{"$f":"+[2]Séries_Site!U101","v":0},{"$f":"+[2]Séries_Site!V101","v":0},{"$f":"+[2]Séries_Site!W101","v":0},{"$f":"+[2]Séries_Site!X101","v":0},{"$f":"+[2]Séries_Site!Y101","v":0},{"$f":"+[2]Séries_Site!Z101","v":0},{"$f":"+[2]Séries_Site!AA101","v":0},{"$f":"+[2]Séries_Site!AB101","v":0},{"$f":"+[2]Séries_Site!AC101","v":0},{"$f":"+[2]Séries_Site!AD101","v":0},{"$f":"+[2]Séries_Site!AE101","v":0},{"$f":"+[2]Séries_Site!AF101","v":0},{"$f":"+[2]Séries_Site!AG101","v":0},{"$f":"+[2]Séries_Site!AH101","v":0},{"$f":"+[2]Séries_Site!AI101","v":0},{"$f":"+[2]Séries_Site!AJ101","v":0}]
["1968-01-01",{"$f":"+[2]Séries_Site!B102","v":417},{"$f":"+[2]Séries_Site!C102","v":417},{"$f":"+[2]Séries_Site!D102","v":0},{"$f":"+[2]Séries_Site!E102","v":594},{"$f":"+[2]Séries_Site!F102","v":8},{"$f":"+[2]Séries_Site!G102","v":304},{"$f":"+[2]Séries_Site!H102","v":304},{"$f":"+[2]Séries_Site!I102","v":0},{"$f":"+[2]Séries_Site!J102","v":440},{"$f":"+[2]Séries_Site!K102","v":0},{"$f":"+[2]Séries_Site!L102","v":4},{"$f":"+[2]Séries_Site!M102","v":4},{"$f":"+[2]Séries_Site!N102","v":0},{"$f":"+[2]Séries_Site!O102","v":4},{"$f":"+[2]Séries_Site!P102","v":0},{"$f":"+[2]Séries_Site!Q102","v":109},{"$f":"+[2]Séries_Site!R102","v":109},{"$f":"+[2]Séries_Site!S102","v":0},{"$f":"+[2]Séries_Site!T102","v":150},{"$f":"+[2]Séries_Site!U102","v":8},{"$f":"+[2]Séries_Site!V102","v":0},{"$f":"+[2]Séries_Site!W102","v":0},{"$f":"+[2]Séries_Site!X102","v":0},{"$f":"+[2]Séries_Site!Y102","v":0},{"$f":"+[2]Séries_Site!Z102","v":0},{"$f":"+[2]Séries_Site!AA102","v":0},{"$f":"+[2]Séries_Site!AB102","v":0},{"$f":"+[2]Séries_Site!AC102","v":0},{"$f":"+[2]Séries_Site!AD102","v":0},{"$f":"+[2]Séries_Site!AE102","v":0},{"$f":"+[2]Séries_Site!AF102","v":0},{"$f":"+[2]Séries_Site!AG102","v":0},{"$f":"+[2]Séries_Site!AH102","v":0},{"$f":"+[2]Séries_Site!AI102","v":0},{"$f":"+[2]Séries_Site!AJ102","v":0}]
["1968-02-01",{"$f":"+[2]Séries_Site!B103","v":655},{"$f":"+[2]Séries_Site!C103","v":655},{"$f":"+[2]Séries_Site!D103","v":0},{"$f":"+[2]Séries_Site!E103","v":827},{"$f":"+[2]Séries_Site!F103","v":9},{"$f":"+[2]Séries_Site!G103","v":549},{"$f":"+[2]Séries_Site!H103","v":549},{"$f":"+[2]Séries_Site!I103","v":0},{"$f":"+[2]Séries_Site!J103","v":580},{"$f":"+[2]Séries_Site!K103","v":1},{"$f":"+[2]Séries_Site!L103","v":2},{"$f":"+[2]Séries_Site!M103","v":2},{"$f":"+[2]Séries_Site!N103","v":0},{"$f":"+[2]Séries_Site!O103","v":20},{"$f":"+[2]Séries_Site!P103","v":0},{"$f":"+[2]Séries_Site!Q103","v":104},{"$f":"+[2]Séries_Site!R103","v":104},{"$f":"+[2]Séries_Site!S103","v":0},{"$f":"+[2]Séries_Site!T103","v":227},{"$f":"+[2]Séries_Site!U103","v":8},{"$f":"+[2]Séries_Site!V103","v":0},{"$f":"+[2]Séries_Site!W103","v":0},{"$f":"+[2]Séries_Site!X103","v":0},{"$f":"+[2]Séries_Site!Y103","v":0},{"$f":"+[2]Séries_Site!Z103","v":0},{"$f":"+[2]Séries_Site!AA103","v":0},{"$f":"+[2]Séries_Site!AB103","v":0},{"$f":"+[2]Séries_Site!AC103","v":0},{"$f":"+[2]Séries_Site!AD103","v":0},{"$f":"+[2]Séries_Site!AE103","v":0},{"$f":"+[2]Séries_Site!AF103","v":0},{"$f":"+[2]Séries_Site!AG103","v":0},{"$f":"+[2]Séries_Site!AH103","v":0},{"$f":"+[2]Séries_Site!AI103","v":0},{"$f":"+[2]Séries_Site!AJ103","v":0}]
["1968-03-01",{"$f":"+[2]Séries_Site!B104","v":966},{"$f":"+[2]Séries_Site!C104","v":966},{"$f":"+[2]Séries_Site!D104","v":0},{"$f":"+[2]Séries_Site!E104","v":947},{"$f":"+[2]Séries_Site!F104","v":1},{"$f":"+[2]Séries_Site!G104","v":735},{"$f":"+[2]Séries_Site!H104","v":735},{"$f":"+[2]Séries_Site!I104","v":0},{"$f":"+[2]Séries_Site!J104","v":680},{"$f":"+[2]Séries_Site!K104","v":1},{"$f":"+[2]Séries_Site!L104","v":3},{"$f":"+[2]Séries_Site!M104","v":3},{"$f":"+[2]Séries_Site!N104","v":0},{"$f":"+[2]Séries_Site!O104","v":20},{"$f":"+[2]Séries_Site!P104","v":0},{"$f":"+[2]Séries_Site!Q104","v":228},{"$f":"+[2]Séries_Site!R104","v":228},{"$f":"+[2]Séries_Site!S104","v":0},{"$f":"+[2]Séries_Site!T104","v":247},{"$f":"+[2]Séries_Site!U104","v":0},{"$f":"+[2]Séries_Site!V104","v":0},{"$f":"+[2]Séries_Site!W104","v":0},{"$f":"+[2]Séries_Site!X104","v":0},{"$f":"+[2]Séries_Site!Y104","v":0},{"$f":"+[2]Séries_Site!Z104","v":0},{"$f":"+[2]Séries_Site!AA104","v":0},{"$f":"+[2]Séries_Site!AB104","v":0},{"$f":"+[2]Séries_Site!AC104","v":0},{"$f":"+[2]Séries_Site!AD104","v":0},{"$f":"+[2]Séries_Site!AE104","v":0},{"$f":"+[2]Séries_Site!AF104","v":0},{"$f":"+[2]Séries_Site!AG104","v":0},{"$f":"+[2]Séries_Site!AH104","v":0},{"$f":"+[2]Séries_Site!AI104","v":0},{"$f":"+[2]Séries_Site!AJ104","v":0}]
["1968-04-01",{"$f":"+[2]Séries_Site!B105","v":1350},{"$f":"+[2]Séries_Site!C105","v":1350},{"$f":"+[2]Séries_Site!D105","v":0},{"$f":"+[2]Séries_Site!E105","v":1088},{"$f":"+[2]Séries_Site!F105","v":1},{"$f":"+[2]Séries_Site!G105","v":1017},{"$f":"+[2]Séries_Site!H105","v":1017},{"$f":"+[2]Séries_Site!I105","v":0},{"$f":"+[2]Séries_Site!J105","v":829},{"$f":"+[2]Séries_Site!K105","v":1},{"$f":"+[2]Séries_Site!L105","v":10},{"$f":"+[2]Séries_Site!M105","v":10},{"$f":"+[2]Séries_Site!N105","v":0},{"$f":"+[2]Séries_Site!O105","v":8},{"$f":"+[2]Séries_Site!P105","v":0},{"$f":"+[2]Séries_Site!Q105","v":323},{"$f":"+[2]Séries_Site!R105","v":323},{"$f":"+[2]Séries_Site!S105","v":0},{"$f":"+[2]Séries_Site!T105","v":251},{"$f":"+[2]Séries_Site!U105","v":0},{"$f":"+[2]Séries_Site!V105","v":0},{"$f":"+[2]Séries_Site!W105","v":0},{"$f":"+[2]Séries_Site!X105","v":0},{"$f":"+[2]Séries_Site!Y105","v":0},{"$f":"+[2]Séries_Site!Z105","v":0},{"$f":"+[2]Séries_Site!AA105","v":0},{"$f":"+[2]Séries_Site!AB105","v":0},{"$f":"+[2]Séries_Site!AC105","v":0},{"$f":"+[2]Séries_Site!AD105","v":0},{"$f":"+[2]Séries_Site!AE105","v":0},{"$f":"+[2]Séries_Site!AF105","v":0},{"$f":"+[2]Séries_Site!AG105","v":0},{"$f":"+[2]Séries_Site!AH105","v":0},{"$f":"+[2]Séries_Site!AI105","v":0},{"$f":"+[2]Séries_Site!AJ105","v":0}]
["1968-05-01",{"$f":"+[2]Séries_Site!B106","v":1099},{"$f":"+[2]Séries_Site!C106","v":1099},{"$f":"+[2]Séries_Site!D106","v":0},{"$f":"+[2]Séries_Site!E106","v":1229},{"$f":"+[2]Séries_Site!F106","v":3},{"$f":"+[2]Séries_Site!G106","v":817},{"$f":"+[2]Séries_Site!H106","v":817},{"$f":"+[2]Séries_Site!I106","v":0},{"$f":"+[2]Séries_Site!J106","v":975},{"$f":"+[2]Séries_Site!K106","v":1},{"$f":"+[2]Séries_Site!L106","v":19},{"$f":"+[2]Séries_Site!M106","v":19},{"$f":"+[2]Séries_Site!N106","v":0},{"$f":"+[2]Séries_Site!O106","v":12},{"$f":"+[2]Séries_Site!P106","v":0},{"$f":"+[2]Séries_Site!Q106","v":263},{"$f":"+[2]Séries_Site!R106","v":263},{"$f":"+[2]Séries_Site!S106","v":0},{"$f":"+[2]Séries_Site!T106","v":242},{"$f":"+[2]Séries_Site!U106","v":2},{"$f":"+[2]Séries_Site!V106","v":0},{"$f":"+[2]Séries_Site!W106","v":0},{"$f":"+[2]Séries_Site!X106","v":0},{"$f":"+[2]Séries_Site!Y106","v":0},{"$f":"+[2]Séries_Site!Z106","v":0},{"$f":"+[2]Séries_Site!AA106","v":0},{"$f":"+[2]Séries_Site!AB106","v":0},{"$f":"+[2]Séries_Site!AC106","v":0},{"$f":"+[2]Séries_Site!AD106","v":0},{"$f":"+[2]Séries_Site!AE106","v":0},{"$f":"+[2]Séries_Site!AF106","v":0},{"$f":"+[2]Séries_Site!AG106","v":0},{"$f":"+[2]Séries_Site!AH106","v":0},{"$f":"+[2]Séries_Site!AI106","v":0},{"$f":"+[2]Séries_Site!AJ106","v":0}]
["1968-06-01",{"$f":"+[2]Séries_Site!B107","v":1313},{"$f":"+[2]Séries_Site!C107","v":1313},{"$f":"+[2]Séries_Site!D107","v":0},{"$f":"+[2]Séries_Site!E107","v":1204},{"$f":"+[2]Séries_Site!F107","v":1},{"$f":"+[2]Séries_Site!G107","v":1022},{"$f":"+[2]Séries_Site!H107","v":1022},{"$f":"+[2]Séries_Site!I107","v":0},{"$f":"+[2]Séries_Site!J107","v":993},{"$f":"+[2]Séries_Site!K107","v":1},{"$f":"+[2]Séries_Site!L107","v":18},{"$f":"+[2]Séries_Site!M107","v":18},{"$f":"+[2]Séries_Site!N107","v":0},{"$f":"+[2]Séries_Site!O107","v":11},{"$f":"+[2]Séries_Site!P107","v":0},{"$f":"+[2]Séries_Site!Q107","v":273},{"$f":"+[2]Séries_Site!R107","v":273},{"$f":"+[2]Séries_Site!S107","v":0},{"$f":"+[2]Séries_Site!T107","v":200},{"$f":"+[2]Séries_Site!U107","v":0},{"$f":"+[2]Séries_Site!V107","v":0},{"$f":"+[2]Séries_Site!W107","v":0},{"$f":"+[2]Séries_Site!X107","v":0},{"$f":"+[2]Séries_Site!Y107","v":0},{"$f":"+[2]Séries_Site!Z107","v":0},{"$f":"+[2]Séries_Site!AA107","v":0},{"$f":"+[2]Séries_Site!AB107","v":0},{"$f":"+[2]Séries_Site!AC107","v":0},{"$f":"+[2]Séries_Site!AD107","v":0},{"$f":"+[2]Séries_Site!AE107","v":0},{"$f":"+[2]Séries_Site!AF107","v":0},{"$f":"+[2]Séries_Site!AG107","v":0},{"$f":"+[2]Séries_Site!AH107","v":0},{"$f":"+[2]Séries_Site!AI107","v":0},{"$f":"+[2]Séries_Site!AJ107","v":0}]
["1968-07-01",{"$f":"+[2]Séries_Site!B108","v":1447},{"$f":"+[2]Séries_Site!C108","v":1447},{"$f":"+[2]Séries_Site!D108","v":0},{"$f":"+[2]Séries_Site!E108","v":1490},{"$f":"+[2]Séries_Site!F108","v":13},{"$f":"+[2]Séries_Site!G108","v":1175},{"$f":"+[2]Séries_Site!H108","v":1175},{"$f":"+[2]Séries_Site!I108","v":0},{"$f":"+[2]Séries_Site!J108","v":1302},{"$f":"+[2]Séries_Site!K108","v":0},{"$f":"+[2]Séries_Site!L108","v":14},{"$f":"+[2]Séries_Site!M108","v":14},{"$f":"+[2]Séries_Site!N108","v":0},{"$f":"+[2]Séries_Site!O108","v":8},{"$f":"+[2]Séries_Site!P108","v":0},{"$f":"+[2]Séries_Site!Q108","v":258},{"$f":"+[2]Séries_Site!R108","v":258},{"$f":"+[2]Séries_Site!S108","v":0},{"$f":"+[2]Séries_Site!T108","v":180},{"$f":"+[2]Séries_Site!U108","v":13},{"$f":"+[2]Séries_Site!V108","v":0},{"$f":"+[2]Séries_Site!W108","v":0},{"$f":"+[2]Séries_Site!X108","v":0},{"$f":"+[2]Séries_Site!Y108","v":0},{"$f":"+[2]Séries_Site!Z108","v":0},{"$f":"+[2]Séries_Site!AA108","v":0},{"$f":"+[2]Séries_Site!AB108","v":0},{"$f":"+[2]Séries_Site!AC108","v":0},{"$f":"+[2]Séries_Site!AD108","v":0},{"$f":"+[2]Séries_Site!AE108","v":0},{"$f":"+[2]Séries_Site!AF108","v":0},{"$f":"+[2]Séries_Site!AG108","v":0},{"$f":"+[2]Séries_Site!AH108","v":0},{"$f":"+[2]Séries_Site!AI108","v":0},{"$f":"+[2]Séries_Site!AJ108","v":0}]
["1968-08-01",{"$f":"+[2]Séries_Site!B109","v":1210},{"$f":"+[2]Séries_Site!C109","v":1210},{"$f":"+[2]Séries_Site!D109","v":0},{"$f":"+[2]Séries_Site!E109","v":1281},{"$f":"+[2]Séries_Site!F109","v":18},{"$f":"+[2]Séries_Site!G109","v":1024},{"$f":"+[2]Séries_Site!H109","v":1024},{"$f":"+[2]Séries_Site!I109","v":0},{"$f":"+[2]Séries_Site!J109","v":1044},{"$f":"+[2]Séries_Site!K109","v":0},{"$f":"+[2]Séries_Site!L109","v":9},{"$f":"+[2]Séries_Site!M109","v":9},{"$f":"+[2]Séries_Site!N109","v":0},{"$f":"+[2]Séries_Site!O109","v":7},{"$f":"+[2]Séries_Site!P109","v":0},{"$f":"+[2]Séries_Site!Q109","v":177},{"$f":"+[2]Séries_Site!R109","v":177},{"$f":"+[2]Séries_Site!S109","v":0},{"$f":"+[2]Séries_Site!T109","v":230},{"$f":"+[2]Séries_Site!U109","v":18},{"$f":"+[2]Séries_Site!V109","v":0},{"$f":"+[2]Séries_Site!W109","v":0},{"$f":"+[2]Séries_Site!X109","v":0},{"$f":"+[2]Séries_Site!Y109","v":0},{"$f":"+[2]Séries_Site!Z109","v":0},{"$f":"+[2]Séries_Site!AA109","v":0},{"$f":"+[2]Séries_Site!AB109","v":0},{"$f":"+[2]Séries_Site!AC109","v":0},{"$f":"+[2]Séries_Site!AD109","v":0},{"$f":"+[2]Séries_Site!AE109","v":0},{"$f":"+[2]Séries_Site!AF109","v":0},{"$f":"+[2]Séries_Site!AG109","v":0},{"$f":"+[2]Séries_Site!AH109","v":0},{"$f":"+[2]Séries_Site!AI109","v":0},{"$f":"+[2]Séries_Site!AJ109","v":0}]
["1968-09-01",{"$f":"+[2]Séries_Site!B110","v":909},{"$f":"+[2]Séries_Site!C110","v":909},{"$f":"+[2]Séries_Site!D110","v":0},{"$f":"+[2]Séries_Site!E110","v":1099},{"$f":"+[2]Séries_Site!F110","v":16},{"$f":"+[2]Séries_Site!G110","v":734},{"$f":"+[2]Séries_Site!H110","v":734},{"$f":"+[2]Séries_Site!I110","v":0},{"$f":"+[2]Séries_Site!J110","v":848},{"$f":"+[2]Séries_Site!K110","v":0},{"$f":"+[2]Séries_Site!L110","v":6},{"$f":"+[2]Séries_Site!M110","v":6},{"$f":"+[2]Séries_Site!N110","v":0},{"$f":"+[2]Séries_Site!O110","v":5},{"$f":"+[2]Séries_Site!P110","v":0},{"$f":"+[2]Séries_Site!Q110","v":169},{"$f":"+[2]Séries_Site!R110","v":169},{"$f":"+[2]Séries_Site!S110","v":0},{"$f":"+[2]Séries_Site!T110","v":246},{"$f":"+[2]Séries_Site!U110","v":16},{"$f":"+[2]Séries_Site!V110","v":0},{"$f":"+[2]Séries_Site!W110","v":0},{"$f":"+[2]Séries_Site!X110","v":0},{"$f":"+[2]Séries_Site!Y110","v":0},{"$f":"+[2]Séries_Site!Z110","v":0},{"$f":"+[2]Séries_Site!AA110","v":0},{"$f":"+[2]Séries_Site!AB110","v":0},{"$f":"+[2]Séries_Site!AC110","v":0},{"$f":"+[2]Séries_Site!AD110","v":0},{"$f":"+[2]Séries_Site!AE110","v":0},{"$f":"+[2]Séries_Site!AF110","v":0},{"$f":"+[2]Séries_Site!AG110","v":0},{"$f":"+[2]Séries_Site!AH110","v":0},{"$f":"+[2]Séries_Site!AI110","v":0},{"$f":"+[2]Séries_Site!AJ110","v":0}]
["1968-10-01",{"$f":"+[2]Séries_Site!B111","v":971},{"$f":"+[2]Séries_Site!C111","v":971},{"$f":"+[2]Séries_Site!D111","v":0},{"$f":"+[2]Séries_Site!E111","v":1014},{"$f":"+[2]Séries_Site!F111","v":11},{"$f":"+[2]Séries_Site!G111","v":783},{"$f":"+[2]Séries_Site!H111","v":783},{"$f":"+[2]Séries_Site!I111","v":0},{"$f":"+[2]Séries_Site!J111","v":798},{"$f":"+[2]Séries_Site!K111","v":0},{"$f":"+[2]Séries_Site!L111","v":8},{"$f":"+[2]Séries_Site!M111","v":8},{"$f":"+[2]Séries_Site!N111","v":0},{"$f":"+[2]Séries_Site!O111","v":6},{"$f":"+[2]Séries_Site!P111","v":0},{"$f":"+[2]Séries_Site!Q111","v":180},{"$f":"+[2]Séries_Site!R111","v":180},{"$f":"+[2]Séries_Site!S111","v":0},{"$f":"+[2]Séries_Site!T111","v":210},{"$f":"+[2]Séries_Site!U111","v":11},{"$f":"+[2]Séries_Site!V111","v":0},{"$f":"+[2]Séries_Site!W111","v":0},{"$f":"+[2]Séries_Site!X111","v":0},{"$f":"+[2]Séries_Site!Y111","v":0},{"$f":"+[2]Séries_Site!Z111","v":0},{"$f":"+[2]Séries_Site!AA111","v":0},{"$f":"+[2]Séries_Site!AB111","v":0},{"$f":"+[2]Séries_Site!AC111","v":0},{"$f":"+[2]Séries_Site!AD111","v":0},{"$f":"+[2]Séries_Site!AE111","v":0},{"$f":"+[2]Séries_Site!AF111","v":0},{"$f":"+[2]Séries_Site!AG111","v":0},{"$f":"+[2]Séries_Site!AH111","v":0},{"$f":"+[2]Séries_Site!AI111","v":0},{"$f":"+[2]Séries_Site!AJ111","v":0}]
["1968-11-01",{"$f":"+[2]Séries_Site!B112","v":881},{"$f":"+[2]Séries_Site!C112","v":881},{"$f":"+[2]Séries_Site!D112","v":0},{"$f":"+[2]Séries_Site!E112","v":919},{"$f":"+[2]Séries_Site!F112","v":1},{"$f":"+[2]Séries_Site!G112","v":639},{"$f":"+[2]Séries_Site!H112","v":639},{"$f":"+[2]Séries_Site!I112","v":0},{"$f":"+[2]Séries_Site!J112","v":709},{"$f":"+[2]Séries_Site!K112","v":1},{"$f":"+[2]Séries_Site!L112","v":0},{"$f":"+[2]Séries_Site!M112","v":0},{"$f":"+[2]Séries_Site!N112","v":0},{"$f":"+[2]Séries_Site!O112","v":0},{"$f":"+[2]Séries_Site!P112","v":0},{"$f":"+[2]Séries_Site!Q112","v":242},{"$f":"+[2]Séries_Site!R112","v":242},{"$f":"+[2]Séries_Site!S112","v":0},{"$f":"+[2]Séries_Site!T112","v":210},{"$f":"+[2]Séries_Site!U112","v":0},{"$f":"+[2]Séries_Site!V112","v":0},{"$f":"+[2]Séries_Site!W112","v":0},{"$f":"+[2]Séries_Site!X112","v":0},{"$f":"+[2]Séries_Site!Y112","v":0},{"$f":"+[2]Séries_Site!Z112","v":0},{"$f":"+[2]Séries_Site!AA112","v":0},{"$f":"+[2]Séries_Site!AB112","v":0},{"$f":"+[2]Séries_Site!AC112","v":0},{"$f":"+[2]Séries_Site!AD112","v":0},{"$f":"+[2]Séries_Site!AE112","v":0},{"$f":"+[2]Séries_Site!AF112","v":0},{"$f":"+[2]Séries_Site!AG112","v":0},{"$f":"+[2]Séries_Site!AH112","v":0},{"$f":"+[2]Séries_Site!AI112","v":0},{"$f":"+[2]Séries_Site!AJ112","v":0}]
["1968-12-01",{"$f":"+[2]Séries_Site!B113","v":797},{"$f":"+[2]Séries_Site!C113","v":797},{"$f":"+[2]Séries_Site!D113","v":0},{"$f":"+[2]Séries_Site!E113","v":696},{"$f":"+[2]Séries_Site!F113","v":14},{"$f":"+[2]Séries_Site!G113","v":577},{"$f":"+[2]Séries_Site!H113","v":577},{"$f":"+[2]Séries_Site!I113","v":0},{"$f":"+[2]Séries_Site!J113","v":621},{"$f":"+[2]Séries_Site!K113","v":1},{"$f":"+[2]Séries_Site!L113","v":11},{"$f":"+[2]Séries_Site!M113","v":11},{"$f":"+[2]Séries_Site!N113","v":0},{"$f":"+[2]Séries_Site!O113","v":5},{"$f":"+[2]Séries_Site!P113","v":0},{"$f":"+[2]Séries_Site!Q113","v":209},{"$f":"+[2]Séries_Site!R113","v":209},{"$f":"+[2]Séries_Site!S113","v":0},{"$f":"+[2]Séries_Site!T113","v":70},{"$f":"+[2]Séries_Site!U113","v":13},{"$f":"+[2]Séries_Site!V113","v":0},{"$f":"+[2]Séries_Site!W113","v":0},{"$f":"+[2]Séries_Site!X113","v":0},{"$f":"+[2]Séries_Site!Y113","v":0},{"$f":"+[2]Séries_Site!Z113","v":0},{"$f":"+[2]Séries_Site!AA113","v":0},{"$f":"+[2]Séries_Site!AB113","v":0},{"$f":"+[2]Séries_Site!AC113","v":0},{"$f":"+[2]Séries_Site!AD113","v":0},{"$f":"+[2]Séries_Site!AE113","v":0},{"$f":"+[2]Séries_Site!AF113","v":0},{"$f":"+[2]Séries_Site!AG113","v":0},{"$f":"+[2]Séries_Site!AH113","v":0},{"$f":"+[2]Séries_Site!AI113","v":0},{"$f":"+[2]Séries_Site!AJ113","v":0}]
["1969-01-01",{"$f":"+[2]Séries_Site!B114","v":594},{"$f":"+[2]Séries_Site!C114","v":594},{"$f":"+[2]Séries_Site!D114","v":0},{"$f":"+[2]Séries_Site!E114","v":580},{"$f":"+[2]Séries_Site!F114","v":15},{"$f":"+[2]Séries_Site!G114","v":516},{"$f":"+[2]Séries_Site!H114","v":516},{"$f":"+[2]Séries_Site!I114","v":0},{"$f":"+[2]Séries_Site!J114","v":438},{"$f":"+[2]Séries_Site!K114","v":0},{"$f":"+[2]Séries_Site!L114","v":4},{"$f":"+[2]Séries_Site!M114","v":4},{"$f":"+[2]Séries_Site!N114","v":0},{"$f":"+[2]Séries_Site!O114","v":2},{"$f":"+[2]Séries_Site!P114","v":0},{"$f":"+[2]Séries_Site!Q114","v":74},{"$f":"+[2]Séries_Site!R114","v":74},{"$f":"+[2]Séries_Site!S114","v":0},{"$f":"+[2]Séries_Site!T114","v":140},{"$f":"+[2]Séries_Site!U114","v":15},{"$f":"+[2]Séries_Site!V114","v":0},{"$f":"+[2]Séries_Site!W114","v":0},{"$f":"+[2]Séries_Site!X114","v":0},{"$f":"+[2]Séries_Site!Y114","v":0},{"$f":"+[2]Séries_Site!Z114","v":0},{"$f":"+[2]Séries_Site!AA114","v":0},{"$f":"+[2]Séries_Site!AB114","v":0},{"$f":"+[2]Séries_Site!AC114","v":0},{"$f":"+[2]Séries_Site!AD114","v":0},{"$f":"+[2]Séries_Site!AE114","v":0},{"$f":"+[2]Séries_Site!AF114","v":0},{"$f":"+[2]Séries_Site!AG114","v":0},{"$f":"+[2]Séries_Site!AH114","v":0},{"$f":"+[2]Séries_Site!AI114","v":0},{"$f":"+[2]Séries_Site!AJ114","v":0}]
["1969-02-01",{"$f":"+[2]Séries_Site!B115","v":636},{"$f":"+[2]Séries_Site!C115","v":636},{"$f":"+[2]Séries_Site!D115","v":0},{"$f":"+[2]Séries_Site!E115","v":766},{"$f":"+[2]Séries_Site!F115","v":2},{"$f":"+[2]Séries_Site!G115","v":506},{"$f":"+[2]Séries_Site!H115","v":506},{"$f":"+[2]Séries_Site!I115","v":0},{"$f":"+[2]Séries_Site!J115","v":626},{"$f":"+[2]Séries_Site!K115","v":0},{"$f":"+[2]Séries_Site!L115","v":1},{"$f":"+[2]Séries_Site!M115","v":1},{"$f":"+[2]Séries_Site!N115","v":0},{"$f":"+[2]Séries_Site!O115","v":0},{"$f":"+[2]Séries_Site!P115","v":0},{"$f":"+[2]Séries_Site!Q115","v":129},{"$f":"+[2]Séries_Site!R115","v":129},{"$f":"+[2]Séries_Site!S115","v":0},{"$f":"+[2]Séries_Site!T115","v":140},{"$f":"+[2]Séries_Site!U115","v":2},{"$f":"+[2]Séries_Site!V115","v":0},{"$f":"+[2]Séries_Site!W115","v":0},{"$f":"+[2]Séries_Site!X115","v":0},{"$f":"+[2]Séries_Site!Y115","v":0},{"$f":"+[2]Séries_Site!Z115","v":0},{"$f":"+[2]Séries_Site!AA115","v":0},{"$f":"+[2]Séries_Site!AB115","v":0},{"$f":"+[2]Séries_Site!AC115","v":0},{"$f":"+[2]Séries_Site!AD115","v":0},{"$f":"+[2]Séries_Site!AE115","v":0},{"$f":"+[2]Séries_Site!AF115","v":0},{"$f":"+[2]Séries_Site!AG115","v":0},{"$f":"+[2]Séries_Site!AH115","v":0},{"$f":"+[2]Séries_Site!AI115","v":0},{"$f":"+[2]Séries_Site!AJ115","v":0}]
["1969-03-01",{"$f":"+[2]Séries_Site!B116","v":936},{"$f":"+[2]Séries_Site!C116","v":936},{"$f":"+[2]Séries_Site!D116","v":0},{"$f":"+[2]Séries_Site!E116","v":950},{"$f":"+[2]Séries_Site!F116","v":10},{"$f":"+[2]Séries_Site!G116","v":750},{"$f":"+[2]Séries_Site!H116","v":750},{"$f":"+[2]Séries_Site!I116","v":0},{"$f":"+[2]Séries_Site!J116","v":728},{"$f":"+[2]Séries_Site!K116","v":0},{"$f":"+[2]Séries_Site!L116","v":1},{"$f":"+[2]Séries_Site!M116","v":1},{"$f":"+[2]Séries_Site!N116","v":0},{"$f":"+[2]Séries_Site!O116","v":0},{"$f":"+[2]Séries_Site!P116","v":0},{"$f":"+[2]Séries_Site!Q116","v":185},{"$f":"+[2]Séries_Site!R116","v":185},{"$f":"+[2]Séries_Site!S116","v":0},{"$f":"+[2]Séries_Site!T116","v":222},{"$f":"+[2]Séries_Site!U116","v":10},{"$f":"+[2]Séries_Site!V116","v":0},{"$f":"+[2]Séries_Site!W116","v":0},{"$f":"+[2]Séries_Site!X116","v":0},{"$f":"+[2]Séries_Site!Y116","v":0},{"$f":"+[2]Séries_Site!Z116","v":0},{"$f":"+[2]Séries_Site!AA116","v":0},{"$f":"+[2]Séries_Site!AB116","v":0},{"$f":"+[2]Séries_Site!AC116","v":0},{"$f":"+[2]Séries_Site!AD116","v":0},{"$f":"+[2]Séries_Site!AE116","v":0},{"$f":"+[2]Séries_Site!AF116","v":0},{"$f":"+[2]Séries_Site!AG116","v":0},{"$f":"+[2]Séries_Site!AH116","v":0},{"$f":"+[2]Séries_Site!AI116","v":0},{"$f":"+[2]Séries_Site!AJ116","v":0}]
["1969-04-01",{"$f":"+[2]Séries_Site!B117","v":1042},{"$f":"+[2]Séries_Site!C117","v":1042},{"$f":"+[2]Séries_Site!D117","v":0},{"$f":"+[2]Séries_Site!E117","v":962},{"$f":"+[2]Séries_Site!F117","v":0},{"$f":"+[2]Séries_Site!G117","v":796},{"$f":"+[2]Séries_Site!H117","v":796},{"$f":"+[2]Séries_Site!I117","v":0},{"$f":"+[2]Séries_Site!J117","v":812},{"$f":"+[2]Séries_Site!K117","v":0},{"$f":"+[2]Séries_Site!L117","v":0},{"$f":"+[2]Séries_Site!M117","v":0},{"$f":"+[2]Séries_Site!N117","v":0},{"$f":"+[2]Séries_Site!O117","v":0},{"$f":"+[2]Séries_Site!P117","v":0},{"$f":"+[2]Séries_Site!Q117","v":246},{"$f":"+[2]Séries_Site!R117","v":246},{"$f":"+[2]Séries_Site!S117","v":0},{"$f":"+[2]Séries_Site!T117","v":150},{"$f":"+[2]Séries_Site!U117","v":0},{"$f":"+[2]Séries_Site!V117","v":0},{"$f":"+[2]Séries_Site!W117","v":0},{"$f":"+[2]Séries_Site!X117","v":0},{"$f":"+[2]Séries_Site!Y117","v":0},{"$f":"+[2]Séries_Site!Z117","v":0},{"$f":"+[2]Séries_Site!AA117","v":0},{"$f":"+[2]Séries_Site!AB117","v":0},{"$f":"+[2]Séries_Site!AC117","v":0},{"$f":"+[2]Séries_Site!AD117","v":0},{"$f":"+[2]Séries_Site!AE117","v":0},{"$f":"+[2]Séries_Site!AF117","v":0},{"$f":"+[2]Séries_Site!AG117","v":0},{"$f":"+[2]Séries_Site!AH117","v":0},{"$f":"+[2]Séries_Site!AI117","v":0},{"$f":"+[2]Séries_Site!AJ117","v":0}]
["1969-05-01",{"$f":"+[2]Séries_Site!B118","v":1085},{"$f":"+[2]Séries_Site!C118","v":1085},{"$f":"+[2]Séries_Site!D118","v":0},{"$f":"+[2]Séries_Site!E118","v":1093},{"$f":"+[2]Séries_Site!F118","v":13},{"$f":"+[2]Séries_Site!G118","v":848},{"$f":"+[2]Séries_Site!H118","v":848},{"$f":"+[2]Séries_Site!I118","v":0},{"$f":"+[2]Séries_Site!J118","v":949},{"$f":"+[2]Séries_Site!K118","v":1},{"$f":"+[2]Séries_Site!L118","v":7},{"$f":"+[2]Séries_Site!M118","v":7},{"$f":"+[2]Séries_Site!N118","v":0},{"$f":"+[2]Séries_Site!O118","v":9},{"$f":"+[2]Séries_Site!P118","v":0},{"$f":"+[2]Séries_Site!Q118","v":230},{"$f":"+[2]Séries_Site!R118","v":230},{"$f":"+[2]Séries_Site!S118","v":0},{"$f":"+[2]Séries_Site!T118","v":135},{"$f":"+[2]Séries_Site!U118","v":12},{"$f":"+[2]Séries_Site!V118","v":0},{"$f":"+[2]Séries_Site!W118","v":0},{"$f":"+[2]Séries_Site!X118","v":0},{"$f":"+[2]Séries_Site!Y118","v":0},{"$f":"+[2]Séries_Site!Z118","v":0},{"$f":"+[2]Séries_Site!AA118","v":0},{"$f":"+[2]Séries_Site!AB118","v":0},{"$f":"+[2]Séries_Site!AC118","v":0},{"$f":"+[2]Séries_Site!AD118","v":0},{"$f":"+[2]Séries_Site!AE118","v":0},{"$f":"+[2]Séries_Site!AF118","v":0},{"$f":"+[2]Séries_Site!AG118","v":0},{"$f":"+[2]Séries_Site!AH118","v":0},{"$f":"+[2]Séries_Site!AI118","v":0},{"$f":"+[2]Séries_Site!AJ118","v":0}]
["1969-06-01",{"$f":"+[2]Séries_Site!B119","v":1006},{"$f":"+[2]Séries_Site!C119","v":1006},{"$f":"+[2]Séries_Site!D119","v":0},{"$f":"+[2]Séries_Site!E119","v":1057},{"$f":"+[2]Séries_Site!F119","v":1},{"$f":"+[2]Séries_Site!G119","v":811},{"$f":"+[2]Séries_Site!H119","v":811},{"$f":"+[2]Séries_Site!I119","v":0},{"$f":"+[2]Séries_Site!J119","v":826},{"$f":"+[2]Séries_Site!K119","v":1},{"$f":"+[2]Séries_Site!L119","v":11},{"$f":"+[2]Séries_Site!M119","v":11},{"$f":"+[2]Séries_Site!N119","v":0},{"$f":"+[2]Séries_Site!O119","v":11},{"$f":"+[2]Séries_Site!P119","v":0},{"$f":"+[2]Séries_Site!Q119","v":184},{"$f":"+[2]Séries_Site!R119","v":184},{"$f":"+[2]Séries_Site!S119","v":0},{"$f":"+[2]Séries_Site!T119","v":220},{"$f":"+[2]Séries_Site!U119","v":0},{"$f":"+[2]Séries_Site!V119","v":0},{"$f":"+[2]Séries_Site!W119","v":0},{"$f":"+[2]Séries_Site!X119","v":0},{"$f":"+[2]Séries_Site!Y119","v":0},{"$f":"+[2]Séries_Site!Z119","v":0},{"$f":"+[2]Séries_Site!AA119","v":0},{"$f":"+[2]Séries_Site!AB119","v":0},{"$f":"+[2]Séries_Site!AC119","v":0},{"$f":"+[2]Séries_Site!AD119","v":0},{"$f":"+[2]Séries_Site!AE119","v":0},{"$f":"+[2]Séries_Site!AF119","v":0},{"$f":"+[2]Séries_Site!AG119","v":0},{"$f":"+[2]Séries_Site!AH119","v":0},{"$f":"+[2]Séries_Site!AI119","v":0},{"$f":"+[2]Séries_Site!AJ119","v":0}]
["1969-07-01",{"$f":"+[2]Séries_Site!B120","v":1336},{"$f":"+[2]Séries_Site!C120","v":1336},{"$f":"+[2]Séries_Site!D120","v":0},{"$f":"+[2]Séries_Site!E120","v":1314},{"$f":"+[2]Séries_Site!F120","v":0},{"$f":"+[2]Séries_Site!G120","v":1101},{"$f":"+[2]Séries_Site!H120","v":1101},{"$f":"+[2]Séries_Site!I120","v":0},{"$f":"+[2]Séries_Site!J120","v":1128},{"$f":"+[2]Séries_Site!K120","v":0},{"$f":"+[2]Séries_Site!L120","v":9},{"$f":"+[2]Séries_Site!M120","v":9},{"$f":"+[2]Séries_Site!N120","v":0},{"$f":"+[2]Séries_Site!O120","v":9},{"$f":"+[2]Séries_Site!P120","v":0},{"$f":"+[2]Séries_Site!Q120","v":226},{"$f":"+[2]Séries_Site!R120","v":226},{"$f":"+[2]Séries_Site!S120","v":0},{"$f":"+[2]Séries_Site!T120","v":177},{"$f":"+[2]Séries_Site!U120","v":0},{"$f":"+[2]Séries_Site!V120","v":0},{"$f":"+[2]Séries_Site!W120","v":0},{"$f":"+[2]Séries_Site!X120","v":0},{"$f":"+[2]Séries_Site!Y120","v":0},{"$f":"+[2]Séries_Site!Z120","v":0},{"$f":"+[2]Séries_Site!AA120","v":0},{"$f":"+[2]Séries_Site!AB120","v":0},{"$f":"+[2]Séries_Site!AC120","v":0},{"$f":"+[2]Séries_Site!AD120","v":0},{"$f":"+[2]Séries_Site!AE120","v":0},{"$f":"+[2]Séries_Site!AF120","v":0},{"$f":"+[2]Séries_Site!AG120","v":0},{"$f":"+[2]Séries_Site!AH120","v":0},{"$f":"+[2]Séries_Site!AI120","v":0},{"$f":"+[2]Séries_Site!AJ120","v":0}]
["1969-08-01",{"$f":"+[2]Séries_Site!B121","v":1221},{"$f":"+[2]Séries_Site!C121","v":1221},{"$f":"+[2]Séries_Site!D121","v":0},{"$f":"+[2]Séries_Site!E121","v":1366},{"$f":"+[2]Séries_Site!F121","v":1},{"$f":"+[2]Séries_Site!G121","v":1013},{"$f":"+[2]Séries_Site!H121","v":1013},{"$f":"+[2]Séries_Site!I121","v":0},{"$f":"+[2]Séries_Site!J121","v":1129},{"$f":"+[2]Séries_Site!K121","v":1},{"$f":"+[2]Séries_Site!L121","v":6},{"$f":"+[2]Séries_Site!M121","v":6},{"$f":"+[2]Séries_Site!N121","v":0},{"$f":"+[2]Séries_Site!O121","v":27},{"$f":"+[2]Séries_Site!P121","v":0},{"$f":"+[2]Séries_Site!Q121","v":202},{"$f":"+[2]Séries_Site!R121","v":202},{"$f":"+[2]Séries_Site!S121","v":0},{"$f":"+[2]Séries_Site!T121","v":185},{"$f":"+[2]Séries_Site!U121","v":0},{"$f":"+[2]Séries_Site!V121","v":0},{"$f":"+[2]Séries_Site!W121","v":0},{"$f":"+[2]Séries_Site!X121","v":0},{"$f":"+[2]Séries_Site!Y121","v":0},{"$f":"+[2]Séries_Site!Z121","v":0},{"$f":"+[2]Séries_Site!AA121","v":0},{"$f":"+[2]Séries_Site!AB121","v":0},{"$f":"+[2]Séries_Site!AC121","v":0},{"$f":"+[2]Séries_Site!AD121","v":0},{"$f":"+[2]Séries_Site!AE121","v":0},{"$f":"+[2]Séries_Site!AF121","v":0},{"$f":"+[2]Séries_Site!AG121","v":0},{"$f":"+[2]Séries_Site!AH121","v":0},{"$f":"+[2]Séries_Site!AI121","v":25},{"$f":"+[2]Séries_Site!AJ121","v":0}]
["1969-09-01",{"$f":"+[2]Séries_Site!B122","v":994},{"$f":"+[2]Séries_Site!C122","v":994},{"$f":"+[2]Séries_Site!D122","v":0},{"$f":"+[2]Séries_Site!E122","v":1020},{"$f":"+[2]Séries_Site!F122","v":8},{"$f":"+[2]Séries_Site!G122","v":855},{"$f":"+[2]Séries_Site!H122","v":855},{"$f":"+[2]Séries_Site!I122","v":0},{"$f":"+[2]Séries_Site!J122","v":809},{"$f":"+[2]Séries_Site!K122","v":1},{"$f":"+[2]Séries_Site!L122","v":4},{"$f":"+[2]Séries_Site!M122","v":4},{"$f":"+[2]Séries_Site!N122","v":0},{"$f":"+[2]Séries_Site!O122","v":11},{"$f":"+[2]Séries_Site!P122","v":0},{"$f":"+[2]Séries_Site!Q122","v":135},{"$f":"+[2]Séries_Site!R122","v":135},{"$f":"+[2]Séries_Site!S122","v":0},{"$f":"+[2]Séries_Site!T122","v":184},{"$f":"+[2]Séries_Site!U122","v":7},{"$f":"+[2]Séries_Site!V122","v":0},{"$f":"+[2]Séries_Site!W122","v":0},{"$f":"+[2]Séries_Site!X122","v":0},{"$f":"+[2]Séries_Site!Y122","v":0},{"$f":"+[2]Séries_Site!Z122","v":0},{"$f":"+[2]Séries_Site!AA122","v":0},{"$f":"+[2]Séries_Site!AB122","v":0},{"$f":"+[2]Séries_Site!AC122","v":0},{"$f":"+[2]Séries_Site!AD122","v":0},{"$f":"+[2]Séries_Site!AE122","v":0},{"$f":"+[2]Séries_Site!AF122","v":0},{"$f":"+[2]Séries_Site!AG122","v":0},{"$f":"+[2]Séries_Site!AH122","v":0},{"$f":"+[2]Séries_Site!AI122","v":16},{"$f":"+[2]Séries_Site!AJ122","v":0}]
["1969-10-01",{"$f":"+[2]Séries_Site!B123","v":1571},{"$f":"+[2]Séries_Site!C123","v":1571},{"$f":"+[2]Séries_Site!D123","v":0},{"$f":"+[2]Séries_Site!E123","v":1176},{"$f":"+[2]Séries_Site!F123","v":1},{"$f":"+[2]Séries_Site!G123","v":1372},{"$f":"+[2]Séries_Site!H123","v":1372},{"$f":"+[2]Séries_Site!I123","v":0},{"$f":"+[2]Séries_Site!J123","v":1005},{"$f":"+[2]Séries_Site!K123","v":1},{"$f":"+[2]Séries_Site!L123","v":7},{"$f":"+[2]Séries_Site!M123","v":7},{"$f":"+[2]Séries_Site!N123","v":0},{"$f":"+[2]Séries_Site!O123","v":10},{"$f":"+[2]Séries_Site!P123","v":0},{"$f":"+[2]Séries_Site!Q123","v":188},{"$f":"+[2]Séries_Site!R123","v":188},{"$f":"+[2]Séries_Site!S123","v":0},{"$f":"+[2]Séries_Site!T123","v":161},{"$f":"+[2]Séries_Site!U123","v":0},{"$f":"+[2]Séries_Site!V123","v":0},{"$f":"+[2]Séries_Site!W123","v":0},{"$f":"+[2]Séries_Site!X123","v":0},{"$f":"+[2]Séries_Site!Y123","v":0},{"$f":"+[2]Séries_Site!Z123","v":0},{"$f":"+[2]Séries_Site!AA123","v":0},{"$f":"+[2]Séries_Site!AB123","v":0},{"$f":"+[2]Séries_Site!AC123","v":0},{"$f":"+[2]Séries_Site!AD123","v":0},{"$f":"+[2]Séries_Site!AE123","v":0},{"$f":"+[2]Séries_Site!AF123","v":4},{"$f":"+[2]Séries_Site!AG123","v":4},{"$f":"+[2]Séries_Site!AH123","v":0},{"$f":"+[2]Séries_Site!AI123","v":0},{"$f":"+[2]Séries_Site!AJ123","v":0}]
["1969-11-01",{"$f":"+[2]Séries_Site!B124","v":702},{"$f":"+[2]Séries_Site!C124","v":702},{"$f":"+[2]Séries_Site!D124","v":0},{"$f":"+[2]Séries_Site!E124","v":824},{"$f":"+[2]Séries_Site!F124","v":5},{"$f":"+[2]Séries_Site!G124","v":515},{"$f":"+[2]Séries_Site!H124","v":515},{"$f":"+[2]Séries_Site!I124","v":0},{"$f":"+[2]Séries_Site!J124","v":650},{"$f":"+[2]Séries_Site!K124","v":1},{"$f":"+[2]Séries_Site!L124","v":0},{"$f":"+[2]Séries_Site!M124","v":0},{"$f":"+[2]Séries_Site!N124","v":0},{"$f":"+[2]Séries_Site!O124","v":12},{"$f":"+[2]Séries_Site!P124","v":0},{"$f":"+[2]Séries_Site!Q124","v":187},{"$f":"+[2]Séries_Site!R124","v":187},{"$f":"+[2]Séries_Site!S124","v":0},{"$f":"+[2]Séries_Site!T124","v":162},{"$f":"+[2]Séries_Site!U124","v":4},{"$f":"+[2]Séries_Site!V124","v":0},{"$f":"+[2]Séries_Site!W124","v":0},{"$f":"+[2]Séries_Site!X124","v":0},{"$f":"+[2]Séries_Site!Y124","v":0},{"$f":"+[2]Séries_Site!Z124","v":0},{"$f":"+[2]Séries_Site!AA124","v":0},{"$f":"+[2]Séries_Site!AB124","v":0},{"$f":"+[2]Séries_Site!AC124","v":0},{"$f":"+[2]Séries_Site!AD124","v":0},{"$f":"+[2]Séries_Site!AE124","v":0},{"$f":"+[2]Séries_Site!AF124","v":0},{"$f":"+[2]Séries_Site!AG124","v":0},{"$f":"+[2]Séries_Site!AH124","v":0},{"$f":"+[2]Séries_Site!AI124","v":0},{"$f":"+[2]Séries_Site!AJ124","v":0}]
["1969-12-01",{"$f":"+[2]Séries_Site!B125","v":994},{"$f":"+[2]Séries_Site!C125","v":994},{"$f":"+[2]Séries_Site!D125","v":0},{"$f":"+[2]Séries_Site!E125","v":811},{"$f":"+[2]Séries_Site!F125","v":1},{"$f":"+[2]Séries_Site!G125","v":894},{"$f":"+[2]Séries_Site!H125","v":894},{"$f":"+[2]Séries_Site!I125","v":0},{"$f":"+[2]Séries_Site!J125","v":741},{"$f":"+[2]Séries_Site!K125","v":1},{"$f":"+[2]Séries_Site!L125","v":4},{"$f":"+[2]Séries_Site!M125","v":4},{"$f":"+[2]Séries_Site!N125","v":0},{"$f":"+[2]Séries_Site!O125","v":0},{"$f":"+[2]Séries_Site!P125","v":0},{"$f":"+[2]Séries_Site!Q125","v":95},{"$f":"+[2]Séries_Site!R125","v":95},{"$f":"+[2]Séries_Site!S125","v":0},{"$f":"+[2]Séries_Site!T125","v":70},{"$f":"+[2]Séries_Site!U125","v":0},{"$f":"+[2]Séries_Site!V125","v":0},{"$f":"+[2]Séries_Site!W125","v":0},{"$f":"+[2]Séries_Site!X125","v":0},{"$f":"+[2]Séries_Site!Y125","v":0},{"$f":"+[2]Séries_Site!Z125","v":0},{"$f":"+[2]Séries_Site!AA125","v":0},{"$f":"+[2]Séries_Site!AB125","v":0},{"$f":"+[2]Séries_Site!AC125","v":0},{"$f":"+[2]Séries_Site!AD125","v":0},{"$f":"+[2]Séries_Site!AE125","v":0},{"$f":"+[2]Séries_Site!AF125","v":1},{"$f":"+[2]Séries_Site!AG125","v":1},{"$f":"+[2]Séries_Site!AH125","v":0},{"$f":"+[2]Séries_Site!AI125","v":0},{"$f":"+[2]Séries_Site!AJ125","v":0}]
["1970-01-01",{"$f":"+[2]Séries_Site!B126","v":880},{"$f":"+[2]Séries_Site!C126","v":880},{"$f":"+[2]Séries_Site!D126","v":0},{"$f":"+[2]Séries_Site!E126","v":692},{"$f":"+[2]Séries_Site!F126","v":0},{"$f":"+[2]Séries_Site!G126","v":702},{"$f":"+[2]Séries_Site!H126","v":702},{"$f":"+[2]Séries_Site!I126","v":0},{"$f":"+[2]Séries_Site!J126","v":572},{"$f":"+[2]Séries_Site!K126","v":0},{"$f":"+[2]Séries_Site!L126","v":3},{"$f":"+[2]Séries_Site!M126","v":3},{"$f":"+[2]Séries_Site!N126","v":0},{"$f":"+[2]Séries_Site!O126","v":0},{"$f":"+[2]Séries_Site!P126","v":0},{"$f":"+[2]Séries_Site!Q126","v":160},{"$f":"+[2]Séries_Site!R126","v":160},{"$f":"+[2]Séries_Site!S126","v":0},{"$f":"+[2]Séries_Site!T126","v":120},{"$f":"+[2]Séries_Site!U126","v":0},{"$f":"+[2]Séries_Site!V126","v":0},{"$f":"+[2]Séries_Site!W126","v":0},{"$f":"+[2]Séries_Site!X126","v":0},{"$f":"+[2]Séries_Site!Y126","v":0},{"$f":"+[2]Séries_Site!Z126","v":0},{"$f":"+[2]Séries_Site!AA126","v":0},{"$f":"+[2]Séries_Site!AB126","v":0},{"$f":"+[2]Séries_Site!AC126","v":0},{"$f":"+[2]Séries_Site!AD126","v":0},{"$f":"+[2]Séries_Site!AE126","v":0},{"$f":"+[2]Séries_Site!AF126","v":15},{"$f":"+[2]Séries_Site!AG126","v":15},{"$f":"+[2]Séries_Site!AH126","v":0},{"$f":"+[2]Séries_Site!AI126","v":0},{"$f":"+[2]Séries_Site!AJ126","v":0}]
["1970-02-01",{"$f":"+[2]Séries_Site!B127","v":1058},{"$f":"+[2]Séries_Site!C127","v":1058},{"$f":"+[2]Séries_Site!D127","v":0},{"$f":"+[2]Séries_Site!E127","v":1003},{"$f":"+[2]Séries_Site!F127","v":10},{"$f":"+[2]Séries_Site!G127","v":903},{"$f":"+[2]Séries_Site!H127","v":903},{"$f":"+[2]Séries_Site!I127","v":0},{"$f":"+[2]Séries_Site!J127","v":883},{"$f":"+[2]Séries_Site!K127","v":0},{"$f":"+[2]Séries_Site!L127","v":1},{"$f":"+[2]Séries_Site!M127","v":1},{"$f":"+[2]Séries_Site!N127","v":0},{"$f":"+[2]Séries_Site!O127","v":0},{"$f":"+[2]Séries_Site!P127","v":0},{"$f":"+[2]Séries_Site!Q127","v":143},{"$f":"+[2]Séries_Site!R127","v":143},{"$f":"+[2]Séries_Site!S127","v":0},{"$f":"+[2]Séries_Site!T127","v":120},{"$f":"+[2]Séries_Site!U127","v":10},{"$f":"+[2]Séries_Site!V127","v":0},{"$f":"+[2]Séries_Site!W127","v":0},{"$f":"+[2]Séries_Site!X127","v":0},{"$f":"+[2]Séries_Site!Y127","v":0},{"$f":"+[2]Séries_Site!Z127","v":0},{"$f":"+[2]Séries_Site!AA127","v":0},{"$f":"+[2]Séries_Site!AB127","v":0},{"$f":"+[2]Séries_Site!AC127","v":0},{"$f":"+[2]Séries_Site!AD127","v":0},{"$f":"+[2]Séries_Site!AE127","v":0},{"$f":"+[2]Séries_Site!AF127","v":11},{"$f":"+[2]Séries_Site!AG127","v":11},{"$f":"+[2]Séries_Site!AH127","v":0},{"$f":"+[2]Séries_Site!AI127","v":0},{"$f":"+[2]Séries_Site!AJ127","v":0}]
["1970-03-01",{"$f":"+[2]Séries_Site!B128","v":1138},{"$f":"+[2]Séries_Site!C128","v":1138},{"$f":"+[2]Séries_Site!D128","v":0},{"$f":"+[2]Séries_Site!E128","v":1266},{"$f":"+[2]Séries_Site!F128","v":0},{"$f":"+[2]Séries_Site!G128","v":990},{"$f":"+[2]Séries_Site!H128","v":990},{"$f":"+[2]Séries_Site!I128","v":0},{"$f":"+[2]Séries_Site!J128","v":1061},{"$f":"+[2]Séries_Site!K128","v":0},{"$f":"+[2]Séries_Site!L128","v":5},{"$f":"+[2]Séries_Site!M128","v":5},{"$f":"+[2]Séries_Site!N128","v":0},{"$f":"+[2]Séries_Site!O128","v":7},{"$f":"+[2]Séries_Site!P128","v":0},{"$f":"+[2]Séries_Site!Q128","v":139},{"$f":"+[2]Séries_Site!R128","v":139},{"$f":"+[2]Séries_Site!S128","v":0},{"$f":"+[2]Séries_Site!T128","v":198},{"$f":"+[2]Séries_Site!U128","v":0},{"$f":"+[2]Séries_Site!V128","v":0},{"$f":"+[2]Séries_Site!W128","v":0},{"$f":"+[2]Séries_Site!X128","v":0},{"$f":"+[2]Séries_Site!Y128","v":0},{"$f":"+[2]Séries_Site!Z128","v":0},{"$f":"+[2]Séries_Site!AA128","v":0},{"$f":"+[2]Séries_Site!AB128","v":0},{"$f":"+[2]Séries_Site!AC128","v":0},{"$f":"+[2]Séries_Site!AD128","v":0},{"$f":"+[2]Séries_Site!AE128","v":0},{"$f":"+[2]Séries_Site!AF128","v":4},{"$f":"+[2]Séries_Site!AG128","v":4},{"$f":"+[2]Séries_Site!AH128","v":0},{"$f":"+[2]Séries_Site!AI128","v":0},{"$f":"+[2]Séries_Site!AJ128","v":0}]
["1970-04-01",{"$f":"+[2]Séries_Site!B129","v":1567},{"$f":"+[2]Séries_Site!C129","v":1567},{"$f":"+[2]Séries_Site!D129","v":0},{"$f":"+[2]Séries_Site!E129","v":1479},{"$f":"+[2]Séries_Site!F129","v":1},{"$f":"+[2]Séries_Site!G129","v":1387},{"$f":"+[2]Séries_Site!H129","v":1387},{"$f":"+[2]Séries_Site!I129","v":0},{"$f":"+[2]Séries_Site!J129","v":1307},{"$f":"+[2]Séries_Site!K129","v":1},{"$f":"+[2]Séries_Site!L129","v":4},{"$f":"+[2]Séries_Site!M129","v":4},{"$f":"+[2]Séries_Site!N129","v":0},{"$f":"+[2]Séries_Site!O129","v":3},{"$f":"+[2]Séries_Site!P129","v":0},{"$f":"+[2]Séries_Site!Q129","v":159},{"$f":"+[2]Séries_Site!R129","v":159},{"$f":"+[2]Séries_Site!S129","v":0},{"$f":"+[2]Séries_Site!T129","v":160},{"$f":"+[2]Séries_Site!U129","v":0},{"$f":"+[2]Séries_Site!V129","v":0},{"$f":"+[2]Séries_Site!W129","v":0},{"$f":"+[2]Séries_Site!X129","v":0},{"$f":"+[2]Séries_Site!Y129","v":0},{"$f":"+[2]Séries_Site!Z129","v":0},{"$f":"+[2]Séries_Site!AA129","v":0},{"$f":"+[2]Séries_Site!AB129","v":0},{"$f":"+[2]Séries_Site!AC129","v":0},{"$f":"+[2]Séries_Site!AD129","v":0},{"$f":"+[2]Séries_Site!AE129","v":0},{"$f":"+[2]Séries_Site!AF129","v":17},{"$f":"+[2]Séries_Site!AG129","v":17},{"$f":"+[2]Séries_Site!AH129","v":0},{"$f":"+[2]Séries_Site!AI129","v":9},{"$f":"+[2]Séries_Site!AJ129","v":0}]
["1970-05-01",{"$f":"+[2]Séries_Site!B130","v":1319},{"$f":"+[2]Séries_Site!C130","v":1319},{"$f":"+[2]Séries_Site!D130","v":0},{"$f":"+[2]Séries_Site!E130","v":1312},{"$f":"+[2]Séries_Site!F130","v":2},{"$f":"+[2]Séries_Site!G130","v":1038},{"$f":"+[2]Séries_Site!H130","v":1038},{"$f":"+[2]Séries_Site!I130","v":0},{"$f":"+[2]Séries_Site!J130","v":1076},{"$f":"+[2]Séries_Site!K130","v":2},{"$f":"+[2]Séries_Site!L130","v":1},{"$f":"+[2]Séries_Site!M130","v":1},{"$f":"+[2]Séries_Site!N130","v":0},{"$f":"+[2]Séries_Site!O130","v":3},{"$f":"+[2]Séries_Site!P130","v":0},{"$f":"+[2]Séries_Site!Q130","v":264},{"$f":"+[2]Séries_Site!R130","v":264},{"$f":"+[2]Séries_Site!S130","v":0},{"$f":"+[2]Séries_Site!T130","v":200},{"$f":"+[2]Séries_Site!U130","v":0},{"$f":"+[2]Séries_Site!V130","v":0},{"$f":"+[2]Séries_Site!W130","v":0},{"$f":"+[2]Séries_Site!X130","v":0},{"$f":"+[2]Séries_Site!Y130","v":0},{"$f":"+[2]Séries_Site!Z130","v":0},{"$f":"+[2]Séries_Site!AA130","v":0},{"$f":"+[2]Séries_Site!AB130","v":0},{"$f":"+[2]Séries_Site!AC130","v":0},{"$f":"+[2]Séries_Site!AD130","v":0},{"$f":"+[2]Séries_Site!AE130","v":0},{"$f":"+[2]Séries_Site!AF130","v":16},{"$f":"+[2]Séries_Site!AG130","v":16},{"$f":"+[2]Séries_Site!AH130","v":0},{"$f":"+[2]Séries_Site!AI130","v":33},{"$f":"+[2]Séries_Site!AJ130","v":0}]
["1970-06-01",{"$f":"+[2]Séries_Site!B131","v":1687},{"$f":"+[2]Séries_Site!C131","v":1687},{"$f":"+[2]Séries_Site!D131","v":0},{"$f":"+[2]Séries_Site!E131","v":1660},{"$f":"+[2]Séries_Site!F131","v":12},{"$f":"+[2]Séries_Site!G131","v":1444},{"$f":"+[2]Séries_Site!H131","v":1444},{"$f":"+[2]Séries_Site!I131","v":0},{"$f":"+[2]Séries_Site!J131","v":1417},{"$f":"+[2]Séries_Site!K131","v":2},{"$f":"+[2]Séries_Site!L131","v":7},{"$f":"+[2]Séries_Site!M131","v":7},{"$f":"+[2]Séries_Site!N131","v":0},{"$f":"+[2]Séries_Site!O131","v":16},{"$f":"+[2]Séries_Site!P131","v":0},{"$f":"+[2]Séries_Site!Q131","v":221},{"$f":"+[2]Séries_Site!R131","v":221},{"$f":"+[2]Séries_Site!S131","v":0},{"$f":"+[2]Séries_Site!T131","v":220},{"$f":"+[2]Séries_Site!U131","v":10},{"$f":"+[2]Séries_Site!V131","v":0},{"$f":"+[2]Séries_Site!W131","v":0},{"$f":"+[2]Séries_Site!X131","v":0},{"$f":"+[2]Séries_Site!Y131","v":0},{"$f":"+[2]Séries_Site!Z131","v":0},{"$f":"+[2]Séries_Site!AA131","v":0},{"$f":"+[2]Séries_Site!AB131","v":0},{"$f":"+[2]Séries_Site!AC131","v":0},{"$f":"+[2]Séries_Site!AD131","v":0},{"$f":"+[2]Séries_Site!AE131","v":0},{"$f":"+[2]Séries_Site!AF131","v":15},{"$f":"+[2]Séries_Site!AG131","v":15},{"$f":"+[2]Séries_Site!AH131","v":0},{"$f":"+[2]Séries_Site!AI131","v":7},{"$f":"+[2]Séries_Site!AJ131","v":0}]
["1970-07-01",{"$f":"+[2]Séries_Site!B132","v":1852},{"$f":"+[2]Séries_Site!C132","v":1852},{"$f":"+[2]Séries_Site!D132","v":0},{"$f":"+[2]Séries_Site!E132","v":1883},{"$f":"+[2]Séries_Site!F132","v":8},{"$f":"+[2]Séries_Site!G132","v":1637},{"$f":"+[2]Séries_Site!H132","v":1637},{"$f":"+[2]Séries_Site!I132","v":0},{"$f":"+[2]Séries_Site!J132","v":1602},{"$f":"+[2]Séries_Site!K132","v":3},{"$f":"+[2]Séries_Site!L132","v":3},{"$f":"+[2]Séries_Site!M132","v":3},{"$f":"+[2]Séries_Site!N132","v":0},{"$f":"+[2]Séries_Site!O132","v":21},{"$f":"+[2]Séries_Site!P132","v":0},{"$f":"+[2]Séries_Site!Q132","v":204},{"$f":"+[2]Séries_Site!R132","v":204},{"$f":"+[2]Séries_Site!S132","v":0},{"$f":"+[2]Séries_Site!T132","v":240},{"$f":"+[2]Séries_Site!U132","v":5},{"$f":"+[2]Séries_Site!V132","v":0},{"$f":"+[2]Séries_Site!W132","v":0},{"$f":"+[2]Séries_Site!X132","v":0},{"$f":"+[2]Séries_Site!Y132","v":0},{"$f":"+[2]Séries_Site!Z132","v":0},{"$f":"+[2]Séries_Site!AA132","v":0},{"$f":"+[2]Séries_Site!AB132","v":0},{"$f":"+[2]Séries_Site!AC132","v":0},{"$f":"+[2]Séries_Site!AD132","v":0},{"$f":"+[2]Séries_Site!AE132","v":0},{"$f":"+[2]Séries_Site!AF132","v":8},{"$f":"+[2]Séries_Site!AG132","v":8},{"$f":"+[2]Séries_Site!AH132","v":0},{"$f":"+[2]Séries_Site!AI132","v":20},{"$f":"+[2]Séries_Site!AJ132","v":0}]
["1970-08-01",{"$f":"+[2]Séries_Site!B133","v":1471},{"$f":"+[2]Séries_Site!C133","v":1471},{"$f":"+[2]Séries_Site!D133","v":0},{"$f":"+[2]Séries_Site!E133","v":1632},{"$f":"+[2]Séries_Site!F133","v":16},{"$f":"+[2]Séries_Site!G133","v":1228},{"$f":"+[2]Séries_Site!H133","v":1228},{"$f":"+[2]Séries_Site!I133","v":0},{"$f":"+[2]Séries_Site!J133","v":1377},{"$f":"+[2]Séries_Site!K133","v":4},{"$f":"+[2]Séries_Site!L133","v":0},{"$f":"+[2]Séries_Site!M133","v":0},{"$f":"+[2]Séries_Site!N133","v":0},{"$f":"+[2]Séries_Site!O133","v":26},{"$f":"+[2]Séries_Site!P133","v":0},{"$f":"+[2]Séries_Site!Q133","v":225},{"$f":"+[2]Séries_Site!R133","v":225},{"$f":"+[2]Séries_Site!S133","v":0},{"$f":"+[2]Séries_Site!T133","v":201},{"$f":"+[2]Séries_Site!U133","v":12},{"$f":"+[2]Séries_Site!V133","v":0},{"$f":"+[2]Séries_Site!W133","v":0},{"$f":"+[2]Séries_Site!X133","v":0},{"$f":"+[2]Séries_Site!Y133","v":0},{"$f":"+[2]Séries_Site!Z133","v":0},{"$f":"+[2]Séries_Site!AA133","v":0},{"$f":"+[2]Séries_Site!AB133","v":0},{"$f":"+[2]Séries_Site!AC133","v":0},{"$f":"+[2]Séries_Site!AD133","v":0},{"$f":"+[2]Séries_Site!AE133","v":0},{"$f":"+[2]Séries_Site!AF133","v":18},{"$f":"+[2]Séries_Site!AG133","v":18},{"$f":"+[2]Séries_Site!AH133","v":0},{"$f":"+[2]Séries_Site!AI133","v":28},{"$f":"+[2]Séries_Site!AJ133","v":0}]
["1970-09-01",{"$f":"+[2]Séries_Site!B134","v":1715},{"$f":"+[2]Séries_Site!C134","v":1715},{"$f":"+[2]Séries_Site!D134","v":0},{"$f":"+[2]Séries_Site!E134","v":1554},{"$f":"+[2]Séries_Site!F134","v":26},{"$f":"+[2]Séries_Site!G134","v":1473},{"$f":"+[2]Séries_Site!H134","v":1473},{"$f":"+[2]Séries_Site!I134","v":0},{"$f":"+[2]Séries_Site!J134","v":1323},{"$f":"+[2]Séries_Site!K134","v":11},{"$f":"+[2]Séries_Site!L134","v":0},{"$f":"+[2]Séries_Site!M134","v":0},{"$f":"+[2]Séries_Site!N134","v":0},{"$f":"+[2]Séries_Site!O134","v":28},{"$f":"+[2]Séries_Site!P134","v":0},{"$f":"+[2]Séries_Site!Q134","v":227},{"$f":"+[2]Séries_Site!R134","v":227},{"$f":"+[2]Séries_Site!S134","v":0},{"$f":"+[2]Séries_Site!T134","v":190},{"$f":"+[2]Séries_Site!U134","v":15},{"$f":"+[2]Séries_Site!V134","v":0},{"$f":"+[2]Séries_Site!W134","v":0},{"$f":"+[2]Séries_Site!X134","v":0},{"$f":"+[2]Séries_Site!Y134","v":0},{"$f":"+[2]Séries_Site!Z134","v":0},{"$f":"+[2]Séries_Site!AA134","v":0},{"$f":"+[2]Séries_Site!AB134","v":0},{"$f":"+[2]Séries_Site!AC134","v":0},{"$f":"+[2]Séries_Site!AD134","v":0},{"$f":"+[2]Séries_Site!AE134","v":0},{"$f":"+[2]Séries_Site!AF134","v":15},{"$f":"+[2]Séries_Site!AG134","v":15},{"$f":"+[2]Séries_Site!AH134","v":0},{"$f":"+[2]Séries_Site!AI134","v":13},{"$f":"+[2]Séries_Site!AJ134","v":0}]
["1970-10-01",{"$f":"+[2]Séries_Site!B135","v":1692},{"$f":"+[2]Séries_Site!C135","v":1692},{"$f":"+[2]Séries_Site!D135","v":0},{"$f":"+[2]Séries_Site!E135","v":1655},{"$f":"+[2]Séries_Site!F135","v":21},{"$f":"+[2]Séries_Site!G135","v":1491},{"$f":"+[2]Séries_Site!H135","v":1491},{"$f":"+[2]Séries_Site!I135","v":0},{"$f":"+[2]Séries_Site!J135","v":1429},{"$f":"+[2]Séries_Site!K135","v":7},{"$f":"+[2]Séries_Site!L135","v":0},{"$f":"+[2]Séries_Site!M135","v":0},{"$f":"+[2]Séries_Site!N135","v":0},{"$f":"+[2]Séries_Site!O135","v":25},{"$f":"+[2]Séries_Site!P135","v":0},{"$f":"+[2]Séries_Site!Q135","v":181},{"$f":"+[2]Séries_Site!R135","v":181},{"$f":"+[2]Séries_Site!S135","v":0},{"$f":"+[2]Séries_Site!T135","v":186},{"$f":"+[2]Séries_Site!U135","v":14},{"$f":"+[2]Séries_Site!V135","v":0},{"$f":"+[2]Séries_Site!W135","v":0},{"$f":"+[2]Séries_Site!X135","v":0},{"$f":"+[2]Séries_Site!Y135","v":0},{"$f":"+[2]Séries_Site!Z135","v":0},{"$f":"+[2]Séries_Site!AA135","v":0},{"$f":"+[2]Séries_Site!AB135","v":0},{"$f":"+[2]Séries_Site!AC135","v":0},{"$f":"+[2]Séries_Site!AD135","v":0},{"$f":"+[2]Séries_Site!AE135","v":0},{"$f":"+[2]Séries_Site!AF135","v":20},{"$f":"+[2]Séries_Site!AG135","v":20},{"$f":"+[2]Séries_Site!AH135","v":0},{"$f":"+[2]Séries_Site!AI135","v":15},{"$f":"+[2]Séries_Site!AJ135","v":0}]
["1970-11-01",{"$f":"+[2]Séries_Site!B136","v":1270},{"$f":"+[2]Séries_Site!C136","v":1270},{"$f":"+[2]Séries_Site!D136","v":0},{"$f":"+[2]Séries_Site!E136","v":1269},{"$f":"+[2]Séries_Site!F136","v":5},{"$f":"+[2]Séries_Site!G136","v":1103},{"$f":"+[2]Séries_Site!H136","v":1103},{"$f":"+[2]Séries_Site!I136","v":0},{"$f":"+[2]Séries_Site!J136","v":1102},{"$f":"+[2]Séries_Site!K136","v":5},{"$f":"+[2]Séries_Site!L136","v":0},{"$f":"+[2]Séries_Site!M136","v":0},{"$f":"+[2]Séries_Site!N136","v":0},{"$f":"+[2]Séries_Site!O136","v":31},{"$f":"+[2]Séries_Site!P136","v":0},{"$f":"+[2]Séries_Site!Q136","v":163},{"$f":"+[2]Séries_Site!R136","v":163},{"$f":"+[2]Séries_Site!S136","v":0},{"$f":"+[2]Séries_Site!T136","v":130},{"$f":"+[2]Séries_Site!U136","v":0},{"$f":"+[2]Séries_Site!V136","v":0},{"$f":"+[2]Séries_Site!W136","v":0},{"$f":"+[2]Séries_Site!X136","v":0},{"$f":"+[2]Séries_Site!Y136","v":0},{"$f":"+[2]Séries_Site!Z136","v":0},{"$f":"+[2]Séries_Site!AA136","v":0},{"$f":"+[2]Séries_Site!AB136","v":0},{"$f":"+[2]Séries_Site!AC136","v":0},{"$f":"+[2]Séries_Site!AD136","v":0},{"$f":"+[2]Séries_Site!AE136","v":0},{"$f":"+[2]Séries_Site!AF136","v":4},{"$f":"+[2]Séries_Site!AG136","v":4},{"$f":"+[2]Séries_Site!AH136","v":0},{"$f":"+[2]Séries_Site!AI136","v":6},{"$f":"+[2]Séries_Site!AJ136","v":0}]
["1970-12-01",{"$f":"+[2]Séries_Site!B137","v":1356},{"$f":"+[2]Séries_Site!C137","v":1356},{"$f":"+[2]Séries_Site!D137","v":0},{"$f":"+[2]Séries_Site!E137","v":1302},{"$f":"+[2]Séries_Site!F137","v":16},{"$f":"+[2]Séries_Site!G137","v":1190},{"$f":"+[2]Séries_Site!H137","v":1190},{"$f":"+[2]Séries_Site!I137","v":0},{"$f":"+[2]Séries_Site!J137","v":1177},{"$f":"+[2]Séries_Site!K137","v":6},{"$f":"+[2]Séries_Site!L137","v":0},{"$f":"+[2]Séries_Site!M137","v":0},{"$f":"+[2]Séries_Site!N137","v":0},{"$f":"+[2]Séries_Site!O137","v":25},{"$f":"+[2]Séries_Site!P137","v":0},{"$f":"+[2]Séries_Site!Q137","v":155},{"$f":"+[2]Séries_Site!R137","v":155},{"$f":"+[2]Séries_Site!S137","v":0},{"$f":"+[2]Séries_Site!T137","v":100},{"$f":"+[2]Séries_Site!U137","v":10},{"$f":"+[2]Séries_Site!V137","v":0},{"$f":"+[2]Séries_Site!W137","v":0},{"$f":"+[2]Séries_Site!X137","v":0},{"$f":"+[2]Séries_Site!Y137","v":0},{"$f":"+[2]Séries_Site!Z137","v":0},{"$f":"+[2]Séries_Site!AA137","v":0},{"$f":"+[2]Séries_Site!AB137","v":0},{"$f":"+[2]Séries_Site!AC137","v":0},{"$f":"+[2]Séries_Site!AD137","v":0},{"$f":"+[2]Séries_Site!AE137","v":0},{"$f":"+[2]Séries_Site!AF137","v":11},{"$f":"+[2]Séries_Site!AG137","v":11},{"$f":"+[2]Séries_Site!AH137","v":0},{"$f":"+[2]Séries_Site!AI137","v":0},{"$f":"+[2]Séries_Site!AJ137","v":0}]
["1971-01-01",{"$f":"+[2]Séries_Site!B138","v":1178},{"$f":"+[2]Séries_Site!C138","v":1178},{"$f":"+[2]Séries_Site!D138","v":0},{"$f":"+[2]Séries_Site!E138","v":1212},{"$f":"+[2]Séries_Site!F138","v":12},{"$f":"+[2]Séries_Site!G138","v":986},{"$f":"+[2]Séries_Site!H138","v":986},{"$f":"+[2]Séries_Site!I138","v":0},{"$f":"+[2]Séries_Site!J138","v":972},{"$f":"+[2]Séries_Site!K138","v":12},{"$f":"+[2]Séries_Site!L138","v":5},{"$f":"+[2]Séries_Site!M138","v":5},{"$f":"+[2]Séries_Site!N138","v":0},{"$f":"+[2]Séries_Site!O138","v":24},{"$f":"+[2]Séries_Site!P138","v":0},{"$f":"+[2]Séries_Site!Q138","v":176},{"$f":"+[2]Séries_Site!R138","v":176},{"$f":"+[2]Séries_Site!S138","v":0},{"$f":"+[2]Séries_Site!T138","v":149},{"$f":"+[2]Séries_Site!U138","v":0},{"$f":"+[2]Séries_Site!V138","v":0},{"$f":"+[2]Séries_Site!W138","v":0},{"$f":"+[2]Séries_Site!X138","v":0},{"$f":"+[2]Séries_Site!Y138","v":0},{"$f":"+[2]Séries_Site!Z138","v":0},{"$f":"+[2]Séries_Site!AA138","v":0},{"$f":"+[2]Séries_Site!AB138","v":0},{"$f":"+[2]Séries_Site!AC138","v":0},{"$f":"+[2]Séries_Site!AD138","v":0},{"$f":"+[2]Séries_Site!AE138","v":0},{"$f":"+[2]Séries_Site!AF138","v":11},{"$f":"+[2]Séries_Site!AG138","v":11},{"$f":"+[2]Séries_Site!AH138","v":0},{"$f":"+[2]Séries_Site!AI138","v":67},{"$f":"+[2]Séries_Site!AJ138","v":0}]
["1971-02-01",{"$f":"+[2]Séries_Site!B139","v":1269},{"$f":"+[2]Séries_Site!C139","v":1269},{"$f":"+[2]Séries_Site!D139","v":0},{"$f":"+[2]Séries_Site!E139","v":1503},{"$f":"+[2]Séries_Site!F139","v":4},{"$f":"+[2]Séries_Site!G139","v":1130},{"$f":"+[2]Séries_Site!H139","v":1130},{"$f":"+[2]Séries_Site!I139","v":0},{"$f":"+[2]Séries_Site!J139","v":1291},{"$f":"+[2]Séries_Site!K139","v":4},{"$f":"+[2]Séries_Site!L139","v":16},{"$f":"+[2]Séries_Site!M139","v":16},{"$f":"+[2]Séries_Site!N139","v":0},{"$f":"+[2]Séries_Site!O139","v":42},{"$f":"+[2]Séries_Site!P139","v":0},{"$f":"+[2]Séries_Site!Q139","v":115},{"$f":"+[2]Séries_Site!R139","v":115},{"$f":"+[2]Séries_Site!S139","v":0},{"$f":"+[2]Séries_Site!T139","v":167},{"$f":"+[2]Séries_Site!U139","v":0},{"$f":"+[2]Séries_Site!V139","v":0},{"$f":"+[2]Séries_Site!W139","v":0},{"$f":"+[2]Séries_Site!X139","v":0},{"$f":"+[2]Séries_Site!Y139","v":0},{"$f":"+[2]Séries_Site!Z139","v":0},{"$f":"+[2]Séries_Site!AA139","v":0},{"$f":"+[2]Séries_Site!AB139","v":0},{"$f":"+[2]Séries_Site!AC139","v":0},{"$f":"+[2]Séries_Site!AD139","v":0},{"$f":"+[2]Séries_Site!AE139","v":0},{"$f":"+[2]Séries_Site!AF139","v":8},{"$f":"+[2]Séries_Site!AG139","v":8},{"$f":"+[2]Séries_Site!AH139","v":0},{"$f":"+[2]Séries_Site!AI139","v":3},{"$f":"+[2]Séries_Site!AJ139","v":0}]
["1971-03-01",{"$f":"+[2]Séries_Site!B140","v":1626},{"$f":"+[2]Séries_Site!C140","v":1626},{"$f":"+[2]Séries_Site!D140","v":0},{"$f":"+[2]Séries_Site!E140","v":1765},{"$f":"+[2]Séries_Site!F140","v":3},{"$f":"+[2]Séries_Site!G140","v":1432},{"$f":"+[2]Séries_Site!H140","v":1432},{"$f":"+[2]Séries_Site!I140","v":0},{"$f":"+[2]Séries_Site!J140","v":1528},{"$f":"+[2]Séries_Site!K140","v":3},{"$f":"+[2]Séries_Site!L140","v":32},{"$f":"+[2]Séries_Site!M140","v":32},{"$f":"+[2]Séries_Site!N140","v":0},{"$f":"+[2]Séries_Site!O140","v":38},{"$f":"+[2]Séries_Site!P140","v":0},{"$f":"+[2]Séries_Site!Q140","v":144},{"$f":"+[2]Séries_Site!R140","v":144},{"$f":"+[2]Séries_Site!S140","v":0},{"$f":"+[2]Séries_Site!T140","v":184},{"$f":"+[2]Séries_Site!U140","v":0},{"$f":"+[2]Séries_Site!V140","v":0},{"$f":"+[2]Séries_Site!W140","v":0},{"$f":"+[2]Séries_Site!X140","v":0},{"$f":"+[2]Séries_Site!Y140","v":0},{"$f":"+[2]Séries_Site!Z140","v":0},{"$f":"+[2]Séries_Site!AA140","v":0},{"$f":"+[2]Séries_Site!AB140","v":0},{"$f":"+[2]Séries_Site!AC140","v":0},{"$f":"+[2]Séries_Site!AD140","v":0},{"$f":"+[2]Séries_Site!AE140","v":0},{"$f":"+[2]Séries_Site!AF140","v":18},{"$f":"+[2]Séries_Site!AG140","v":18},{"$f":"+[2]Séries_Site!AH140","v":0},{"$f":"+[2]Séries_Site!AI140","v":15},{"$f":"+[2]Séries_Site!AJ140","v":0}]
["1971-04-01",{"$f":"+[2]Séries_Site!B141","v":2153},{"$f":"+[2]Séries_Site!C141","v":2153},{"$f":"+[2]Séries_Site!D141","v":0},{"$f":"+[2]Séries_Site!E141","v":1979},{"$f":"+[2]Séries_Site!F141","v":3},{"$f":"+[2]Séries_Site!G141","v":1891},{"$f":"+[2]Séries_Site!H141","v":1891},{"$f":"+[2]Séries_Site!I141","v":0},{"$f":"+[2]Séries_Site!J141","v":1765},{"$f":"+[2]Séries_Site!K141","v":3},{"$f":"+[2]Séries_Site!L141","v":30},{"$f":"+[2]Séries_Site!M141","v":30},{"$f":"+[2]Séries_Site!N141","v":0},{"$f":"+[2]Séries_Site!O141","v":53},{"$f":"+[2]Séries_Site!P141","v":0},{"$f":"+[2]Séries_Site!Q141","v":219},{"$f":"+[2]Séries_Site!R141","v":219},{"$f":"+[2]Séries_Site!S141","v":0},{"$f":"+[2]Séries_Site!T141","v":144},{"$f":"+[2]Séries_Site!U141","v":0},{"$f":"+[2]Séries_Site!V141","v":0},{"$f":"+[2]Séries_Site!W141","v":0},{"$f":"+[2]Séries_Site!X141","v":0},{"$f":"+[2]Séries_Site!Y141","v":0},{"$f":"+[2]Séries_Site!Z141","v":0},{"$f":"+[2]Séries_Site!AA141","v":0},{"$f":"+[2]Séries_Site!AB141","v":0},{"$f":"+[2]Séries_Site!AC141","v":0},{"$f":"+[2]Séries_Site!AD141","v":0},{"$f":"+[2]Séries_Site!AE141","v":0},{"$f":"+[2]Séries_Site!AF141","v":13},{"$f":"+[2]Séries_Site!AG141","v":13},{"$f":"+[2]Séries_Site!AH141","v":0},{"$f":"+[2]Séries_Site!AI141","v":17},{"$f":"+[2]Séries_Site!AJ141","v":0}]
["1971-05-01",{"$f":"+[2]Séries_Site!B142","v":2092},{"$f":"+[2]Séries_Site!C142","v":2092},{"$f":"+[2]Séries_Site!D142","v":0},{"$f":"+[2]Séries_Site!E142","v":2012},{"$f":"+[2]Séries_Site!F142","v":3},{"$f":"+[2]Séries_Site!G142","v":1811},{"$f":"+[2]Séries_Site!H142","v":1811},{"$f":"+[2]Séries_Site!I142","v":0},{"$f":"+[2]Séries_Site!J142","v":1764},{"$f":"+[2]Séries_Site!K142","v":3},{"$f":"+[2]Séries_Site!L142","v":80},{"$f":"+[2]Séries_Site!M142","v":80},{"$f":"+[2]Séries_Site!N142","v":0},{"$f":"+[2]Séries_Site!O142","v":55},{"$f":"+[2]Séries_Site!P142","v":0},{"$f":"+[2]Séries_Site!Q142","v":188},{"$f":"+[2]Séries_Site!R142","v":188},{"$f":"+[2]Séries_Site!S142","v":0},{"$f":"+[2]Séries_Site!T142","v":177},{"$f":"+[2]Séries_Site!U142","v":0},{"$f":"+[2]Séries_Site!V142","v":0},{"$f":"+[2]Séries_Site!W142","v":0},{"$f":"+[2]Séries_Site!X142","v":0},{"$f":"+[2]Séries_Site!Y142","v":0},{"$f":"+[2]Séries_Site!Z142","v":0},{"$f":"+[2]Séries_Site!AA142","v":0},{"$f":"+[2]Séries_Site!AB142","v":0},{"$f":"+[2]Séries_Site!AC142","v":0},{"$f":"+[2]Séries_Site!AD142","v":0},{"$f":"+[2]Séries_Site!AE142","v":0},{"$f":"+[2]Séries_Site!AF142","v":13},{"$f":"+[2]Séries_Site!AG142","v":13},{"$f":"+[2]Séries_Site!AH142","v":0},{"$f":"+[2]Séries_Site!AI142","v":16},{"$f":"+[2]Séries_Site!AJ142","v":0}]
["1971-06-01",{"$f":"+[2]Séries_Site!B143","v":2244},{"$f":"+[2]Séries_Site!C143","v":2244},{"$f":"+[2]Séries_Site!D143","v":0},{"$f":"+[2]Séries_Site!E143","v":2329},{"$f":"+[2]Séries_Site!F143","v":3},{"$f":"+[2]Séries_Site!G143","v":1972},{"$f":"+[2]Séries_Site!H143","v":1972},{"$f":"+[2]Séries_Site!I143","v":0},{"$f":"+[2]Séries_Site!J143","v":2018},{"$f":"+[2]Séries_Site!K143","v":3},{"$f":"+[2]Séries_Site!L143","v":98},{"$f":"+[2]Séries_Site!M143","v":98},{"$f":"+[2]Séries_Site!N143","v":0},{"$f":"+[2]Séries_Site!O143","v":58},{"$f":"+[2]Séries_Site!P143","v":0},{"$f":"+[2]Séries_Site!Q143","v":153},{"$f":"+[2]Séries_Site!R143","v":153},{"$f":"+[2]Séries_Site!S143","v":0},{"$f":"+[2]Séries_Site!T143","v":240},{"$f":"+[2]Séries_Site!U143","v":0},{"$f":"+[2]Séries_Site!V143","v":0},{"$f":"+[2]Séries_Site!W143","v":0},{"$f":"+[2]Séries_Site!X143","v":0},{"$f":"+[2]Séries_Site!Y143","v":0},{"$f":"+[2]Séries_Site!Z143","v":0},{"$f":"+[2]Séries_Site!AA143","v":0},{"$f":"+[2]Séries_Site!AB143","v":0},{"$f":"+[2]Séries_Site!AC143","v":0},{"$f":"+[2]Séries_Site!AD143","v":0},{"$f":"+[2]Séries_Site!AE143","v":0},{"$f":"+[2]Séries_Site!AF143","v":21},{"$f":"+[2]Séries_Site!AG143","v":21},{"$f":"+[2]Séries_Site!AH143","v":0},{"$f":"+[2]Séries_Site!AI143","v":13},{"$f":"+[2]Séries_Site!AJ143","v":0}]
["1971-07-01",{"$f":"+[2]Séries_Site!B144","v":2453},{"$f":"+[2]Séries_Site!C144","v":2453},{"$f":"+[2]Séries_Site!D144","v":0},{"$f":"+[2]Séries_Site!E144","v":2567},{"$f":"+[2]Séries_Site!F144","v":4},{"$f":"+[2]Séries_Site!G144","v":2180},{"$f":"+[2]Séries_Site!H144","v":2180},{"$f":"+[2]Séries_Site!I144","v":0},{"$f":"+[2]Séries_Site!J144","v":2353},{"$f":"+[2]Séries_Site!K144","v":4},{"$f":"+[2]Séries_Site!L144","v":72},{"$f":"+[2]Séries_Site!M144","v":72},{"$f":"+[2]Séries_Site!N144","v":0},{"$f":"+[2]Séries_Site!O144","v":62},{"$f":"+[2]Séries_Site!P144","v":0},{"$f":"+[2]Séries_Site!Q144","v":174},{"$f":"+[2]Séries_Site!R144","v":174},{"$f":"+[2]Séries_Site!S144","v":0},{"$f":"+[2]Séries_Site!T144","v":132},{"$f":"+[2]Séries_Site!U144","v":0},{"$f":"+[2]Séries_Site!V144","v":0},{"$f":"+[2]Séries_Site!W144","v":0},{"$f":"+[2]Séries_Site!X144","v":0},{"$f":"+[2]Séries_Site!Y144","v":0},{"$f":"+[2]Séries_Site!Z144","v":0},{"$f":"+[2]Séries_Site!AA144","v":0},{"$f":"+[2]Séries_Site!AB144","v":0},{"$f":"+[2]Séries_Site!AC144","v":0},{"$f":"+[2]Séries_Site!AD144","v":0},{"$f":"+[2]Séries_Site!AE144","v":0},{"$f":"+[2]Séries_Site!AF144","v":27},{"$f":"+[2]Séries_Site!AG144","v":27},{"$f":"+[2]Séries_Site!AH144","v":0},{"$f":"+[2]Séries_Site!AI144","v":20},{"$f":"+[2]Séries_Site!AJ144","v":0}]
["1971-08-01",{"$f":"+[2]Séries_Site!B145","v":2646},{"$f":"+[2]Séries_Site!C145","v":2646},{"$f":"+[2]Séries_Site!D145","v":0},{"$f":"+[2]Séries_Site!E145","v":2403},{"$f":"+[2]Séries_Site!F145","v":5},{"$f":"+[2]Séries_Site!G145","v":2271},{"$f":"+[2]Séries_Site!H145","v":2271},{"$f":"+[2]Séries_Site!I145","v":0},{"$f":"+[2]Séries_Site!J145","v":2141},{"$f":"+[2]Séries_Site!K145","v":5},{"$f":"+[2]Séries_Site!L145","v":92},{"$f":"+[2]Séries_Site!M145","v":92},{"$f":"+[2]Séries_Site!N145","v":0},{"$f":"+[2]Séries_Site!O145","v":81},{"$f":"+[2]Séries_Site!P145","v":0},{"$f":"+[2]Séries_Site!Q145","v":259},{"$f":"+[2]Séries_Site!R145","v":259},{"$f":"+[2]Séries_Site!S145","v":0},{"$f":"+[2]Séries_Site!T145","v":156},{"$f":"+[2]Séries_Site!U145","v":0},{"$f":"+[2]Séries_Site!V145","v":0},{"$f":"+[2]Séries_Site!W145","v":0},{"$f":"+[2]Séries_Site!X145","v":0},{"$f":"+[2]Séries_Site!Y145","v":0},{"$f":"+[2]Séries_Site!Z145","v":0},{"$f":"+[2]Séries_Site!AA145","v":0},{"$f":"+[2]Séries_Site!AB145","v":0},{"$f":"+[2]Séries_Site!AC145","v":0},{"$f":"+[2]Séries_Site!AD145","v":0},{"$f":"+[2]Séries_Site!AE145","v":0},{"$f":"+[2]Séries_Site!AF145","v":24},{"$f":"+[2]Séries_Site!AG145","v":24},{"$f":"+[2]Séries_Site!AH145","v":0},{"$f":"+[2]Séries_Site!AI145","v":25},{"$f":"+[2]Séries_Site!AJ145","v":0}]
["1971-09-01",{"$f":"+[2]Séries_Site!B146","v":2089},{"$f":"+[2]Séries_Site!C146","v":2089},{"$f":"+[2]Séries_Site!D146","v":0},{"$f":"+[2]Séries_Site!E146","v":2154},{"$f":"+[2]Séries_Site!F146","v":16},{"$f":"+[2]Séries_Site!G146","v":1731},{"$f":"+[2]Séries_Site!H146","v":1731},{"$f":"+[2]Séries_Site!I146","v":0},{"$f":"+[2]Séries_Site!J146","v":1812},{"$f":"+[2]Séries_Site!K146","v":16},{"$f":"+[2]Séries_Site!L146","v":87},{"$f":"+[2]Séries_Site!M146","v":87},{"$f":"+[2]Séries_Site!N146","v":0},{"$f":"+[2]Séries_Site!O146","v":90},{"$f":"+[2]Séries_Site!P146","v":0},{"$f":"+[2]Séries_Site!Q146","v":246},{"$f":"+[2]Séries_Site!R146","v":246},{"$f":"+[2]Séries_Site!S146","v":0},{"$f":"+[2]Séries_Site!T146","v":232},{"$f":"+[2]Séries_Site!U146","v":0},{"$f":"+[2]Séries_Site!V146","v":0},{"$f":"+[2]Séries_Site!W146","v":0},{"$f":"+[2]Séries_Site!X146","v":0},{"$f":"+[2]Séries_Site!Y146","v":0},{"$f":"+[2]Séries_Site!Z146","v":0},{"$f":"+[2]Séries_Site!AA146","v":0},{"$f":"+[2]Séries_Site!AB146","v":0},{"$f":"+[2]Séries_Site!AC146","v":0},{"$f":"+[2]Séries_Site!AD146","v":0},{"$f":"+[2]Séries_Site!AE146","v":0},{"$f":"+[2]Séries_Site!AF146","v":25},{"$f":"+[2]Séries_Site!AG146","v":25},{"$f":"+[2]Séries_Site!AH146","v":0},{"$f":"+[2]Séries_Site!AI146","v":20},{"$f":"+[2]Séries_Site!AJ146","v":0}]
["1971-10-01",{"$f":"+[2]Séries_Site!B147","v":2894},{"$f":"+[2]Séries_Site!C147","v":2894},{"$f":"+[2]Séries_Site!D147","v":0},{"$f":"+[2]Séries_Site!E147","v":2688},{"$f":"+[2]Séries_Site!F147","v":12},{"$f":"+[2]Séries_Site!G147","v":2471},{"$f":"+[2]Séries_Site!H147","v":2471},{"$f":"+[2]Séries_Site!I147","v":0},{"$f":"+[2]Séries_Site!J147","v":2301},{"$f":"+[2]Séries_Site!K147","v":12},{"$f":"+[2]Séries_Site!L147","v":114},{"$f":"+[2]Séries_Site!M147","v":114},{"$f":"+[2]Séries_Site!N147","v":0},{"$f":"+[2]Séries_Site!O147","v":95},{"$f":"+[2]Séries_Site!P147","v":0},{"$f":"+[2]Séries_Site!Q147","v":258},{"$f":"+[2]Séries_Site!R147","v":258},{"$f":"+[2]Séries_Site!S147","v":0},{"$f":"+[2]Séries_Site!T147","v":254},{"$f":"+[2]Séries_Site!U147","v":0},{"$f":"+[2]Séries_Site!V147","v":0},{"$f":"+[2]Séries_Site!W147","v":0},{"$f":"+[2]Séries_Site!X147","v":0},{"$f":"+[2]Séries_Site!Y147","v":0},{"$f":"+[2]Séries_Site!Z147","v":0},{"$f":"+[2]Séries_Site!AA147","v":0},{"$f":"+[2]Séries_Site!AB147","v":0},{"$f":"+[2]Séries_Site!AC147","v":0},{"$f":"+[2]Séries_Site!AD147","v":0},{"$f":"+[2]Séries_Site!AE147","v":0},{"$f":"+[2]Séries_Site!AF147","v":51},{"$f":"+[2]Séries_Site!AG147","v":51},{"$f":"+[2]Séries_Site!AH147","v":0},{"$f":"+[2]Séries_Site!AI147","v":38},{"$f":"+[2]Séries_Site!AJ147","v":0}]
["1971-11-01",{"$f":"+[2]Séries_Site!B148","v":2319},{"$f":"+[2]Séries_Site!C148","v":2319},{"$f":"+[2]Séries_Site!D148","v":0},{"$f":"+[2]Séries_Site!E148","v":2296},{"$f":"+[2]Séries_Site!F148","v":18},{"$f":"+[2]Séries_Site!G148","v":2028},{"$f":"+[2]Séries_Site!H148","v":2028},{"$f":"+[2]Séries_Site!I148","v":0},{"$f":"+[2]Séries_Site!J148","v":1962},{"$f":"+[2]Séries_Site!K148","v":18},{"$f":"+[2]Séries_Site!L148","v":95},{"$f":"+[2]Séries_Site!M148","v":95},{"$f":"+[2]Séries_Site!N148","v":0},{"$f":"+[2]Séries_Site!O148","v":90},{"$f":"+[2]Séries_Site!P148","v":0},{"$f":"+[2]Séries_Site!Q148","v":177},{"$f":"+[2]Séries_Site!R148","v":177},{"$f":"+[2]Séries_Site!S148","v":0},{"$f":"+[2]Séries_Site!T148","v":214},{"$f":"+[2]Séries_Site!U148","v":0},{"$f":"+[2]Séries_Site!V148","v":0},{"$f":"+[2]Séries_Site!W148","v":0},{"$f":"+[2]Séries_Site!X148","v":0},{"$f":"+[2]Séries_Site!Y148","v":0},{"$f":"+[2]Séries_Site!Z148","v":0},{"$f":"+[2]Séries_Site!AA148","v":0},{"$f":"+[2]Séries_Site!AB148","v":0},{"$f":"+[2]Séries_Site!AC148","v":0},{"$f":"+[2]Séries_Site!AD148","v":0},{"$f":"+[2]Séries_Site!AE148","v":0},{"$f":"+[2]Séries_Site!AF148","v":19},{"$f":"+[2]Séries_Site!AG148","v":19},{"$f":"+[2]Séries_Site!AH148","v":0},{"$f":"+[2]Séries_Site!AI148","v":30},{"$f":"+[2]Séries_Site!AJ148","v":0}]
["1971-12-01",{"$f":"+[2]Séries_Site!B149","v":2276},{"$f":"+[2]Séries_Site!C149","v":2276},{"$f":"+[2]Séries_Site!D149","v":0},{"$f":"+[2]Séries_Site!E149","v":2540},{"$f":"+[2]Séries_Site!F149","v":15},{"$f":"+[2]Séries_Site!G149","v":2044},{"$f":"+[2]Séries_Site!H149","v":2044},{"$f":"+[2]Séries_Site!I149","v":0},{"$f":"+[2]Séries_Site!J149","v":2285},{"$f":"+[2]Séries_Site!K149","v":15},{"$f":"+[2]Séries_Site!L149","v":86},{"$f":"+[2]Séries_Site!M149","v":86},{"$f":"+[2]Séries_Site!N149","v":0},{"$f":"+[2]Séries_Site!O149","v":82},{"$f":"+[2]Séries_Site!P149","v":0},{"$f":"+[2]Séries_Site!Q149","v":106},{"$f":"+[2]Séries_Site!R149","v":106},{"$f":"+[2]Séries_Site!S149","v":0},{"$f":"+[2]Séries_Site!T149","v":141},{"$f":"+[2]Séries_Site!U149","v":0},{"$f":"+[2]Séries_Site!V149","v":0},{"$f":"+[2]Séries_Site!W149","v":0},{"$f":"+[2]Séries_Site!X149","v":0},{"$f":"+[2]Séries_Site!Y149","v":0},{"$f":"+[2]Séries_Site!Z149","v":0},{"$f":"+[2]Séries_Site!AA149","v":0},{"$f":"+[2]Séries_Site!AB149","v":0},{"$f":"+[2]Séries_Site!AC149","v":0},{"$f":"+[2]Séries_Site!AD149","v":0},{"$f":"+[2]Séries_Site!AE149","v":0},{"$f":"+[2]Séries_Site!AF149","v":40},{"$f":"+[2]Séries_Site!AG149","v":40},{"$f":"+[2]Séries_Site!AH149","v":0},{"$f":"+[2]Séries_Site!AI149","v":32},{"$f":"+[2]Séries_Site!AJ149","v":0}]
["1972-01-01",{"$f":"+[2]Séries_Site!B150","v":1999},{"$f":"+[2]Séries_Site!C150","v":1999},{"$f":"+[2]Séries_Site!D150","v":0},{"$f":"+[2]Séries_Site!E150","v":2095},{"$f":"+[2]Séries_Site!F150","v":1},{"$f":"+[2]Séries_Site!G150","v":1718},{"$f":"+[2]Séries_Site!H150","v":1718},{"$f":"+[2]Séries_Site!I150","v":0},{"$f":"+[2]Séries_Site!J150","v":1780},{"$f":"+[2]Séries_Site!K150","v":1},{"$f":"+[2]Séries_Site!L150","v":52},{"$f":"+[2]Séries_Site!M150","v":52},{"$f":"+[2]Séries_Site!N150","v":0},{"$f":"+[2]Séries_Site!O150","v":52},{"$f":"+[2]Séries_Site!P150","v":0},{"$f":"+[2]Séries_Site!Q150","v":189},{"$f":"+[2]Séries_Site!R150","v":189},{"$f":"+[2]Séries_Site!S150","v":0},{"$f":"+[2]Séries_Site!T150","v":223},{"$f":"+[2]Séries_Site!U150","v":0},{"$f":"+[2]Séries_Site!V150","v":0},{"$f":"+[2]Séries_Site!W150","v":0},{"$f":"+[2]Séries_Site!X150","v":0},{"$f":"+[2]Séries_Site!Y150","v":0},{"$f":"+[2]Séries_Site!Z150","v":0},{"$f":"+[2]Séries_Site!AA150","v":0},{"$f":"+[2]Séries_Site!AB150","v":0},{"$f":"+[2]Séries_Site!AC150","v":0},{"$f":"+[2]Séries_Site!AD150","v":0},{"$f":"+[2]Séries_Site!AE150","v":0},{"$f":"+[2]Séries_Site!AF150","v":40},{"$f":"+[2]Séries_Site!AG150","v":40},{"$f":"+[2]Séries_Site!AH150","v":0},{"$f":"+[2]Séries_Site!AI150","v":40},{"$f":"+[2]Séries_Site!AJ150","v":0}]
["1972-02-01",{"$f":"+[2]Séries_Site!B151","v":2214},{"$f":"+[2]Séries_Site!C151","v":2214},{"$f":"+[2]Séries_Site!D151","v":0},{"$f":"+[2]Séries_Site!E151","v":2700},{"$f":"+[2]Séries_Site!F151","v":8},{"$f":"+[2]Séries_Site!G151","v":1939},{"$f":"+[2]Séries_Site!H151","v":1939},{"$f":"+[2]Séries_Site!I151","v":0},{"$f":"+[2]Séries_Site!J151","v":2372},{"$f":"+[2]Séries_Site!K151","v":8},{"$f":"+[2]Séries_Site!L151","v":71},{"$f":"+[2]Séries_Site!M151","v":71},{"$f":"+[2]Séries_Site!N151","v":0},{"$f":"+[2]Séries_Site!O151","v":63},{"$f":"+[2]Séries_Site!P151","v":0},{"$f":"+[2]Séries_Site!Q151","v":156},{"$f":"+[2]Séries_Site!R151","v":156},{"$f":"+[2]Séries_Site!S151","v":0},{"$f":"+[2]Séries_Site!T151","v":210},{"$f":"+[2]Séries_Site!U151","v":0},{"$f":"+[2]Séries_Site!V151","v":0},{"$f":"+[2]Séries_Site!W151","v":0},{"$f":"+[2]Séries_Site!X151","v":0},{"$f":"+[2]Séries_Site!Y151","v":0},{"$f":"+[2]Séries_Site!Z151","v":0},{"$f":"+[2]Séries_Site!AA151","v":0},{"$f":"+[2]Séries_Site!AB151","v":0},{"$f":"+[2]Séries_Site!AC151","v":0},{"$f":"+[2]Séries_Site!AD151","v":0},{"$f":"+[2]Séries_Site!AE151","v":0},{"$f":"+[2]Séries_Site!AF151","v":48},{"$f":"+[2]Séries_Site!AG151","v":48},{"$f":"+[2]Séries_Site!AH151","v":0},{"$f":"+[2]Séries_Site!AI151","v":55},{"$f":"+[2]Séries_Site!AJ151","v":0}]
["1972-03-01",{"$f":"+[2]Séries_Site!B152","v":2710},{"$f":"+[2]Séries_Site!C152","v":2710},{"$f":"+[2]Séries_Site!D152","v":0},{"$f":"+[2]Séries_Site!E152","v":2623},{"$f":"+[2]Séries_Site!F152","v":16},{"$f":"+[2]Séries_Site!G152","v":2355},{"$f":"+[2]Séries_Site!H152","v":2355},{"$f":"+[2]Séries_Site!I152","v":0},{"$f":"+[2]Séries_Site!J152","v":2315},{"$f":"+[2]Séries_Site!K152","v":16},{"$f":"+[2]Séries_Site!L152","v":104},{"$f":"+[2]Séries_Site!M152","v":104},{"$f":"+[2]Séries_Site!N152","v":0},{"$f":"+[2]Séries_Site!O152","v":91},{"$f":"+[2]Séries_Site!P152","v":0},{"$f":"+[2]Séries_Site!Q152","v":247},{"$f":"+[2]Séries_Site!R152","v":247},{"$f":"+[2]Séries_Site!S152","v":0},{"$f":"+[2]Séries_Site!T152","v":200},{"$f":"+[2]Séries_Site!U152","v":0},{"$f":"+[2]Séries_Site!V152","v":0},{"$f":"+[2]Séries_Site!W152","v":0},{"$f":"+[2]Séries_Site!X152","v":0},{"$f":"+[2]Séries_Site!Y152","v":0},{"$f":"+[2]Séries_Site!Z152","v":0},{"$f":"+[2]Séries_Site!AA152","v":0},{"$f":"+[2]Séries_Site!AB152","v":0},{"$f":"+[2]Séries_Site!AC152","v":0},{"$f":"+[2]Séries_Site!AD152","v":0},{"$f":"+[2]Séries_Site!AE152","v":0},{"$f":"+[2]Séries_Site!AF152","v":4},{"$f":"+[2]Séries_Site!AG152","v":4},{"$f":"+[2]Séries_Site!AH152","v":0},{"$f":"+[2]Séries_Site!AI152","v":17},{"$f":"+[2]Séries_Site!AJ152","v":0}]
["1972-04-01",{"$f":"+[2]Séries_Site!B153","v":2638},{"$f":"+[2]Séries_Site!C153","v":2638},{"$f":"+[2]Séries_Site!D153","v":0},{"$f":"+[2]Séries_Site!E153","v":2535},{"$f":"+[2]Séries_Site!F153","v":1},{"$f":"+[2]Séries_Site!G153","v":2222},{"$f":"+[2]Séries_Site!H153","v":2222},{"$f":"+[2]Séries_Site!I153","v":0},{"$f":"+[2]Séries_Site!J153","v":2040},{"$f":"+[2]Séries_Site!K153","v":1},{"$f":"+[2]Séries_Site!L153","v":93},{"$f":"+[2]Séries_Site!M153","v":93},{"$f":"+[2]Séries_Site!N153","v":0},{"$f":"+[2]Séries_Site!O153","v":112},{"$f":"+[2]Séries_Site!P153","v":0},{"$f":"+[2]Séries_Site!Q153","v":268},{"$f":"+[2]Séries_Site!R153","v":268},{"$f":"+[2]Séries_Site!S153","v":0},{"$f":"+[2]Séries_Site!T153","v":315},{"$f":"+[2]Séries_Site!U153","v":0},{"$f":"+[2]Séries_Site!V153","v":0},{"$f":"+[2]Séries_Site!W153","v":0},{"$f":"+[2]Séries_Site!X153","v":0},{"$f":"+[2]Séries_Site!Y153","v":0},{"$f":"+[2]Séries_Site!Z153","v":0},{"$f":"+[2]Séries_Site!AA153","v":0},{"$f":"+[2]Séries_Site!AB153","v":0},{"$f":"+[2]Séries_Site!AC153","v":0},{"$f":"+[2]Séries_Site!AD153","v":0},{"$f":"+[2]Séries_Site!AE153","v":0},{"$f":"+[2]Séries_Site!AF153","v":55},{"$f":"+[2]Séries_Site!AG153","v":55},{"$f":"+[2]Séries_Site!AH153","v":0},{"$f":"+[2]Séries_Site!AI153","v":68},{"$f":"+[2]Séries_Site!AJ153","v":0}]
["1972-05-01",{"$f":"+[2]Séries_Site!B154","v":2896},{"$f":"+[2]Séries_Site!C154","v":2896},{"$f":"+[2]Séries_Site!D154","v":0},{"$f":"+[2]Séries_Site!E154","v":2790},{"$f":"+[2]Séries_Site!F154","v":37},{"$f":"+[2]Séries_Site!G154","v":2439},{"$f":"+[2]Séries_Site!H154","v":2439},{"$f":"+[2]Séries_Site!I154","v":0},{"$f":"+[2]Séries_Site!J154","v":2367},{"$f":"+[2]Séries_Site!K154","v":37},{"$f":"+[2]Séries_Site!L154","v":137},{"$f":"+[2]Séries_Site!M154","v":137},{"$f":"+[2]Séries_Site!N154","v":0},{"$f":"+[2]Séries_Site!O154","v":127},{"$f":"+[2]Séries_Site!P154","v":0},{"$f":"+[2]Séries_Site!Q154","v":249},{"$f":"+[2]Séries_Site!R154","v":249},{"$f":"+[2]Séries_Site!S154","v":0},{"$f":"+[2]Séries_Site!T154","v":254},{"$f":"+[2]Séries_Site!U154","v":0},{"$f":"+[2]Séries_Site!V154","v":0},{"$f":"+[2]Séries_Site!W154","v":0},{"$f":"+[2]Séries_Site!X154","v":0},{"$f":"+[2]Séries_Site!Y154","v":0},{"$f":"+[2]Séries_Site!Z154","v":0},{"$f":"+[2]Séries_Site!AA154","v":0},{"$f":"+[2]Séries_Site!AB154","v":0},{"$f":"+[2]Séries_Site!AC154","v":0},{"$f":"+[2]Séries_Site!AD154","v":0},{"$f":"+[2]Séries_Site!AE154","v":0},{"$f":"+[2]Séries_Site!AF154","v":71},{"$f":"+[2]Séries_Site!AG154","v":71},{"$f":"+[2]Séries_Site!AH154","v":0},{"$f":"+[2]Séries_Site!AI154","v":42},{"$f":"+[2]Séries_Site!AJ154","v":0}]
["1972-06-01",{"$f":"+[2]Séries_Site!B155","v":3264},{"$f":"+[2]Séries_Site!C155","v":3264},{"$f":"+[2]Séries_Site!D155","v":0},{"$f":"+[2]Séries_Site!E155","v":3221},{"$f":"+[2]Séries_Site!F155","v":4},{"$f":"+[2]Séries_Site!G155","v":2895},{"$f":"+[2]Séries_Site!H155","v":2895},{"$f":"+[2]Séries_Site!I155","v":0},{"$f":"+[2]Séries_Site!J155","v":2734},{"$f":"+[2]Séries_Site!K155","v":4},{"$f":"+[2]Séries_Site!L155","v":112},{"$f":"+[2]Séries_Site!M155","v":112},{"$f":"+[2]Séries_Site!N155","v":0},{"$f":"+[2]Séries_Site!O155","v":131},{"$f":"+[2]Séries_Site!P155","v":0},{"$f":"+[2]Séries_Site!Q155","v":186},{"$f":"+[2]Séries_Site!R155","v":186},{"$f":"+[2]Séries_Site!S155","v":0},{"$f":"+[2]Séries_Site!T155","v":295},{"$f":"+[2]Séries_Site!U155","v":0},{"$f":"+[2]Séries_Site!V155","v":0},{"$f":"+[2]Séries_Site!W155","v":0},{"$f":"+[2]Séries_Site!X155","v":0},{"$f":"+[2]Séries_Site!Y155","v":0},{"$f":"+[2]Séries_Site!Z155","v":0},{"$f":"+[2]Séries_Site!AA155","v":0},{"$f":"+[2]Séries_Site!AB155","v":0},{"$f":"+[2]Séries_Site!AC155","v":0},{"$f":"+[2]Séries_Site!AD155","v":0},{"$f":"+[2]Séries_Site!AE155","v":0},{"$f":"+[2]Séries_Site!AF155","v":71},{"$f":"+[2]Séries_Site!AG155","v":71},{"$f":"+[2]Séries_Site!AH155","v":0},{"$f":"+[2]Séries_Site!AI155","v":61},{"$f":"+[2]Séries_Site!AJ155","v":0}]
["1972-07-01",{"$f":"+[2]Séries_Site!B156","v":2915},{"$f":"+[2]Séries_Site!C156","v":2915},{"$f":"+[2]Séries_Site!D156","v":0},{"$f":"+[2]Séries_Site!E156","v":3096},{"$f":"+[2]Séries_Site!F156","v":16},{"$f":"+[2]Séries_Site!G156","v":2501},{"$f":"+[2]Séries_Site!H156","v":2501},{"$f":"+[2]Séries_Site!I156","v":0},{"$f":"+[2]Séries_Site!J156","v":2617},{"$f":"+[2]Séries_Site!K156","v":16},{"$f":"+[2]Séries_Site!L156","v":141},{"$f":"+[2]Séries_Site!M156","v":141},{"$f":"+[2]Séries_Site!N156","v":0},{"$f":"+[2]Séries_Site!O156","v":148},{"$f":"+[2]Séries_Site!P156","v":0},{"$f":"+[2]Séries_Site!Q156","v":211},{"$f":"+[2]Séries_Site!R156","v":211},{"$f":"+[2]Séries_Site!S156","v":0},{"$f":"+[2]Séries_Site!T156","v":270},{"$f":"+[2]Séries_Site!U156","v":0},{"$f":"+[2]Séries_Site!V156","v":0},{"$f":"+[2]Séries_Site!W156","v":0},{"$f":"+[2]Séries_Site!X156","v":0},{"$f":"+[2]Séries_Site!Y156","v":0},{"$f":"+[2]Séries_Site!Z156","v":0},{"$f":"+[2]Séries_Site!AA156","v":0},{"$f":"+[2]Séries_Site!AB156","v":0},{"$f":"+[2]Séries_Site!AC156","v":0},{"$f":"+[2]Séries_Site!AD156","v":0},{"$f":"+[2]Séries_Site!AE156","v":0},{"$f":"+[2]Séries_Site!AF156","v":62},{"$f":"+[2]Séries_Site!AG156","v":62},{"$f":"+[2]Séries_Site!AH156","v":0},{"$f":"+[2]Séries_Site!AI156","v":61},{"$f":"+[2]Séries_Site!AJ156","v":0}]
["1972-08-01",{"$f":"+[2]Séries_Site!B157","v":3305},{"$f":"+[2]Séries_Site!C157","v":3305},{"$f":"+[2]Séries_Site!D157","v":0},{"$f":"+[2]Séries_Site!E157","v":3191},{"$f":"+[2]Séries_Site!F157","v":4},{"$f":"+[2]Séries_Site!G157","v":2904},{"$f":"+[2]Séries_Site!H157","v":2904},{"$f":"+[2]Séries_Site!I157","v":0},{"$f":"+[2]Séries_Site!J157","v":2756},{"$f":"+[2]Séries_Site!K157","v":4},{"$f":"+[2]Séries_Site!L157","v":143},{"$f":"+[2]Séries_Site!M157","v":143},{"$f":"+[2]Séries_Site!N157","v":0},{"$f":"+[2]Séries_Site!O157","v":149},{"$f":"+[2]Séries_Site!P157","v":0},{"$f":"+[2]Séries_Site!Q157","v":212},{"$f":"+[2]Séries_Site!R157","v":212},{"$f":"+[2]Séries_Site!S157","v":0},{"$f":"+[2]Séries_Site!T157","v":240},{"$f":"+[2]Séries_Site!U157","v":0},{"$f":"+[2]Séries_Site!V157","v":0},{"$f":"+[2]Séries_Site!W157","v":0},{"$f":"+[2]Séries_Site!X157","v":0},{"$f":"+[2]Séries_Site!Y157","v":0},{"$f":"+[2]Séries_Site!Z157","v":0},{"$f":"+[2]Séries_Site!AA157","v":0},{"$f":"+[2]Séries_Site!AB157","v":0},{"$f":"+[2]Séries_Site!AC157","v":0},{"$f":"+[2]Séries_Site!AD157","v":0},{"$f":"+[2]Séries_Site!AE157","v":0},{"$f":"+[2]Séries_Site!AF157","v":46},{"$f":"+[2]Séries_Site!AG157","v":46},{"$f":"+[2]Séries_Site!AH157","v":0},{"$f":"+[2]Séries_Site!AI157","v":46},{"$f":"+[2]Séries_Site!AJ157","v":0}]
["1972-09-01",{"$f":"+[2]Séries_Site!B158","v":3195},{"$f":"+[2]Séries_Site!C158","v":3195},{"$f":"+[2]Séries_Site!D158","v":0},{"$f":"+[2]Séries_Site!E158","v":3300},{"$f":"+[2]Séries_Site!F158","v":28},{"$f":"+[2]Séries_Site!G158","v":2757},{"$f":"+[2]Séries_Site!H158","v":2757},{"$f":"+[2]Séries_Site!I158","v":0},{"$f":"+[2]Séries_Site!J158","v":2857},{"$f":"+[2]Séries_Site!K158","v":28},{"$f":"+[2]Séries_Site!L158","v":154},{"$f":"+[2]Séries_Site!M158","v":154},{"$f":"+[2]Séries_Site!N158","v":0},{"$f":"+[2]Séries_Site!O158","v":154},{"$f":"+[2]Séries_Site!P158","v":0},{"$f":"+[2]Séries_Site!Q158","v":255},{"$f":"+[2]Séries_Site!R158","v":255},{"$f":"+[2]Séries_Site!S158","v":0},{"$f":"+[2]Séries_Site!T158","v":203},{"$f":"+[2]Séries_Site!U158","v":0},{"$f":"+[2]Séries_Site!V158","v":0},{"$f":"+[2]Séries_Site!W158","v":0},{"$f":"+[2]Séries_Site!X158","v":0},{"$f":"+[2]Séries_Site!Y158","v":0},{"$f":"+[2]Séries_Site!Z158","v":0},{"$f":"+[2]Séries_Site!AA158","v":0},{"$f":"+[2]Séries_Site!AB158","v":0},{"$f":"+[2]Séries_Site!AC158","v":0},{"$f":"+[2]Séries_Site!AD158","v":0},{"$f":"+[2]Séries_Site!AE158","v":0},{"$f":"+[2]Séries_Site!AF158","v":29},{"$f":"+[2]Séries_Site!AG158","v":29},{"$f":"+[2]Séries_Site!AH158","v":0},{"$f":"+[2]Séries_Site!AI158","v":86},{"$f":"+[2]Séries_Site!AJ158","v":0}]
["1972-10-01",{"$f":"+[2]Séries_Site!B159","v":4049},{"$f":"+[2]Séries_Site!C159","v":4049},{"$f":"+[2]Séries_Site!D159","v":0},{"$f":"+[2]Séries_Site!E159","v":4116},{"$f":"+[2]Séries_Site!F159","v":36},{"$f":"+[2]Séries_Site!G159","v":3515},{"$f":"+[2]Séries_Site!H159","v":3515},{"$f":"+[2]Séries_Site!I159","v":0},{"$f":"+[2]Séries_Site!J159","v":3537},{"$f":"+[2]Séries_Site!K159","v":36},{"$f":"+[2]Séries_Site!L159","v":161},{"$f":"+[2]Séries_Site!M159","v":161},{"$f":"+[2]Séries_Site!N159","v":0},{"$f":"+[2]Séries_Site!O159","v":152},{"$f":"+[2]Séries_Site!P159","v":0},{"$f":"+[2]Séries_Site!Q159","v":194},{"$f":"+[2]Séries_Site!R159","v":194},{"$f":"+[2]Séries_Site!S159","v":0},{"$f":"+[2]Séries_Site!T159","v":307},{"$f":"+[2]Séries_Site!U159","v":0},{"$f":"+[2]Séries_Site!V159","v":0},{"$f":"+[2]Séries_Site!W159","v":0},{"$f":"+[2]Séries_Site!X159","v":0},{"$f":"+[2]Séries_Site!Y159","v":0},{"$f":"+[2]Séries_Site!Z159","v":0},{"$f":"+[2]Séries_Site!AA159","v":0},{"$f":"+[2]Séries_Site!AB159","v":0},{"$f":"+[2]Séries_Site!AC159","v":0},{"$f":"+[2]Séries_Site!AD159","v":0},{"$f":"+[2]Séries_Site!AE159","v":0},{"$f":"+[2]Séries_Site!AF159","v":179},{"$f":"+[2]Séries_Site!AG159","v":179},{"$f":"+[2]Séries_Site!AH159","v":0},{"$f":"+[2]Séries_Site!AI159","v":120},{"$f":"+[2]Séries_Site!AJ159","v":0}]
["1972-11-01",{"$f":"+[2]Séries_Site!B160","v":2325},{"$f":"+[2]Séries_Site!C160","v":2325},{"$f":"+[2]Séries_Site!D160","v":0},{"$f":"+[2]Séries_Site!E160","v":2718},{"$f":"+[2]Séries_Site!F160","v":14},{"$f":"+[2]Séries_Site!G160","v":1963},{"$f":"+[2]Séries_Site!H160","v":1963},{"$f":"+[2]Séries_Site!I160","v":0},{"$f":"+[2]Séries_Site!J160","v":2326},{"$f":"+[2]Séries_Site!K160","v":14},{"$f":"+[2]Séries_Site!L160","v":125},{"$f":"+[2]Séries_Site!M160","v":125},{"$f":"+[2]Séries_Site!N160","v":0},{"$f":"+[2]Séries_Site!O160","v":131},{"$f":"+[2]Séries_Site!P160","v":0},{"$f":"+[2]Séries_Site!Q160","v":221},{"$f":"+[2]Séries_Site!R160","v":221},{"$f":"+[2]Séries_Site!S160","v":0},{"$f":"+[2]Séries_Site!T160","v":226},{"$f":"+[2]Séries_Site!U160","v":0},{"$f":"+[2]Séries_Site!V160","v":0},{"$f":"+[2]Séries_Site!W160","v":0},{"$f":"+[2]Séries_Site!X160","v":0},{"$f":"+[2]Séries_Site!Y160","v":0},{"$f":"+[2]Séries_Site!Z160","v":0},{"$f":"+[2]Séries_Site!AA160","v":0},{"$f":"+[2]Séries_Site!AB160","v":0},{"$f":"+[2]Séries_Site!AC160","v":0},{"$f":"+[2]Séries_Site!AD160","v":0},{"$f":"+[2]Séries_Site!AE160","v":0},{"$f":"+[2]Séries_Site!AF160","v":16},{"$f":"+[2]Séries_Site!AG160","v":16},{"$f":"+[2]Séries_Site!AH160","v":0},{"$f":"+[2]Séries_Site!AI160","v":35},{"$f":"+[2]Séries_Site!AJ160","v":0}]
["1972-12-01",{"$f":"+[2]Séries_Site!B161","v":2432},{"$f":"+[2]Séries_Site!C161","v":2432},{"$f":"+[2]Séries_Site!D161","v":0},{"$f":"+[2]Séries_Site!E161","v":2364},{"$f":"+[2]Séries_Site!F161","v":21},{"$f":"+[2]Séries_Site!G161","v":2046},{"$f":"+[2]Séries_Site!H161","v":2046},{"$f":"+[2]Séries_Site!I161","v":0},{"$f":"+[2]Séries_Site!J161","v":2053},{"$f":"+[2]Séries_Site!K161","v":21},{"$f":"+[2]Séries_Site!L161","v":126},{"$f":"+[2]Séries_Site!M161","v":126},{"$f":"+[2]Séries_Site!N161","v":0},{"$f":"+[2]Séries_Site!O161","v":116},{"$f":"+[2]Séries_Site!P161","v":0},{"$f":"+[2]Séries_Site!Q161","v":231},{"$f":"+[2]Séries_Site!R161","v":231},{"$f":"+[2]Séries_Site!S161","v":0},{"$f":"+[2]Séries_Site!T161","v":173},{"$f":"+[2]Séries_Site!U161","v":0},{"$f":"+[2]Séries_Site!V161","v":0},{"$f":"+[2]Séries_Site!W161","v":0},{"$f":"+[2]Séries_Site!X161","v":0},{"$f":"+[2]Séries_Site!Y161","v":0},{"$f":"+[2]Séries_Site!Z161","v":0},{"$f":"+[2]Séries_Site!AA161","v":0},{"$f":"+[2]Séries_Site!AB161","v":0},{"$f":"+[2]Séries_Site!AC161","v":0},{"$f":"+[2]Séries_Site!AD161","v":0},{"$f":"+[2]Séries_Site!AE161","v":0},{"$f":"+[2]Séries_Site!AF161","v":29},{"$f":"+[2]Séries_Site!AG161","v":29},{"$f":"+[2]Séries_Site!AH161","v":0},{"$f":"+[2]Séries_Site!AI161","v":22},{"$f":"+[2]Séries_Site!AJ161","v":0}]
["1973-01-01",{"$f":"+[2]Séries_Site!B162","v":2225},{"$f":"+[2]Séries_Site!C162","v":2225},{"$f":"+[2]Séries_Site!D162","v":0},{"$f":"+[2]Séries_Site!E162","v":2232},{"$f":"+[2]Séries_Site!F162","v":15},{"$f":"+[2]Séries_Site!G162","v":1862},{"$f":"+[2]Séries_Site!H162","v":1862},{"$f":"+[2]Séries_Site!I162","v":0},{"$f":"+[2]Séries_Site!J162","v":1825},{"$f":"+[2]Séries_Site!K162","v":9},{"$f":"+[2]Séries_Site!L162","v":66},{"$f":"+[2]Séries_Site!M162","v":66},{"$f":"+[2]Séries_Site!N162","v":0},{"$f":"+[2]Séries_Site!O162","v":66},{"$f":"+[2]Séries_Site!P162","v":6},{"$f":"+[2]Séries_Site!Q162","v":251},{"$f":"+[2]Séries_Site!R162","v":251},{"$f":"+[2]Séries_Site!S162","v":0},{"$f":"+[2]Séries_Site!T162","v":241},{"$f":"+[2]Séries_Site!U162","v":0},{"$f":"+[2]Séries_Site!V162","v":0},{"$f":"+[2]Séries_Site!W162","v":0},{"$f":"+[2]Séries_Site!X162","v":0},{"$f":"+[2]Séries_Site!Y162","v":0},{"$f":"+[2]Séries_Site!Z162","v":0},{"$f":"+[2]Séries_Site!AA162","v":0},{"$f":"+[2]Séries_Site!AB162","v":0},{"$f":"+[2]Séries_Site!AC162","v":0},{"$f":"+[2]Séries_Site!AD162","v":0},{"$f":"+[2]Séries_Site!AE162","v":0},{"$f":"+[2]Séries_Site!AF162","v":46},{"$f":"+[2]Séries_Site!AG162","v":46},{"$f":"+[2]Séries_Site!AH162","v":0},{"$f":"+[2]Séries_Site!AI162","v":100},{"$f":"+[2]Séries_Site!AJ162","v":0}]
["1973-02-01",{"$f":"+[2]Séries_Site!B163","v":2616},{"$f":"+[2]Séries_Site!C163","v":2616},{"$f":"+[2]Séries_Site!D163","v":0},{"$f":"+[2]Séries_Site!E163","v":2833},{"$f":"+[2]Séries_Site!F163","v":16},{"$f":"+[2]Séries_Site!G163","v":2122},{"$f":"+[2]Séries_Site!H163","v":2122},{"$f":"+[2]Séries_Site!I163","v":0},{"$f":"+[2]Séries_Site!J163","v":2311},{"$f":"+[2]Séries_Site!K163","v":9},{"$f":"+[2]Séries_Site!L163","v":126},{"$f":"+[2]Séries_Site!M163","v":126},{"$f":"+[2]Séries_Site!N163","v":0},{"$f":"+[2]Séries_Site!O163","v":166},{"$f":"+[2]Séries_Site!P163","v":5},{"$f":"+[2]Séries_Site!Q163","v":282},{"$f":"+[2]Séries_Site!R163","v":282},{"$f":"+[2]Séries_Site!S163","v":0},{"$f":"+[2]Séries_Site!T163","v":261},{"$f":"+[2]Séries_Site!U163","v":0},{"$f":"+[2]Séries_Site!V163","v":0},{"$f":"+[2]Séries_Site!W163","v":0},{"$f":"+[2]Séries_Site!X163","v":0},{"$f":"+[2]Séries_Site!Y163","v":0},{"$f":"+[2]Séries_Site!Z163","v":0},{"$f":"+[2]Séries_Site!AA163","v":0},{"$f":"+[2]Séries_Site!AB163","v":0},{"$f":"+[2]Séries_Site!AC163","v":0},{"$f":"+[2]Séries_Site!AD163","v":0},{"$f":"+[2]Séries_Site!AE163","v":0},{"$f":"+[2]Séries_Site!AF163","v":86},{"$f":"+[2]Séries_Site!AG163","v":86},{"$f":"+[2]Séries_Site!AH163","v":0},{"$f":"+[2]Séries_Site!AI163","v":95},{"$f":"+[2]Séries_Site!AJ163","v":2}]
["1973-03-01",{"$f":"+[2]Séries_Site!B164","v":3676},{"$f":"+[2]Séries_Site!C164","v":3676},{"$f":"+[2]Séries_Site!D164","v":0},{"$f":"+[2]Séries_Site!E164","v":3673},{"$f":"+[2]Séries_Site!F164","v":11},{"$f":"+[2]Séries_Site!G164","v":3249},{"$f":"+[2]Séries_Site!H164","v":3249},{"$f":"+[2]Séries_Site!I164","v":0},{"$f":"+[2]Séries_Site!J164","v":3201},{"$f":"+[2]Séries_Site!K164","v":1},{"$f":"+[2]Séries_Site!L164","v":114},{"$f":"+[2]Séries_Site!M164","v":114},{"$f":"+[2]Séries_Site!N164","v":0},{"$f":"+[2]Séries_Site!O164","v":157},{"$f":"+[2]Séries_Site!P164","v":8},{"$f":"+[2]Séries_Site!Q164","v":273},{"$f":"+[2]Séries_Site!R164","v":273},{"$f":"+[2]Séries_Site!S164","v":0},{"$f":"+[2]Séries_Site!T164","v":232},{"$f":"+[2]Séries_Site!U164","v":0},{"$f":"+[2]Séries_Site!V164","v":0},{"$f":"+[2]Séries_Site!W164","v":0},{"$f":"+[2]Séries_Site!X164","v":0},{"$f":"+[2]Séries_Site!Y164","v":0},{"$f":"+[2]Séries_Site!Z164","v":0},{"$f":"+[2]Séries_Site!AA164","v":0},{"$f":"+[2]Séries_Site!AB164","v":0},{"$f":"+[2]Séries_Site!AC164","v":0},{"$f":"+[2]Séries_Site!AD164","v":0},{"$f":"+[2]Séries_Site!AE164","v":0},{"$f":"+[2]Séries_Site!AF164","v":40},{"$f":"+[2]Séries_Site!AG164","v":40},{"$f":"+[2]Séries_Site!AH164","v":0},{"$f":"+[2]Séries_Site!AI164","v":83},{"$f":"+[2]Séries_Site!AJ164","v":2}]
["1973-04-01",{"$f":"+[2]Séries_Site!B165","v":3618},{"$f":"+[2]Séries_Site!C165","v":3618},{"$f":"+[2]Séries_Site!D165","v":0},{"$f":"+[2]Séries_Site!E165","v":3258},{"$f":"+[2]Séries_Site!F165","v":16},{"$f":"+[2]Séries_Site!G165","v":3146},{"$f":"+[2]Séries_Site!H165","v":3146},{"$f":"+[2]Séries_Site!I165","v":0},{"$f":"+[2]Séries_Site!J165","v":2843},{"$f":"+[2]Séries_Site!K165","v":5},{"$f":"+[2]Séries_Site!L165","v":142},{"$f":"+[2]Séries_Site!M165","v":142},{"$f":"+[2]Séries_Site!N165","v":0},{"$f":"+[2]Séries_Site!O165","v":159},{"$f":"+[2]Séries_Site!P165","v":11},{"$f":"+[2]Séries_Site!Q165","v":268},{"$f":"+[2]Séries_Site!R165","v":268},{"$f":"+[2]Séries_Site!S165","v":0},{"$f":"+[2]Séries_Site!T165","v":247},{"$f":"+[2]Séries_Site!U165","v":0},{"$f":"+[2]Séries_Site!V165","v":0},{"$f":"+[2]Séries_Site!W165","v":0},{"$f":"+[2]Séries_Site!X165","v":0},{"$f":"+[2]Séries_Site!Y165","v":0},{"$f":"+[2]Séries_Site!Z165","v":0},{"$f":"+[2]Séries_Site!AA165","v":0},{"$f":"+[2]Séries_Site!AB165","v":0},{"$f":"+[2]Séries_Site!AC165","v":0},{"$f":"+[2]Séries_Site!AD165","v":0},{"$f":"+[2]Séries_Site!AE165","v":0},{"$f":"+[2]Séries_Site!AF165","v":62},{"$f":"+[2]Séries_Site!AG165","v":62},{"$f":"+[2]Séries_Site!AH165","v":0},{"$f":"+[2]Séries_Site!AI165","v":9},{"$f":"+[2]Séries_Site!AJ165","v":0}]
["1973-05-01",{"$f":"+[2]Séries_Site!B166","v":3611},{"$f":"+[2]Séries_Site!C166","v":3611},{"$f":"+[2]Séries_Site!D166","v":0},{"$f":"+[2]Séries_Site!E166","v":3361},{"$f":"+[2]Séries_Site!F166","v":19},{"$f":"+[2]Séries_Site!G166","v":3100},{"$f":"+[2]Séries_Site!H166","v":3100},{"$f":"+[2]Séries_Site!I166","v":0},{"$f":"+[2]Séries_Site!J166","v":2914},{"$f":"+[2]Séries_Site!K166","v":12},{"$f":"+[2]Séries_Site!L166","v":179},{"$f":"+[2]Séries_Site!M166","v":179},{"$f":"+[2]Séries_Site!N166","v":0},{"$f":"+[2]Séries_Site!O166","v":150},{"$f":"+[2]Séries_Site!P166","v":6},{"$f":"+[2]Séries_Site!Q166","v":244},{"$f":"+[2]Séries_Site!R166","v":244},{"$f":"+[2]Séries_Site!S166","v":0},{"$f":"+[2]Séries_Site!T166","v":241},{"$f":"+[2]Séries_Site!U166","v":1},{"$f":"+[2]Séries_Site!V166","v":0},{"$f":"+[2]Séries_Site!W166","v":0},{"$f":"+[2]Séries_Site!X166","v":0},{"$f":"+[2]Séries_Site!Y166","v":0},{"$f":"+[2]Séries_Site!Z166","v":0},{"$f":"+[2]Séries_Site!AA166","v":0},{"$f":"+[2]Séries_Site!AB166","v":0},{"$f":"+[2]Séries_Site!AC166","v":0},{"$f":"+[2]Séries_Site!AD166","v":0},{"$f":"+[2]Séries_Site!AE166","v":0},{"$f":"+[2]Séries_Site!AF166","v":88},{"$f":"+[2]Séries_Site!AG166","v":88},{"$f":"+[2]Séries_Site!AH166","v":0},{"$f":"+[2]Séries_Site!AI166","v":56},{"$f":"+[2]Séries_Site!AJ166","v":0}]
["1973-06-01",{"$f":"+[2]Séries_Site!B167","v":4035},{"$f":"+[2]Séries_Site!C167","v":4035},{"$f":"+[2]Séries_Site!D167","v":0},{"$f":"+[2]Séries_Site!E167","v":4240},{"$f":"+[2]Séries_Site!F167","v":26},{"$f":"+[2]Séries_Site!G167","v":3516},{"$f":"+[2]Séries_Site!H167","v":3516},{"$f":"+[2]Séries_Site!I167","v":0},{"$f":"+[2]Séries_Site!J167","v":3738},{"$f":"+[2]Séries_Site!K167","v":20},{"$f":"+[2]Séries_Site!L167","v":219},{"$f":"+[2]Séries_Site!M167","v":219},{"$f":"+[2]Séries_Site!N167","v":0},{"$f":"+[2]Séries_Site!O167","v":228},{"$f":"+[2]Séries_Site!P167","v":6},{"$f":"+[2]Séries_Site!Q167","v":211},{"$f":"+[2]Séries_Site!R167","v":211},{"$f":"+[2]Séries_Site!S167","v":0},{"$f":"+[2]Séries_Site!T167","v":191},{"$f":"+[2]Séries_Site!U167","v":0},{"$f":"+[2]Séries_Site!V167","v":0},{"$f":"+[2]Séries_Site!W167","v":0},{"$f":"+[2]Séries_Site!X167","v":0},{"$f":"+[2]Séries_Site!Y167","v":0},{"$f":"+[2]Séries_Site!Z167","v":0},{"$f":"+[2]Séries_Site!AA167","v":0},{"$f":"+[2]Séries_Site!AB167","v":0},{"$f":"+[2]Séries_Site!AC167","v":0},{"$f":"+[2]Séries_Site!AD167","v":0},{"$f":"+[2]Séries_Site!AE167","v":0},{"$f":"+[2]Séries_Site!AF167","v":89},{"$f":"+[2]Séries_Site!AG167","v":89},{"$f":"+[2]Séries_Site!AH167","v":0},{"$f":"+[2]Séries_Site!AI167","v":83},{"$f":"+[2]Séries_Site!AJ167","v":0}]
["1973-07-01",{"$f":"+[2]Séries_Site!B168","v":4058},{"$f":"+[2]Séries_Site!C168","v":4058},{"$f":"+[2]Séries_Site!D168","v":0},{"$f":"+[2]Séries_Site!E168","v":3848},{"$f":"+[2]Séries_Site!F168","v":39},{"$f":"+[2]Séries_Site!G168","v":3528},{"$f":"+[2]Séries_Site!H168","v":3528},{"$f":"+[2]Séries_Site!I168","v":0},{"$f":"+[2]Séries_Site!J168","v":3359},{"$f":"+[2]Séries_Site!K168","v":32},{"$f":"+[2]Séries_Site!L168","v":142},{"$f":"+[2]Séries_Site!M168","v":142},{"$f":"+[2]Séries_Site!N168","v":0},{"$f":"+[2]Séries_Site!O168","v":135},{"$f":"+[2]Séries_Site!P168","v":7},{"$f":"+[2]Séries_Site!Q168","v":324},{"$f":"+[2]Séries_Site!R168","v":324},{"$f":"+[2]Séries_Site!S168","v":0},{"$f":"+[2]Séries_Site!T168","v":313},{"$f":"+[2]Séries_Site!U168","v":0},{"$f":"+[2]Séries_Site!V168","v":0},{"$f":"+[2]Séries_Site!W168","v":0},{"$f":"+[2]Séries_Site!X168","v":0},{"$f":"+[2]Séries_Site!Y168","v":0},{"$f":"+[2]Séries_Site!Z168","v":0},{"$f":"+[2]Séries_Site!AA168","v":0},{"$f":"+[2]Séries_Site!AB168","v":0},{"$f":"+[2]Séries_Site!AC168","v":0},{"$f":"+[2]Séries_Site!AD168","v":0},{"$f":"+[2]Séries_Site!AE168","v":0},{"$f":"+[2]Séries_Site!AF168","v":64},{"$f":"+[2]Séries_Site!AG168","v":64},{"$f":"+[2]Séries_Site!AH168","v":0},{"$f":"+[2]Séries_Site!AI168","v":41},{"$f":"+[2]Séries_Site!AJ168","v":0}]
["1973-08-01",{"$f":"+[2]Séries_Site!B169","v":4569},{"$f":"+[2]Séries_Site!C169","v":4569},{"$f":"+[2]Séries_Site!D169","v":0},{"$f":"+[2]Séries_Site!E169","v":4573},{"$f":"+[2]Séries_Site!F169","v":72},{"$f":"+[2]Séries_Site!G169","v":3908},{"$f":"+[2]Séries_Site!H169","v":3908},{"$f":"+[2]Séries_Site!I169","v":0},{"$f":"+[2]Séries_Site!J169","v":3937},{"$f":"+[2]Séries_Site!K169","v":64},{"$f":"+[2]Séries_Site!L169","v":175},{"$f":"+[2]Séries_Site!M169","v":175},{"$f":"+[2]Séries_Site!N169","v":0},{"$f":"+[2]Séries_Site!O169","v":219},{"$f":"+[2]Séries_Site!P169","v":8},{"$f":"+[2]Séries_Site!Q169","v":411},{"$f":"+[2]Séries_Site!R169","v":411},{"$f":"+[2]Séries_Site!S169","v":0},{"$f":"+[2]Séries_Site!T169","v":341},{"$f":"+[2]Séries_Site!U169","v":0},{"$f":"+[2]Séries_Site!V169","v":0},{"$f":"+[2]Séries_Site!W169","v":0},{"$f":"+[2]Séries_Site!X169","v":0},{"$f":"+[2]Séries_Site!Y169","v":0},{"$f":"+[2]Séries_Site!Z169","v":0},{"$f":"+[2]Séries_Site!AA169","v":0},{"$f":"+[2]Séries_Site!AB169","v":0},{"$f":"+[2]Séries_Site!AC169","v":0},{"$f":"+[2]Séries_Site!AD169","v":0},{"$f":"+[2]Séries_Site!AE169","v":0},{"$f":"+[2]Séries_Site!AF169","v":75},{"$f":"+[2]Séries_Site!AG169","v":75},{"$f":"+[2]Séries_Site!AH169","v":0},{"$f":"+[2]Séries_Site!AI169","v":76},{"$f":"+[2]Séries_Site!AJ169","v":0}]
["1973-09-01",{"$f":"+[2]Séries_Site!B170","v":4636},{"$f":"+[2]Séries_Site!C170","v":4636},{"$f":"+[2]Séries_Site!D170","v":0},{"$f":"+[2]Séries_Site!E170","v":4823},{"$f":"+[2]Séries_Site!F170","v":85},{"$f":"+[2]Séries_Site!G170","v":4000},{"$f":"+[2]Séries_Site!H170","v":4000},{"$f":"+[2]Séries_Site!I170","v":0},{"$f":"+[2]Séries_Site!J170","v":4116},{"$f":"+[2]Séries_Site!K170","v":70},{"$f":"+[2]Séries_Site!L170","v":198},{"$f":"+[2]Séries_Site!M170","v":198},{"$f":"+[2]Séries_Site!N170","v":0},{"$f":"+[2]Séries_Site!O170","v":200},{"$f":"+[2]Séries_Site!P170","v":10},{"$f":"+[2]Séries_Site!Q170","v":292},{"$f":"+[2]Séries_Site!R170","v":292},{"$f":"+[2]Séries_Site!S170","v":0},{"$f":"+[2]Séries_Site!T170","v":359},{"$f":"+[2]Séries_Site!U170","v":5},{"$f":"+[2]Séries_Site!V170","v":0},{"$f":"+[2]Séries_Site!W170","v":0},{"$f":"+[2]Séries_Site!X170","v":0},{"$f":"+[2]Séries_Site!Y170","v":0},{"$f":"+[2]Séries_Site!Z170","v":0},{"$f":"+[2]Séries_Site!AA170","v":0},{"$f":"+[2]Séries_Site!AB170","v":0},{"$f":"+[2]Séries_Site!AC170","v":0},{"$f":"+[2]Séries_Site!AD170","v":0},{"$f":"+[2]Séries_Site!AE170","v":0},{"$f":"+[2]Séries_Site!AF170","v":146},{"$f":"+[2]Séries_Site!AG170","v":146},{"$f":"+[2]Séries_Site!AH170","v":0},{"$f":"+[2]Séries_Site!AI170","v":148},{"$f":"+[2]Séries_Site!AJ170","v":0}]
["1973-10-01",{"$f":"+[2]Séries_Site!B171","v":5020},{"$f":"+[2]Séries_Site!C171","v":5020},{"$f":"+[2]Séries_Site!D171","v":0},{"$f":"+[2]Séries_Site!E171","v":4901},{"$f":"+[2]Séries_Site!F171","v":96},{"$f":"+[2]Séries_Site!G171","v":4337},{"$f":"+[2]Séries_Site!H171","v":4337},{"$f":"+[2]Séries_Site!I171","v":0},{"$f":"+[2]Séries_Site!J171","v":4271},{"$f":"+[2]Séries_Site!K171","v":90},{"$f":"+[2]Séries_Site!L171","v":188},{"$f":"+[2]Séries_Site!M171","v":188},{"$f":"+[2]Séries_Site!N171","v":0},{"$f":"+[2]Séries_Site!O171","v":147},{"$f":"+[2]Séries_Site!P171","v":6},{"$f":"+[2]Séries_Site!Q171","v":374},{"$f":"+[2]Séries_Site!R171","v":374},{"$f":"+[2]Séries_Site!S171","v":0},{"$f":"+[2]Séries_Site!T171","v":361},{"$f":"+[2]Séries_Site!U171","v":0},{"$f":"+[2]Séries_Site!V171","v":0},{"$f":"+[2]Séries_Site!W171","v":0},{"$f":"+[2]Séries_Site!X171","v":0},{"$f":"+[2]Séries_Site!Y171","v":0},{"$f":"+[2]Séries_Site!Z171","v":0},{"$f":"+[2]Séries_Site!AA171","v":0},{"$f":"+[2]Séries_Site!AB171","v":0},{"$f":"+[2]Séries_Site!AC171","v":0},{"$f":"+[2]Séries_Site!AD171","v":0},{"$f":"+[2]Séries_Site!AE171","v":0},{"$f":"+[2]Séries_Site!AF171","v":121},{"$f":"+[2]Séries_Site!AG171","v":121},{"$f":"+[2]Séries_Site!AH171","v":0},{"$f":"+[2]Séries_Site!AI171","v":122},{"$f":"+[2]Séries_Site!AJ171","v":0}]
["1973-11-01",{"$f":"+[2]Séries_Site!B172","v":3625},{"$f":"+[2]Séries_Site!C172","v":3625},{"$f":"+[2]Séries_Site!D172","v":0},{"$f":"+[2]Séries_Site!E172","v":3760},{"$f":"+[2]Séries_Site!F172","v":53},{"$f":"+[2]Séries_Site!G172","v":3092},{"$f":"+[2]Séries_Site!H172","v":3092},{"$f":"+[2]Séries_Site!I172","v":0},{"$f":"+[2]Séries_Site!J172","v":3156},{"$f":"+[2]Séries_Site!K172","v":44},{"$f":"+[2]Séries_Site!L172","v":149},{"$f":"+[2]Séries_Site!M172","v":149},{"$f":"+[2]Séries_Site!N172","v":0},{"$f":"+[2]Séries_Site!O172","v":179},{"$f":"+[2]Séries_Site!P172","v":8},{"$f":"+[2]Séries_Site!Q172","v":298},{"$f":"+[2]Séries_Site!R172","v":298},{"$f":"+[2]Séries_Site!S172","v":0},{"$f":"+[2]Séries_Site!T172","v":340},{"$f":"+[2]Séries_Site!U172","v":0},{"$f":"+[2]Séries_Site!V172","v":0},{"$f":"+[2]Séries_Site!W172","v":0},{"$f":"+[2]Séries_Site!X172","v":0},{"$f":"+[2]Séries_Site!Y172","v":0},{"$f":"+[2]Séries_Site!Z172","v":0},{"$f":"+[2]Séries_Site!AA172","v":0},{"$f":"+[2]Séries_Site!AB172","v":0},{"$f":"+[2]Séries_Site!AC172","v":0},{"$f":"+[2]Séries_Site!AD172","v":0},{"$f":"+[2]Séries_Site!AE172","v":0},{"$f":"+[2]Séries_Site!AF172","v":86},{"$f":"+[2]Séries_Site!AG172","v":86},{"$f":"+[2]Séries_Site!AH172","v":0},{"$f":"+[2]Séries_Site!AI172","v":85},{"$f":"+[2]Séries_Site!AJ172","v":1}]
["1973-12-01",{"$f":"+[2]Séries_Site!B173","v":3621},{"$f":"+[2]Séries_Site!C173","v":3621},{"$f":"+[2]Séries_Site!D173","v":0},{"$f":"+[2]Séries_Site!E173","v":3607},{"$f":"+[2]Séries_Site!F173","v":38},{"$f":"+[2]Séries_Site!G173","v":3058},{"$f":"+[2]Séries_Site!H173","v":3058},{"$f":"+[2]Séries_Site!I173","v":0},{"$f":"+[2]Séries_Site!J173","v":3034},{"$f":"+[2]Séries_Site!K173","v":30},{"$f":"+[2]Séries_Site!L173","v":171},{"$f":"+[2]Séries_Site!M173","v":171},{"$f":"+[2]Séries_Site!N173","v":0},{"$f":"+[2]Séries_Site!O173","v":155},{"$f":"+[2]Séries_Site!P173","v":7},{"$f":"+[2]Séries_Site!Q173","v":315},{"$f":"+[2]Séries_Site!R173","v":315},{"$f":"+[2]Séries_Site!S173","v":0},{"$f":"+[2]Séries_Site!T173","v":339},{"$f":"+[2]Séries_Site!U173","v":0},{"$f":"+[2]Séries_Site!V173","v":0},{"$f":"+[2]Séries_Site!W173","v":0},{"$f":"+[2]Séries_Site!X173","v":0},{"$f":"+[2]Séries_Site!Y173","v":0},{"$f":"+[2]Séries_Site!Z173","v":0},{"$f":"+[2]Séries_Site!AA173","v":0},{"$f":"+[2]Séries_Site!AB173","v":0},{"$f":"+[2]Séries_Site!AC173","v":0},{"$f":"+[2]Séries_Site!AD173","v":0},{"$f":"+[2]Séries_Site!AE173","v":0},{"$f":"+[2]Séries_Site!AF173","v":77},{"$f":"+[2]Séries_Site!AG173","v":77},{"$f":"+[2]Séries_Site!AH173","v":0},{"$f":"+[2]Séries_Site!AI173","v":79},{"$f":"+[2]Séries_Site!AJ173","v":1}]
["1974-01-01",{"$f":"+[2]Séries_Site!B174","v":4134},{"$f":"+[2]Séries_Site!C174","v":4134},{"$f":"+[2]Séries_Site!D174","v":0},{"$f":"+[2]Séries_Site!E174","v":4103},{"$f":"+[2]Séries_Site!F174","v":34},{"$f":"+[2]Séries_Site!G174","v":3412},{"$f":"+[2]Séries_Site!H174","v":3412},{"$f":"+[2]Séries_Site!I174","v":0},{"$f":"+[2]Séries_Site!J174","v":3425},{"$f":"+[2]Séries_Site!K174","v":21},{"$f":"+[2]Séries_Site!L174","v":155},{"$f":"+[2]Séries_Site!M174","v":155},{"$f":"+[2]Séries_Site!N174","v":0},{"$f":"+[2]Séries_Site!O174","v":139},{"$f":"+[2]Séries_Site!P174","v":10},{"$f":"+[2]Séries_Site!Q174","v":463},{"$f":"+[2]Séries_Site!R174","v":463},{"$f":"+[2]Séries_Site!S174","v":0},{"$f":"+[2]Séries_Site!T174","v":435},{"$f":"+[2]Séries_Site!U174","v":3},{"$f":"+[2]Séries_Site!V174","v":0},{"$f":"+[2]Séries_Site!W174","v":0},{"$f":"+[2]Séries_Site!X174","v":0},{"$f":"+[2]Séries_Site!Y174","v":0},{"$f":"+[2]Séries_Site!Z174","v":0},{"$f":"+[2]Séries_Site!AA174","v":0},{"$f":"+[2]Séries_Site!AB174","v":0},{"$f":"+[2]Séries_Site!AC174","v":0},{"$f":"+[2]Séries_Site!AD174","v":0},{"$f":"+[2]Séries_Site!AE174","v":0},{"$f":"+[2]Séries_Site!AF174","v":104},{"$f":"+[2]Séries_Site!AG174","v":104},{"$f":"+[2]Séries_Site!AH174","v":0},{"$f":"+[2]Séries_Site!AI174","v":104},{"$f":"+[2]Séries_Site!AJ174","v":0}]
["1974-02-01",{"$f":"+[2]Séries_Site!B175","v":3559},{"$f":"+[2]Séries_Site!C175","v":3559},{"$f":"+[2]Séries_Site!D175","v":0},{"$f":"+[2]Séries_Site!E175","v":3861},{"$f":"+[2]Séries_Site!F175","v":73},{"$f":"+[2]Séries_Site!G175","v":2917},{"$f":"+[2]Séries_Site!H175","v":2917},{"$f":"+[2]Séries_Site!I175","v":0},{"$f":"+[2]Séries_Site!J175","v":3135},{"$f":"+[2]Séries_Site!K175","v":47},{"$f":"+[2]Séries_Site!L175","v":179},{"$f":"+[2]Séries_Site!M175","v":179},{"$f":"+[2]Séries_Site!N175","v":0},{"$f":"+[2]Séries_Site!O175","v":227},{"$f":"+[2]Séries_Site!P175","v":13},{"$f":"+[2]Séries_Site!Q175","v":429},{"$f":"+[2]Séries_Site!R175","v":429},{"$f":"+[2]Séries_Site!S175","v":0},{"$f":"+[2]Séries_Site!T175","v":465},{"$f":"+[2]Séries_Site!U175","v":13},{"$f":"+[2]Séries_Site!V175","v":0},{"$f":"+[2]Séries_Site!W175","v":0},{"$f":"+[2]Séries_Site!X175","v":0},{"$f":"+[2]Séries_Site!Y175","v":0},{"$f":"+[2]Séries_Site!Z175","v":0},{"$f":"+[2]Séries_Site!AA175","v":0},{"$f":"+[2]Séries_Site!AB175","v":0},{"$f":"+[2]Séries_Site!AC175","v":0},{"$f":"+[2]Séries_Site!AD175","v":0},{"$f":"+[2]Séries_Site!AE175","v":0},{"$f":"+[2]Séries_Site!AF175","v":34},{"$f":"+[2]Séries_Site!AG175","v":34},{"$f":"+[2]Séries_Site!AH175","v":0},{"$f":"+[2]Séries_Site!AI175","v":34},{"$f":"+[2]Séries_Site!AJ175","v":0}]
["1974-03-01",{"$f":"+[2]Séries_Site!B176","v":4489},{"$f":"+[2]Séries_Site!C176","v":4489},{"$f":"+[2]Séries_Site!D176","v":0},{"$f":"+[2]Séries_Site!E176","v":4328},{"$f":"+[2]Séries_Site!F176","v":54},{"$f":"+[2]Séries_Site!G176","v":3690},{"$f":"+[2]Séries_Site!H176","v":3690},{"$f":"+[2]Séries_Site!I176","v":0},{"$f":"+[2]Séries_Site!J176","v":3553},{"$f":"+[2]Séries_Site!K176","v":37},{"$f":"+[2]Séries_Site!L176","v":121},{"$f":"+[2]Séries_Site!M176","v":121},{"$f":"+[2]Séries_Site!N176","v":0},{"$f":"+[2]Séries_Site!O176","v":153},{"$f":"+[2]Séries_Site!P176","v":14},{"$f":"+[2]Séries_Site!Q176","v":552},{"$f":"+[2]Séries_Site!R176","v":552},{"$f":"+[2]Séries_Site!S176","v":0},{"$f":"+[2]Séries_Site!T176","v":496},{"$f":"+[2]Séries_Site!U176","v":3},{"$f":"+[2]Séries_Site!V176","v":0},{"$f":"+[2]Séries_Site!W176","v":0},{"$f":"+[2]Séries_Site!X176","v":0},{"$f":"+[2]Séries_Site!Y176","v":0},{"$f":"+[2]Séries_Site!Z176","v":0},{"$f":"+[2]Séries_Site!AA176","v":0},{"$f":"+[2]Séries_Site!AB176","v":0},{"$f":"+[2]Séries_Site!AC176","v":0},{"$f":"+[2]Séries_Site!AD176","v":0},{"$f":"+[2]Séries_Site!AE176","v":0},{"$f":"+[2]Séries_Site!AF176","v":126},{"$f":"+[2]Séries_Site!AG176","v":126},{"$f":"+[2]Séries_Site!AH176","v":0},{"$f":"+[2]Séries_Site!AI176","v":126},{"$f":"+[2]Séries_Site!AJ176","v":0}]
["1974-04-01",{"$f":"+[2]Séries_Site!B177","v":4081},{"$f":"+[2]Séries_Site!C177","v":4081},{"$f":"+[2]Séries_Site!D177","v":0},{"$f":"+[2]Séries_Site!E177","v":4399},{"$f":"+[2]Séries_Site!F177","v":57},{"$f":"+[2]Séries_Site!G177","v":3605},{"$f":"+[2]Séries_Site!H177","v":3605},{"$f":"+[2]Séries_Site!I177","v":0},{"$f":"+[2]Séries_Site!J177","v":3711},{"$f":"+[2]Séries_Site!K177","v":36},{"$f":"+[2]Séries_Site!L177","v":88},{"$f":"+[2]Séries_Site!M177","v":88},{"$f":"+[2]Séries_Site!N177","v":0},{"$f":"+[2]Séries_Site!O177","v":134},{"$f":"+[2]Séries_Site!P177","v":18},{"$f":"+[2]Séries_Site!Q177","v":374},{"$f":"+[2]Séries_Site!R177","v":374},{"$f":"+[2]Séries_Site!S177","v":0},{"$f":"+[2]Séries_Site!T177","v":541},{"$f":"+[2]Séries_Site!U177","v":3},{"$f":"+[2]Séries_Site!V177","v":0},{"$f":"+[2]Séries_Site!W177","v":0},{"$f":"+[2]Séries_Site!X177","v":0},{"$f":"+[2]Séries_Site!Y177","v":0},{"$f":"+[2]Séries_Site!Z177","v":0},{"$f":"+[2]Séries_Site!AA177","v":0},{"$f":"+[2]Séries_Site!AB177","v":0},{"$f":"+[2]Séries_Site!AC177","v":0},{"$f":"+[2]Séries_Site!AD177","v":0},{"$f":"+[2]Séries_Site!AE177","v":0},{"$f":"+[2]Séries_Site!AF177","v":14},{"$f":"+[2]Séries_Site!AG177","v":14},{"$f":"+[2]Séries_Site!AH177","v":0},{"$f":"+[2]Séries_Site!AI177","v":13},{"$f":"+[2]Séries_Site!AJ177","v":0}]
["1974-05-01",{"$f":"+[2]Séries_Site!B178","v":4856},{"$f":"+[2]Séries_Site!C178","v":4856},{"$f":"+[2]Séries_Site!D178","v":0},{"$f":"+[2]Séries_Site!E178","v":4683},{"$f":"+[2]Séries_Site!F178","v":58},{"$f":"+[2]Séries_Site!G178","v":3833},{"$f":"+[2]Séries_Site!H178","v":3833},{"$f":"+[2]Séries_Site!I178","v":0},{"$f":"+[2]Séries_Site!J178","v":3859},{"$f":"+[2]Séries_Site!K178","v":39},{"$f":"+[2]Séries_Site!L178","v":262},{"$f":"+[2]Séries_Site!M178","v":262},{"$f":"+[2]Séries_Site!N178","v":0},{"$f":"+[2]Séries_Site!O178","v":258},{"$f":"+[2]Séries_Site!P178","v":17},{"$f":"+[2]Séries_Site!Q178","v":524},{"$f":"+[2]Séries_Site!R178","v":524},{"$f":"+[2]Séries_Site!S178","v":0},{"$f":"+[2]Séries_Site!T178","v":330},{"$f":"+[2]Séries_Site!U178","v":2},{"$f":"+[2]Séries_Site!V178","v":0},{"$f":"+[2]Séries_Site!W178","v":0},{"$f":"+[2]Séries_Site!X178","v":0},{"$f":"+[2]Séries_Site!Y178","v":0},{"$f":"+[2]Séries_Site!Z178","v":0},{"$f":"+[2]Séries_Site!AA178","v":0},{"$f":"+[2]Séries_Site!AB178","v":0},{"$f":"+[2]Séries_Site!AC178","v":0},{"$f":"+[2]Séries_Site!AD178","v":0},{"$f":"+[2]Séries_Site!AE178","v":0},{"$f":"+[2]Séries_Site!AF178","v":237},{"$f":"+[2]Séries_Site!AG178","v":237},{"$f":"+[2]Séries_Site!AH178","v":0},{"$f":"+[2]Séries_Site!AI178","v":236},{"$f":"+[2]Séries_Site!AJ178","v":0}]
["1974-06-01",{"$f":"+[2]Séries_Site!B179","v":4452},{"$f":"+[2]Séries_Site!C179","v":4452},{"$f":"+[2]Séries_Site!D179","v":0},{"$f":"+[2]Séries_Site!E179","v":4532},{"$f":"+[2]Séries_Site!F179","v":35},{"$f":"+[2]Séries_Site!G179","v":3682},{"$f":"+[2]Séries_Site!H179","v":3682},{"$f":"+[2]Séries_Site!I179","v":0},{"$f":"+[2]Séries_Site!J179","v":3703},{"$f":"+[2]Séries_Site!K179","v":17},{"$f":"+[2]Séries_Site!L179","v":215},{"$f":"+[2]Séries_Site!M179","v":215},{"$f":"+[2]Séries_Site!N179","v":0},{"$f":"+[2]Séries_Site!O179","v":249},{"$f":"+[2]Séries_Site!P179","v":16},{"$f":"+[2]Séries_Site!Q179","v":444},{"$f":"+[2]Séries_Site!R179","v":444},{"$f":"+[2]Séries_Site!S179","v":0},{"$f":"+[2]Séries_Site!T179","v":470},{"$f":"+[2]Séries_Site!U179","v":2},{"$f":"+[2]Séries_Site!V179","v":0},{"$f":"+[2]Séries_Site!W179","v":0},{"$f":"+[2]Séries_Site!X179","v":0},{"$f":"+[2]Séries_Site!Y179","v":0},{"$f":"+[2]Séries_Site!Z179","v":0},{"$f":"+[2]Séries_Site!AA179","v":0},{"$f":"+[2]Séries_Site!AB179","v":0},{"$f":"+[2]Séries_Site!AC179","v":0},{"$f":"+[2]Séries_Site!AD179","v":0},{"$f":"+[2]Séries_Site!AE179","v":0},{"$f":"+[2]Séries_Site!AF179","v":111},{"$f":"+[2]Séries_Site!AG179","v":111},{"$f":"+[2]Séries_Site!AH179","v":0},{"$f":"+[2]Séries_Site!AI179","v":110},{"$f":"+[2]Séries_Site!AJ179","v":0}]
["1974-07-01",{"$f":"+[2]Séries_Site!B180","v":4733},{"$f":"+[2]Séries_Site!C180","v":4733},{"$f":"+[2]Séries_Site!D180","v":0},{"$f":"+[2]Séries_Site!E180","v":4881},{"$f":"+[2]Séries_Site!F180","v":132},{"$f":"+[2]Séries_Site!G180","v":3772},{"$f":"+[2]Séries_Site!H180","v":3772},{"$f":"+[2]Séries_Site!I180","v":0},{"$f":"+[2]Séries_Site!J180","v":3895},{"$f":"+[2]Séries_Site!K180","v":102},{"$f":"+[2]Séries_Site!L180","v":255},{"$f":"+[2]Séries_Site!M180","v":255},{"$f":"+[2]Séries_Site!N180","v":0},{"$f":"+[2]Séries_Site!O180","v":320},{"$f":"+[2]Séries_Site!P180","v":18},{"$f":"+[2]Séries_Site!Q180","v":548},{"$f":"+[2]Séries_Site!R180","v":548},{"$f":"+[2]Séries_Site!S180","v":0},{"$f":"+[2]Séries_Site!T180","v":510},{"$f":"+[2]Séries_Site!U180","v":12},{"$f":"+[2]Séries_Site!V180","v":0},{"$f":"+[2]Séries_Site!W180","v":0},{"$f":"+[2]Séries_Site!X180","v":0},{"$f":"+[2]Séries_Site!Y180","v":0},{"$f":"+[2]Séries_Site!Z180","v":0},{"$f":"+[2]Séries_Site!AA180","v":0},{"$f":"+[2]Séries_Site!AB180","v":0},{"$f":"+[2]Séries_Site!AC180","v":0},{"$f":"+[2]Séries_Site!AD180","v":0},{"$f":"+[2]Séries_Site!AE180","v":0},{"$f":"+[2]Séries_Site!AF180","v":158},{"$f":"+[2]Séries_Site!AG180","v":158},{"$f":"+[2]Séries_Site!AH180","v":0},{"$f":"+[2]Séries_Site!AI180","v":156},{"$f":"+[2]Séries_Site!AJ180","v":0}]
["1974-08-01",{"$f":"+[2]Séries_Site!B181","v":4728},{"$f":"+[2]Séries_Site!C181","v":4728},{"$f":"+[2]Séries_Site!D181","v":0},{"$f":"+[2]Séries_Site!E181","v":5016},{"$f":"+[2]Séries_Site!F181","v":115},{"$f":"+[2]Séries_Site!G181","v":4044},{"$f":"+[2]Séries_Site!H181","v":4044},{"$f":"+[2]Séries_Site!I181","v":0},{"$f":"+[2]Séries_Site!J181","v":4127},{"$f":"+[2]Séries_Site!K181","v":94},{"$f":"+[2]Séries_Site!L181","v":212},{"$f":"+[2]Séries_Site!M181","v":212},{"$f":"+[2]Séries_Site!N181","v":0},{"$f":"+[2]Séries_Site!O181","v":282},{"$f":"+[2]Séries_Site!P181","v":18},{"$f":"+[2]Séries_Site!Q181","v":397},{"$f":"+[2]Séries_Site!R181","v":397},{"$f":"+[2]Séries_Site!S181","v":0},{"$f":"+[2]Séries_Site!T181","v":532},{"$f":"+[2]Séries_Site!U181","v":3},{"$f":"+[2]Séries_Site!V181","v":0},{"$f":"+[2]Séries_Site!W181","v":0},{"$f":"+[2]Séries_Site!X181","v":0},{"$f":"+[2]Séries_Site!Y181","v":0},{"$f":"+[2]Séries_Site!Z181","v":0},{"$f":"+[2]Séries_Site!AA181","v":0},{"$f":"+[2]Séries_Site!AB181","v":0},{"$f":"+[2]Séries_Site!AC181","v":0},{"$f":"+[2]Séries_Site!AD181","v":0},{"$f":"+[2]Séries_Site!AE181","v":0},{"$f":"+[2]Séries_Site!AF181","v":75},{"$f":"+[2]Séries_Site!AG181","v":75},{"$f":"+[2]Séries_Site!AH181","v":0},{"$f":"+[2]Séries_Site!AI181","v":75},{"$f":"+[2]Séries_Site!AJ181","v":0}]
["1974-09-01",{"$f":"+[2]Séries_Site!B182","v":4912},{"$f":"+[2]Séries_Site!C182","v":4912},{"$f":"+[2]Séries_Site!D182","v":0},{"$f":"+[2]Séries_Site!E182","v":5532},{"$f":"+[2]Séries_Site!F182","v":79},{"$f":"+[2]Séries_Site!G182","v":4017},{"$f":"+[2]Séries_Site!H182","v":4017},{"$f":"+[2]Séries_Site!I182","v":0},{"$f":"+[2]Séries_Site!J182","v":4525},{"$f":"+[2]Séries_Site!K182","v":61},{"$f":"+[2]Séries_Site!L182","v":295},{"$f":"+[2]Séries_Site!M182","v":295},{"$f":"+[2]Séries_Site!N182","v":0},{"$f":"+[2]Séries_Site!O182","v":315},{"$f":"+[2]Séries_Site!P182","v":13},{"$f":"+[2]Séries_Site!Q182","v":432},{"$f":"+[2]Séries_Site!R182","v":432},{"$f":"+[2]Séries_Site!S182","v":0},{"$f":"+[2]Séries_Site!T182","v":512},{"$f":"+[2]Séries_Site!U182","v":3},{"$f":"+[2]Séries_Site!V182","v":0},{"$f":"+[2]Séries_Site!W182","v":0},{"$f":"+[2]Séries_Site!X182","v":0},{"$f":"+[2]Séries_Site!Y182","v":0},{"$f":"+[2]Séries_Site!Z182","v":0},{"$f":"+[2]Séries_Site!AA182","v":0},{"$f":"+[2]Séries_Site!AB182","v":0},{"$f":"+[2]Séries_Site!AC182","v":0},{"$f":"+[2]Séries_Site!AD182","v":0},{"$f":"+[2]Séries_Site!AE182","v":0},{"$f":"+[2]Séries_Site!AF182","v":168},{"$f":"+[2]Séries_Site!AG182","v":168},{"$f":"+[2]Séries_Site!AH182","v":0},{"$f":"+[2]Séries_Site!AI182","v":180},{"$f":"+[2]Séries_Site!AJ182","v":2}]
["1974-10-01",{"$f":"+[2]Séries_Site!B183","v":5398},{"$f":"+[2]Séries_Site!C183","v":5398},{"$f":"+[2]Séries_Site!D183","v":0},{"$f":"+[2]Séries_Site!E183","v":5360},{"$f":"+[2]Séries_Site!F183","v":239},{"$f":"+[2]Séries_Site!G183","v":4760},{"$f":"+[2]Séries_Site!H183","v":4760},{"$f":"+[2]Séries_Site!I183","v":0},{"$f":"+[2]Séries_Site!J183","v":4557},{"$f":"+[2]Séries_Site!K183","v":219},{"$f":"+[2]Séries_Site!L183","v":167},{"$f":"+[2]Séries_Site!M183","v":167},{"$f":"+[2]Séries_Site!N183","v":0},{"$f":"+[2]Séries_Site!O183","v":195},{"$f":"+[2]Séries_Site!P183","v":11},{"$f":"+[2]Séries_Site!Q183","v":316},{"$f":"+[2]Séries_Site!R183","v":316},{"$f":"+[2]Séries_Site!S183","v":0},{"$f":"+[2]Séries_Site!T183","v":450},{"$f":"+[2]Séries_Site!U183","v":2},{"$f":"+[2]Séries_Site!V183","v":0},{"$f":"+[2]Séries_Site!W183","v":0},{"$f":"+[2]Séries_Site!X183","v":0},{"$f":"+[2]Séries_Site!Y183","v":0},{"$f":"+[2]Séries_Site!Z183","v":0},{"$f":"+[2]Séries_Site!AA183","v":0},{"$f":"+[2]Séries_Site!AB183","v":0},{"$f":"+[2]Séries_Site!AC183","v":0},{"$f":"+[2]Séries_Site!AD183","v":0},{"$f":"+[2]Séries_Site!AE183","v":0},{"$f":"+[2]Séries_Site!AF183","v":155},{"$f":"+[2]Séries_Site!AG183","v":155},{"$f":"+[2]Séries_Site!AH183","v":0},{"$f":"+[2]Séries_Site!AI183","v":158},{"$f":"+[2]Séries_Site!AJ183","v":7}]
["1974-11-01",{"$f":"+[2]Séries_Site!B184","v":4282},{"$f":"+[2]Séries_Site!C184","v":4282},{"$f":"+[2]Séries_Site!D184","v":0},{"$f":"+[2]Séries_Site!E184","v":4468},{"$f":"+[2]Séries_Site!F184","v":146},{"$f":"+[2]Séries_Site!G184","v":3647},{"$f":"+[2]Séries_Site!H184","v":3647},{"$f":"+[2]Séries_Site!I184","v":0},{"$f":"+[2]Séries_Site!J184","v":3805},{"$f":"+[2]Séries_Site!K184","v":124},{"$f":"+[2]Séries_Site!L184","v":169},{"$f":"+[2]Séries_Site!M184","v":169},{"$f":"+[2]Séries_Site!N184","v":0},{"$f":"+[2]Séries_Site!O184","v":192},{"$f":"+[2]Séries_Site!P184","v":12},{"$f":"+[2]Séries_Site!Q184","v":410},{"$f":"+[2]Séries_Site!R184","v":410},{"$f":"+[2]Séries_Site!S184","v":0},{"$f":"+[2]Séries_Site!T184","v":403},{"$f":"+[2]Séries_Site!U184","v":3},{"$f":"+[2]Séries_Site!V184","v":0},{"$f":"+[2]Séries_Site!W184","v":0},{"$f":"+[2]Séries_Site!X184","v":0},{"$f":"+[2]Séries_Site!Y184","v":0},{"$f":"+[2]Séries_Site!Z184","v":0},{"$f":"+[2]Séries_Site!AA184","v":0},{"$f":"+[2]Séries_Site!AB184","v":0},{"$f":"+[2]Séries_Site!AC184","v":0},{"$f":"+[2]Séries_Site!AD184","v":0},{"$f":"+[2]Séries_Site!AE184","v":0},{"$f":"+[2]Séries_Site!AF184","v":56},{"$f":"+[2]Séries_Site!AG184","v":56},{"$f":"+[2]Séries_Site!AH184","v":0},{"$f":"+[2]Séries_Site!AI184","v":68},{"$f":"+[2]Séries_Site!AJ184","v":7}]
["1974-12-01",{"$f":"+[2]Séries_Site!B185","v":4431},{"$f":"+[2]Séries_Site!C185","v":4431},{"$f":"+[2]Séries_Site!D185","v":0},{"$f":"+[2]Séries_Site!E185","v":4376},{"$f":"+[2]Séries_Site!F185","v":108},{"$f":"+[2]Séries_Site!G185","v":3847},{"$f":"+[2]Séries_Site!H185","v":3847},{"$f":"+[2]Séries_Site!I185","v":0},{"$f":"+[2]Séries_Site!J185","v":3765},{"$f":"+[2]Séries_Site!K185","v":80},{"$f":"+[2]Séries_Site!L185","v":255},{"$f":"+[2]Séries_Site!M185","v":255},{"$f":"+[2]Séries_Site!N185","v":0},{"$f":"+[2]Séries_Site!O185","v":214},{"$f":"+[2]Séries_Site!P185","v":15},{"$f":"+[2]Séries_Site!Q185","v":258},{"$f":"+[2]Séries_Site!R185","v":258},{"$f":"+[2]Séries_Site!S185","v":0},{"$f":"+[2]Séries_Site!T185","v":319},{"$f":"+[2]Séries_Site!U185","v":3},{"$f":"+[2]Séries_Site!V185","v":0},{"$f":"+[2]Séries_Site!W185","v":0},{"$f":"+[2]Séries_Site!X185","v":0},{"$f":"+[2]Séries_Site!Y185","v":0},{"$f":"+[2]Séries_Site!Z185","v":0},{"$f":"+[2]Séries_Site!AA185","v":0},{"$f":"+[2]Séries_Site!AB185","v":0},{"$f":"+[2]Séries_Site!AC185","v":0},{"$f":"+[2]Séries_Site!AD185","v":0},{"$f":"+[2]Séries_Site!AE185","v":0},{"$f":"+[2]Séries_Site!AF185","v":71},{"$f":"+[2]Séries_Site!AG185","v":71},{"$f":"+[2]Séries_Site!AH185","v":0},{"$f":"+[2]Séries_Site!AI185","v":78},{"$f":"+[2]Séries_Site!AJ185","v":10}]
["1975-01-01",{"$f":"+[2]Séries_Site!B186","v":4584},{"$f":"+[2]Séries_Site!C186","v":4584},{"$f":"+[2]Séries_Site!D186","v":0},{"$f":"+[2]Séries_Site!E186","v":4709},{"$f":"+[2]Séries_Site!F186","v":46},{"$f":"+[2]Séries_Site!G186","v":3862},{"$f":"+[2]Séries_Site!H186","v":3862},{"$f":"+[2]Séries_Site!I186","v":0},{"$f":"+[2]Séries_Site!J186","v":3936},{"$f":"+[2]Séries_Site!K186","v":36},{"$f":"+[2]Séries_Site!L186","v":207},{"$f":"+[2]Séries_Site!M186","v":207},{"$f":"+[2]Séries_Site!N186","v":0},{"$f":"+[2]Séries_Site!O186","v":185},{"$f":"+[2]Séries_Site!P186","v":2},{"$f":"+[2]Séries_Site!Q186","v":454},{"$f":"+[2]Séries_Site!R186","v":454},{"$f":"+[2]Séries_Site!S186","v":0},{"$f":"+[2]Séries_Site!T186","v":509},{"$f":"+[2]Séries_Site!U186","v":8},{"$f":"+[2]Séries_Site!V186","v":0},{"$f":"+[2]Séries_Site!W186","v":0},{"$f":"+[2]Séries_Site!X186","v":0},{"$f":"+[2]Séries_Site!Y186","v":0},{"$f":"+[2]Séries_Site!Z186","v":0},{"$f":"+[2]Séries_Site!AA186","v":0},{"$f":"+[2]Séries_Site!AB186","v":0},{"$f":"+[2]Séries_Site!AC186","v":0},{"$f":"+[2]Séries_Site!AD186","v":0},{"$f":"+[2]Séries_Site!AE186","v":0},{"$f":"+[2]Séries_Site!AF186","v":61},{"$f":"+[2]Séries_Site!AG186","v":61},{"$f":"+[2]Séries_Site!AH186","v":0},{"$f":"+[2]Séries_Site!AI186","v":79},{"$f":"+[2]Séries_Site!AJ186","v":0}]
["1975-02-01",{"$f":"+[2]Séries_Site!B187","v":4526},{"$f":"+[2]Séries_Site!C187","v":4526},{"$f":"+[2]Séries_Site!D187","v":0},{"$f":"+[2]Séries_Site!E187","v":4778},{"$f":"+[2]Séries_Site!F187","v":105},{"$f":"+[2]Séries_Site!G187","v":3649},{"$f":"+[2]Séries_Site!H187","v":3649},{"$f":"+[2]Séries_Site!I187","v":0},{"$f":"+[2]Séries_Site!J187","v":3894},{"$f":"+[2]Séries_Site!K187","v":87},{"$f":"+[2]Séries_Site!L187","v":266},{"$f":"+[2]Séries_Site!M187","v":266},{"$f":"+[2]Séries_Site!N187","v":0},{"$f":"+[2]Séries_Site!O187","v":272},{"$f":"+[2]Séries_Site!P187","v":2},{"$f":"+[2]Séries_Site!Q187","v":460},{"$f":"+[2]Séries_Site!R187","v":460},{"$f":"+[2]Séries_Site!S187","v":0},{"$f":"+[2]Séries_Site!T187","v":469},{"$f":"+[2]Séries_Site!U187","v":8},{"$f":"+[2]Séries_Site!V187","v":0},{"$f":"+[2]Séries_Site!W187","v":0},{"$f":"+[2]Séries_Site!X187","v":0},{"$f":"+[2]Séries_Site!Y187","v":0},{"$f":"+[2]Séries_Site!Z187","v":0},{"$f":"+[2]Séries_Site!AA187","v":0},{"$f":"+[2]Séries_Site!AB187","v":0},{"$f":"+[2]Séries_Site!AC187","v":0},{"$f":"+[2]Séries_Site!AD187","v":0},{"$f":"+[2]Séries_Site!AE187","v":0},{"$f":"+[2]Séries_Site!AF187","v":151},{"$f":"+[2]Séries_Site!AG187","v":151},{"$f":"+[2]Séries_Site!AH187","v":0},{"$f":"+[2]Séries_Site!AI187","v":143},{"$f":"+[2]Séries_Site!AJ187","v":8}]
["1975-03-01",{"$f":"+[2]Séries_Site!B188","v":5615},{"$f":"+[2]Séries_Site!C188","v":5615},{"$f":"+[2]Séries_Site!D188","v":0},{"$f":"+[2]Séries_Site!E188","v":5819},{"$f":"+[2]Séries_Site!F188","v":38},{"$f":"+[2]Séries_Site!G188","v":4691},{"$f":"+[2]Séries_Site!H188","v":4691},{"$f":"+[2]Séries_Site!I188","v":0},{"$f":"+[2]Séries_Site!J188","v":4815},{"$f":"+[2]Séries_Site!K188","v":12},{"$f":"+[2]Séries_Site!L188","v":293},{"$f":"+[2]Séries_Site!M188","v":293},{"$f":"+[2]Séries_Site!N188","v":0},{"$f":"+[2]Séries_Site!O188","v":287},{"$f":"+[2]Séries_Site!P188","v":10},{"$f":"+[2]Séries_Site!Q188","v":503},{"$f":"+[2]Séries_Site!R188","v":503},{"$f":"+[2]Séries_Site!S188","v":0},{"$f":"+[2]Séries_Site!T188","v":556},{"$f":"+[2]Séries_Site!U188","v":9},{"$f":"+[2]Séries_Site!V188","v":0},{"$f":"+[2]Séries_Site!W188","v":0},{"$f":"+[2]Séries_Site!X188","v":0},{"$f":"+[2]Séries_Site!Y188","v":0},{"$f":"+[2]Séries_Site!Z188","v":0},{"$f":"+[2]Séries_Site!AA188","v":0},{"$f":"+[2]Séries_Site!AB188","v":0},{"$f":"+[2]Séries_Site!AC188","v":0},{"$f":"+[2]Séries_Site!AD188","v":0},{"$f":"+[2]Séries_Site!AE188","v":0},{"$f":"+[2]Séries_Site!AF188","v":128},{"$f":"+[2]Séries_Site!AG188","v":128},{"$f":"+[2]Séries_Site!AH188","v":0},{"$f":"+[2]Séries_Site!AI188","v":161},{"$f":"+[2]Séries_Site!AJ188","v":7}]
["1975-04-01",{"$f":"+[2]Séries_Site!B189","v":5531},{"$f":"+[2]Séries_Site!C189","v":5531},{"$f":"+[2]Séries_Site!D189","v":0},{"$f":"+[2]Séries_Site!E189","v":5483},{"$f":"+[2]Séries_Site!F189","v":109},{"$f":"+[2]Séries_Site!G189","v":4481},{"$f":"+[2]Séries_Site!H189","v":4481},{"$f":"+[2]Séries_Site!I189","v":0},{"$f":"+[2]Séries_Site!J189","v":4466},{"$f":"+[2]Séries_Site!K189","v":97},{"$f":"+[2]Séries_Site!L189","v":303},{"$f":"+[2]Séries_Site!M189","v":303},{"$f":"+[2]Séries_Site!N189","v":0},{"$f":"+[2]Séries_Site!O189","v":318},{"$f":"+[2]Séries_Site!P189","v":3},{"$f":"+[2]Séries_Site!Q189","v":583},{"$f":"+[2]Séries_Site!R189","v":583},{"$f":"+[2]Séries_Site!S189","v":0},{"$f":"+[2]Séries_Site!T189","v":556},{"$f":"+[2]Séries_Site!U189","v":9},{"$f":"+[2]Séries_Site!V189","v":0},{"$f":"+[2]Séries_Site!W189","v":0},{"$f":"+[2]Séries_Site!X189","v":0},{"$f":"+[2]Séries_Site!Y189","v":0},{"$f":"+[2]Séries_Site!Z189","v":0},{"$f":"+[2]Séries_Site!AA189","v":0},{"$f":"+[2]Séries_Site!AB189","v":0},{"$f":"+[2]Séries_Site!AC189","v":0},{"$f":"+[2]Séries_Site!AD189","v":0},{"$f":"+[2]Séries_Site!AE189","v":0},{"$f":"+[2]Séries_Site!AF189","v":164},{"$f":"+[2]Séries_Site!AG189","v":164},{"$f":"+[2]Séries_Site!AH189","v":0},{"$f":"+[2]Séries_Site!AI189","v":143},{"$f":"+[2]Séries_Site!AJ189","v":0}]
["1975-05-01",{"$f":"+[2]Séries_Site!B190","v":5493},{"$f":"+[2]Séries_Site!C190","v":5493},{"$f":"+[2]Séries_Site!D190","v":0},{"$f":"+[2]Séries_Site!E190","v":5519},{"$f":"+[2]Séries_Site!F190","v":85},{"$f":"+[2]Séries_Site!G190","v":4589},{"$f":"+[2]Séries_Site!H190","v":4589},{"$f":"+[2]Séries_Site!I190","v":0},{"$f":"+[2]Séries_Site!J190","v":4597},{"$f":"+[2]Séries_Site!K190","v":52},{"$f":"+[2]Séries_Site!L190","v":299},{"$f":"+[2]Séries_Site!M190","v":299},{"$f":"+[2]Séries_Site!N190","v":0},{"$f":"+[2]Séries_Site!O190","v":326},{"$f":"+[2]Séries_Site!P190","v":12},{"$f":"+[2]Séries_Site!Q190","v":496},{"$f":"+[2]Séries_Site!R190","v":496},{"$f":"+[2]Séries_Site!S190","v":0},{"$f":"+[2]Séries_Site!T190","v":471},{"$f":"+[2]Séries_Site!U190","v":6},{"$f":"+[2]Séries_Site!V190","v":0},{"$f":"+[2]Séries_Site!W190","v":0},{"$f":"+[2]Séries_Site!X190","v":0},{"$f":"+[2]Séries_Site!Y190","v":0},{"$f":"+[2]Séries_Site!Z190","v":0},{"$f":"+[2]Séries_Site!AA190","v":0},{"$f":"+[2]Séries_Site!AB190","v":0},{"$f":"+[2]Séries_Site!AC190","v":0},{"$f":"+[2]Séries_Site!AD190","v":0},{"$f":"+[2]Séries_Site!AE190","v":0},{"$f":"+[2]Séries_Site!AF190","v":109},{"$f":"+[2]Séries_Site!AG190","v":109},{"$f":"+[2]Séries_Site!AH190","v":0},{"$f":"+[2]Séries_Site!AI190","v":125},{"$f":"+[2]Séries_Site!AJ190","v":15}]
["1975-06-01",{"$f":"+[2]Séries_Site!B191","v":6447},{"$f":"+[2]Séries_Site!C191","v":6447},{"$f":"+[2]Séries_Site!D191","v":0},{"$f":"+[2]Séries_Site!E191","v":6709},{"$f":"+[2]Séries_Site!F191","v":93},{"$f":"+[2]Séries_Site!G191","v":5641},{"$f":"+[2]Séries_Site!H191","v":5641},{"$f":"+[2]Séries_Site!I191","v":0},{"$f":"+[2]Séries_Site!J191","v":5754},{"$f":"+[2]Séries_Site!K191","v":72},{"$f":"+[2]Séries_Site!L191","v":220},{"$f":"+[2]Séries_Site!M191","v":220},{"$f":"+[2]Séries_Site!N191","v":0},{"$f":"+[2]Séries_Site!O191","v":300},{"$f":"+[2]Séries_Site!P191","v":6},{"$f":"+[2]Séries_Site!Q191","v":436},{"$f":"+[2]Séries_Site!R191","v":436},{"$f":"+[2]Séries_Site!S191","v":0},{"$f":"+[2]Séries_Site!T191","v":491},{"$f":"+[2]Séries_Site!U191","v":7},{"$f":"+[2]Séries_Site!V191","v":0},{"$f":"+[2]Séries_Site!W191","v":0},{"$f":"+[2]Séries_Site!X191","v":0},{"$f":"+[2]Séries_Site!Y191","v":0},{"$f":"+[2]Séries_Site!Z191","v":0},{"$f":"+[2]Séries_Site!AA191","v":0},{"$f":"+[2]Séries_Site!AB191","v":0},{"$f":"+[2]Séries_Site!AC191","v":0},{"$f":"+[2]Séries_Site!AD191","v":0},{"$f":"+[2]Séries_Site!AE191","v":0},{"$f":"+[2]Séries_Site!AF191","v":150},{"$f":"+[2]Séries_Site!AG191","v":150},{"$f":"+[2]Séries_Site!AH191","v":0},{"$f":"+[2]Séries_Site!AI191","v":164},{"$f":"+[2]Séries_Site!AJ191","v":8}]
["1975-07-01",{"$f":"+[2]Séries_Site!B192","v":5901},{"$f":"+[2]Séries_Site!C192","v":5901},{"$f":"+[2]Séries_Site!D192","v":0},{"$f":"+[2]Séries_Site!E192","v":6111},{"$f":"+[2]Séries_Site!F192","v":87},{"$f":"+[2]Séries_Site!G192","v":5051},{"$f":"+[2]Séries_Site!H192","v":5051},{"$f":"+[2]Séries_Site!I192","v":0},{"$f":"+[2]Séries_Site!J192","v":5142},{"$f":"+[2]Séries_Site!K192","v":61},{"$f":"+[2]Séries_Site!L192","v":364},{"$f":"+[2]Séries_Site!M192","v":364},{"$f":"+[2]Séries_Site!N192","v":0},{"$f":"+[2]Séries_Site!O192","v":308},{"$f":"+[2]Séries_Site!P192","v":17},{"$f":"+[2]Séries_Site!Q192","v":358},{"$f":"+[2]Séries_Site!R192","v":358},{"$f":"+[2]Séries_Site!S192","v":0},{"$f":"+[2]Séries_Site!T192","v":457},{"$f":"+[2]Séries_Site!U192","v":6},{"$f":"+[2]Séries_Site!V192","v":0},{"$f":"+[2]Séries_Site!W192","v":0},{"$f":"+[2]Séries_Site!X192","v":0},{"$f":"+[2]Séries_Site!Y192","v":0},{"$f":"+[2]Séries_Site!Z192","v":0},{"$f":"+[2]Séries_Site!AA192","v":0},{"$f":"+[2]Séries_Site!AB192","v":0},{"$f":"+[2]Séries_Site!AC192","v":0},{"$f":"+[2]Séries_Site!AD192","v":0},{"$f":"+[2]Séries_Site!AE192","v":0},{"$f":"+[2]Séries_Site!AF192","v":128},{"$f":"+[2]Séries_Site!AG192","v":128},{"$f":"+[2]Séries_Site!AH192","v":0},{"$f":"+[2]Séries_Site!AI192","v":204},{"$f":"+[2]Séries_Site!AJ192","v":3}]
["1975-08-01",{"$f":"+[2]Séries_Site!B193","v":6235},{"$f":"+[2]Séries_Site!C193","v":6235},{"$f":"+[2]Séries_Site!D193","v":0},{"$f":"+[2]Séries_Site!E193","v":6264},{"$f":"+[2]Séries_Site!F193","v":94},{"$f":"+[2]Séries_Site!G193","v":5271},{"$f":"+[2]Séries_Site!H193","v":5271},{"$f":"+[2]Séries_Site!I193","v":0},{"$f":"+[2]Séries_Site!J193","v":5358},{"$f":"+[2]Séries_Site!K193","v":69},{"$f":"+[2]Séries_Site!L193","v":305},{"$f":"+[2]Séries_Site!M193","v":305},{"$f":"+[2]Séries_Site!N193","v":0},{"$f":"+[2]Séries_Site!O193","v":335},{"$f":"+[2]Séries_Site!P193","v":18},{"$f":"+[2]Séries_Site!Q193","v":497},{"$f":"+[2]Séries_Site!R193","v":497},{"$f":"+[2]Séries_Site!S193","v":0},{"$f":"+[2]Séries_Site!T193","v":455},{"$f":"+[2]Séries_Site!U193","v":7},{"$f":"+[2]Séries_Site!V193","v":0},{"$f":"+[2]Séries_Site!W193","v":0},{"$f":"+[2]Séries_Site!X193","v":0},{"$f":"+[2]Séries_Site!Y193","v":0},{"$f":"+[2]Séries_Site!Z193","v":0},{"$f":"+[2]Séries_Site!AA193","v":0},{"$f":"+[2]Séries_Site!AB193","v":0},{"$f":"+[2]Séries_Site!AC193","v":0},{"$f":"+[2]Séries_Site!AD193","v":0},{"$f":"+[2]Séries_Site!AE193","v":0},{"$f":"+[2]Séries_Site!AF193","v":162},{"$f":"+[2]Séries_Site!AG193","v":162},{"$f":"+[2]Séries_Site!AH193","v":0},{"$f":"+[2]Séries_Site!AI193","v":116},{"$f":"+[2]Séries_Site!AJ193","v":0}]
["1975-09-01",{"$f":"+[2]Séries_Site!B194","v":6633},{"$f":"+[2]Séries_Site!C194","v":6633},{"$f":"+[2]Séries_Site!D194","v":0},{"$f":"+[2]Séries_Site!E194","v":6925},{"$f":"+[2]Séries_Site!F194","v":57},{"$f":"+[2]Séries_Site!G194","v":5720},{"$f":"+[2]Séries_Site!H194","v":5720},{"$f":"+[2]Séries_Site!I194","v":0},{"$f":"+[2]Séries_Site!J194","v":5867},{"$f":"+[2]Séries_Site!K194","v":27},{"$f":"+[2]Séries_Site!L194","v":332},{"$f":"+[2]Séries_Site!M194","v":332},{"$f":"+[2]Séries_Site!N194","v":0},{"$f":"+[2]Séries_Site!O194","v":414},{"$f":"+[2]Séries_Site!P194","v":20},{"$f":"+[2]Séries_Site!Q194","v":433},{"$f":"+[2]Séries_Site!R194","v":433},{"$f":"+[2]Séries_Site!S194","v":0},{"$f":"+[2]Séries_Site!T194","v":455},{"$f":"+[2]Séries_Site!U194","v":7},{"$f":"+[2]Séries_Site!V194","v":0},{"$f":"+[2]Séries_Site!W194","v":0},{"$f":"+[2]Séries_Site!X194","v":0},{"$f":"+[2]Séries_Site!Y194","v":0},{"$f":"+[2]Séries_Site!Z194","v":0},{"$f":"+[2]Séries_Site!AA194","v":0},{"$f":"+[2]Séries_Site!AB194","v":0},{"$f":"+[2]Séries_Site!AC194","v":0},{"$f":"+[2]Séries_Site!AD194","v":0},{"$f":"+[2]Séries_Site!AE194","v":0},{"$f":"+[2]Séries_Site!AF194","v":148},{"$f":"+[2]Séries_Site!AG194","v":148},{"$f":"+[2]Séries_Site!AH194","v":0},{"$f":"+[2]Séries_Site!AI194","v":189},{"$f":"+[2]Séries_Site!AJ194","v":3}]
["1975-10-01",{"$f":"+[2]Séries_Site!B195","v":6955},{"$f":"+[2]Séries_Site!C195","v":6955},{"$f":"+[2]Séries_Site!D195","v":0},{"$f":"+[2]Séries_Site!E195","v":6967},{"$f":"+[2]Séries_Site!F195","v":75},{"$f":"+[2]Séries_Site!G195","v":6018},{"$f":"+[2]Séries_Site!H195","v":6018},{"$f":"+[2]Séries_Site!I195","v":0},{"$f":"+[2]Séries_Site!J195","v":6004},{"$f":"+[2]Séries_Site!K195","v":37},{"$f":"+[2]Séries_Site!L195","v":389},{"$f":"+[2]Séries_Site!M195","v":389},{"$f":"+[2]Séries_Site!N195","v":0},{"$f":"+[2]Séries_Site!O195","v":418},{"$f":"+[2]Séries_Site!P195","v":30},{"$f":"+[2]Séries_Site!Q195","v":395},{"$f":"+[2]Séries_Site!R195","v":395},{"$f":"+[2]Séries_Site!S195","v":0},{"$f":"+[2]Séries_Site!T195","v":431},{"$f":"+[2]Séries_Site!U195","v":6},{"$f":"+[2]Séries_Site!V195","v":0},{"$f":"+[2]Séries_Site!W195","v":0},{"$f":"+[2]Séries_Site!X195","v":0},{"$f":"+[2]Séries_Site!Y195","v":0},{"$f":"+[2]Séries_Site!Z195","v":0},{"$f":"+[2]Séries_Site!AA195","v":0},{"$f":"+[2]Séries_Site!AB195","v":0},{"$f":"+[2]Séries_Site!AC195","v":0},{"$f":"+[2]Séries_Site!AD195","v":0},{"$f":"+[2]Séries_Site!AE195","v":0},{"$f":"+[2]Séries_Site!AF195","v":153},{"$f":"+[2]Séries_Site!AG195","v":153},{"$f":"+[2]Séries_Site!AH195","v":0},{"$f":"+[2]Séries_Site!AI195","v":114},{"$f":"+[2]Séries_Site!AJ195","v":2}]
["1975-11-01",{"$f":"+[2]Séries_Site!B196","v":5469},{"$f":"+[2]Séries_Site!C196","v":5469},{"$f":"+[2]Séries_Site!D196","v":0},{"$f":"+[2]Séries_Site!E196","v":5731},{"$f":"+[2]Séries_Site!F196","v":118},{"$f":"+[2]Séries_Site!G196","v":4597},{"$f":"+[2]Séries_Site!H196","v":4597},{"$f":"+[2]Séries_Site!I196","v":0},{"$f":"+[2]Séries_Site!J196","v":4840},{"$f":"+[2]Séries_Site!K196","v":54},{"$f":"+[2]Séries_Site!L196","v":383},{"$f":"+[2]Séries_Site!M196","v":383},{"$f":"+[2]Séries_Site!N196","v":0},{"$f":"+[2]Séries_Site!O196","v":340},{"$f":"+[2]Séries_Site!P196","v":40},{"$f":"+[2]Séries_Site!Q196","v":459},{"$f":"+[2]Séries_Site!R196","v":459},{"$f":"+[2]Séries_Site!S196","v":0},{"$f":"+[2]Séries_Site!T196","v":480},{"$f":"+[2]Séries_Site!U196","v":8},{"$f":"+[2]Séries_Site!V196","v":0},{"$f":"+[2]Séries_Site!W196","v":0},{"$f":"+[2]Séries_Site!X196","v":0},{"$f":"+[2]Séries_Site!Y196","v":0},{"$f":"+[2]Séries_Site!Z196","v":0},{"$f":"+[2]Séries_Site!AA196","v":0},{"$f":"+[2]Séries_Site!AB196","v":0},{"$f":"+[2]Séries_Site!AC196","v":0},{"$f":"+[2]Séries_Site!AD196","v":0},{"$f":"+[2]Séries_Site!AE196","v":0},{"$f":"+[2]Séries_Site!AF196","v":30},{"$f":"+[2]Séries_Site!AG196","v":30},{"$f":"+[2]Séries_Site!AH196","v":0},{"$f":"+[2]Séries_Site!AI196","v":71},{"$f":"+[2]Séries_Site!AJ196","v":16}]
["1975-12-01",{"$f":"+[2]Séries_Site!B197","v":4183},{"$f":"+[2]Séries_Site!C197","v":4183},{"$f":"+[2]Séries_Site!D197","v":0},{"$f":"+[2]Séries_Site!E197","v":4379},{"$f":"+[2]Séries_Site!F197","v":27},{"$f":"+[2]Séries_Site!G197","v":3531},{"$f":"+[2]Séries_Site!H197","v":3531},{"$f":"+[2]Séries_Site!I197","v":0},{"$f":"+[2]Séries_Site!J197","v":3628},{"$f":"+[2]Séries_Site!K197","v":7},{"$f":"+[2]Séries_Site!L197","v":254},{"$f":"+[2]Séries_Site!M197","v":254},{"$f":"+[2]Séries_Site!N197","v":0},{"$f":"+[2]Séries_Site!O197","v":439},{"$f":"+[2]Séries_Site!P197","v":16},{"$f":"+[2]Séries_Site!Q197","v":304},{"$f":"+[2]Séries_Site!R197","v":304},{"$f":"+[2]Séries_Site!S197","v":0},{"$f":"+[2]Séries_Site!T197","v":276},{"$f":"+[2]Séries_Site!U197","v":4},{"$f":"+[2]Séries_Site!V197","v":0},{"$f":"+[2]Séries_Site!W197","v":0},{"$f":"+[2]Séries_Site!X197","v":0},{"$f":"+[2]Séries_Site!Y197","v":0},{"$f":"+[2]Séries_Site!Z197","v":0},{"$f":"+[2]Séries_Site!AA197","v":0},{"$f":"+[2]Séries_Site!AB197","v":0},{"$f":"+[2]Séries_Site!AC197","v":0},{"$f":"+[2]Séries_Site!AD197","v":0},{"$f":"+[2]Séries_Site!AE197","v":0},{"$f":"+[2]Séries_Site!AF197","v":94},{"$f":"+[2]Séries_Site!AG197","v":94},{"$f":"+[2]Séries_Site!AH197","v":0},{"$f":"+[2]Séries_Site!AI197","v":36},{"$f":"+[2]Séries_Site!AJ197","v":0}]
["1976-01-01",{"$f":"+[2]Séries_Site!B198","v":5417},{"$f":"+[2]Séries_Site!C198","v":5417},{"$f":"+[2]Séries_Site!D198","v":0},{"$f":"+[2]Séries_Site!E198","v":5046},{"$f":"+[2]Séries_Site!F198","v":87},{"$f":"+[2]Séries_Site!G198","v":3797},{"$f":"+[2]Séries_Site!H198","v":3797},{"$f":"+[2]Séries_Site!I198","v":0},{"$f":"+[2]Séries_Site!J198","v":3560},{"$f":"+[2]Séries_Site!K198","v":51},{"$f":"+[2]Séries_Site!L198","v":373},{"$f":"+[2]Séries_Site!M198","v":373},{"$f":"+[2]Séries_Site!N198","v":0},{"$f":"+[2]Séries_Site!O198","v":220},{"$f":"+[2]Séries_Site!P198","v":1},{"$f":"+[2]Séries_Site!Q198","v":544},{"$f":"+[2]Séries_Site!R198","v":544},{"$f":"+[2]Séries_Site!S198","v":0},{"$f":"+[2]Séries_Site!T198","v":521},{"$f":"+[2]Séries_Site!U198","v":26},{"$f":"+[2]Séries_Site!V198","v":573},{"$f":"+[2]Séries_Site!W198","v":573},{"$f":"+[2]Séries_Site!X198","v":0},{"$f":"+[2]Séries_Site!Y198","v":646},{"$f":"+[2]Séries_Site!Z198","v":9},{"$f":"+[2]Séries_Site!AA198","v":0},{"$f":"+[2]Séries_Site!AB198","v":0},{"$f":"+[2]Séries_Site!AC198","v":0},{"$f":"+[2]Séries_Site!AD198","v":0},{"$f":"+[2]Séries_Site!AE198","v":0},{"$f":"+[2]Séries_Site!AF198","v":130},{"$f":"+[2]Séries_Site!AG198","v":130},{"$f":"+[2]Séries_Site!AH198","v":0},{"$f":"+[2]Séries_Site!AI198","v":99},{"$f":"+[2]Séries_Site!AJ198","v":0}]
["1976-02-01",{"$f":"+[2]Séries_Site!B199","v":5995},{"$f":"+[2]Séries_Site!C199","v":5995},{"$f":"+[2]Séries_Site!D199","v":0},{"$f":"+[2]Séries_Site!E199","v":5599},{"$f":"+[2]Séries_Site!F199","v":50},{"$f":"+[2]Séries_Site!G199","v":4453},{"$f":"+[2]Séries_Site!H199","v":4453},{"$f":"+[2]Séries_Site!I199","v":0},{"$f":"+[2]Séries_Site!J199","v":3885},{"$f":"+[2]Séries_Site!K199","v":14},{"$f":"+[2]Séries_Site!L199","v":322},{"$f":"+[2]Séries_Site!M199","v":322},{"$f":"+[2]Séries_Site!N199","v":0},{"$f":"+[2]Séries_Site!O199","v":328},{"$f":"+[2]Séries_Site!P199","v":3},{"$f":"+[2]Séries_Site!Q199","v":496},{"$f":"+[2]Séries_Site!R199","v":496},{"$f":"+[2]Séries_Site!S199","v":0},{"$f":"+[2]Séries_Site!T199","v":521},{"$f":"+[2]Séries_Site!U199","v":21},{"$f":"+[2]Séries_Site!V199","v":554},{"$f":"+[2]Séries_Site!W199","v":554},{"$f":"+[2]Séries_Site!X199","v":0},{"$f":"+[2]Séries_Site!Y199","v":667},{"$f":"+[2]Séries_Site!Z199","v":3},{"$f":"+[2]Séries_Site!AA199","v":0},{"$f":"+[2]Séries_Site!AB199","v":0},{"$f":"+[2]Séries_Site!AC199","v":0},{"$f":"+[2]Séries_Site!AD199","v":0},{"$f":"+[2]Séries_Site!AE199","v":0},{"$f":"+[2]Séries_Site!AF199","v":170},{"$f":"+[2]Séries_Site!AG199","v":170},{"$f":"+[2]Séries_Site!AH199","v":0},{"$f":"+[2]Séries_Site!AI199","v":198},{"$f":"+[2]Séries_Site!AJ199","v":9}]
["1976-03-01",{"$f":"+[2]Séries_Site!B200","v":5151},{"$f":"+[2]Séries_Site!C200","v":5151},{"$f":"+[2]Séries_Site!D200","v":0},{"$f":"+[2]Séries_Site!E200","v":5980},{"$f":"+[2]Séries_Site!F200","v":46},{"$f":"+[2]Séries_Site!G200","v":3465},{"$f":"+[2]Séries_Site!H200","v":3465},{"$f":"+[2]Séries_Site!I200","v":0},{"$f":"+[2]Séries_Site!J200","v":4429},{"$f":"+[2]Séries_Site!K200","v":15},{"$f":"+[2]Séries_Site!L200","v":345},{"$f":"+[2]Séries_Site!M200","v":345},{"$f":"+[2]Séries_Site!N200","v":0},{"$f":"+[2]Séries_Site!O200","v":315},{"$f":"+[2]Séries_Site!P200","v":2},{"$f":"+[2]Séries_Site!Q200","v":538},{"$f":"+[2]Séries_Site!R200","v":538},{"$f":"+[2]Séries_Site!S200","v":0},{"$f":"+[2]Séries_Site!T200","v":560},{"$f":"+[2]Séries_Site!U200","v":22},{"$f":"+[2]Séries_Site!V200","v":684},{"$f":"+[2]Séries_Site!W200","v":684},{"$f":"+[2]Séries_Site!X200","v":0},{"$f":"+[2]Séries_Site!Y200","v":604},{"$f":"+[2]Séries_Site!Z200","v":7},{"$f":"+[2]Séries_Site!AA200","v":0},{"$f":"+[2]Séries_Site!AB200","v":0},{"$f":"+[2]Séries_Site!AC200","v":0},{"$f":"+[2]Séries_Site!AD200","v":0},{"$f":"+[2]Séries_Site!AE200","v":0},{"$f":"+[2]Séries_Site!AF200","v":119},{"$f":"+[2]Séries_Site!AG200","v":119},{"$f":"+[2]Séries_Site!AH200","v":0},{"$f":"+[2]Séries_Site!AI200","v":72},{"$f":"+[2]Séries_Site!AJ200","v":0}]
["1976-04-01",{"$f":"+[2]Séries_Site!B201","v":5379},{"$f":"+[2]Séries_Site!C201","v":5379},{"$f":"+[2]Séries_Site!D201","v":0},{"$f":"+[2]Séries_Site!E201","v":6003},{"$f":"+[2]Séries_Site!F201","v":119},{"$f":"+[2]Séries_Site!G201","v":4034},{"$f":"+[2]Séries_Site!H201","v":4034},{"$f":"+[2]Séries_Site!I201","v":0},{"$f":"+[2]Séries_Site!J201","v":4556},{"$f":"+[2]Séries_Site!K201","v":71},{"$f":"+[2]Séries_Site!L201","v":298},{"$f":"+[2]Séries_Site!M201","v":298},{"$f":"+[2]Séries_Site!N201","v":0},{"$f":"+[2]Séries_Site!O201","v":390},{"$f":"+[2]Séries_Site!P201","v":5},{"$f":"+[2]Séries_Site!Q201","v":499},{"$f":"+[2]Séries_Site!R201","v":499},{"$f":"+[2]Séries_Site!S201","v":0},{"$f":"+[2]Séries_Site!T201","v":550},{"$f":"+[2]Séries_Site!U201","v":27},{"$f":"+[2]Séries_Site!V201","v":456},{"$f":"+[2]Séries_Site!W201","v":456},{"$f":"+[2]Séries_Site!X201","v":0},{"$f":"+[2]Séries_Site!Y201","v":417},{"$f":"+[2]Séries_Site!Z201","v":7},{"$f":"+[2]Séries_Site!AA201","v":0},{"$f":"+[2]Séries_Site!AB201","v":0},{"$f":"+[2]Séries_Site!AC201","v":0},{"$f":"+[2]Séries_Site!AD201","v":0},{"$f":"+[2]Séries_Site!AE201","v":0},{"$f":"+[2]Séries_Site!AF201","v":92},{"$f":"+[2]Séries_Site!AG201","v":92},{"$f":"+[2]Séries_Site!AH201","v":0},{"$f":"+[2]Séries_Site!AI201","v":90},{"$f":"+[2]Séries_Site!AJ201","v":9}]
["1976-05-01",{"$f":"+[2]Séries_Site!B202","v":6620},{"$f":"+[2]Séries_Site!C202","v":6620},{"$f":"+[2]Séries_Site!D202","v":0},{"$f":"+[2]Séries_Site!E202","v":6613},{"$f":"+[2]Séries_Site!F202","v":60},{"$f":"+[2]Séries_Site!G202","v":5250},{"$f":"+[2]Séries_Site!H202","v":5250},{"$f":"+[2]Séries_Site!I202","v":0},{"$f":"+[2]Séries_Site!J202","v":5379},{"$f":"+[2]Séries_Site!K202","v":33},{"$f":"+[2]Séries_Site!L202","v":302},{"$f":"+[2]Séries_Site!M202","v":302},{"$f":"+[2]Séries_Site!N202","v":0},{"$f":"+[2]Séries_Site!O202","v":295},{"$f":"+[2]Séries_Site!P202","v":5},{"$f":"+[2]Séries_Site!Q202","v":500},{"$f":"+[2]Séries_Site!R202","v":500},{"$f":"+[2]Séries_Site!S202","v":0},{"$f":"+[2]Séries_Site!T202","v":374},{"$f":"+[2]Séries_Site!U202","v":15},{"$f":"+[2]Séries_Site!V202","v":423},{"$f":"+[2]Séries_Site!W202","v":423},{"$f":"+[2]Séries_Site!X202","v":0},{"$f":"+[2]Séries_Site!Y202","v":421},{"$f":"+[2]Séries_Site!Z202","v":2},{"$f":"+[2]Séries_Site!AA202","v":0},{"$f":"+[2]Séries_Site!AB202","v":0},{"$f":"+[2]Séries_Site!AC202","v":0},{"$f":"+[2]Séries_Site!AD202","v":0},{"$f":"+[2]Séries_Site!AE202","v":0},{"$f":"+[2]Séries_Site!AF202","v":145},{"$f":"+[2]Séries_Site!AG202","v":145},{"$f":"+[2]Séries_Site!AH202","v":0},{"$f":"+[2]Séries_Site!AI202","v":144},{"$f":"+[2]Séries_Site!AJ202","v":5}]
["1976-06-01",{"$f":"+[2]Séries_Site!B203","v":8074},{"$f":"+[2]Séries_Site!C203","v":8074},{"$f":"+[2]Séries_Site!D203","v":0},{"$f":"+[2]Séries_Site!E203","v":7797},{"$f":"+[2]Séries_Site!F203","v":66},{"$f":"+[2]Séries_Site!G203","v":6603},{"$f":"+[2]Séries_Site!H203","v":6603},{"$f":"+[2]Séries_Site!I203","v":0},{"$f":"+[2]Séries_Site!J203","v":6228},{"$f":"+[2]Séries_Site!K203","v":43},{"$f":"+[2]Séries_Site!L203","v":518},{"$f":"+[2]Séries_Site!M203","v":518},{"$f":"+[2]Séries_Site!N203","v":0},{"$f":"+[2]Séries_Site!O203","v":478},{"$f":"+[2]Séries_Site!P203","v":3},{"$f":"+[2]Séries_Site!Q203","v":420},{"$f":"+[2]Séries_Site!R203","v":420},{"$f":"+[2]Séries_Site!S203","v":0},{"$f":"+[2]Séries_Site!T203","v":374},{"$f":"+[2]Séries_Site!U203","v":15},{"$f":"+[2]Séries_Site!V203","v":256},{"$f":"+[2]Séries_Site!W203","v":256},{"$f":"+[2]Séries_Site!X203","v":0},{"$f":"+[2]Séries_Site!Y203","v":435},{"$f":"+[2]Séries_Site!Z203","v":0},{"$f":"+[2]Séries_Site!AA203","v":0},{"$f":"+[2]Séries_Site!AB203","v":0},{"$f":"+[2]Séries_Site!AC203","v":0},{"$f":"+[2]Séries_Site!AD203","v":0},{"$f":"+[2]Séries_Site!AE203","v":0},{"$f":"+[2]Séries_Site!AF203","v":277},{"$f":"+[2]Séries_Site!AG203","v":277},{"$f":"+[2]Séries_Site!AH203","v":0},{"$f":"+[2]Séries_Site!AI203","v":282},{"$f":"+[2]Séries_Site!AJ203","v":5}]
["1976-07-01",{"$f":"+[2]Séries_Site!B204","v":7849},{"$f":"+[2]Séries_Site!C204","v":7849},{"$f":"+[2]Séries_Site!D204","v":0},{"$f":"+[2]Séries_Site!E204","v":8001},{"$f":"+[2]Séries_Site!F204","v":84},{"$f":"+[2]Séries_Site!G204","v":6520},{"$f":"+[2]Séries_Site!H204","v":6520},{"$f":"+[2]Séries_Site!I204","v":0},{"$f":"+[2]Séries_Site!J204","v":6524},{"$f":"+[2]Séries_Site!K204","v":50},{"$f":"+[2]Séries_Site!L204","v":394},{"$f":"+[2]Séries_Site!M204","v":394},{"$f":"+[2]Séries_Site!N204","v":0},{"$f":"+[2]Séries_Site!O204","v":450},{"$f":"+[2]Séries_Site!P204","v":3},{"$f":"+[2]Séries_Site!Q204","v":473},{"$f":"+[2]Séries_Site!R204","v":473},{"$f":"+[2]Séries_Site!S204","v":0},{"$f":"+[2]Séries_Site!T204","v":395},{"$f":"+[2]Séries_Site!U204","v":19},{"$f":"+[2]Séries_Site!V204","v":278},{"$f":"+[2]Séries_Site!W204","v":278},{"$f":"+[2]Séries_Site!X204","v":0},{"$f":"+[2]Séries_Site!Y204","v":445},{"$f":"+[2]Séries_Site!Z204","v":3},{"$f":"+[2]Séries_Site!AA204","v":0},{"$f":"+[2]Séries_Site!AB204","v":0},{"$f":"+[2]Séries_Site!AC204","v":0},{"$f":"+[2]Séries_Site!AD204","v":0},{"$f":"+[2]Séries_Site!AE204","v":0},{"$f":"+[2]Séries_Site!AF204","v":184},{"$f":"+[2]Séries_Site!AG204","v":184},{"$f":"+[2]Séries_Site!AH204","v":0},{"$f":"+[2]Séries_Site!AI204","v":187},{"$f":"+[2]Séries_Site!AJ204","v":9}]
["1976-08-01",{"$f":"+[2]Séries_Site!B205","v":8112},{"$f":"+[2]Séries_Site!C205","v":8112},{"$f":"+[2]Séries_Site!D205","v":0},{"$f":"+[2]Séries_Site!E205","v":8287},{"$f":"+[2]Séries_Site!F205","v":58},{"$f":"+[2]Séries_Site!G205","v":6561},{"$f":"+[2]Séries_Site!H205","v":6561},{"$f":"+[2]Séries_Site!I205","v":0},{"$f":"+[2]Séries_Site!J205","v":6592},{"$f":"+[2]Séries_Site!K205","v":17},{"$f":"+[2]Séries_Site!L205","v":506},{"$f":"+[2]Séries_Site!M205","v":506},{"$f":"+[2]Séries_Site!N205","v":0},{"$f":"+[2]Séries_Site!O205","v":487},{"$f":"+[2]Séries_Site!P205","v":4},{"$f":"+[2]Séries_Site!Q205","v":501},{"$f":"+[2]Séries_Site!R205","v":501},{"$f":"+[2]Séries_Site!S205","v":0},{"$f":"+[2]Séries_Site!T205","v":416},{"$f":"+[2]Séries_Site!U205","v":23},{"$f":"+[2]Séries_Site!V205","v":313},{"$f":"+[2]Séries_Site!W205","v":313},{"$f":"+[2]Séries_Site!X205","v":0},{"$f":"+[2]Séries_Site!Y205","v":559},{"$f":"+[2]Séries_Site!Z205","v":5},{"$f":"+[2]Séries_Site!AA205","v":0},{"$f":"+[2]Séries_Site!AB205","v":0},{"$f":"+[2]Séries_Site!AC205","v":0},{"$f":"+[2]Séries_Site!AD205","v":0},{"$f":"+[2]Séries_Site!AE205","v":0},{"$f":"+[2]Séries_Site!AF205","v":231},{"$f":"+[2]Séries_Site!AG205","v":231},{"$f":"+[2]Séries_Site!AH205","v":0},{"$f":"+[2]Séries_Site!AI205","v":233},{"$f":"+[2]Séries_Site!AJ205","v":9}]
["1976-09-01",{"$f":"+[2]Séries_Site!B206","v":8327},{"$f":"+[2]Séries_Site!C206","v":8327},{"$f":"+[2]Séries_Site!D206","v":0},{"$f":"+[2]Séries_Site!E206","v":8966},{"$f":"+[2]Séries_Site!F206","v":83},{"$f":"+[2]Séries_Site!G206","v":6935},{"$f":"+[2]Séries_Site!H206","v":6935},{"$f":"+[2]Séries_Site!I206","v":0},{"$f":"+[2]Séries_Site!J206","v":7313},{"$f":"+[2]Séries_Site!K206","v":55},{"$f":"+[2]Séries_Site!L206","v":292},{"$f":"+[2]Séries_Site!M206","v":292},{"$f":"+[2]Séries_Site!N206","v":0},{"$f":"+[2]Séries_Site!O206","v":412},{"$f":"+[2]Séries_Site!P206","v":4},{"$f":"+[2]Séries_Site!Q206","v":403},{"$f":"+[2]Séries_Site!R206","v":403},{"$f":"+[2]Séries_Site!S206","v":0},{"$f":"+[2]Séries_Site!T206","v":416},{"$f":"+[2]Séries_Site!U206","v":17},{"$f":"+[2]Séries_Site!V206","v":494},{"$f":"+[2]Séries_Site!W206","v":494},{"$f":"+[2]Séries_Site!X206","v":0},{"$f":"+[2]Séries_Site!Y206","v":615},{"$f":"+[2]Séries_Site!Z206","v":7},{"$f":"+[2]Séries_Site!AA206","v":0},{"$f":"+[2]Séries_Site!AB206","v":0},{"$f":"+[2]Séries_Site!AC206","v":0},{"$f":"+[2]Séries_Site!AD206","v":0},{"$f":"+[2]Séries_Site!AE206","v":0},{"$f":"+[2]Séries_Site!AF206","v":203},{"$f":"+[2]Séries_Site!AG206","v":203},{"$f":"+[2]Séries_Site!AH206","v":0},{"$f":"+[2]Séries_Site!AI206","v":210},{"$f":"+[2]Séries_Site!AJ206","v":0}]
["1976-10-01",{"$f":"+[2]Séries_Site!B207","v":8659},{"$f":"+[2]Séries_Site!C207","v":8659},{"$f":"+[2]Séries_Site!D207","v":0},{"$f":"+[2]Séries_Site!E207","v":8532},{"$f":"+[2]Séries_Site!F207","v":74},{"$f":"+[2]Séries_Site!G207","v":7104},{"$f":"+[2]Séries_Site!H207","v":7104},{"$f":"+[2]Séries_Site!I207","v":0},{"$f":"+[2]Séries_Site!J207","v":6856},{"$f":"+[2]Séries_Site!K207","v":40},{"$f":"+[2]Séries_Site!L207","v":507},{"$f":"+[2]Séries_Site!M207","v":507},{"$f":"+[2]Séries_Site!N207","v":0},{"$f":"+[2]Séries_Site!O207","v":426},{"$f":"+[2]Séries_Site!P207","v":5},{"$f":"+[2]Séries_Site!Q207","v":407},{"$f":"+[2]Séries_Site!R207","v":407},{"$f":"+[2]Séries_Site!S207","v":0},{"$f":"+[2]Séries_Site!T207","v":379},{"$f":"+[2]Séries_Site!U207","v":15},{"$f":"+[2]Séries_Site!V207","v":383},{"$f":"+[2]Séries_Site!W207","v":383},{"$f":"+[2]Séries_Site!X207","v":0},{"$f":"+[2]Séries_Site!Y207","v":623},{"$f":"+[2]Séries_Site!Z207","v":14},{"$f":"+[2]Séries_Site!AA207","v":0},{"$f":"+[2]Séries_Site!AB207","v":0},{"$f":"+[2]Séries_Site!AC207","v":0},{"$f":"+[2]Séries_Site!AD207","v":0},{"$f":"+[2]Séries_Site!AE207","v":0},{"$f":"+[2]Séries_Site!AF207","v":258},{"$f":"+[2]Séries_Site!AG207","v":258},{"$f":"+[2]Séries_Site!AH207","v":0},{"$f":"+[2]Séries_Site!AI207","v":248},{"$f":"+[2]Séries_Site!AJ207","v":0}]
["1976-11-01",{"$f":"+[2]Séries_Site!B208","v":6229},{"$f":"+[2]Séries_Site!C208","v":6229},{"$f":"+[2]Séries_Site!D208","v":0},{"$f":"+[2]Séries_Site!E208","v":6580},{"$f":"+[2]Séries_Site!F208","v":78},{"$f":"+[2]Séries_Site!G208","v":4790},{"$f":"+[2]Séries_Site!H208","v":4790},{"$f":"+[2]Séries_Site!I208","v":0},{"$f":"+[2]Séries_Site!J208","v":5003},{"$f":"+[2]Séries_Site!K208","v":46},{"$f":"+[2]Séries_Site!L208","v":422},{"$f":"+[2]Séries_Site!M208","v":422},{"$f":"+[2]Séries_Site!N208","v":0},{"$f":"+[2]Séries_Site!O208","v":343},{"$f":"+[2]Séries_Site!P208","v":5},{"$f":"+[2]Séries_Site!Q208","v":424},{"$f":"+[2]Séries_Site!R208","v":424},{"$f":"+[2]Séries_Site!S208","v":0},{"$f":"+[2]Séries_Site!T208","v":469},{"$f":"+[2]Séries_Site!U208","v":19},{"$f":"+[2]Séries_Site!V208","v":501},{"$f":"+[2]Séries_Site!W208","v":501},{"$f":"+[2]Séries_Site!X208","v":0},{"$f":"+[2]Séries_Site!Y208","v":585},{"$f":"+[2]Séries_Site!Z208","v":8},{"$f":"+[2]Séries_Site!AA208","v":0},{"$f":"+[2]Séries_Site!AB208","v":0},{"$f":"+[2]Séries_Site!AC208","v":0},{"$f":"+[2]Séries_Site!AD208","v":0},{"$f":"+[2]Séries_Site!AE208","v":0},{"$f":"+[2]Séries_Site!AF208","v":92},{"$f":"+[2]Séries_Site!AG208","v":92},{"$f":"+[2]Séries_Site!AH208","v":0},{"$f":"+[2]Séries_Site!AI208","v":180},{"$f":"+[2]Séries_Site!AJ208","v":0}]
["1976-12-01",{"$f":"+[2]Séries_Site!B209","v":4403},{"$f":"+[2]Séries_Site!C209","v":4403},{"$f":"+[2]Séries_Site!D209","v":0},{"$f":"+[2]Séries_Site!E209","v":5228},{"$f":"+[2]Séries_Site!F209","v":71},{"$f":"+[2]Séries_Site!G209","v":3188},{"$f":"+[2]Séries_Site!H209","v":3188},{"$f":"+[2]Séries_Site!I209","v":0},{"$f":"+[2]Séries_Site!J209","v":3850},{"$f":"+[2]Séries_Site!K209","v":25},{"$f":"+[2]Séries_Site!L209","v":440},{"$f":"+[2]Séries_Site!M209","v":440},{"$f":"+[2]Séries_Site!N209","v":0},{"$f":"+[2]Séries_Site!O209","v":487},{"$f":"+[2]Séries_Site!P209","v":4},{"$f":"+[2]Séries_Site!Q209","v":332},{"$f":"+[2]Séries_Site!R209","v":332},{"$f":"+[2]Séries_Site!S209","v":0},{"$f":"+[2]Séries_Site!T209","v":300},{"$f":"+[2]Séries_Site!U209","v":18},{"$f":"+[2]Séries_Site!V209","v":400},{"$f":"+[2]Séries_Site!W209","v":400},{"$f":"+[2]Séries_Site!X209","v":0},{"$f":"+[2]Séries_Site!Y209","v":464},{"$f":"+[2]Séries_Site!Z209","v":15},{"$f":"+[2]Séries_Site!AA209","v":0},{"$f":"+[2]Séries_Site!AB209","v":0},{"$f":"+[2]Séries_Site!AC209","v":0},{"$f":"+[2]Séries_Site!AD209","v":0},{"$f":"+[2]Séries_Site!AE209","v":0},{"$f":"+[2]Séries_Site!AF209","v":43},{"$f":"+[2]Séries_Site!AG209","v":43},{"$f":"+[2]Séries_Site!AH209","v":0},{"$f":"+[2]Séries_Site!AI209","v":127},{"$f":"+[2]Séries_Site!AJ209","v":9}]
["1977-01-01",{"$f":"+[2]Séries_Site!B210","v":2814},{"$f":"+[2]Séries_Site!C210","v":2814},{"$f":"+[2]Séries_Site!D210","v":0},{"$f":"+[2]Séries_Site!E210","v":2960},{"$f":"+[2]Séries_Site!F210","v":73},{"$f":"+[2]Séries_Site!G210","v":1744},{"$f":"+[2]Séries_Site!H210","v":1744},{"$f":"+[2]Séries_Site!I210","v":0},{"$f":"+[2]Séries_Site!J210","v":1937},{"$f":"+[2]Séries_Site!K210","v":49},{"$f":"+[2]Séries_Site!L210","v":200},{"$f":"+[2]Séries_Site!M210","v":200},{"$f":"+[2]Séries_Site!N210","v":0},{"$f":"+[2]Séries_Site!O210","v":302},{"$f":"+[2]Séries_Site!P210","v":9},{"$f":"+[2]Séries_Site!Q210","v":349},{"$f":"+[2]Séries_Site!R210","v":349},{"$f":"+[2]Séries_Site!S210","v":0},{"$f":"+[2]Séries_Site!T210","v":348},{"$f":"+[2]Séries_Site!U210","v":7},{"$f":"+[2]Séries_Site!V210","v":521},{"$f":"+[2]Séries_Site!W210","v":521},{"$f":"+[2]Séries_Site!X210","v":0},{"$f":"+[2]Séries_Site!Y210","v":318},{"$f":"+[2]Séries_Site!Z210","v":8},{"$f":"+[2]Séries_Site!AA210","v":0},{"$f":"+[2]Séries_Site!AB210","v":0},{"$f":"+[2]Séries_Site!AC210","v":0},{"$f":"+[2]Séries_Site!AD210","v":0},{"$f":"+[2]Séries_Site!AE210","v":0},{"$f":"+[2]Séries_Site!AF210","v":0},{"$f":"+[2]Séries_Site!AG210","v":0},{"$f":"+[2]Séries_Site!AH210","v":0},{"$f":"+[2]Séries_Site!AI210","v":55},{"$f":"+[2]Séries_Site!AJ210","v":0}]
["1977-02-01",{"$f":"+[2]Séries_Site!B211","v":4019},{"$f":"+[2]Séries_Site!C211","v":4019},{"$f":"+[2]Séries_Site!D211","v":0},{"$f":"+[2]Séries_Site!E211","v":4971},{"$f":"+[2]Séries_Site!F211","v":160},{"$f":"+[2]Séries_Site!G211","v":2749},{"$f":"+[2]Séries_Site!H211","v":2749},{"$f":"+[2]Séries_Site!I211","v":0},{"$f":"+[2]Séries_Site!J211","v":3720},{"$f":"+[2]Séries_Site!K211","v":137},{"$f":"+[2]Séries_Site!L211","v":219},{"$f":"+[2]Séries_Site!M211","v":219},{"$f":"+[2]Séries_Site!N211","v":0},{"$f":"+[2]Séries_Site!O211","v":271},{"$f":"+[2]Séries_Site!P211","v":10},{"$f":"+[2]Séries_Site!Q211","v":379},{"$f":"+[2]Séries_Site!R211","v":379},{"$f":"+[2]Séries_Site!S211","v":0},{"$f":"+[2]Séries_Site!T211","v":386},{"$f":"+[2]Séries_Site!U211","v":6},{"$f":"+[2]Séries_Site!V211","v":555},{"$f":"+[2]Séries_Site!W211","v":555},{"$f":"+[2]Séries_Site!X211","v":0},{"$f":"+[2]Séries_Site!Y211","v":309},{"$f":"+[2]Séries_Site!Z211","v":7},{"$f":"+[2]Séries_Site!AA211","v":0},{"$f":"+[2]Séries_Site!AB211","v":0},{"$f":"+[2]Séries_Site!AC211","v":0},{"$f":"+[2]Séries_Site!AD211","v":0},{"$f":"+[2]Séries_Site!AE211","v":0},{"$f":"+[2]Séries_Site!AF211","v":117},{"$f":"+[2]Séries_Site!AG211","v":117},{"$f":"+[2]Séries_Site!AH211","v":0},{"$f":"+[2]Séries_Site!AI211","v":285},{"$f":"+[2]Séries_Site!AJ211","v":0}]
["1977-03-01",{"$f":"+[2]Séries_Site!B212","v":5574},{"$f":"+[2]Séries_Site!C212","v":5574},{"$f":"+[2]Séries_Site!D212","v":0},{"$f":"+[2]Séries_Site!E212","v":4294},{"$f":"+[2]Séries_Site!F212","v":177},{"$f":"+[2]Séries_Site!G212","v":3857},{"$f":"+[2]Séries_Site!H212","v":3857},{"$f":"+[2]Séries_Site!I212","v":0},{"$f":"+[2]Séries_Site!J212","v":2794},{"$f":"+[2]Séries_Site!K212","v":112},{"$f":"+[2]Séries_Site!L212","v":311},{"$f":"+[2]Séries_Site!M212","v":311},{"$f":"+[2]Séries_Site!N212","v":0},{"$f":"+[2]Séries_Site!O212","v":351},{"$f":"+[2]Séries_Site!P212","v":10},{"$f":"+[2]Séries_Site!Q212","v":495},{"$f":"+[2]Séries_Site!R212","v":495},{"$f":"+[2]Séries_Site!S212","v":0},{"$f":"+[2]Séries_Site!T212","v":525},{"$f":"+[2]Séries_Site!U212","v":7},{"$f":"+[2]Séries_Site!V212","v":750},{"$f":"+[2]Séries_Site!W212","v":750},{"$f":"+[2]Séries_Site!X212","v":0},{"$f":"+[2]Séries_Site!Y212","v":448},{"$f":"+[2]Séries_Site!Z212","v":27},{"$f":"+[2]Séries_Site!AA212","v":0},{"$f":"+[2]Séries_Site!AB212","v":0},{"$f":"+[2]Séries_Site!AC212","v":0},{"$f":"+[2]Séries_Site!AD212","v":0},{"$f":"+[2]Séries_Site!AE212","v":0},{"$f":"+[2]Séries_Site!AF212","v":161},{"$f":"+[2]Séries_Site!AG212","v":161},{"$f":"+[2]Séries_Site!AH212","v":0},{"$f":"+[2]Séries_Site!AI212","v":176},{"$f":"+[2]Séries_Site!AJ212","v":21}]
["1977-04-01",{"$f":"+[2]Séries_Site!B213","v":4737},{"$f":"+[2]Séries_Site!C213","v":4737},{"$f":"+[2]Séries_Site!D213","v":0},{"$f":"+[2]Séries_Site!E213","v":4351},{"$f":"+[2]Séries_Site!F213","v":153},{"$f":"+[2]Séries_Site!G213","v":3596},{"$f":"+[2]Séries_Site!H213","v":3596},{"$f":"+[2]Séries_Site!I213","v":0},{"$f":"+[2]Séries_Site!J213","v":3185},{"$f":"+[2]Séries_Site!K213","v":118},{"$f":"+[2]Séries_Site!L213","v":190},{"$f":"+[2]Séries_Site!M213","v":190},{"$f":"+[2]Séries_Site!N213","v":0},{"$f":"+[2]Séries_Site!O213","v":286},{"$f":"+[2]Séries_Site!P213","v":18},{"$f":"+[2]Séries_Site!Q213","v":404},{"$f":"+[2]Séries_Site!R213","v":404},{"$f":"+[2]Séries_Site!S213","v":0},{"$f":"+[2]Séries_Site!T213","v":483},{"$f":"+[2]Séries_Site!U213","v":8},{"$f":"+[2]Séries_Site!V213","v":410},{"$f":"+[2]Séries_Site!W213","v":410},{"$f":"+[2]Séries_Site!X213","v":0},{"$f":"+[2]Séries_Site!Y213","v":291},{"$f":"+[2]Séries_Site!Z213","v":1},{"$f":"+[2]Séries_Site!AA213","v":0},{"$f":"+[2]Séries_Site!AB213","v":0},{"$f":"+[2]Séries_Site!AC213","v":0},{"$f":"+[2]Séries_Site!AD213","v":0},{"$f":"+[2]Séries_Site!AE213","v":0},{"$f":"+[2]Séries_Site!AF213","v":137},{"$f":"+[2]Séries_Site!AG213","v":137},{"$f":"+[2]Séries_Site!AH213","v":0},{"$f":"+[2]Séries_Site!AI213","v":106},{"$f":"+[2]Séries_Site!AJ213","v":8}]
["1977-05-01",{"$f":"+[2]Séries_Site!B214","v":6259},{"$f":"+[2]Séries_Site!C214","v":6259},{"$f":"+[2]Séries_Site!D214","v":0},{"$f":"+[2]Séries_Site!E214","v":6154},{"$f":"+[2]Séries_Site!F214","v":321},{"$f":"+[2]Séries_Site!G214","v":4821},{"$f":"+[2]Séries_Site!H214","v":4821},{"$f":"+[2]Séries_Site!I214","v":0},{"$f":"+[2]Séries_Site!J214","v":4805},{"$f":"+[2]Séries_Site!K214","v":270},{"$f":"+[2]Séries_Site!L214","v":312},{"$f":"+[2]Séries_Site!M214","v":312},{"$f":"+[2]Séries_Site!N214","v":0},{"$f":"+[2]Séries_Site!O214","v":336},{"$f":"+[2]Séries_Site!P214","v":21},{"$f":"+[2]Séries_Site!Q214","v":525},{"$f":"+[2]Séries_Site!R214","v":525},{"$f":"+[2]Séries_Site!S214","v":0},{"$f":"+[2]Séries_Site!T214","v":549},{"$f":"+[2]Séries_Site!U214","v":21},{"$f":"+[2]Séries_Site!V214","v":436},{"$f":"+[2]Séries_Site!W214","v":436},{"$f":"+[2]Séries_Site!X214","v":0},{"$f":"+[2]Séries_Site!Y214","v":337},{"$f":"+[2]Séries_Site!Z214","v":9},{"$f":"+[2]Séries_Site!AA214","v":0},{"$f":"+[2]Séries_Site!AB214","v":0},{"$f":"+[2]Séries_Site!AC214","v":0},{"$f":"+[2]Séries_Site!AD214","v":0},{"$f":"+[2]Séries_Site!AE214","v":0},{"$f":"+[2]Séries_Site!AF214","v":165},{"$f":"+[2]Séries_Site!AG214","v":165},{"$f":"+[2]Séries_Site!AH214","v":0},{"$f":"+[2]Séries_Site!AI214","v":127},{"$f":"+[2]Séries_Site!AJ214","v":0}]
["1977-06-01",{"$f":"+[2]Séries_Site!B215","v":6329},{"$f":"+[2]Séries_Site!C215","v":6329},{"$f":"+[2]Séries_Site!D215","v":0},{"$f":"+[2]Séries_Site!E215","v":6682},{"$f":"+[2]Séries_Site!F215","v":221},{"$f":"+[2]Séries_Site!G215","v":5010},{"$f":"+[2]Séries_Site!H215","v":5010},{"$f":"+[2]Séries_Site!I215","v":0},{"$f":"+[2]Séries_Site!J215","v":5301},{"$f":"+[2]Séries_Site!K215","v":182},{"$f":"+[2]Séries_Site!L215","v":250},{"$f":"+[2]Séries_Site!M215","v":250},{"$f":"+[2]Séries_Site!N215","v":0},{"$f":"+[2]Séries_Site!O215","v":391},{"$f":"+[2]Séries_Site!P215","v":18},{"$f":"+[2]Séries_Site!Q215","v":516},{"$f":"+[2]Séries_Site!R215","v":516},{"$f":"+[2]Séries_Site!S215","v":0},{"$f":"+[2]Séries_Site!T215","v":597},{"$f":"+[2]Séries_Site!U215","v":13},{"$f":"+[2]Séries_Site!V215","v":345},{"$f":"+[2]Séries_Site!W215","v":345},{"$f":"+[2]Séries_Site!X215","v":0},{"$f":"+[2]Séries_Site!Y215","v":385},{"$f":"+[2]Séries_Site!Z215","v":2},{"$f":"+[2]Séries_Site!AA215","v":0},{"$f":"+[2]Séries_Site!AB215","v":0},{"$f":"+[2]Séries_Site!AC215","v":0},{"$f":"+[2]Séries_Site!AD215","v":0},{"$f":"+[2]Séries_Site!AE215","v":0},{"$f":"+[2]Séries_Site!AF215","v":208},{"$f":"+[2]Séries_Site!AG215","v":208},{"$f":"+[2]Séries_Site!AH215","v":0},{"$f":"+[2]Séries_Site!AI215","v":8},{"$f":"+[2]Séries_Site!AJ215","v":6}]
["1977-07-01",{"$f":"+[2]Séries_Site!B216","v":6266},{"$f":"+[2]Séries_Site!C216","v":6266},{"$f":"+[2]Séries_Site!D216","v":0},{"$f":"+[2]Séries_Site!E216","v":6906},{"$f":"+[2]Séries_Site!F216","v":755},{"$f":"+[2]Séries_Site!G216","v":5133},{"$f":"+[2]Séries_Site!H216","v":5133},{"$f":"+[2]Séries_Site!I216","v":0},{"$f":"+[2]Séries_Site!J216","v":5690},{"$f":"+[2]Séries_Site!K216","v":716},{"$f":"+[2]Séries_Site!L216","v":283},{"$f":"+[2]Séries_Site!M216","v":283},{"$f":"+[2]Séries_Site!N216","v":0},{"$f":"+[2]Séries_Site!O216","v":218},{"$f":"+[2]Séries_Site!P216","v":19},{"$f":"+[2]Séries_Site!Q216","v":439},{"$f":"+[2]Séries_Site!R216","v":439},{"$f":"+[2]Séries_Site!S216","v":0},{"$f":"+[2]Séries_Site!T216","v":500},{"$f":"+[2]Séries_Site!U216","v":9},{"$f":"+[2]Séries_Site!V216","v":270},{"$f":"+[2]Séries_Site!W216","v":270},{"$f":"+[2]Séries_Site!X216","v":0},{"$f":"+[2]Séries_Site!Y216","v":349},{"$f":"+[2]Séries_Site!Z216","v":3},{"$f":"+[2]Séries_Site!AA216","v":0},{"$f":"+[2]Séries_Site!AB216","v":0},{"$f":"+[2]Séries_Site!AC216","v":0},{"$f":"+[2]Séries_Site!AD216","v":0},{"$f":"+[2]Séries_Site!AE216","v":0},{"$f":"+[2]Séries_Site!AF216","v":141},{"$f":"+[2]Séries_Site!AG216","v":141},{"$f":"+[2]Séries_Site!AH216","v":0},{"$f":"+[2]Séries_Site!AI216","v":149},{"$f":"+[2]Séries_Site!AJ216","v":8}]
["1977-08-01",{"$f":"+[2]Séries_Site!B217","v":6337},{"$f":"+[2]Séries_Site!C217","v":6337},{"$f":"+[2]Séries_Site!D217","v":0},{"$f":"+[2]Séries_Site!E217","v":6587},{"$f":"+[2]Séries_Site!F217","v":283},{"$f":"+[2]Séries_Site!G217","v":5170},{"$f":"+[2]Séries_Site!H217","v":5170},{"$f":"+[2]Séries_Site!I217","v":0},{"$f":"+[2]Séries_Site!J217","v":5505},{"$f":"+[2]Séries_Site!K217","v":241},{"$f":"+[2]Séries_Site!L217","v":276},{"$f":"+[2]Séries_Site!M217","v":276},{"$f":"+[2]Séries_Site!N217","v":0},{"$f":"+[2]Séries_Site!O217","v":180},{"$f":"+[2]Séries_Site!P217","v":15},{"$f":"+[2]Séries_Site!Q217","v":508},{"$f":"+[2]Séries_Site!R217","v":508},{"$f":"+[2]Séries_Site!S217","v":0},{"$f":"+[2]Séries_Site!T217","v":554},{"$f":"+[2]Séries_Site!U217","v":15},{"$f":"+[2]Séries_Site!V217","v":367},{"$f":"+[2]Séries_Site!W217","v":367},{"$f":"+[2]Séries_Site!X217","v":0},{"$f":"+[2]Séries_Site!Y217","v":333},{"$f":"+[2]Séries_Site!Z217","v":12},{"$f":"+[2]Séries_Site!AA217","v":0},{"$f":"+[2]Séries_Site!AB217","v":0},{"$f":"+[2]Séries_Site!AC217","v":0},{"$f":"+[2]Séries_Site!AD217","v":0},{"$f":"+[2]Séries_Site!AE217","v":0},{"$f":"+[2]Séries_Site!AF217","v":16},{"$f":"+[2]Séries_Site!AG217","v":16},{"$f":"+[2]Séries_Site!AH217","v":0},{"$f":"+[2]Séries_Site!AI217","v":15},{"$f":"+[2]Séries_Site!AJ217","v":0}]
["1977-09-01",{"$f":"+[2]Séries_Site!B218","v":6983},{"$f":"+[2]Séries_Site!C218","v":6983},{"$f":"+[2]Séries_Site!D218","v":0},{"$f":"+[2]Séries_Site!E218","v":7685},{"$f":"+[2]Séries_Site!F218","v":308},{"$f":"+[2]Séries_Site!G218","v":5521},{"$f":"+[2]Séries_Site!H218","v":5521},{"$f":"+[2]Séries_Site!I218","v":0},{"$f":"+[2]Séries_Site!J218","v":6186},{"$f":"+[2]Séries_Site!K218","v":247},{"$f":"+[2]Séries_Site!L218","v":368},{"$f":"+[2]Séries_Site!M218","v":368},{"$f":"+[2]Séries_Site!N218","v":0},{"$f":"+[2]Séries_Site!O218","v":312},{"$f":"+[2]Séries_Site!P218","v":19},{"$f":"+[2]Séries_Site!Q218","v":467},{"$f":"+[2]Séries_Site!R218","v":467},{"$f":"+[2]Séries_Site!S218","v":0},{"$f":"+[2]Séries_Site!T218","v":446},{"$f":"+[2]Séries_Site!U218","v":15},{"$f":"+[2]Séries_Site!V218","v":407},{"$f":"+[2]Séries_Site!W218","v":407},{"$f":"+[2]Séries_Site!X218","v":0},{"$f":"+[2]Séries_Site!Y218","v":456},{"$f":"+[2]Séries_Site!Z218","v":10},{"$f":"+[2]Séries_Site!AA218","v":0},{"$f":"+[2]Séries_Site!AB218","v":0},{"$f":"+[2]Séries_Site!AC218","v":0},{"$f":"+[2]Séries_Site!AD218","v":0},{"$f":"+[2]Séries_Site!AE218","v":0},{"$f":"+[2]Séries_Site!AF218","v":220},{"$f":"+[2]Séries_Site!AG218","v":220},{"$f":"+[2]Séries_Site!AH218","v":0},{"$f":"+[2]Séries_Site!AI218","v":285},{"$f":"+[2]Séries_Site!AJ218","v":17}]
["1977-10-01",{"$f":"+[2]Séries_Site!B219","v":5874},{"$f":"+[2]Séries_Site!C219","v":5874},{"$f":"+[2]Séries_Site!D219","v":0},{"$f":"+[2]Séries_Site!E219","v":6716},{"$f":"+[2]Séries_Site!F219","v":1152},{"$f":"+[2]Séries_Site!G219","v":4658},{"$f":"+[2]Séries_Site!H219","v":4658},{"$f":"+[2]Séries_Site!I219","v":0},{"$f":"+[2]Séries_Site!J219","v":5601},{"$f":"+[2]Séries_Site!K219","v":1074},{"$f":"+[2]Séries_Site!L219","v":323},{"$f":"+[2]Séries_Site!M219","v":323},{"$f":"+[2]Séries_Site!N219","v":0},{"$f":"+[2]Séries_Site!O219","v":224},{"$f":"+[2]Séries_Site!P219","v":25},{"$f":"+[2]Séries_Site!Q219","v":410},{"$f":"+[2]Séries_Site!R219","v":410},{"$f":"+[2]Séries_Site!S219","v":0},{"$f":"+[2]Séries_Site!T219","v":307},{"$f":"+[2]Séries_Site!U219","v":13},{"$f":"+[2]Séries_Site!V219","v":273},{"$f":"+[2]Séries_Site!W219","v":273},{"$f":"+[2]Séries_Site!X219","v":0},{"$f":"+[2]Séries_Site!Y219","v":387},{"$f":"+[2]Séries_Site!Z219","v":21},{"$f":"+[2]Séries_Site!AA219","v":0},{"$f":"+[2]Séries_Site!AB219","v":0},{"$f":"+[2]Séries_Site!AC219","v":0},{"$f":"+[2]Séries_Site!AD219","v":0},{"$f":"+[2]Séries_Site!AE219","v":0},{"$f":"+[2]Séries_Site!AF219","v":210},{"$f":"+[2]Séries_Site!AG219","v":210},{"$f":"+[2]Séries_Site!AH219","v":0},{"$f":"+[2]Séries_Site!AI219","v":197},{"$f":"+[2]Séries_Site!AJ219","v":19}]
["1977-11-01",{"$f":"+[2]Séries_Site!B220","v":3865},{"$f":"+[2]Séries_Site!C220","v":3865},{"$f":"+[2]Séries_Site!D220","v":0},{"$f":"+[2]Séries_Site!E220","v":5298},{"$f":"+[2]Séries_Site!F220","v":626},{"$f":"+[2]Séries_Site!G220","v":2830},{"$f":"+[2]Séries_Site!H220","v":2830},{"$f":"+[2]Séries_Site!I220","v":0},{"$f":"+[2]Séries_Site!J220","v":4200},{"$f":"+[2]Séries_Site!K220","v":580},{"$f":"+[2]Séries_Site!L220","v":233},{"$f":"+[2]Séries_Site!M220","v":233},{"$f":"+[2]Séries_Site!N220","v":0},{"$f":"+[2]Séries_Site!O220","v":267},{"$f":"+[2]Séries_Site!P220","v":19},{"$f":"+[2]Séries_Site!Q220","v":382},{"$f":"+[2]Séries_Site!R220","v":382},{"$f":"+[2]Séries_Site!S220","v":0},{"$f":"+[2]Séries_Site!T220","v":378},{"$f":"+[2]Séries_Site!U220","v":13},{"$f":"+[2]Séries_Site!V220","v":382},{"$f":"+[2]Séries_Site!W220","v":382},{"$f":"+[2]Séries_Site!X220","v":0},{"$f":"+[2]Séries_Site!Y220","v":368},{"$f":"+[2]Séries_Site!Z220","v":14},{"$f":"+[2]Séries_Site!AA220","v":0},{"$f":"+[2]Séries_Site!AB220","v":0},{"$f":"+[2]Séries_Site!AC220","v":0},{"$f":"+[2]Séries_Site!AD220","v":0},{"$f":"+[2]Séries_Site!AE220","v":0},{"$f":"+[2]Séries_Site!AF220","v":38},{"$f":"+[2]Séries_Site!AG220","v":38},{"$f":"+[2]Séries_Site!AH220","v":0},{"$f":"+[2]Séries_Site!AI220","v":85},{"$f":"+[2]Séries_Site!AJ220","v":0}]
["1977-12-01",{"$f":"+[2]Séries_Site!B221","v":3806},{"$f":"+[2]Séries_Site!C221","v":3806},{"$f":"+[2]Séries_Site!D221","v":0},{"$f":"+[2]Séries_Site!E221","v":4292},{"$f":"+[2]Séries_Site!F221","v":859},{"$f":"+[2]Séries_Site!G221","v":2726},{"$f":"+[2]Séries_Site!H221","v":2726},{"$f":"+[2]Séries_Site!I221","v":0},{"$f":"+[2]Séries_Site!J221","v":3303},{"$f":"+[2]Séries_Site!K221","v":820},{"$f":"+[2]Séries_Site!L221","v":286},{"$f":"+[2]Séries_Site!M221","v":286},{"$f":"+[2]Séries_Site!N221","v":0},{"$f":"+[2]Séries_Site!O221","v":336},{"$f":"+[2]Séries_Site!P221","v":19},{"$f":"+[2]Séries_Site!Q221","v":278},{"$f":"+[2]Séries_Site!R221","v":278},{"$f":"+[2]Séries_Site!S221","v":0},{"$f":"+[2]Séries_Site!T221","v":311},{"$f":"+[2]Séries_Site!U221","v":5},{"$f":"+[2]Séries_Site!V221","v":411},{"$f":"+[2]Séries_Site!W221","v":411},{"$f":"+[2]Séries_Site!X221","v":0},{"$f":"+[2]Séries_Site!Y221","v":261},{"$f":"+[2]Séries_Site!Z221","v":15},{"$f":"+[2]Séries_Site!AA221","v":0},{"$f":"+[2]Séries_Site!AB221","v":0},{"$f":"+[2]Séries_Site!AC221","v":0},{"$f":"+[2]Séries_Site!AD221","v":0},{"$f":"+[2]Séries_Site!AE221","v":0},{"$f":"+[2]Séries_Site!AF221","v":105},{"$f":"+[2]Séries_Site!AG221","v":105},{"$f":"+[2]Séries_Site!AH221","v":0},{"$f":"+[2]Séries_Site!AI221","v":81},{"$f":"+[2]Séries_Site!AJ221","v":0}]
["1978-01-01",{"$f":"+[2]Séries_Site!B222","v":3239},{"$f":"+[2]Séries_Site!C222","v":3239},{"$f":"+[2]Séries_Site!D222","v":0},{"$f":"+[2]Séries_Site!E222","v":4385},{"$f":"+[2]Séries_Site!F222","v":886},{"$f":"+[2]Séries_Site!G222","v":2022},{"$f":"+[2]Séries_Site!H222","v":2022},{"$f":"+[2]Séries_Site!I222","v":0},{"$f":"+[2]Séries_Site!J222","v":3212},{"$f":"+[2]Séries_Site!K222","v":833},{"$f":"+[2]Séries_Site!L222","v":183},{"$f":"+[2]Séries_Site!M222","v":183},{"$f":"+[2]Séries_Site!N222","v":0},{"$f":"+[2]Séries_Site!O222","v":234},{"$f":"+[2]Séries_Site!P222","v":11},{"$f":"+[2]Séries_Site!Q222","v":415},{"$f":"+[2]Séries_Site!R222","v":415},{"$f":"+[2]Séries_Site!S222","v":0},{"$f":"+[2]Séries_Site!T222","v":371},{"$f":"+[2]Séries_Site!U222","v":16},{"$f":"+[2]Séries_Site!V222","v":503},{"$f":"+[2]Séries_Site!W222","v":503},{"$f":"+[2]Séries_Site!X222","v":0},{"$f":"+[2]Séries_Site!Y222","v":401},{"$f":"+[2]Séries_Site!Z222","v":2},{"$f":"+[2]Séries_Site!AA222","v":0},{"$f":"+[2]Séries_Site!AB222","v":0},{"$f":"+[2]Séries_Site!AC222","v":0},{"$f":"+[2]Séries_Site!AD222","v":0},{"$f":"+[2]Séries_Site!AE222","v":0},{"$f":"+[2]Séries_Site!AF222","v":116},{"$f":"+[2]Séries_Site!AG222","v":116},{"$f":"+[2]Séries_Site!AH222","v":0},{"$f":"+[2]Séries_Site!AI222","v":167},{"$f":"+[2]Séries_Site!AJ222","v":24}]
["1978-02-01",{"$f":"+[2]Séries_Site!B223","v":3416},{"$f":"+[2]Séries_Site!C223","v":3416},{"$f":"+[2]Séries_Site!D223","v":0},{"$f":"+[2]Séries_Site!E223","v":5146},{"$f":"+[2]Séries_Site!F223","v":411},{"$f":"+[2]Séries_Site!G223","v":2283},{"$f":"+[2]Séries_Site!H223","v":2283},{"$f":"+[2]Séries_Site!I223","v":0},{"$f":"+[2]Séries_Site!J223","v":4020},{"$f":"+[2]Séries_Site!K223","v":313},{"$f":"+[2]Séries_Site!L223","v":181},{"$f":"+[2]Séries_Site!M223","v":181},{"$f":"+[2]Séries_Site!N223","v":0},{"$f":"+[2]Séries_Site!O223","v":202},{"$f":"+[2]Séries_Site!P223","v":17},{"$f":"+[2]Séries_Site!Q223","v":337},{"$f":"+[2]Séries_Site!R223","v":337},{"$f":"+[2]Séries_Site!S223","v":0},{"$f":"+[2]Séries_Site!T223","v":360},{"$f":"+[2]Séries_Site!U223","v":26},{"$f":"+[2]Séries_Site!V223","v":488},{"$f":"+[2]Séries_Site!W223","v":488},{"$f":"+[2]Séries_Site!X223","v":0},{"$f":"+[2]Séries_Site!Y223","v":406},{"$f":"+[2]Séries_Site!Z223","v":29},{"$f":"+[2]Séries_Site!AA223","v":0},{"$f":"+[2]Séries_Site!AB223","v":0},{"$f":"+[2]Séries_Site!AC223","v":0},{"$f":"+[2]Séries_Site!AD223","v":0},{"$f":"+[2]Séries_Site!AE223","v":0},{"$f":"+[2]Séries_Site!AF223","v":127},{"$f":"+[2]Séries_Site!AG223","v":127},{"$f":"+[2]Séries_Site!AH223","v":0},{"$f":"+[2]Séries_Site!AI223","v":158},{"$f":"+[2]Séries_Site!AJ223","v":26}]
["1978-03-01",{"$f":"+[2]Séries_Site!B224","v":4901},{"$f":"+[2]Séries_Site!C224","v":4901},{"$f":"+[2]Séries_Site!D224","v":0},{"$f":"+[2]Séries_Site!E224","v":6211},{"$f":"+[2]Séries_Site!F224","v":1736},{"$f":"+[2]Séries_Site!G224","v":3652},{"$f":"+[2]Séries_Site!H224","v":3652},{"$f":"+[2]Séries_Site!I224","v":0},{"$f":"+[2]Séries_Site!J224","v":4580},{"$f":"+[2]Séries_Site!K224","v":1598},{"$f":"+[2]Séries_Site!L224","v":186},{"$f":"+[2]Séries_Site!M224","v":186},{"$f":"+[2]Séries_Site!N224","v":0},{"$f":"+[2]Séries_Site!O224","v":338},{"$f":"+[2]Séries_Site!P224","v":27},{"$f":"+[2]Séries_Site!Q224","v":390},{"$f":"+[2]Séries_Site!R224","v":390},{"$f":"+[2]Séries_Site!S224","v":0},{"$f":"+[2]Séries_Site!T224","v":415},{"$f":"+[2]Séries_Site!U224","v":16},{"$f":"+[2]Séries_Site!V224","v":411},{"$f":"+[2]Séries_Site!W224","v":411},{"$f":"+[2]Séries_Site!X224","v":0},{"$f":"+[2]Séries_Site!Y224","v":485},{"$f":"+[2]Séries_Site!Z224","v":41},{"$f":"+[2]Séries_Site!AA224","v":0},{"$f":"+[2]Séries_Site!AB224","v":0},{"$f":"+[2]Séries_Site!AC224","v":0},{"$f":"+[2]Séries_Site!AD224","v":0},{"$f":"+[2]Séries_Site!AE224","v":0},{"$f":"+[2]Séries_Site!AF224","v":262},{"$f":"+[2]Séries_Site!AG224","v":262},{"$f":"+[2]Séries_Site!AH224","v":0},{"$f":"+[2]Séries_Site!AI224","v":393},{"$f":"+[2]Séries_Site!AJ224","v":54}]
["1978-04-01",{"$f":"+[2]Séries_Site!B225","v":3802},{"$f":"+[2]Séries_Site!C225","v":3802},{"$f":"+[2]Séries_Site!D225","v":0},{"$f":"+[2]Séries_Site!E225","v":5955},{"$f":"+[2]Séries_Site!F225","v":475},{"$f":"+[2]Séries_Site!G225","v":2758},{"$f":"+[2]Séries_Site!H225","v":2758},{"$f":"+[2]Séries_Site!I225","v":0},{"$f":"+[2]Séries_Site!J225","v":4712},{"$f":"+[2]Séries_Site!K225","v":416},{"$f":"+[2]Séries_Site!L225","v":238},{"$f":"+[2]Séries_Site!M225","v":238},{"$f":"+[2]Séries_Site!N225","v":0},{"$f":"+[2]Séries_Site!O225","v":246},{"$f":"+[2]Séries_Site!P225","v":10},{"$f":"+[2]Séries_Site!Q225","v":404},{"$f":"+[2]Séries_Site!R225","v":404},{"$f":"+[2]Séries_Site!S225","v":0},{"$f":"+[2]Séries_Site!T225","v":421},{"$f":"+[2]Séries_Site!U225","v":19},{"$f":"+[2]Séries_Site!V225","v":253},{"$f":"+[2]Séries_Site!W225","v":253},{"$f":"+[2]Séries_Site!X225","v":0},{"$f":"+[2]Séries_Site!Y225","v":258},{"$f":"+[2]Séries_Site!Z225","v":0},{"$f":"+[2]Séries_Site!AA225","v":0},{"$f":"+[2]Séries_Site!AB225","v":0},{"$f":"+[2]Séries_Site!AC225","v":0},{"$f":"+[2]Séries_Site!AD225","v":0},{"$f":"+[2]Séries_Site!AE225","v":0},{"$f":"+[2]Séries_Site!AF225","v":149},{"$f":"+[2]Séries_Site!AG225","v":149},{"$f":"+[2]Séries_Site!AH225","v":0},{"$f":"+[2]Séries_Site!AI225","v":318},{"$f":"+[2]Séries_Site!AJ225","v":30}]
["1978-05-01",{"$f":"+[2]Séries_Site!B226","v":4208},{"$f":"+[2]Séries_Site!C226","v":4208},{"$f":"+[2]Séries_Site!D226","v":0},{"$f":"+[2]Séries_Site!E226","v":4878},{"$f":"+[2]Séries_Site!F226","v":178},{"$f":"+[2]Séries_Site!G226","v":3178},{"$f":"+[2]Séries_Site!H226","v":3178},{"$f":"+[2]Séries_Site!I226","v":0},{"$f":"+[2]Séries_Site!J226","v":3673},{"$f":"+[2]Séries_Site!K226","v":91},{"$f":"+[2]Séries_Site!L226","v":216},{"$f":"+[2]Séries_Site!M226","v":216},{"$f":"+[2]Séries_Site!N226","v":0},{"$f":"+[2]Séries_Site!O226","v":272},{"$f":"+[2]Séries_Site!P226","v":19},{"$f":"+[2]Séries_Site!Q226","v":435},{"$f":"+[2]Séries_Site!R226","v":435},{"$f":"+[2]Séries_Site!S226","v":0},{"$f":"+[2]Séries_Site!T226","v":481},{"$f":"+[2]Séries_Site!U226","v":41},{"$f":"+[2]Séries_Site!V226","v":249},{"$f":"+[2]Séries_Site!W226","v":249},{"$f":"+[2]Séries_Site!X226","v":0},{"$f":"+[2]Séries_Site!Y226","v":264},{"$f":"+[2]Séries_Site!Z226","v":0},{"$f":"+[2]Séries_Site!AA226","v":0},{"$f":"+[2]Séries_Site!AB226","v":0},{"$f":"+[2]Séries_Site!AC226","v":0},{"$f":"+[2]Séries_Site!AD226","v":0},{"$f":"+[2]Séries_Site!AE226","v":0},{"$f":"+[2]Séries_Site!AF226","v":130},{"$f":"+[2]Séries_Site!AG226","v":130},{"$f":"+[2]Séries_Site!AH226","v":0},{"$f":"+[2]Séries_Site!AI226","v":188},{"$f":"+[2]Séries_Site!AJ226","v":27}]
["1978-06-01",{"$f":"+[2]Séries_Site!B227","v":4744},{"$f":"+[2]Séries_Site!C227","v":4744},{"$f":"+[2]Séries_Site!D227","v":0},{"$f":"+[2]Séries_Site!E227","v":4551},{"$f":"+[2]Séries_Site!F227","v":1014},{"$f":"+[2]Séries_Site!G227","v":3773},{"$f":"+[2]Séries_Site!H227","v":3773},{"$f":"+[2]Séries_Site!I227","v":0},{"$f":"+[2]Séries_Site!J227","v":3225},{"$f":"+[2]Séries_Site!K227","v":950},{"$f":"+[2]Séries_Site!L227","v":187},{"$f":"+[2]Séries_Site!M227","v":187},{"$f":"+[2]Séries_Site!N227","v":0},{"$f":"+[2]Séries_Site!O227","v":234},{"$f":"+[2]Séries_Site!P227","v":2},{"$f":"+[2]Séries_Site!Q227","v":491},{"$f":"+[2]Séries_Site!R227","v":491},{"$f":"+[2]Séries_Site!S227","v":0},{"$f":"+[2]Séries_Site!T227","v":581},{"$f":"+[2]Séries_Site!U227","v":26},{"$f":"+[2]Séries_Site!V227","v":142},{"$f":"+[2]Séries_Site!W227","v":142},{"$f":"+[2]Séries_Site!X227","v":0},{"$f":"+[2]Séries_Site!Y227","v":290},{"$f":"+[2]Séries_Site!Z227","v":3},{"$f":"+[2]Séries_Site!AA227","v":0},{"$f":"+[2]Séries_Site!AB227","v":0},{"$f":"+[2]Séries_Site!AC227","v":0},{"$f":"+[2]Séries_Site!AD227","v":0},{"$f":"+[2]Séries_Site!AE227","v":0},{"$f":"+[2]Séries_Site!AF227","v":151},{"$f":"+[2]Séries_Site!AG227","v":151},{"$f":"+[2]Séries_Site!AH227","v":0},{"$f":"+[2]Séries_Site!AI227","v":221},{"$f":"+[2]Séries_Site!AJ227","v":33}]
["1978-07-01",{"$f":"+[2]Séries_Site!B228","v":5504},{"$f":"+[2]Séries_Site!C228","v":5504},{"$f":"+[2]Séries_Site!D228","v":0},{"$f":"+[2]Séries_Site!E228","v":5101},{"$f":"+[2]Séries_Site!F228","v":165},{"$f":"+[2]Séries_Site!G228","v":4490},{"$f":"+[2]Séries_Site!H228","v":4490},{"$f":"+[2]Séries_Site!I228","v":0},{"$f":"+[2]Séries_Site!J228","v":3600},{"$f":"+[2]Séries_Site!K228","v":117},{"$f":"+[2]Séries_Site!L228","v":267},{"$f":"+[2]Séries_Site!M228","v":267},{"$f":"+[2]Séries_Site!N228","v":0},{"$f":"+[2]Séries_Site!O228","v":230},{"$f":"+[2]Séries_Site!P228","v":18},{"$f":"+[2]Séries_Site!Q228","v":571},{"$f":"+[2]Séries_Site!R228","v":571},{"$f":"+[2]Séries_Site!S228","v":0},{"$f":"+[2]Séries_Site!T228","v":531},{"$f":"+[2]Séries_Site!U228","v":8},{"$f":"+[2]Séries_Site!V228","v":90},{"$f":"+[2]Séries_Site!W228","v":90},{"$f":"+[2]Séries_Site!X228","v":0},{"$f":"+[2]Séries_Site!Y228","v":246},{"$f":"+[2]Séries_Site!Z228","v":3},{"$f":"+[2]Séries_Site!AA228","v":0},{"$f":"+[2]Séries_Site!AB228","v":0},{"$f":"+[2]Séries_Site!AC228","v":0},{"$f":"+[2]Séries_Site!AD228","v":0},{"$f":"+[2]Séries_Site!AE228","v":0},{"$f":"+[2]Séries_Site!AF228","v":86},{"$f":"+[2]Séries_Site!AG228","v":86},{"$f":"+[2]Séries_Site!AH228","v":0},{"$f":"+[2]Séries_Site!AI228","v":494},{"$f":"+[2]Séries_Site!AJ228","v":19}]
["1978-08-01",{"$f":"+[2]Séries_Site!B229","v":6429},{"$f":"+[2]Séries_Site!C229","v":6429},{"$f":"+[2]Séries_Site!D229","v":0},{"$f":"+[2]Séries_Site!E229","v":5637},{"$f":"+[2]Séries_Site!F229","v":264},{"$f":"+[2]Séries_Site!G229","v":5252},{"$f":"+[2]Séries_Site!H229","v":5252},{"$f":"+[2]Séries_Site!I229","v":0},{"$f":"+[2]Séries_Site!J229","v":4504},{"$f":"+[2]Séries_Site!K229","v":204},{"$f":"+[2]Séries_Site!L229","v":242},{"$f":"+[2]Séries_Site!M229","v":242},{"$f":"+[2]Séries_Site!N229","v":0},{"$f":"+[2]Séries_Site!O229","v":251},{"$f":"+[2]Séries_Site!P229","v":14},{"$f":"+[2]Séries_Site!Q229","v":561},{"$f":"+[2]Séries_Site!R229","v":561},{"$f":"+[2]Séries_Site!S229","v":0},{"$f":"+[2]Séries_Site!T229","v":617},{"$f":"+[2]Séries_Site!U229","v":8},{"$f":"+[2]Séries_Site!V229","v":231},{"$f":"+[2]Séries_Site!W229","v":231},{"$f":"+[2]Séries_Site!X229","v":0},{"$f":"+[2]Séries_Site!Y229","v":147},{"$f":"+[2]Séries_Site!Z229","v":5},{"$f":"+[2]Séries_Site!AA229","v":0},{"$f":"+[2]Séries_Site!AB229","v":0},{"$f":"+[2]Séries_Site!AC229","v":0},{"$f":"+[2]Séries_Site!AD229","v":0},{"$f":"+[2]Séries_Site!AE229","v":0},{"$f":"+[2]Séries_Site!AF229","v":143},{"$f":"+[2]Séries_Site!AG229","v":143},{"$f":"+[2]Séries_Site!AH229","v":0},{"$f":"+[2]Séries_Site!AI229","v":118},{"$f":"+[2]Séries_Site!AJ229","v":33}]
["1978-09-01",{"$f":"+[2]Séries_Site!B230","v":6127},{"$f":"+[2]Séries_Site!C230","v":6127},{"$f":"+[2]Séries_Site!D230","v":0},{"$f":"+[2]Séries_Site!E230","v":5924},{"$f":"+[2]Séries_Site!F230","v":188},{"$f":"+[2]Séries_Site!G230","v":4817},{"$f":"+[2]Séries_Site!H230","v":4817},{"$f":"+[2]Séries_Site!I230","v":0},{"$f":"+[2]Séries_Site!J230","v":4662},{"$f":"+[2]Séries_Site!K230","v":115},{"$f":"+[2]Séries_Site!L230","v":300},{"$f":"+[2]Séries_Site!M230","v":300},{"$f":"+[2]Séries_Site!N230","v":0},{"$f":"+[2]Séries_Site!O230","v":306},{"$f":"+[2]Séries_Site!P230","v":13},{"$f":"+[2]Séries_Site!Q230","v":511},{"$f":"+[2]Séries_Site!R230","v":511},{"$f":"+[2]Séries_Site!S230","v":0},{"$f":"+[2]Séries_Site!T230","v":509},{"$f":"+[2]Séries_Site!U230","v":13},{"$f":"+[2]Séries_Site!V230","v":310},{"$f":"+[2]Séries_Site!W230","v":310},{"$f":"+[2]Séries_Site!X230","v":0},{"$f":"+[2]Séries_Site!Y230","v":308},{"$f":"+[2]Séries_Site!Z230","v":8},{"$f":"+[2]Séries_Site!AA230","v":0},{"$f":"+[2]Séries_Site!AB230","v":0},{"$f":"+[2]Séries_Site!AC230","v":0},{"$f":"+[2]Séries_Site!AD230","v":0},{"$f":"+[2]Séries_Site!AE230","v":0},{"$f":"+[2]Séries_Site!AF230","v":189},{"$f":"+[2]Séries_Site!AG230","v":189},{"$f":"+[2]Séries_Site!AH230","v":0},{"$f":"+[2]Séries_Site!AI230","v":139},{"$f":"+[2]Séries_Site!AJ230","v":39}]
["1978-10-01",{"$f":"+[2]Séries_Site!B231","v":4975},{"$f":"+[2]Séries_Site!C231","v":4975},{"$f":"+[2]Séries_Site!D231","v":0},{"$f":"+[2]Séries_Site!E231","v":5778},{"$f":"+[2]Séries_Site!F231","v":475},{"$f":"+[2]Séries_Site!G231","v":3895},{"$f":"+[2]Séries_Site!H231","v":3895},{"$f":"+[2]Séries_Site!I231","v":0},{"$f":"+[2]Séries_Site!J231","v":4537},{"$f":"+[2]Séries_Site!K231","v":416},{"$f":"+[2]Séries_Site!L231","v":207},{"$f":"+[2]Séries_Site!M231","v":207},{"$f":"+[2]Séries_Site!N231","v":0},{"$f":"+[2]Séries_Site!O231","v":228},{"$f":"+[2]Séries_Site!P231","v":18},{"$f":"+[2]Séries_Site!Q231","v":538},{"$f":"+[2]Séries_Site!R231","v":538},{"$f":"+[2]Séries_Site!S231","v":0},{"$f":"+[2]Séries_Site!T231","v":546},{"$f":"+[2]Séries_Site!U231","v":1},{"$f":"+[2]Séries_Site!V231","v":197},{"$f":"+[2]Séries_Site!W231","v":197},{"$f":"+[2]Séries_Site!X231","v":0},{"$f":"+[2]Séries_Site!Y231","v":335},{"$f":"+[2]Séries_Site!Z231","v":9},{"$f":"+[2]Séries_Site!AA231","v":0},{"$f":"+[2]Séries_Site!AB231","v":0},{"$f":"+[2]Séries_Site!AC231","v":0},{"$f":"+[2]Séries_Site!AD231","v":0},{"$f":"+[2]Séries_Site!AE231","v":0},{"$f":"+[2]Séries_Site!AF231","v":138},{"$f":"+[2]Séries_Site!AG231","v":138},{"$f":"+[2]Séries_Site!AH231","v":0},{"$f":"+[2]Séries_Site!AI231","v":132},{"$f":"+[2]Séries_Site!AJ231","v":31}]
["1978-11-01",{"$f":"+[2]Séries_Site!B232","v":3633},{"$f":"+[2]Séries_Site!C232","v":3633},{"$f":"+[2]Séries_Site!D232","v":0},{"$f":"+[2]Séries_Site!E232","v":4401},{"$f":"+[2]Séries_Site!F232","v":476},{"$f":"+[2]Séries_Site!G232","v":2747},{"$f":"+[2]Séries_Site!H232","v":2747},{"$f":"+[2]Séries_Site!I232","v":0},{"$f":"+[2]Séries_Site!J232","v":3394},{"$f":"+[2]Séries_Site!K232","v":403},{"$f":"+[2]Séries_Site!L232","v":208},{"$f":"+[2]Séries_Site!M232","v":208},{"$f":"+[2]Séries_Site!N232","v":0},{"$f":"+[2]Séries_Site!O232","v":170},{"$f":"+[2]Séries_Site!P232","v":28},{"$f":"+[2]Séries_Site!Q232","v":263},{"$f":"+[2]Séries_Site!R232","v":263},{"$f":"+[2]Séries_Site!S232","v":0},{"$f":"+[2]Séries_Site!T232","v":438},{"$f":"+[2]Séries_Site!U232","v":13},{"$f":"+[2]Séries_Site!V232","v":312},{"$f":"+[2]Séries_Site!W232","v":312},{"$f":"+[2]Séries_Site!X232","v":0},{"$f":"+[2]Séries_Site!Y232","v":321},{"$f":"+[2]Séries_Site!Z232","v":11},{"$f":"+[2]Séries_Site!AA232","v":0},{"$f":"+[2]Séries_Site!AB232","v":0},{"$f":"+[2]Séries_Site!AC232","v":0},{"$f":"+[2]Séries_Site!AD232","v":0},{"$f":"+[2]Séries_Site!AE232","v":0},{"$f":"+[2]Séries_Site!AF232","v":103},{"$f":"+[2]Séries_Site!AG232","v":103},{"$f":"+[2]Séries_Site!AH232","v":0},{"$f":"+[2]Séries_Site!AI232","v":78},{"$f":"+[2]Séries_Site!AJ232","v":21}]
["1978-12-01",{"$f":"+[2]Séries_Site!B233","v":2944},{"$f":"+[2]Séries_Site!C233","v":2944},{"$f":"+[2]Séries_Site!D233","v":0},{"$f":"+[2]Séries_Site!E233","v":4331},{"$f":"+[2]Séries_Site!F233","v":756},{"$f":"+[2]Séries_Site!G233","v":2150},{"$f":"+[2]Séries_Site!H233","v":2150},{"$f":"+[2]Séries_Site!I233","v":0},{"$f":"+[2]Séries_Site!J233","v":3521},{"$f":"+[2]Séries_Site!K233","v":667},{"$f":"+[2]Séries_Site!L233","v":155},{"$f":"+[2]Séries_Site!M233","v":155},{"$f":"+[2]Séries_Site!N233","v":0},{"$f":"+[2]Séries_Site!O233","v":270},{"$f":"+[2]Séries_Site!P233","v":29},{"$f":"+[2]Séries_Site!Q233","v":335},{"$f":"+[2]Séries_Site!R233","v":335},{"$f":"+[2]Séries_Site!S233","v":0},{"$f":"+[2]Séries_Site!T233","v":252},{"$f":"+[2]Séries_Site!U233","v":18},{"$f":"+[2]Séries_Site!V233","v":271},{"$f":"+[2]Séries_Site!W233","v":271},{"$f":"+[2]Séries_Site!X233","v":0},{"$f":"+[2]Séries_Site!Y233","v":258},{"$f":"+[2]Séries_Site!Z233","v":34},{"$f":"+[2]Séries_Site!AA233","v":0},{"$f":"+[2]Séries_Site!AB233","v":0},{"$f":"+[2]Séries_Site!AC233","v":0},{"$f":"+[2]Séries_Site!AD233","v":0},{"$f":"+[2]Séries_Site!AE233","v":0},{"$f":"+[2]Séries_Site!AF233","v":33},{"$f":"+[2]Séries_Site!AG233","v":33},{"$f":"+[2]Séries_Site!AH233","v":0},{"$f":"+[2]Séries_Site!AI233","v":30},{"$f":"+[2]Séries_Site!AJ233","v":8}]
["1979-01-01",{"$f":"+[2]Séries_Site!B234","v":3443},{"$f":"+[2]Séries_Site!C234","v":3443},{"$f":"+[2]Séries_Site!D234","v":0},{"$f":"+[2]Séries_Site!E234","v":2725},{"$f":"+[2]Séries_Site!F234","v":755},{"$f":"+[2]Séries_Site!G234","v":1807},{"$f":"+[2]Séries_Site!H234","v":1807},{"$f":"+[2]Séries_Site!I234","v":0},{"$f":"+[2]Séries_Site!J234","v":1605},{"$f":"+[2]Séries_Site!K234","v":681},{"$f":"+[2]Séries_Site!L234","v":191},{"$f":"+[2]Séries_Site!M234","v":191},{"$f":"+[2]Séries_Site!N234","v":0},{"$f":"+[2]Séries_Site!O234","v":141},{"$f":"+[2]Séries_Site!P234","v":28},{"$f":"+[2]Séries_Site!Q234","v":389},{"$f":"+[2]Séries_Site!R234","v":389},{"$f":"+[2]Séries_Site!S234","v":0},{"$f":"+[2]Séries_Site!T234","v":252},{"$f":"+[2]Séries_Site!U234","v":10},{"$f":"+[2]Séries_Site!V234","v":827},{"$f":"+[2]Séries_Site!W234","v":827},{"$f":"+[2]Séries_Site!X234","v":0},{"$f":"+[2]Séries_Site!Y234","v":451},{"$f":"+[2]Séries_Site!Z234","v":2},{"$f":"+[2]Séries_Site!AA234","v":0},{"$f":"+[2]Séries_Site!AB234","v":0},{"$f":"+[2]Séries_Site!AC234","v":0},{"$f":"+[2]Séries_Site!AD234","v":0},{"$f":"+[2]Séries_Site!AE234","v":0},{"$f":"+[2]Séries_Site!AF234","v":229},{"$f":"+[2]Séries_Site!AG234","v":229},{"$f":"+[2]Séries_Site!AH234","v":0},{"$f":"+[2]Séries_Site!AI234","v":276},{"$f":"+[2]Séries_Site!AJ234","v":34}]
["1979-02-01",{"$f":"+[2]Séries_Site!B235","v":3263},{"$f":"+[2]Séries_Site!C235","v":3263},{"$f":"+[2]Séries_Site!D235","v":0},{"$f":"+[2]Séries_Site!E235","v":4248},{"$f":"+[2]Séries_Site!F235","v":648},{"$f":"+[2]Séries_Site!G235","v":2082},{"$f":"+[2]Séries_Site!H235","v":2082},{"$f":"+[2]Séries_Site!I235","v":0},{"$f":"+[2]Séries_Site!J235","v":3050},{"$f":"+[2]Séries_Site!K235","v":531},{"$f":"+[2]Séries_Site!L235","v":156},{"$f":"+[2]Séries_Site!M235","v":156},{"$f":"+[2]Séries_Site!N235","v":0},{"$f":"+[2]Séries_Site!O235","v":115},{"$f":"+[2]Séries_Site!P235","v":65},{"$f":"+[2]Séries_Site!Q235","v":405},{"$f":"+[2]Séries_Site!R235","v":405},{"$f":"+[2]Séries_Site!S235","v":0},{"$f":"+[2]Séries_Site!T235","v":380},{"$f":"+[2]Séries_Site!U235","v":20},{"$f":"+[2]Séries_Site!V235","v":519},{"$f":"+[2]Séries_Site!W235","v":519},{"$f":"+[2]Séries_Site!X235","v":0},{"$f":"+[2]Séries_Site!Y235","v":454},{"$f":"+[2]Séries_Site!Z235","v":18},{"$f":"+[2]Séries_Site!AA235","v":0},{"$f":"+[2]Séries_Site!AB235","v":0},{"$f":"+[2]Séries_Site!AC235","v":0},{"$f":"+[2]Séries_Site!AD235","v":0},{"$f":"+[2]Séries_Site!AE235","v":0},{"$f":"+[2]Séries_Site!AF235","v":101},{"$f":"+[2]Séries_Site!AG235","v":101},{"$f":"+[2]Séries_Site!AH235","v":0},{"$f":"+[2]Séries_Site!AI235","v":249},{"$f":"+[2]Séries_Site!AJ235","v":14}]
["1979-03-01",{"$f":"+[2]Séries_Site!B236","v":4887},{"$f":"+[2]Séries_Site!C236","v":4887},{"$f":"+[2]Séries_Site!D236","v":0},{"$f":"+[2]Séries_Site!E236","v":5058},{"$f":"+[2]Séries_Site!F236","v":817},{"$f":"+[2]Séries_Site!G236","v":3548},{"$f":"+[2]Séries_Site!H236","v":3548},{"$f":"+[2]Séries_Site!I236","v":0},{"$f":"+[2]Séries_Site!J236","v":3681},{"$f":"+[2]Séries_Site!K236","v":680},{"$f":"+[2]Séries_Site!L236","v":116},{"$f":"+[2]Séries_Site!M236","v":116},{"$f":"+[2]Séries_Site!N236","v":0},{"$f":"+[2]Séries_Site!O236","v":219},{"$f":"+[2]Séries_Site!P236","v":39},{"$f":"+[2]Séries_Site!Q236","v":407},{"$f":"+[2]Séries_Site!R236","v":407},{"$f":"+[2]Séries_Site!S236","v":0},{"$f":"+[2]Séries_Site!T236","v":416},{"$f":"+[2]Séries_Site!U236","v":35},{"$f":"+[2]Séries_Site!V236","v":553},{"$f":"+[2]Séries_Site!W236","v":553},{"$f":"+[2]Séries_Site!X236","v":0},{"$f":"+[2]Séries_Site!Y236","v":479},{"$f":"+[2]Séries_Site!Z236","v":41},{"$f":"+[2]Séries_Site!AA236","v":0},{"$f":"+[2]Séries_Site!AB236","v":0},{"$f":"+[2]Séries_Site!AC236","v":0},{"$f":"+[2]Séries_Site!AD236","v":0},{"$f":"+[2]Séries_Site!AE236","v":0},{"$f":"+[2]Séries_Site!AF236","v":263},{"$f":"+[2]Séries_Site!AG236","v":263},{"$f":"+[2]Séries_Site!AH236","v":0},{"$f":"+[2]Séries_Site!AI236","v":263},{"$f":"+[2]Séries_Site!AJ236","v":22}]
["1979-04-01",{"$f":"+[2]Séries_Site!B237","v":4729},{"$f":"+[2]Séries_Site!C237","v":4729},{"$f":"+[2]Séries_Site!D237","v":0},{"$f":"+[2]Séries_Site!E237","v":5788},{"$f":"+[2]Séries_Site!F237","v":577},{"$f":"+[2]Séries_Site!G237","v":3527},{"$f":"+[2]Séries_Site!H237","v":3527},{"$f":"+[2]Séries_Site!I237","v":0},{"$f":"+[2]Séries_Site!J237","v":4460},{"$f":"+[2]Séries_Site!K237","v":489},{"$f":"+[2]Séries_Site!L237","v":83},{"$f":"+[2]Séries_Site!M237","v":83},{"$f":"+[2]Séries_Site!N237","v":0},{"$f":"+[2]Séries_Site!O237","v":226},{"$f":"+[2]Séries_Site!P237","v":57},{"$f":"+[2]Séries_Site!Q237","v":590},{"$f":"+[2]Séries_Site!R237","v":590},{"$f":"+[2]Séries_Site!S237","v":0},{"$f":"+[2]Séries_Site!T237","v":563},{"$f":"+[2]Séries_Site!U237","v":12},{"$f":"+[2]Séries_Site!V237","v":398},{"$f":"+[2]Séries_Site!W237","v":398},{"$f":"+[2]Séries_Site!X237","v":0},{"$f":"+[2]Séries_Site!Y237","v":326},{"$f":"+[2]Séries_Site!Z237","v":8},{"$f":"+[2]Séries_Site!AA237","v":0},{"$f":"+[2]Séries_Site!AB237","v":0},{"$f":"+[2]Séries_Site!AC237","v":0},{"$f":"+[2]Séries_Site!AD237","v":0},{"$f":"+[2]Séries_Site!AE237","v":0},{"$f":"+[2]Séries_Site!AF237","v":131},{"$f":"+[2]Séries_Site!AG237","v":131},{"$f":"+[2]Séries_Site!AH237","v":0},{"$f":"+[2]Séries_Site!AI237","v":213},{"$f":"+[2]Séries_Site!AJ237","v":11}]
["1979-05-01",{"$f":"+[2]Séries_Site!B238","v":4980},{"$f":"+[2]Séries_Site!C238","v":4980},{"$f":"+[2]Séries_Site!D238","v":0},{"$f":"+[2]Séries_Site!E238","v":6382},{"$f":"+[2]Séries_Site!F238","v":585},{"$f":"+[2]Séries_Site!G238","v":3780},{"$f":"+[2]Séries_Site!H238","v":3780},{"$f":"+[2]Séries_Site!I238","v":0},{"$f":"+[2]Séries_Site!J238","v":5270},{"$f":"+[2]Séries_Site!K238","v":537},{"$f":"+[2]Séries_Site!L238","v":269},{"$f":"+[2]Séries_Site!M238","v":269},{"$f":"+[2]Séries_Site!N238","v":0},{"$f":"+[2]Séries_Site!O238","v":283},{"$f":"+[2]Séries_Site!P238","v":33},{"$f":"+[2]Séries_Site!Q238","v":485},{"$f":"+[2]Séries_Site!R238","v":485},{"$f":"+[2]Séries_Site!S238","v":0},{"$f":"+[2]Séries_Site!T238","v":527},{"$f":"+[2]Séries_Site!U238","v":10},{"$f":"+[2]Séries_Site!V238","v":382},{"$f":"+[2]Séries_Site!W238","v":382},{"$f":"+[2]Séries_Site!X238","v":0},{"$f":"+[2]Séries_Site!Y238","v":226},{"$f":"+[2]Séries_Site!Z238","v":0},{"$f":"+[2]Séries_Site!AA238","v":0},{"$f":"+[2]Séries_Site!AB238","v":0},{"$f":"+[2]Séries_Site!AC238","v":0},{"$f":"+[2]Séries_Site!AD238","v":0},{"$f":"+[2]Séries_Site!AE238","v":0},{"$f":"+[2]Séries_Site!AF238","v":64},{"$f":"+[2]Séries_Site!AG238","v":64},{"$f":"+[2]Séries_Site!AH238","v":0},{"$f":"+[2]Séries_Site!AI238","v":76},{"$f":"+[2]Séries_Site!AJ238","v":5}]
["1979-06-01",{"$f":"+[2]Séries_Site!B239","v":6478},{"$f":"+[2]Séries_Site!C239","v":6478},{"$f":"+[2]Séries_Site!D239","v":0},{"$f":"+[2]Séries_Site!E239","v":6639},{"$f":"+[2]Séries_Site!F239","v":699},{"$f":"+[2]Séries_Site!G239","v":5282},{"$f":"+[2]Séries_Site!H239","v":5282},{"$f":"+[2]Séries_Site!I239","v":0},{"$f":"+[2]Séries_Site!J239","v":5423},{"$f":"+[2]Séries_Site!K239","v":597},{"$f":"+[2]Séries_Site!L239","v":317},{"$f":"+[2]Séries_Site!M239","v":317},{"$f":"+[2]Séries_Site!N239","v":0},{"$f":"+[2]Séries_Site!O239","v":271},{"$f":"+[2]Séries_Site!P239","v":27},{"$f":"+[2]Séries_Site!Q239","v":554},{"$f":"+[2]Séries_Site!R239","v":554},{"$f":"+[2]Séries_Site!S239","v":0},{"$f":"+[2]Séries_Site!T239","v":558},{"$f":"+[2]Séries_Site!U239","v":35},{"$f":"+[2]Séries_Site!V239","v":221},{"$f":"+[2]Séries_Site!W239","v":221},{"$f":"+[2]Séries_Site!X239","v":0},{"$f":"+[2]Séries_Site!Y239","v":237},{"$f":"+[2]Séries_Site!Z239","v":8},{"$f":"+[2]Séries_Site!AA239","v":0},{"$f":"+[2]Séries_Site!AB239","v":0},{"$f":"+[2]Séries_Site!AC239","v":0},{"$f":"+[2]Séries_Site!AD239","v":0},{"$f":"+[2]Séries_Site!AE239","v":0},{"$f":"+[2]Séries_Site!AF239","v":104},{"$f":"+[2]Séries_Site!AG239","v":104},{"$f":"+[2]Séries_Site!AH239","v":0},{"$f":"+[2]Séries_Site!AI239","v":150},{"$f":"+[2]Séries_Site!AJ239","v":32}]
["1979-07-01",{"$f":"+[2]Séries_Site!B240","v":7802},{"$f":"+[2]Séries_Site!C240","v":7802},{"$f":"+[2]Séries_Site!D240","v":0},{"$f":"+[2]Séries_Site!E240","v":6977},{"$f":"+[2]Séries_Site!F240","v":437},{"$f":"+[2]Séries_Site!G240","v":6264},{"$f":"+[2]Séries_Site!H240","v":6264},{"$f":"+[2]Séries_Site!I240","v":0},{"$f":"+[2]Séries_Site!J240","v":5447},{"$f":"+[2]Séries_Site!K240","v":368},{"$f":"+[2]Séries_Site!L240","v":373},{"$f":"+[2]Séries_Site!M240","v":373},{"$f":"+[2]Séries_Site!N240","v":0},{"$f":"+[2]Séries_Site!O240","v":357},{"$f":"+[2]Séries_Site!P240","v":27},{"$f":"+[2]Séries_Site!Q240","v":604},{"$f":"+[2]Séries_Site!R240","v":604},{"$f":"+[2]Séries_Site!S240","v":0},{"$f":"+[2]Séries_Site!T240","v":598},{"$f":"+[2]Séries_Site!U240","v":1},{"$f":"+[2]Séries_Site!V240","v":339},{"$f":"+[2]Séries_Site!W240","v":339},{"$f":"+[2]Séries_Site!X240","v":0},{"$f":"+[2]Séries_Site!Y240","v":316},{"$f":"+[2]Séries_Site!Z240","v":17},{"$f":"+[2]Séries_Site!AA240","v":0},{"$f":"+[2]Séries_Site!AB240","v":0},{"$f":"+[2]Séries_Site!AC240","v":0},{"$f":"+[2]Séries_Site!AD240","v":0},{"$f":"+[2]Séries_Site!AE240","v":0},{"$f":"+[2]Séries_Site!AF240","v":222},{"$f":"+[2]Séries_Site!AG240","v":222},{"$f":"+[2]Séries_Site!AH240","v":0},{"$f":"+[2]Séries_Site!AI240","v":259},{"$f":"+[2]Séries_Site!AJ240","v":24}]
["1979-08-01",{"$f":"+[2]Séries_Site!B241","v":6264},{"$f":"+[2]Séries_Site!C241","v":6264},{"$f":"+[2]Séries_Site!D241","v":0},{"$f":"+[2]Séries_Site!E241","v":6689},{"$f":"+[2]Séries_Site!F241","v":586},{"$f":"+[2]Séries_Site!G241","v":4749},{"$f":"+[2]Séries_Site!H241","v":4749},{"$f":"+[2]Séries_Site!I241","v":0},{"$f":"+[2]Séries_Site!J241","v":5241},{"$f":"+[2]Séries_Site!K241","v":497},{"$f":"+[2]Séries_Site!L241","v":416},{"$f":"+[2]Séries_Site!M241","v":416},{"$f":"+[2]Séries_Site!N241","v":0},{"$f":"+[2]Séries_Site!O241","v":398},{"$f":"+[2]Séries_Site!P241","v":56},{"$f":"+[2]Séries_Site!Q241","v":641},{"$f":"+[2]Séries_Site!R241","v":641},{"$f":"+[2]Séries_Site!S241","v":0},{"$f":"+[2]Séries_Site!T241","v":616},{"$f":"+[2]Séries_Site!U241","v":15},{"$f":"+[2]Séries_Site!V241","v":340},{"$f":"+[2]Séries_Site!W241","v":340},{"$f":"+[2]Séries_Site!X241","v":0},{"$f":"+[2]Séries_Site!Y241","v":288},{"$f":"+[2]Séries_Site!Z241","v":8},{"$f":"+[2]Séries_Site!AA241","v":0},{"$f":"+[2]Séries_Site!AB241","v":0},{"$f":"+[2]Séries_Site!AC241","v":0},{"$f":"+[2]Séries_Site!AD241","v":0},{"$f":"+[2]Séries_Site!AE241","v":0},{"$f":"+[2]Séries_Site!AF241","v":118},{"$f":"+[2]Séries_Site!AG241","v":118},{"$f":"+[2]Séries_Site!AH241","v":0},{"$f":"+[2]Séries_Site!AI241","v":146},{"$f":"+[2]Séries_Site!AJ241","v":10}]
["1979-09-01",{"$f":"+[2]Séries_Site!B242","v":6447},{"$f":"+[2]Séries_Site!C242","v":6447},{"$f":"+[2]Séries_Site!D242","v":0},{"$f":"+[2]Séries_Site!E242","v":6304},{"$f":"+[2]Séries_Site!F242","v":378},{"$f":"+[2]Séries_Site!G242","v":4864},{"$f":"+[2]Séries_Site!H242","v":4864},{"$f":"+[2]Séries_Site!I242","v":0},{"$f":"+[2]Séries_Site!J242","v":4960},{"$f":"+[2]Séries_Site!K242","v":306},{"$f":"+[2]Séries_Site!L242","v":427},{"$f":"+[2]Séries_Site!M242","v":427},{"$f":"+[2]Séries_Site!N242","v":0},{"$f":"+[2]Séries_Site!O242","v":321},{"$f":"+[2]Séries_Site!P242","v":30},{"$f":"+[2]Séries_Site!Q242","v":574},{"$f":"+[2]Séries_Site!R242","v":574},{"$f":"+[2]Séries_Site!S242","v":0},{"$f":"+[2]Séries_Site!T242","v":575},{"$f":"+[2]Séries_Site!U242","v":9},{"$f":"+[2]Séries_Site!V242","v":390},{"$f":"+[2]Séries_Site!W242","v":390},{"$f":"+[2]Séries_Site!X242","v":0},{"$f":"+[2]Séries_Site!Y242","v":438},{"$f":"+[2]Séries_Site!Z242","v":15},{"$f":"+[2]Séries_Site!AA242","v":0},{"$f":"+[2]Séries_Site!AB242","v":0},{"$f":"+[2]Séries_Site!AC242","v":0},{"$f":"+[2]Séries_Site!AD242","v":0},{"$f":"+[2]Séries_Site!AE242","v":0},{"$f":"+[2]Séries_Site!AF242","v":192},{"$f":"+[2]Séries_Site!AG242","v":192},{"$f":"+[2]Séries_Site!AH242","v":0},{"$f":"+[2]Séries_Site!AI242","v":10},{"$f":"+[2]Séries_Site!AJ242","v":18}]
["1979-10-01",{"$f":"+[2]Séries_Site!B243","v":7399},{"$f":"+[2]Séries_Site!C243","v":7399},{"$f":"+[2]Séries_Site!D243","v":0},{"$f":"+[2]Séries_Site!E243","v":8460},{"$f":"+[2]Séries_Site!F243","v":988},{"$f":"+[2]Séries_Site!G243","v":5803},{"$f":"+[2]Séries_Site!H243","v":5803},{"$f":"+[2]Séries_Site!I243","v":0},{"$f":"+[2]Séries_Site!J243","v":6783},{"$f":"+[2]Séries_Site!K243","v":909},{"$f":"+[2]Séries_Site!L243","v":307},{"$f":"+[2]Séries_Site!M243","v":307},{"$f":"+[2]Séries_Site!N243","v":0},{"$f":"+[2]Séries_Site!O243","v":349},{"$f":"+[2]Séries_Site!P243","v":17},{"$f":"+[2]Séries_Site!Q243","v":649},{"$f":"+[2]Séries_Site!R243","v":649},{"$f":"+[2]Séries_Site!S243","v":0},{"$f":"+[2]Séries_Site!T243","v":653},{"$f":"+[2]Séries_Site!U243","v":4},{"$f":"+[2]Séries_Site!V243","v":324},{"$f":"+[2]Séries_Site!W243","v":324},{"$f":"+[2]Séries_Site!X243","v":0},{"$f":"+[2]Séries_Site!Y243","v":373},{"$f":"+[2]Séries_Site!Z243","v":29},{"$f":"+[2]Séries_Site!AA243","v":0},{"$f":"+[2]Séries_Site!AB243","v":0},{"$f":"+[2]Séries_Site!AC243","v":0},{"$f":"+[2]Séries_Site!AD243","v":0},{"$f":"+[2]Séries_Site!AE243","v":0},{"$f":"+[2]Séries_Site!AF243","v":316},{"$f":"+[2]Séries_Site!AG243","v":316},{"$f":"+[2]Séries_Site!AH243","v":0},{"$f":"+[2]Séries_Site!AI243","v":302},{"$f":"+[2]Séries_Site!AJ243","v":29}]
["1979-11-01",{"$f":"+[2]Séries_Site!B244","v":5288},{"$f":"+[2]Séries_Site!C244","v":5288},{"$f":"+[2]Séries_Site!D244","v":0},{"$f":"+[2]Séries_Site!E244","v":6085},{"$f":"+[2]Séries_Site!F244","v":874},{"$f":"+[2]Séries_Site!G244","v":4140},{"$f":"+[2]Séries_Site!H244","v":4140},{"$f":"+[2]Séries_Site!I244","v":0},{"$f":"+[2]Séries_Site!J244","v":4845},{"$f":"+[2]Séries_Site!K244","v":695},{"$f":"+[2]Séries_Site!L244","v":245},{"$f":"+[2]Séries_Site!M244","v":245},{"$f":"+[2]Séries_Site!N244","v":0},{"$f":"+[2]Séries_Site!O244","v":277},{"$f":"+[2]Séries_Site!P244","v":91},{"$f":"+[2]Séries_Site!Q244","v":444},{"$f":"+[2]Séries_Site!R244","v":444},{"$f":"+[2]Séries_Site!S244","v":0},{"$f":"+[2]Séries_Site!T244","v":570},{"$f":"+[2]Séries_Site!U244","v":11},{"$f":"+[2]Séries_Site!V244","v":371},{"$f":"+[2]Séries_Site!W244","v":371},{"$f":"+[2]Séries_Site!X244","v":0},{"$f":"+[2]Séries_Site!Y244","v":280},{"$f":"+[2]Séries_Site!Z244","v":68},{"$f":"+[2]Séries_Site!AA244","v":0},{"$f":"+[2]Séries_Site!AB244","v":0},{"$f":"+[2]Séries_Site!AC244","v":0},{"$f":"+[2]Séries_Site!AD244","v":0},{"$f":"+[2]Séries_Site!AE244","v":0},{"$f":"+[2]Séries_Site!AF244","v":88},{"$f":"+[2]Séries_Site!AG244","v":88},{"$f":"+[2]Séries_Site!AH244","v":0},{"$f":"+[2]Séries_Site!AI244","v":113},{"$f":"+[2]Séries_Site!AJ244","v":9}]
["1979-12-01",{"$f":"+[2]Séries_Site!B245","v":4260},{"$f":"+[2]Séries_Site!C245","v":4260},{"$f":"+[2]Séries_Site!D245","v":0},{"$f":"+[2]Séries_Site!E245","v":4889},{"$f":"+[2]Séries_Site!F245","v":1015},{"$f":"+[2]Séries_Site!G245","v":3117},{"$f":"+[2]Séries_Site!H245","v":3117},{"$f":"+[2]Séries_Site!I245","v":0},{"$f":"+[2]Séries_Site!J245","v":3834},{"$f":"+[2]Séries_Site!K245","v":911},{"$f":"+[2]Séries_Site!L245","v":240},{"$f":"+[2]Séries_Site!M245","v":240},{"$f":"+[2]Séries_Site!N245","v":0},{"$f":"+[2]Séries_Site!O245","v":245},{"$f":"+[2]Séries_Site!P245","v":52},{"$f":"+[2]Séries_Site!Q245","v":423},{"$f":"+[2]Séries_Site!R245","v":423},{"$f":"+[2]Séries_Site!S245","v":0},{"$f":"+[2]Séries_Site!T245","v":354},{"$f":"+[2]Séries_Site!U245","v":31},{"$f":"+[2]Séries_Site!V245","v":423},{"$f":"+[2]Séries_Site!W245","v":423},{"$f":"+[2]Séries_Site!X245","v":0},{"$f":"+[2]Séries_Site!Y245","v":360},{"$f":"+[2]Séries_Site!Z245","v":10},{"$f":"+[2]Séries_Site!AA245","v":0},{"$f":"+[2]Séries_Site!AB245","v":0},{"$f":"+[2]Séries_Site!AC245","v":0},{"$f":"+[2]Séries_Site!AD245","v":0},{"$f":"+[2]Séries_Site!AE245","v":0},{"$f":"+[2]Séries_Site!AF245","v":57},{"$f":"+[2]Séries_Site!AG245","v":57},{"$f":"+[2]Séries_Site!AH245","v":0},{"$f":"+[2]Séries_Site!AI245","v":96},{"$f":"+[2]Séries_Site!AJ245","v":11}]
["1980-01-01",{"$f":"+[2]Séries_Site!B246","v":4131},{"$f":"+[2]Séries_Site!C246","v":4131},{"$f":"+[2]Séries_Site!D246","v":0},{"$f":"+[2]Séries_Site!E246","v":4932},{"$f":"+[2]Séries_Site!F246","v":635},{"$f":"+[2]Séries_Site!G246","v":2854},{"$f":"+[2]Séries_Site!H246","v":2854},{"$f":"+[2]Séries_Site!I246","v":0},{"$f":"+[2]Séries_Site!J246","v":3494},{"$f":"+[2]Séries_Site!K246","v":565},{"$f":"+[2]Séries_Site!L246","v":154},{"$f":"+[2]Séries_Site!M246","v":154},{"$f":"+[2]Séries_Site!N246","v":0},{"$f":"+[2]Séries_Site!O246","v":202},{"$f":"+[2]Séries_Site!P246","v":28},{"$f":"+[2]Séries_Site!Q246","v":395},{"$f":"+[2]Séries_Site!R246","v":395},{"$f":"+[2]Séries_Site!S246","v":0},{"$f":"+[2]Séries_Site!T246","v":441},{"$f":"+[2]Séries_Site!U246","v":0},{"$f":"+[2]Séries_Site!V246","v":547},{"$f":"+[2]Séries_Site!W246","v":547},{"$f":"+[2]Séries_Site!X246","v":0},{"$f":"+[2]Séries_Site!Y246","v":549},{"$f":"+[2]Séries_Site!Z246","v":9},{"$f":"+[2]Séries_Site!AA246","v":0},{"$f":"+[2]Séries_Site!AB246","v":0},{"$f":"+[2]Séries_Site!AC246","v":0},{"$f":"+[2]Séries_Site!AD246","v":0},{"$f":"+[2]Séries_Site!AE246","v":0},{"$f":"+[2]Séries_Site!AF246","v":181},{"$f":"+[2]Séries_Site!AG246","v":181},{"$f":"+[2]Séries_Site!AH246","v":0},{"$f":"+[2]Séries_Site!AI246","v":246},{"$f":"+[2]Séries_Site!AJ246","v":33}]
["1980-02-01",{"$f":"+[2]Séries_Site!B247","v":5353},{"$f":"+[2]Séries_Site!C247","v":5353},{"$f":"+[2]Séries_Site!D247","v":0},{"$f":"+[2]Séries_Site!E247","v":6092},{"$f":"+[2]Séries_Site!F247","v":534},{"$f":"+[2]Séries_Site!G247","v":3832},{"$f":"+[2]Séries_Site!H247","v":3832},{"$f":"+[2]Séries_Site!I247","v":0},{"$f":"+[2]Séries_Site!J247","v":4476},{"$f":"+[2]Séries_Site!K247","v":468},{"$f":"+[2]Séries_Site!L247","v":290},{"$f":"+[2]Séries_Site!M247","v":290},{"$f":"+[2]Séries_Site!N247","v":0},{"$f":"+[2]Séries_Site!O247","v":303},{"$f":"+[2]Séries_Site!P247","v":17},{"$f":"+[2]Séries_Site!Q247","v":511},{"$f":"+[2]Séries_Site!R247","v":511},{"$f":"+[2]Séries_Site!S247","v":0},{"$f":"+[2]Séries_Site!T247","v":615},{"$f":"+[2]Séries_Site!U247","v":4},{"$f":"+[2]Séries_Site!V247","v":585},{"$f":"+[2]Séries_Site!W247","v":585},{"$f":"+[2]Séries_Site!X247","v":0},{"$f":"+[2]Séries_Site!Y247","v":549},{"$f":"+[2]Séries_Site!Z247","v":25},{"$f":"+[2]Séries_Site!AA247","v":0},{"$f":"+[2]Séries_Site!AB247","v":0},{"$f":"+[2]Séries_Site!AC247","v":0},{"$f":"+[2]Séries_Site!AD247","v":0},{"$f":"+[2]Séries_Site!AE247","v":0},{"$f":"+[2]Séries_Site!AF247","v":135},{"$f":"+[2]Séries_Site!AG247","v":135},{"$f":"+[2]Séries_Site!AH247","v":0},{"$f":"+[2]Séries_Site!AI247","v":149},{"$f":"+[2]Séries_Site!AJ247","v":20}]
["1980-03-01",{"$f":"+[2]Séries_Site!B248","v":6522},{"$f":"+[2]Séries_Site!C248","v":6522},{"$f":"+[2]Séries_Site!D248","v":0},{"$f":"+[2]Séries_Site!E248","v":7656},{"$f":"+[2]Séries_Site!F248","v":954},{"$f":"+[2]Séries_Site!G248","v":4738},{"$f":"+[2]Séries_Site!H248","v":4738},{"$f":"+[2]Séries_Site!I248","v":0},{"$f":"+[2]Séries_Site!J248","v":5784},{"$f":"+[2]Séries_Site!K248","v":831},{"$f":"+[2]Séries_Site!L248","v":298},{"$f":"+[2]Séries_Site!M248","v":298},{"$f":"+[2]Séries_Site!N248","v":0},{"$f":"+[2]Séries_Site!O248","v":333},{"$f":"+[2]Séries_Site!P248","v":23},{"$f":"+[2]Séries_Site!Q248","v":608},{"$f":"+[2]Séries_Site!R248","v":608},{"$f":"+[2]Séries_Site!S248","v":0},{"$f":"+[2]Séries_Site!T248","v":554},{"$f":"+[2]Séries_Site!U248","v":32},{"$f":"+[2]Séries_Site!V248","v":676},{"$f":"+[2]Séries_Site!W248","v":676},{"$f":"+[2]Séries_Site!X248","v":0},{"$f":"+[2]Séries_Site!Y248","v":691},{"$f":"+[2]Séries_Site!Z248","v":37},{"$f":"+[2]Séries_Site!AA248","v":0},{"$f":"+[2]Séries_Site!AB248","v":0},{"$f":"+[2]Séries_Site!AC248","v":0},{"$f":"+[2]Séries_Site!AD248","v":0},{"$f":"+[2]Séries_Site!AE248","v":0},{"$f":"+[2]Séries_Site!AF248","v":202},{"$f":"+[2]Séries_Site!AG248","v":202},{"$f":"+[2]Séries_Site!AH248","v":0},{"$f":"+[2]Séries_Site!AI248","v":294},{"$f":"+[2]Séries_Site!AJ248","v":31}]
["1980-04-01",{"$f":"+[2]Séries_Site!B249","v":4391},{"$f":"+[2]Séries_Site!C249","v":4391},{"$f":"+[2]Séries_Site!D249","v":0},{"$f":"+[2]Séries_Site!E249","v":3962},{"$f":"+[2]Séries_Site!F249","v":288},{"$f":"+[2]Séries_Site!G249","v":3047},{"$f":"+[2]Séries_Site!H249","v":3047},{"$f":"+[2]Séries_Site!I249","v":0},{"$f":"+[2]Séries_Site!J249","v":2729},{"$f":"+[2]Séries_Site!K249","v":221},{"$f":"+[2]Séries_Site!L249","v":283},{"$f":"+[2]Séries_Site!M249","v":283},{"$f":"+[2]Séries_Site!N249","v":0},{"$f":"+[2]Séries_Site!O249","v":322},{"$f":"+[2]Séries_Site!P249","v":6},{"$f":"+[2]Séries_Site!Q249","v":475},{"$f":"+[2]Séries_Site!R249","v":475},{"$f":"+[2]Séries_Site!S249","v":0},{"$f":"+[2]Séries_Site!T249","v":429},{"$f":"+[2]Séries_Site!U249","v":35},{"$f":"+[2]Séries_Site!V249","v":449},{"$f":"+[2]Séries_Site!W249","v":449},{"$f":"+[2]Séries_Site!X249","v":0},{"$f":"+[2]Séries_Site!Y249","v":443},{"$f":"+[2]Séries_Site!Z249","v":4},{"$f":"+[2]Séries_Site!AA249","v":0},{"$f":"+[2]Séries_Site!AB249","v":0},{"$f":"+[2]Séries_Site!AC249","v":0},{"$f":"+[2]Séries_Site!AD249","v":0},{"$f":"+[2]Séries_Site!AE249","v":0},{"$f":"+[2]Séries_Site!AF249","v":137},{"$f":"+[2]Séries_Site!AG249","v":137},{"$f":"+[2]Séries_Site!AH249","v":0},{"$f":"+[2]Séries_Site!AI249","v":39},{"$f":"+[2]Séries_Site!AJ249","v":22}]
["1980-05-01",{"$f":"+[2]Séries_Site!B250","v":6493},{"$f":"+[2]Séries_Site!C250","v":6493},{"$f":"+[2]Séries_Site!D250","v":0},{"$f":"+[2]Séries_Site!E250","v":7410},{"$f":"+[2]Séries_Site!F250","v":520},{"$f":"+[2]Séries_Site!G250","v":4738},{"$f":"+[2]Séries_Site!H250","v":4738},{"$f":"+[2]Séries_Site!I250","v":0},{"$f":"+[2]Séries_Site!J250","v":5432},{"$f":"+[2]Séries_Site!K250","v":438},{"$f":"+[2]Séries_Site!L250","v":358},{"$f":"+[2]Séries_Site!M250","v":358},{"$f":"+[2]Séries_Site!N250","v":0},{"$f":"+[2]Séries_Site!O250","v":376},{"$f":"+[2]Séries_Site!P250","v":20},{"$f":"+[2]Séries_Site!Q250","v":699},{"$f":"+[2]Séries_Site!R250","v":699},{"$f":"+[2]Séries_Site!S250","v":0},{"$f":"+[2]Séries_Site!T250","v":735},{"$f":"+[2]Séries_Site!U250","v":19},{"$f":"+[2]Séries_Site!V250","v":486},{"$f":"+[2]Séries_Site!W250","v":486},{"$f":"+[2]Séries_Site!X250","v":0},{"$f":"+[2]Séries_Site!Y250","v":490},{"$f":"+[2]Séries_Site!Z250","v":15},{"$f":"+[2]Séries_Site!AA250","v":0},{"$f":"+[2]Séries_Site!AB250","v":0},{"$f":"+[2]Séries_Site!AC250","v":0},{"$f":"+[2]Séries_Site!AD250","v":0},{"$f":"+[2]Séries_Site!AE250","v":0},{"$f":"+[2]Séries_Site!AF250","v":212},{"$f":"+[2]Séries_Site!AG250","v":212},{"$f":"+[2]Séries_Site!AH250","v":0},{"$f":"+[2]Séries_Site!AI250","v":377},{"$f":"+[2]Séries_Site!AJ250","v":28}]
["1980-06-01",{"$f":"+[2]Séries_Site!B251","v":4832},{"$f":"+[2]Séries_Site!C251","v":4832},{"$f":"+[2]Séries_Site!D251","v":0},{"$f":"+[2]Séries_Site!E251","v":7597},{"$f":"+[2]Séries_Site!F251","v":998},{"$f":"+[2]Séries_Site!G251","v":3357},{"$f":"+[2]Séries_Site!H251","v":3357},{"$f":"+[2]Séries_Site!I251","v":0},{"$f":"+[2]Séries_Site!J251","v":5751},{"$f":"+[2]Séries_Site!K251","v":873},{"$f":"+[2]Séries_Site!L251","v":312},{"$f":"+[2]Séries_Site!M251","v":312},{"$f":"+[2]Séries_Site!N251","v":0},{"$f":"+[2]Séries_Site!O251","v":355},{"$f":"+[2]Séries_Site!P251","v":30},{"$f":"+[2]Séries_Site!Q251","v":611},{"$f":"+[2]Séries_Site!R251","v":611},{"$f":"+[2]Séries_Site!S251","v":0},{"$f":"+[2]Séries_Site!T251","v":645},{"$f":"+[2]Séries_Site!U251","v":41},{"$f":"+[2]Séries_Site!V251","v":319},{"$f":"+[2]Séries_Site!W251","v":319},{"$f":"+[2]Séries_Site!X251","v":0},{"$f":"+[2]Séries_Site!Y251","v":461},{"$f":"+[2]Séries_Site!Z251","v":19},{"$f":"+[2]Séries_Site!AA251","v":0},{"$f":"+[2]Séries_Site!AB251","v":0},{"$f":"+[2]Séries_Site!AC251","v":0},{"$f":"+[2]Séries_Site!AD251","v":0},{"$f":"+[2]Séries_Site!AE251","v":0},{"$f":"+[2]Séries_Site!AF251","v":233},{"$f":"+[2]Séries_Site!AG251","v":233},{"$f":"+[2]Séries_Site!AH251","v":0},{"$f":"+[2]Séries_Site!AI251","v":385},{"$f":"+[2]Séries_Site!AJ251","v":35}]
["1980-07-01",{"$f":"+[2]Séries_Site!B252","v":7119},{"$f":"+[2]Séries_Site!C252","v":7119},{"$f":"+[2]Séries_Site!D252","v":0},{"$f":"+[2]Séries_Site!E252","v":8638},{"$f":"+[2]Séries_Site!F252","v":587},{"$f":"+[2]Séries_Site!G252","v":5744},{"$f":"+[2]Séries_Site!H252","v":5744},{"$f":"+[2]Séries_Site!I252","v":0},{"$f":"+[2]Séries_Site!J252","v":6851},{"$f":"+[2]Séries_Site!K252","v":468},{"$f":"+[2]Séries_Site!L252","v":295},{"$f":"+[2]Séries_Site!M252","v":295},{"$f":"+[2]Séries_Site!N252","v":0},{"$f":"+[2]Séries_Site!O252","v":437},{"$f":"+[2]Séries_Site!P252","v":49},{"$f":"+[2]Séries_Site!Q252","v":584},{"$f":"+[2]Séries_Site!R252","v":584},{"$f":"+[2]Séries_Site!S252","v":0},{"$f":"+[2]Séries_Site!T252","v":706},{"$f":"+[2]Séries_Site!U252","v":18},{"$f":"+[2]Séries_Site!V252","v":198},{"$f":"+[2]Séries_Site!W252","v":198},{"$f":"+[2]Séries_Site!X252","v":0},{"$f":"+[2]Séries_Site!Y252","v":398},{"$f":"+[2]Séries_Site!Z252","v":14},{"$f":"+[2]Séries_Site!AA252","v":0},{"$f":"+[2]Séries_Site!AB252","v":0},{"$f":"+[2]Séries_Site!AC252","v":0},{"$f":"+[2]Séries_Site!AD252","v":0},{"$f":"+[2]Séries_Site!AE252","v":0},{"$f":"+[2]Séries_Site!AF252","v":298},{"$f":"+[2]Séries_Site!AG252","v":298},{"$f":"+[2]Séries_Site!AH252","v":0},{"$f":"+[2]Séries_Site!AI252","v":246},{"$f":"+[2]Séries_Site!AJ252","v":38}]
["1980-08-01",{"$f":"+[2]Séries_Site!B253","v":6868},{"$f":"+[2]Séries_Site!C253","v":6868},{"$f":"+[2]Séries_Site!D253","v":0},{"$f":"+[2]Séries_Site!E253","v":7108},{"$f":"+[2]Séries_Site!F253","v":875},{"$f":"+[2]Séries_Site!G253","v":5270},{"$f":"+[2]Séries_Site!H253","v":5270},{"$f":"+[2]Séries_Site!I253","v":0},{"$f":"+[2]Séries_Site!J253","v":5400},{"$f":"+[2]Séries_Site!K253","v":763},{"$f":"+[2]Séries_Site!L253","v":470},{"$f":"+[2]Séries_Site!M253","v":470},{"$f":"+[2]Séries_Site!N253","v":0},{"$f":"+[2]Séries_Site!O253","v":415},{"$f":"+[2]Séries_Site!P253","v":8},{"$f":"+[2]Séries_Site!Q253","v":558},{"$f":"+[2]Séries_Site!R253","v":558},{"$f":"+[2]Séries_Site!S253","v":0},{"$f":"+[2]Séries_Site!T253","v":643},{"$f":"+[2]Séries_Site!U253","v":23},{"$f":"+[2]Séries_Site!V253","v":347},{"$f":"+[2]Séries_Site!W253","v":347},{"$f":"+[2]Séries_Site!X253","v":0},{"$f":"+[2]Séries_Site!Y253","v":431},{"$f":"+[2]Séries_Site!Z253","v":46},{"$f":"+[2]Séries_Site!AA253","v":0},{"$f":"+[2]Séries_Site!AB253","v":0},{"$f":"+[2]Séries_Site!AC253","v":0},{"$f":"+[2]Séries_Site!AD253","v":0},{"$f":"+[2]Séries_Site!AE253","v":0},{"$f":"+[2]Séries_Site!AF253","v":223},{"$f":"+[2]Séries_Site!AG253","v":223},{"$f":"+[2]Séries_Site!AH253","v":0},{"$f":"+[2]Séries_Site!AI253","v":219},{"$f":"+[2]Séries_Site!AJ253","v":35}]
["1980-09-01",{"$f":"+[2]Séries_Site!B254","v":6815},{"$f":"+[2]Séries_Site!C254","v":6815},{"$f":"+[2]Séries_Site!D254","v":0},{"$f":"+[2]Séries_Site!E254","v":6915},{"$f":"+[2]Séries_Site!F254","v":956},{"$f":"+[2]Séries_Site!G254","v":5370},{"$f":"+[2]Séries_Site!H254","v":5370},{"$f":"+[2]Séries_Site!I254","v":0},{"$f":"+[2]Séries_Site!J254","v":5331},{"$f":"+[2]Séries_Site!K254","v":836},{"$f":"+[2]Séries_Site!L254","v":405},{"$f":"+[2]Séries_Site!M254","v":405},{"$f":"+[2]Séries_Site!N254","v":0},{"$f":"+[2]Séries_Site!O254","v":457},{"$f":"+[2]Séries_Site!P254","v":55},{"$f":"+[2]Séries_Site!Q254","v":451},{"$f":"+[2]Séries_Site!R254","v":451},{"$f":"+[2]Séries_Site!S254","v":0},{"$f":"+[2]Séries_Site!T254","v":491},{"$f":"+[2]Séries_Site!U254","v":17},{"$f":"+[2]Séries_Site!V254","v":441},{"$f":"+[2]Séries_Site!W254","v":441},{"$f":"+[2]Séries_Site!X254","v":0},{"$f":"+[2]Séries_Site!Y254","v":567},{"$f":"+[2]Séries_Site!Z254","v":19},{"$f":"+[2]Séries_Site!AA254","v":0},{"$f":"+[2]Séries_Site!AB254","v":0},{"$f":"+[2]Séries_Site!AC254","v":0},{"$f":"+[2]Séries_Site!AD254","v":0},{"$f":"+[2]Séries_Site!AE254","v":0},{"$f":"+[2]Séries_Site!AF254","v":148},{"$f":"+[2]Séries_Site!AG254","v":148},{"$f":"+[2]Séries_Site!AH254","v":0},{"$f":"+[2]Séries_Site!AI254","v":69},{"$f":"+[2]Séries_Site!AJ254","v":29}]
["1980-10-01",{"$f":"+[2]Séries_Site!B255","v":6169},{"$f":"+[2]Séries_Site!C255","v":6169},{"$f":"+[2]Séries_Site!D255","v":0},{"$f":"+[2]Séries_Site!E255","v":6594},{"$f":"+[2]Séries_Site!F255","v":1050},{"$f":"+[2]Séries_Site!G255","v":4679},{"$f":"+[2]Séries_Site!H255","v":4679},{"$f":"+[2]Séries_Site!I255","v":0},{"$f":"+[2]Séries_Site!J255","v":4762},{"$f":"+[2]Séries_Site!K255","v":852},{"$f":"+[2]Séries_Site!L255","v":298},{"$f":"+[2]Séries_Site!M255","v":298},{"$f":"+[2]Séries_Site!N255","v":0},{"$f":"+[2]Séries_Site!O255","v":364},{"$f":"+[2]Séries_Site!P255","v":47},{"$f":"+[2]Séries_Site!Q255","v":573},{"$f":"+[2]Séries_Site!R255","v":573},{"$f":"+[2]Séries_Site!S255","v":0},{"$f":"+[2]Séries_Site!T255","v":733},{"$f":"+[2]Séries_Site!U255","v":90},{"$f":"+[2]Séries_Site!V255","v":489},{"$f":"+[2]Séries_Site!W255","v":489},{"$f":"+[2]Séries_Site!X255","v":0},{"$f":"+[2]Séries_Site!Y255","v":597},{"$f":"+[2]Séries_Site!Z255","v":33},{"$f":"+[2]Séries_Site!AA255","v":0},{"$f":"+[2]Séries_Site!AB255","v":0},{"$f":"+[2]Séries_Site!AC255","v":0},{"$f":"+[2]Séries_Site!AD255","v":0},{"$f":"+[2]Séries_Site!AE255","v":0},{"$f":"+[2]Séries_Site!AF255","v":130},{"$f":"+[2]Séries_Site!AG255","v":130},{"$f":"+[2]Séries_Site!AH255","v":0},{"$f":"+[2]Séries_Site!AI255","v":138},{"$f":"+[2]Séries_Site!AJ255","v":28}]
["1980-11-01",{"$f":"+[2]Séries_Site!B256","v":5258},{"$f":"+[2]Séries_Site!C256","v":5258},{"$f":"+[2]Séries_Site!D256","v":0},{"$f":"+[2]Séries_Site!E256","v":6177},{"$f":"+[2]Séries_Site!F256","v":752},{"$f":"+[2]Séries_Site!G256","v":3857},{"$f":"+[2]Séries_Site!H256","v":3857},{"$f":"+[2]Séries_Site!I256","v":0},{"$f":"+[2]Séries_Site!J256","v":4581},{"$f":"+[2]Séries_Site!K256","v":616},{"$f":"+[2]Séries_Site!L256","v":293},{"$f":"+[2]Séries_Site!M256","v":293},{"$f":"+[2]Séries_Site!N256","v":0},{"$f":"+[2]Séries_Site!O256","v":384},{"$f":"+[2]Séries_Site!P256","v":60},{"$f":"+[2]Séries_Site!Q256","v":426},{"$f":"+[2]Séries_Site!R256","v":426},{"$f":"+[2]Séries_Site!S256","v":0},{"$f":"+[2]Séries_Site!T256","v":561},{"$f":"+[2]Séries_Site!U256","v":43},{"$f":"+[2]Séries_Site!V256","v":558},{"$f":"+[2]Séries_Site!W256","v":558},{"$f":"+[2]Séries_Site!X256","v":0},{"$f":"+[2]Séries_Site!Y256","v":526},{"$f":"+[2]Séries_Site!Z256","v":16},{"$f":"+[2]Séries_Site!AA256","v":0},{"$f":"+[2]Séries_Site!AB256","v":0},{"$f":"+[2]Séries_Site!AC256","v":0},{"$f":"+[2]Séries_Site!AD256","v":0},{"$f":"+[2]Séries_Site!AE256","v":0},{"$f":"+[2]Séries_Site!AF256","v":124},{"$f":"+[2]Séries_Site!AG256","v":124},{"$f":"+[2]Séries_Site!AH256","v":0},{"$f":"+[2]Séries_Site!AI256","v":125},{"$f":"+[2]Séries_Site!AJ256","v":17}]
["1980-12-01",{"$f":"+[2]Séries_Site!B257","v":3702},{"$f":"+[2]Séries_Site!C257","v":3702},{"$f":"+[2]Séries_Site!D257","v":0},{"$f":"+[2]Séries_Site!E257","v":4397},{"$f":"+[2]Séries_Site!F257","v":902},{"$f":"+[2]Séries_Site!G257","v":2709},{"$f":"+[2]Séries_Site!H257","v":2709},{"$f":"+[2]Séries_Site!I257","v":0},{"$f":"+[2]Séries_Site!J257","v":3383},{"$f":"+[2]Séries_Site!K257","v":754},{"$f":"+[2]Séries_Site!L257","v":297},{"$f":"+[2]Séries_Site!M257","v":297},{"$f":"+[2]Séries_Site!N257","v":0},{"$f":"+[2]Séries_Site!O257","v":337},{"$f":"+[2]Séries_Site!P257","v":85},{"$f":"+[2]Séries_Site!Q257","v":334},{"$f":"+[2]Séries_Site!R257","v":334},{"$f":"+[2]Séries_Site!S257","v":0},{"$f":"+[2]Séries_Site!T257","v":343},{"$f":"+[2]Séries_Site!U257","v":15},{"$f":"+[2]Séries_Site!V257","v":315},{"$f":"+[2]Séries_Site!W257","v":315},{"$f":"+[2]Séries_Site!X257","v":0},{"$f":"+[2]Séries_Site!Y257","v":301},{"$f":"+[2]Séries_Site!Z257","v":42},{"$f":"+[2]Séries_Site!AA257","v":0},{"$f":"+[2]Séries_Site!AB257","v":0},{"$f":"+[2]Séries_Site!AC257","v":0},{"$f":"+[2]Séries_Site!AD257","v":0},{"$f":"+[2]Séries_Site!AE257","v":0},{"$f":"+[2]Séries_Site!AF257","v":47},{"$f":"+[2]Séries_Site!AG257","v":47},{"$f":"+[2]Séries_Site!AH257","v":0},{"$f":"+[2]Séries_Site!AI257","v":33},{"$f":"+[2]Séries_Site!AJ257","v":6}]
["1981-01-01",{"$f":"+[2]Séries_Site!B258","v":3088},{"$f":"+[2]Séries_Site!C258","v":3088},{"$f":"+[2]Séries_Site!D258","v":0},{"$f":"+[2]Séries_Site!E258","v":4109},{"$f":"+[2]Séries_Site!F258","v":242},{"$f":"+[2]Séries_Site!G258","v":2198},{"$f":"+[2]Séries_Site!H258","v":2198},{"$f":"+[2]Séries_Site!I258","v":0},{"$f":"+[2]Séries_Site!J258","v":3008},{"$f":"+[2]Séries_Site!K258","v":158},{"$f":"+[2]Séries_Site!L258","v":240},{"$f":"+[2]Séries_Site!M258","v":240},{"$f":"+[2]Séries_Site!N258","v":0},{"$f":"+[2]Séries_Site!O258","v":242},{"$f":"+[2]Séries_Site!P258","v":11},{"$f":"+[2]Séries_Site!Q258","v":231},{"$f":"+[2]Séries_Site!R258","v":231},{"$f":"+[2]Séries_Site!S258","v":0},{"$f":"+[2]Séries_Site!T258","v":319},{"$f":"+[2]Séries_Site!U258","v":32},{"$f":"+[2]Séries_Site!V258","v":419},{"$f":"+[2]Séries_Site!W258","v":419},{"$f":"+[2]Séries_Site!X258","v":0},{"$f":"+[2]Séries_Site!Y258","v":540},{"$f":"+[2]Séries_Site!Z258","v":41},{"$f":"+[2]Séries_Site!AA258","v":0},{"$f":"+[2]Séries_Site!AB258","v":0},{"$f":"+[2]Séries_Site!AC258","v":0},{"$f":"+[2]Séries_Site!AD258","v":0},{"$f":"+[2]Séries_Site!AE258","v":0},{"$f":"+[2]Séries_Site!AF258","v":0},{"$f":"+[2]Séries_Site!AG258","v":0},{"$f":"+[2]Séries_Site!AH258","v":0},{"$f":"+[2]Séries_Site!AI258","v":0},{"$f":"+[2]Séries_Site!AJ258","v":0}]
["1981-02-01",{"$f":"+[2]Séries_Site!B259","v":4522},{"$f":"+[2]Séries_Site!C259","v":4522},{"$f":"+[2]Séries_Site!D259","v":0},{"$f":"+[2]Séries_Site!E259","v":5793},{"$f":"+[2]Séries_Site!F259","v":849},{"$f":"+[2]Séries_Site!G259","v":3101},{"$f":"+[2]Séries_Site!H259","v":3101},{"$f":"+[2]Séries_Site!I259","v":0},{"$f":"+[2]Séries_Site!J259","v":4285},{"$f":"+[2]Séries_Site!K259","v":753},{"$f":"+[2]Séries_Site!L259","v":317},{"$f":"+[2]Séries_Site!M259","v":317},{"$f":"+[2]Séries_Site!N259","v":0},{"$f":"+[2]Séries_Site!O259","v":357},{"$f":"+[2]Séries_Site!P259","v":12},{"$f":"+[2]Séries_Site!Q259","v":273},{"$f":"+[2]Séries_Site!R259","v":273},{"$f":"+[2]Séries_Site!S259","v":0},{"$f":"+[2]Séries_Site!T259","v":425},{"$f":"+[2]Séries_Site!U259","v":23},{"$f":"+[2]Séries_Site!V259","v":831},{"$f":"+[2]Séries_Site!W259","v":831},{"$f":"+[2]Séries_Site!X259","v":0},{"$f":"+[2]Séries_Site!Y259","v":726},{"$f":"+[2]Séries_Site!Z259","v":55},{"$f":"+[2]Séries_Site!AA259","v":0},{"$f":"+[2]Séries_Site!AB259","v":0},{"$f":"+[2]Séries_Site!AC259","v":0},{"$f":"+[2]Séries_Site!AD259","v":0},{"$f":"+[2]Séries_Site!AE259","v":0},{"$f":"+[2]Séries_Site!AF259","v":0},{"$f":"+[2]Séries_Site!AG259","v":0},{"$f":"+[2]Séries_Site!AH259","v":0},{"$f":"+[2]Séries_Site!AI259","v":0},{"$f":"+[2]Séries_Site!AJ259","v":6}]
["1981-03-01",{"$f":"+[2]Séries_Site!B260","v":3833},{"$f":"+[2]Séries_Site!C260","v":3833},{"$f":"+[2]Séries_Site!D260","v":0},{"$f":"+[2]Séries_Site!E260","v":6082},{"$f":"+[2]Séries_Site!F260","v":1189},{"$f":"+[2]Séries_Site!G260","v":2390},{"$f":"+[2]Séries_Site!H260","v":2390},{"$f":"+[2]Séries_Site!I260","v":0},{"$f":"+[2]Séries_Site!J260","v":4196},{"$f":"+[2]Séries_Site!K260","v":860},{"$f":"+[2]Séries_Site!L260","v":153},{"$f":"+[2]Séries_Site!M260","v":153},{"$f":"+[2]Séries_Site!N260","v":0},{"$f":"+[2]Séries_Site!O260","v":356},{"$f":"+[2]Séries_Site!P260","v":19},{"$f":"+[2]Séries_Site!Q260","v":339},{"$f":"+[2]Séries_Site!R260","v":339},{"$f":"+[2]Séries_Site!S260","v":0},{"$f":"+[2]Séries_Site!T260","v":255},{"$f":"+[2]Séries_Site!U260","v":10},{"$f":"+[2]Séries_Site!V260","v":735},{"$f":"+[2]Séries_Site!W260","v":735},{"$f":"+[2]Séries_Site!X260","v":0},{"$f":"+[2]Séries_Site!Y260","v":822},{"$f":"+[2]Séries_Site!Z260","v":36},{"$f":"+[2]Séries_Site!AA260","v":0},{"$f":"+[2]Séries_Site!AB260","v":0},{"$f":"+[2]Séries_Site!AC260","v":0},{"$f":"+[2]Séries_Site!AD260","v":0},{"$f":"+[2]Séries_Site!AE260","v":0},{"$f":"+[2]Séries_Site!AF260","v":216},{"$f":"+[2]Séries_Site!AG260","v":216},{"$f":"+[2]Séries_Site!AH260","v":0},{"$f":"+[2]Séries_Site!AI260","v":453},{"$f":"+[2]Séries_Site!AJ260","v":264}]
["1981-04-01",{"$f":"+[2]Séries_Site!B261","v":3814},{"$f":"+[2]Séries_Site!C261","v":3814},{"$f":"+[2]Séries_Site!D261","v":0},{"$f":"+[2]Séries_Site!E261","v":3850},{"$f":"+[2]Séries_Site!F261","v":672},{"$f":"+[2]Séries_Site!G261","v":2695},{"$f":"+[2]Séries_Site!H261","v":2695},{"$f":"+[2]Séries_Site!I261","v":0},{"$f":"+[2]Séries_Site!J261","v":2906},{"$f":"+[2]Séries_Site!K261","v":631},{"$f":"+[2]Séries_Site!L261","v":94},{"$f":"+[2]Séries_Site!M261","v":94},{"$f":"+[2]Séries_Site!N261","v":0},{"$f":"+[2]Séries_Site!O261","v":266},{"$f":"+[2]Séries_Site!P261","v":5},{"$f":"+[2]Séries_Site!Q261","v":664},{"$f":"+[2]Séries_Site!R261","v":664},{"$f":"+[2]Séries_Site!S261","v":0},{"$f":"+[2]Séries_Site!T261","v":282},{"$f":"+[2]Séries_Site!U261","v":5},{"$f":"+[2]Séries_Site!V261","v":361},{"$f":"+[2]Séries_Site!W261","v":361},{"$f":"+[2]Séries_Site!X261","v":0},{"$f":"+[2]Séries_Site!Y261","v":396},{"$f":"+[2]Séries_Site!Z261","v":31},{"$f":"+[2]Séries_Site!AA261","v":0},{"$f":"+[2]Séries_Site!AB261","v":0},{"$f":"+[2]Séries_Site!AC261","v":0},{"$f":"+[2]Séries_Site!AD261","v":0},{"$f":"+[2]Séries_Site!AE261","v":0},{"$f":"+[2]Séries_Site!AF261","v":0},{"$f":"+[2]Séries_Site!AG261","v":0},{"$f":"+[2]Séries_Site!AH261","v":0},{"$f":"+[2]Séries_Site!AI261","v":0},{"$f":"+[2]Séries_Site!AJ261","v":0}]
["1981-05-01",{"$f":"+[2]Séries_Site!B262","v":3581},{"$f":"+[2]Séries_Site!C262","v":3581},{"$f":"+[2]Séries_Site!D262","v":0},{"$f":"+[2]Séries_Site!E262","v":5174},{"$f":"+[2]Séries_Site!F262","v":1637},{"$f":"+[2]Séries_Site!G262","v":2710},{"$f":"+[2]Séries_Site!H262","v":2710},{"$f":"+[2]Séries_Site!I262","v":0},{"$f":"+[2]Séries_Site!J262","v":3818},{"$f":"+[2]Séries_Site!K262","v":1413},{"$f":"+[2]Séries_Site!L262","v":149},{"$f":"+[2]Séries_Site!M262","v":149},{"$f":"+[2]Séries_Site!N262","v":0},{"$f":"+[2]Séries_Site!O262","v":310},{"$f":"+[2]Séries_Site!P262","v":46},{"$f":"+[2]Séries_Site!Q262","v":328},{"$f":"+[2]Séries_Site!R262","v":328},{"$f":"+[2]Séries_Site!S262","v":0},{"$f":"+[2]Séries_Site!T262","v":432},{"$f":"+[2]Séries_Site!U262","v":32},{"$f":"+[2]Séries_Site!V262","v":275},{"$f":"+[2]Séries_Site!W262","v":275},{"$f":"+[2]Séries_Site!X262","v":0},{"$f":"+[2]Séries_Site!Y262","v":378},{"$f":"+[2]Séries_Site!Z262","v":2},{"$f":"+[2]Séries_Site!AA262","v":0},{"$f":"+[2]Séries_Site!AB262","v":0},{"$f":"+[2]Séries_Site!AC262","v":0},{"$f":"+[2]Séries_Site!AD262","v":0},{"$f":"+[2]Séries_Site!AE262","v":0},{"$f":"+[2]Séries_Site!AF262","v":119},{"$f":"+[2]Séries_Site!AG262","v":119},{"$f":"+[2]Séries_Site!AH262","v":0},{"$f":"+[2]Séries_Site!AI262","v":236},{"$f":"+[2]Séries_Site!AJ262","v":144}]
["1981-06-01",{"$f":"+[2]Séries_Site!B263","v":3284},{"$f":"+[2]Séries_Site!C263","v":3284},{"$f":"+[2]Séries_Site!D263","v":0},{"$f":"+[2]Séries_Site!E263","v":6094},{"$f":"+[2]Séries_Site!F263","v":981},{"$f":"+[2]Séries_Site!G263","v":2344},{"$f":"+[2]Séries_Site!H263","v":2344},{"$f":"+[2]Séries_Site!I263","v":0},{"$f":"+[2]Séries_Site!J263","v":4291},{"$f":"+[2]Séries_Site!K263","v":825},{"$f":"+[2]Séries_Site!L263","v":209},{"$f":"+[2]Séries_Site!M263","v":209},{"$f":"+[2]Séries_Site!N263","v":0},{"$f":"+[2]Séries_Site!O263","v":303},{"$f":"+[2]Séries_Site!P263","v":49},{"$f":"+[2]Séries_Site!Q263","v":502},{"$f":"+[2]Séries_Site!R263","v":502},{"$f":"+[2]Séries_Site!S263","v":0},{"$f":"+[2]Séries_Site!T263","v":430},{"$f":"+[2]Séries_Site!U263","v":20},{"$f":"+[2]Séries_Site!V263","v":170},{"$f":"+[2]Séries_Site!W263","v":170},{"$f":"+[2]Séries_Site!X263","v":0},{"$f":"+[2]Séries_Site!Y263","v":312},{"$f":"+[2]Séries_Site!Z263","v":16},{"$f":"+[2]Séries_Site!AA263","v":0},{"$f":"+[2]Séries_Site!AB263","v":0},{"$f":"+[2]Séries_Site!AC263","v":0},{"$f":"+[2]Séries_Site!AD263","v":0},{"$f":"+[2]Séries_Site!AE263","v":0},{"$f":"+[2]Séries_Site!AF263","v":59},{"$f":"+[2]Séries_Site!AG263","v":59},{"$f":"+[2]Séries_Site!AH263","v":0},{"$f":"+[2]Séries_Site!AI263","v":758},{"$f":"+[2]Séries_Site!AJ263","v":71}]
["1981-07-01",{"$f":"+[2]Séries_Site!B264","v":3450},{"$f":"+[2]Séries_Site!C264","v":3450},{"$f":"+[2]Séries_Site!D264","v":0},{"$f":"+[2]Séries_Site!E264","v":4168},{"$f":"+[2]Séries_Site!F264","v":1560},{"$f":"+[2]Séries_Site!G264","v":2814},{"$f":"+[2]Séries_Site!H264","v":2814},{"$f":"+[2]Séries_Site!I264","v":0},{"$f":"+[2]Séries_Site!J264","v":3169},{"$f":"+[2]Séries_Site!K264","v":1289},{"$f":"+[2]Séries_Site!L264","v":117},{"$f":"+[2]Séries_Site!M264","v":117},{"$f":"+[2]Séries_Site!N264","v":0},{"$f":"+[2]Séries_Site!O264","v":416},{"$f":"+[2]Séries_Site!P264","v":62},{"$f":"+[2]Séries_Site!Q264","v":211},{"$f":"+[2]Séries_Site!R264","v":211},{"$f":"+[2]Séries_Site!S264","v":0},{"$f":"+[2]Séries_Site!T264","v":466},{"$f":"+[2]Séries_Site!U264","v":45},{"$f":"+[2]Séries_Site!V264","v":189},{"$f":"+[2]Séries_Site!W264","v":189},{"$f":"+[2]Séries_Site!X264","v":0},{"$f":"+[2]Séries_Site!Y264","v":117},{"$f":"+[2]Séries_Site!Z264","v":21},{"$f":"+[2]Séries_Site!AA264","v":0},{"$f":"+[2]Séries_Site!AB264","v":0},{"$f":"+[2]Séries_Site!AC264","v":0},{"$f":"+[2]Séries_Site!AD264","v":0},{"$f":"+[2]Séries_Site!AE264","v":0},{"$f":"+[2]Séries_Site!AF264","v":119},{"$f":"+[2]Séries_Site!AG264","v":119},{"$f":"+[2]Séries_Site!AH264","v":0},{"$f":"+[2]Séries_Site!AI264","v":0},{"$f":"+[2]Séries_Site!AJ264","v":143}]
["1981-08-01",{"$f":"+[2]Séries_Site!B265","v":2580},{"$f":"+[2]Séries_Site!C265","v":2580},{"$f":"+[2]Séries_Site!D265","v":0},{"$f":"+[2]Séries_Site!E265","v":4175},{"$f":"+[2]Séries_Site!F265","v":1338},{"$f":"+[2]Séries_Site!G265","v":1786},{"$f":"+[2]Séries_Site!H265","v":1786},{"$f":"+[2]Séries_Site!I265","v":0},{"$f":"+[2]Séries_Site!J265","v":3317},{"$f":"+[2]Séries_Site!K265","v":1229},{"$f":"+[2]Séries_Site!L265","v":73},{"$f":"+[2]Séries_Site!M265","v":73},{"$f":"+[2]Séries_Site!N265","v":0},{"$f":"+[2]Séries_Site!O265","v":302},{"$f":"+[2]Séries_Site!P265","v":45},{"$f":"+[2]Séries_Site!Q265","v":525},{"$f":"+[2]Séries_Site!R265","v":525},{"$f":"+[2]Séries_Site!S265","v":0},{"$f":"+[2]Séries_Site!T265","v":293},{"$f":"+[2]Séries_Site!U265","v":1},{"$f":"+[2]Séries_Site!V265","v":169},{"$f":"+[2]Séries_Site!W265","v":169},{"$f":"+[2]Séries_Site!X265","v":0},{"$f":"+[2]Séries_Site!Y265","v":263},{"$f":"+[2]Séries_Site!Z265","v":30},{"$f":"+[2]Séries_Site!AA265","v":0},{"$f":"+[2]Séries_Site!AB265","v":0},{"$f":"+[2]Séries_Site!AC265","v":0},{"$f":"+[2]Séries_Site!AD265","v":0},{"$f":"+[2]Séries_Site!AE265","v":0},{"$f":"+[2]Séries_Site!AF265","v":27},{"$f":"+[2]Séries_Site!AG265","v":27},{"$f":"+[2]Séries_Site!AH265","v":0},{"$f":"+[2]Séries_Site!AI265","v":0},{"$f":"+[2]Séries_Site!AJ265","v":33}]
["1981-09-01",{"$f":"+[2]Séries_Site!B266","v":3135},{"$f":"+[2]Séries_Site!C266","v":3135},{"$f":"+[2]Séries_Site!D266","v":0},{"$f":"+[2]Séries_Site!E266","v":3703},{"$f":"+[2]Séries_Site!F266","v":1463},{"$f":"+[2]Séries_Site!G266","v":2192},{"$f":"+[2]Séries_Site!H266","v":2192},{"$f":"+[2]Séries_Site!I266","v":0},{"$f":"+[2]Séries_Site!J266","v":3006},{"$f":"+[2]Séries_Site!K266","v":1254},{"$f":"+[2]Séries_Site!L266","v":209},{"$f":"+[2]Séries_Site!M266","v":209},{"$f":"+[2]Séries_Site!N266","v":0},{"$f":"+[2]Séries_Site!O266","v":188},{"$f":"+[2]Séries_Site!P266","v":39},{"$f":"+[2]Séries_Site!Q266","v":259},{"$f":"+[2]Séries_Site!R266","v":259},{"$f":"+[2]Séries_Site!S266","v":0},{"$f":"+[2]Séries_Site!T266","v":260},{"$f":"+[2]Séries_Site!U266","v":6},{"$f":"+[2]Séries_Site!V266","v":356},{"$f":"+[2]Séries_Site!W266","v":356},{"$f":"+[2]Séries_Site!X266","v":0},{"$f":"+[2]Séries_Site!Y266","v":249},{"$f":"+[2]Séries_Site!Z266","v":8},{"$f":"+[2]Séries_Site!AA266","v":0},{"$f":"+[2]Séries_Site!AB266","v":0},{"$f":"+[2]Séries_Site!AC266","v":0},{"$f":"+[2]Séries_Site!AD266","v":0},{"$f":"+[2]Séries_Site!AE266","v":0},{"$f":"+[2]Séries_Site!AF266","v":119},{"$f":"+[2]Séries_Site!AG266","v":119},{"$f":"+[2]Séries_Site!AH266","v":0},{"$f":"+[2]Séries_Site!AI266","v":0},{"$f":"+[2]Séries_Site!AJ266","v":156}]
["1981-10-01",{"$f":"+[2]Séries_Site!B267","v":3282},{"$f":"+[2]Séries_Site!C267","v":3282},{"$f":"+[2]Séries_Site!D267","v":0},{"$f":"+[2]Séries_Site!E267","v":3739},{"$f":"+[2]Séries_Site!F267","v":1033},{"$f":"+[2]Séries_Site!G267","v":2072},{"$f":"+[2]Séries_Site!H267","v":2072},{"$f":"+[2]Séries_Site!I267","v":0},{"$f":"+[2]Séries_Site!J267","v":2840},{"$f":"+[2]Séries_Site!K267","v":954},{"$f":"+[2]Séries_Site!L267","v":288},{"$f":"+[2]Séries_Site!M267","v":288},{"$f":"+[2]Séries_Site!N267","v":0},{"$f":"+[2]Séries_Site!O267","v":153},{"$f":"+[2]Séries_Site!P267","v":31},{"$f":"+[2]Séries_Site!Q267","v":520},{"$f":"+[2]Séries_Site!R267","v":520},{"$f":"+[2]Séries_Site!S267","v":0},{"$f":"+[2]Séries_Site!T267","v":507},{"$f":"+[2]Séries_Site!U267","v":0},{"$f":"+[2]Séries_Site!V267","v":370},{"$f":"+[2]Séries_Site!W267","v":370},{"$f":"+[2]Séries_Site!X267","v":0},{"$f":"+[2]Séries_Site!Y267","v":239},{"$f":"+[2]Séries_Site!Z267","v":9},{"$f":"+[2]Séries_Site!AA267","v":0},{"$f":"+[2]Séries_Site!AB267","v":0},{"$f":"+[2]Séries_Site!AC267","v":0},{"$f":"+[2]Séries_Site!AD267","v":0},{"$f":"+[2]Séries_Site!AE267","v":0},{"$f":"+[2]Séries_Site!AF267","v":32},{"$f":"+[2]Séries_Site!AG267","v":32},{"$f":"+[2]Séries_Site!AH267","v":0},{"$f":"+[2]Séries_Site!AI267","v":0},{"$f":"+[2]Séries_Site!AJ267","v":39}]
["1981-11-01",{"$f":"+[2]Séries_Site!B268","v":2884},{"$f":"+[2]Séries_Site!C268","v":2884},{"$f":"+[2]Séries_Site!D268","v":0},{"$f":"+[2]Séries_Site!E268","v":3536},{"$f":"+[2]Séries_Site!F268","v":538},{"$f":"+[2]Séries_Site!G268","v":1848},{"$f":"+[2]Séries_Site!H268","v":1848},{"$f":"+[2]Séries_Site!I268","v":0},{"$f":"+[2]Séries_Site!J268","v":2355},{"$f":"+[2]Séries_Site!K268","v":489},{"$f":"+[2]Séries_Site!L268","v":275},{"$f":"+[2]Séries_Site!M268","v":275},{"$f":"+[2]Séries_Site!N268","v":0},{"$f":"+[2]Séries_Site!O268","v":150},{"$f":"+[2]Séries_Site!P268","v":8},{"$f":"+[2]Séries_Site!Q268","v":479},{"$f":"+[2]Séries_Site!R268","v":479},{"$f":"+[2]Séries_Site!S268","v":0},{"$f":"+[2]Séries_Site!T268","v":488},{"$f":"+[2]Séries_Site!U268","v":3},{"$f":"+[2]Séries_Site!V268","v":271},{"$f":"+[2]Séries_Site!W268","v":271},{"$f":"+[2]Séries_Site!X268","v":0},{"$f":"+[2]Séries_Site!Y268","v":395},{"$f":"+[2]Séries_Site!Z268","v":21},{"$f":"+[2]Séries_Site!AA268","v":0},{"$f":"+[2]Séries_Site!AB268","v":0},{"$f":"+[2]Séries_Site!AC268","v":0},{"$f":"+[2]Séries_Site!AD268","v":0},{"$f":"+[2]Séries_Site!AE268","v":0},{"$f":"+[2]Séries_Site!AF268","v":11},{"$f":"+[2]Séries_Site!AG268","v":11},{"$f":"+[2]Séries_Site!AH268","v":0},{"$f":"+[2]Séries_Site!AI268","v":148},{"$f":"+[2]Séries_Site!AJ268","v":17}]
["1981-12-01",{"$f":"+[2]Séries_Site!B269","v":2972},{"$f":"+[2]Séries_Site!C269","v":2972},{"$f":"+[2]Séries_Site!D269","v":0},{"$f":"+[2]Séries_Site!E269","v":3285},{"$f":"+[2]Séries_Site!F269","v":470},{"$f":"+[2]Séries_Site!G269","v":1799},{"$f":"+[2]Séries_Site!H269","v":1799},{"$f":"+[2]Séries_Site!I269","v":0},{"$f":"+[2]Séries_Site!J269","v":1947},{"$f":"+[2]Séries_Site!K269","v":185},{"$f":"+[2]Séries_Site!L269","v":269},{"$f":"+[2]Séries_Site!M269","v":269},{"$f":"+[2]Séries_Site!N269","v":0},{"$f":"+[2]Séries_Site!O269","v":90},{"$f":"+[2]Séries_Site!P269","v":70},{"$f":"+[2]Séries_Site!Q269","v":393},{"$f":"+[2]Séries_Site!R269","v":393},{"$f":"+[2]Séries_Site!S269","v":0},{"$f":"+[2]Séries_Site!T269","v":391},{"$f":"+[2]Séries_Site!U269","v":2},{"$f":"+[2]Séries_Site!V269","v":376},{"$f":"+[2]Séries_Site!W269","v":376},{"$f":"+[2]Séries_Site!X269","v":0},{"$f":"+[2]Séries_Site!Y269","v":454},{"$f":"+[2]Séries_Site!Z269","v":44},{"$f":"+[2]Séries_Site!AA269","v":0},{"$f":"+[2]Séries_Site!AB269","v":0},{"$f":"+[2]Séries_Site!AC269","v":0},{"$f":"+[2]Séries_Site!AD269","v":0},{"$f":"+[2]Séries_Site!AE269","v":0},{"$f":"+[2]Séries_Site!AF269","v":135},{"$f":"+[2]Séries_Site!AG269","v":135},{"$f":"+[2]Séries_Site!AH269","v":0},{"$f":"+[2]Séries_Site!AI269","v":403},{"$f":"+[2]Séries_Site!AJ269","v":169}]
["1982-01-01",{"$f":"+[2]Séries_Site!B270","v":2351},{"$f":"+[2]Séries_Site!C270","v":2351},{"$f":"+[2]Séries_Site!D270","v":0},{"$f":"+[2]Séries_Site!E270","v":2168},{"$f":"+[2]Séries_Site!F270","v":419},{"$f":"+[2]Séries_Site!G270","v":1240},{"$f":"+[2]Séries_Site!H270","v":1240},{"$f":"+[2]Séries_Site!I270","v":0},{"$f":"+[2]Séries_Site!J270","v":1111},{"$f":"+[2]Séries_Site!K270","v":324},{"$f":"+[2]Séries_Site!L270","v":156},{"$f":"+[2]Séries_Site!M270","v":156},{"$f":"+[2]Séries_Site!N270","v":0},{"$f":"+[2]Séries_Site!O270","v":113},{"$f":"+[2]Séries_Site!P270","v":6},{"$f":"+[2]Séries_Site!Q270","v":317},{"$f":"+[2]Séries_Site!R270","v":317},{"$f":"+[2]Séries_Site!S270","v":0},{"$f":"+[2]Séries_Site!T270","v":322},{"$f":"+[2]Séries_Site!U270","v":2},{"$f":"+[2]Séries_Site!V270","v":573},{"$f":"+[2]Séries_Site!W270","v":573},{"$f":"+[2]Séries_Site!X270","v":0},{"$f":"+[2]Séries_Site!Y270","v":509},{"$f":"+[2]Séries_Site!Z270","v":49},{"$f":"+[2]Séries_Site!AA270","v":0},{"$f":"+[2]Séries_Site!AB270","v":0},{"$f":"+[2]Séries_Site!AC270","v":0},{"$f":"+[2]Séries_Site!AD270","v":0},{"$f":"+[2]Séries_Site!AE270","v":0},{"$f":"+[2]Séries_Site!AF270","v":65},{"$f":"+[2]Séries_Site!AG270","v":65},{"$f":"+[2]Séries_Site!AH270","v":0},{"$f":"+[2]Séries_Site!AI270","v":113},{"$f":"+[2]Séries_Site!AJ270","v":38}]
["1982-02-01",{"$f":"+[2]Séries_Site!B271","v":3179},{"$f":"+[2]Séries_Site!C271","v":3179},{"$f":"+[2]Séries_Site!D271","v":0},{"$f":"+[2]Séries_Site!E271","v":3461},{"$f":"+[2]Séries_Site!F271","v":927},{"$f":"+[2]Séries_Site!G271","v":1981},{"$f":"+[2]Séries_Site!H271","v":1981},{"$f":"+[2]Séries_Site!I271","v":0},{"$f":"+[2]Séries_Site!J271","v":2211},{"$f":"+[2]Séries_Site!K271","v":855},{"$f":"+[2]Séries_Site!L271","v":146},{"$f":"+[2]Séries_Site!M271","v":146},{"$f":"+[2]Séries_Site!N271","v":0},{"$f":"+[2]Séries_Site!O271","v":132},{"$f":"+[2]Séries_Site!P271","v":42},{"$f":"+[2]Séries_Site!Q271","v":484},{"$f":"+[2]Séries_Site!R271","v":484},{"$f":"+[2]Séries_Site!S271","v":0},{"$f":"+[2]Séries_Site!T271","v":483},{"$f":"+[2]Séries_Site!U271","v":4},{"$f":"+[2]Séries_Site!V271","v":535},{"$f":"+[2]Séries_Site!W271","v":535},{"$f":"+[2]Séries_Site!X271","v":0},{"$f":"+[2]Séries_Site!Y271","v":607},{"$f":"+[2]Séries_Site!Z271","v":5},{"$f":"+[2]Séries_Site!AA271","v":0},{"$f":"+[2]Séries_Site!AB271","v":0},{"$f":"+[2]Séries_Site!AC271","v":0},{"$f":"+[2]Séries_Site!AD271","v":0},{"$f":"+[2]Séries_Site!AE271","v":0},{"$f":"+[2]Séries_Site!AF271","v":33},{"$f":"+[2]Séries_Site!AG271","v":33},{"$f":"+[2]Séries_Site!AH271","v":0},{"$f":"+[2]Séries_Site!AI271","v":28},{"$f":"+[2]Séries_Site!AJ271","v":21}]
["1982-03-01",{"$f":"+[2]Séries_Site!B272","v":3712},{"$f":"+[2]Séries_Site!C272","v":3712},{"$f":"+[2]Séries_Site!D272","v":0},{"$f":"+[2]Séries_Site!E272","v":3950},{"$f":"+[2]Séries_Site!F272","v":525},{"$f":"+[2]Séries_Site!G272","v":2278},{"$f":"+[2]Séries_Site!H272","v":2278},{"$f":"+[2]Séries_Site!I272","v":0},{"$f":"+[2]Séries_Site!J272","v":2511},{"$f":"+[2]Séries_Site!K272","v":447},{"$f":"+[2]Séries_Site!L272","v":145},{"$f":"+[2]Séries_Site!M272","v":145},{"$f":"+[2]Séries_Site!N272","v":0},{"$f":"+[2]Séries_Site!O272","v":204},{"$f":"+[2]Séries_Site!P272","v":40},{"$f":"+[2]Séries_Site!Q272","v":601},{"$f":"+[2]Séries_Site!R272","v":601},{"$f":"+[2]Séries_Site!S272","v":0},{"$f":"+[2]Séries_Site!T272","v":594},{"$f":"+[2]Séries_Site!U272","v":0},{"$f":"+[2]Séries_Site!V272","v":655},{"$f":"+[2]Séries_Site!W272","v":655},{"$f":"+[2]Séries_Site!X272","v":0},{"$f":"+[2]Séries_Site!Y272","v":584},{"$f":"+[2]Séries_Site!Z272","v":19},{"$f":"+[2]Séries_Site!AA272","v":0},{"$f":"+[2]Séries_Site!AB272","v":0},{"$f":"+[2]Séries_Site!AC272","v":0},{"$f":"+[2]Séries_Site!AD272","v":0},{"$f":"+[2]Séries_Site!AE272","v":0},{"$f":"+[2]Séries_Site!AF272","v":33},{"$f":"+[2]Séries_Site!AG272","v":33},{"$f":"+[2]Séries_Site!AH272","v":0},{"$f":"+[2]Séries_Site!AI272","v":57},{"$f":"+[2]Séries_Site!AJ272","v":19}]
["1982-04-01",{"$f":"+[2]Séries_Site!B273","v":3207},{"$f":"+[2]Séries_Site!C273","v":3207},{"$f":"+[2]Séries_Site!D273","v":0},{"$f":"+[2]Séries_Site!E273","v":3887},{"$f":"+[2]Séries_Site!F273","v":351},{"$f":"+[2]Séries_Site!G273","v":2242},{"$f":"+[2]Séries_Site!H273","v":2242},{"$f":"+[2]Séries_Site!I273","v":0},{"$f":"+[2]Séries_Site!J273","v":2829},{"$f":"+[2]Séries_Site!K273","v":309},{"$f":"+[2]Séries_Site!L273","v":122},{"$f":"+[2]Séries_Site!M273","v":122},{"$f":"+[2]Séries_Site!N273","v":0},{"$f":"+[2]Séries_Site!O273","v":226},{"$f":"+[2]Séries_Site!P273","v":12},{"$f":"+[2]Séries_Site!Q273","v":564},{"$f":"+[2]Séries_Site!R273","v":564},{"$f":"+[2]Séries_Site!S273","v":0},{"$f":"+[2]Séries_Site!T273","v":574},{"$f":"+[2]Séries_Site!U273","v":4},{"$f":"+[2]Séries_Site!V273","v":259},{"$f":"+[2]Séries_Site!W273","v":259},{"$f":"+[2]Séries_Site!X273","v":0},{"$f":"+[2]Séries_Site!Y273","v":230},{"$f":"+[2]Séries_Site!Z273","v":13},{"$f":"+[2]Séries_Site!AA273","v":0},{"$f":"+[2]Séries_Site!AB273","v":0},{"$f":"+[2]Séries_Site!AC273","v":0},{"$f":"+[2]Séries_Site!AD273","v":0},{"$f":"+[2]Séries_Site!AE273","v":0},{"$f":"+[2]Séries_Site!AF273","v":20},{"$f":"+[2]Séries_Site!AG273","v":20},{"$f":"+[2]Séries_Site!AH273","v":0},{"$f":"+[2]Séries_Site!AI273","v":28},{"$f":"+[2]Séries_Site!AJ273","v":13}]
["1982-05-01",{"$f":"+[2]Séries_Site!B274","v":3753},{"$f":"+[2]Séries_Site!C274","v":3753},{"$f":"+[2]Séries_Site!D274","v":0},{"$f":"+[2]Séries_Site!E274","v":4365},{"$f":"+[2]Séries_Site!F274","v":445},{"$f":"+[2]Séries_Site!G274","v":2738},{"$f":"+[2]Séries_Site!H274","v":2738},{"$f":"+[2]Séries_Site!I274","v":0},{"$f":"+[2]Séries_Site!J274","v":3098},{"$f":"+[2]Séries_Site!K274","v":340},{"$f":"+[2]Séries_Site!L274","v":183},{"$f":"+[2]Séries_Site!M274","v":183},{"$f":"+[2]Séries_Site!N274","v":0},{"$f":"+[2]Séries_Site!O274","v":226},{"$f":"+[2]Séries_Site!P274","v":25},{"$f":"+[2]Séries_Site!Q274","v":613},{"$f":"+[2]Séries_Site!R274","v":613},{"$f":"+[2]Séries_Site!S274","v":0},{"$f":"+[2]Séries_Site!T274","v":615},{"$f":"+[2]Séries_Site!U274","v":0},{"$f":"+[2]Séries_Site!V274","v":79},{"$f":"+[2]Séries_Site!W274","v":79},{"$f":"+[2]Séries_Site!X274","v":0},{"$f":"+[2]Séries_Site!Y274","v":120},{"$f":"+[2]Séries_Site!Z274","v":0},{"$f":"+[2]Séries_Site!AA274","v":0},{"$f":"+[2]Séries_Site!AB274","v":0},{"$f":"+[2]Séries_Site!AC274","v":0},{"$f":"+[2]Séries_Site!AD274","v":0},{"$f":"+[2]Séries_Site!AE274","v":0},{"$f":"+[2]Séries_Site!AF274","v":140},{"$f":"+[2]Séries_Site!AG274","v":140},{"$f":"+[2]Séries_Site!AH274","v":0},{"$f":"+[2]Séries_Site!AI274","v":306},{"$f":"+[2]Séries_Site!AJ274","v":80}]
["1982-06-01",{"$f":"+[2]Séries_Site!B275","v":3446},{"$f":"+[2]Séries_Site!C275","v":3446},{"$f":"+[2]Séries_Site!D275","v":0},{"$f":"+[2]Séries_Site!E275","v":4394},{"$f":"+[2]Séries_Site!F275","v":484},{"$f":"+[2]Séries_Site!G275","v":2497},{"$f":"+[2]Séries_Site!H275","v":2497},{"$f":"+[2]Séries_Site!I275","v":0},{"$f":"+[2]Séries_Site!J275","v":3256},{"$f":"+[2]Séries_Site!K275","v":413},{"$f":"+[2]Séries_Site!L275","v":194},{"$f":"+[2]Séries_Site!M275","v":194},{"$f":"+[2]Séries_Site!N275","v":0},{"$f":"+[2]Séries_Site!O275","v":217},{"$f":"+[2]Séries_Site!P275","v":32},{"$f":"+[2]Séries_Site!Q275","v":459},{"$f":"+[2]Séries_Site!R275","v":459},{"$f":"+[2]Séries_Site!S275","v":0},{"$f":"+[2]Séries_Site!T275","v":598},{"$f":"+[2]Séries_Site!U275","v":3},{"$f":"+[2]Séries_Site!V275","v":249},{"$f":"+[2]Séries_Site!W275","v":249},{"$f":"+[2]Séries_Site!X275","v":0},{"$f":"+[2]Séries_Site!Y275","v":221},{"$f":"+[2]Séries_Site!Z275","v":9},{"$f":"+[2]Séries_Site!AA275","v":0},{"$f":"+[2]Séries_Site!AB275","v":0},{"$f":"+[2]Séries_Site!AC275","v":0},{"$f":"+[2]Séries_Site!AD275","v":0},{"$f":"+[2]Séries_Site!AE275","v":0},{"$f":"+[2]Séries_Site!AF275","v":47},{"$f":"+[2]Séries_Site!AG275","v":47},{"$f":"+[2]Séries_Site!AH275","v":0},{"$f":"+[2]Séries_Site!AI275","v":102},{"$f":"+[2]Séries_Site!AJ275","v":27}]
["1982-07-01",{"$f":"+[2]Séries_Site!B276","v":3158},{"$f":"+[2]Séries_Site!C276","v":3158},{"$f":"+[2]Séries_Site!D276","v":0},{"$f":"+[2]Séries_Site!E276","v":3618},{"$f":"+[2]Séries_Site!F276","v":680},{"$f":"+[2]Séries_Site!G276","v":2529},{"$f":"+[2]Séries_Site!H276","v":2529},{"$f":"+[2]Séries_Site!I276","v":0},{"$f":"+[2]Séries_Site!J276","v":2754},{"$f":"+[2]Séries_Site!K276","v":635},{"$f":"+[2]Séries_Site!L276","v":117},{"$f":"+[2]Séries_Site!M276","v":117},{"$f":"+[2]Séries_Site!N276","v":0},{"$f":"+[2]Séries_Site!O276","v":223},{"$f":"+[2]Séries_Site!P276","v":29},{"$f":"+[2]Séries_Site!Q276","v":404},{"$f":"+[2]Séries_Site!R276","v":404},{"$f":"+[2]Séries_Site!S276","v":0},{"$f":"+[2]Séries_Site!T276","v":533},{"$f":"+[2]Séries_Site!U276","v":4},{"$f":"+[2]Séries_Site!V276","v":87},{"$f":"+[2]Séries_Site!W276","v":87},{"$f":"+[2]Séries_Site!X276","v":0},{"$f":"+[2]Séries_Site!Y276","v":63},{"$f":"+[2]Séries_Site!Z276","v":0},{"$f":"+[2]Séries_Site!AA276","v":0},{"$f":"+[2]Séries_Site!AB276","v":0},{"$f":"+[2]Séries_Site!AC276","v":0},{"$f":"+[2]Séries_Site!AD276","v":0},{"$f":"+[2]Séries_Site!AE276","v":0},{"$f":"+[2]Séries_Site!AF276","v":21},{"$f":"+[2]Séries_Site!AG276","v":21},{"$f":"+[2]Séries_Site!AH276","v":0},{"$f":"+[2]Séries_Site!AI276","v":45},{"$f":"+[2]Séries_Site!AJ276","v":12}]
["1982-08-01",{"$f":"+[2]Séries_Site!B277","v":3444},{"$f":"+[2]Séries_Site!C277","v":3444},{"$f":"+[2]Séries_Site!D277","v":0},{"$f":"+[2]Séries_Site!E277","v":4372},{"$f":"+[2]Séries_Site!F277","v":539},{"$f":"+[2]Séries_Site!G277","v":2528},{"$f":"+[2]Séries_Site!H277","v":2528},{"$f":"+[2]Séries_Site!I277","v":0},{"$f":"+[2]Séries_Site!J277","v":3049},{"$f":"+[2]Séries_Site!K277","v":418},{"$f":"+[2]Séries_Site!L277","v":114},{"$f":"+[2]Séries_Site!M277","v":114},{"$f":"+[2]Séries_Site!N277","v":0},{"$f":"+[2]Séries_Site!O277","v":212},{"$f":"+[2]Séries_Site!P277","v":30},{"$f":"+[2]Séries_Site!Q277","v":567},{"$f":"+[2]Séries_Site!R277","v":567},{"$f":"+[2]Séries_Site!S277","v":0},{"$f":"+[2]Séries_Site!T277","v":635},{"$f":"+[2]Séries_Site!U277","v":4},{"$f":"+[2]Séries_Site!V277","v":92},{"$f":"+[2]Séries_Site!W277","v":92},{"$f":"+[2]Séries_Site!X277","v":0},{"$f":"+[2]Séries_Site!Y277","v":165},{"$f":"+[2]Séries_Site!Z277","v":5},{"$f":"+[2]Séries_Site!AA277","v":0},{"$f":"+[2]Séries_Site!AB277","v":0},{"$f":"+[2]Séries_Site!AC277","v":0},{"$f":"+[2]Séries_Site!AD277","v":0},{"$f":"+[2]Séries_Site!AE277","v":0},{"$f":"+[2]Séries_Site!AF277","v":143},{"$f":"+[2]Séries_Site!AG277","v":143},{"$f":"+[2]Séries_Site!AH277","v":0},{"$f":"+[2]Séries_Site!AI277","v":311},{"$f":"+[2]Séries_Site!AJ277","v":82}]
["1982-09-01",{"$f":"+[2]Séries_Site!B278","v":2962},{"$f":"+[2]Séries_Site!C278","v":2962},{"$f":"+[2]Séries_Site!D278","v":0},{"$f":"+[2]Séries_Site!E278","v":4035},{"$f":"+[2]Séries_Site!F278","v":729},{"$f":"+[2]Séries_Site!G278","v":2259},{"$f":"+[2]Séries_Site!H278","v":2259},{"$f":"+[2]Séries_Site!I278","v":0},{"$f":"+[2]Séries_Site!J278","v":3167},{"$f":"+[2]Séries_Site!K278","v":669},{"$f":"+[2]Séries_Site!L278","v":146},{"$f":"+[2]Séries_Site!M278","v":146},{"$f":"+[2]Séries_Site!N278","v":0},{"$f":"+[2]Séries_Site!O278","v":178},{"$f":"+[2]Séries_Site!P278","v":28},{"$f":"+[2]Séries_Site!Q278","v":379},{"$f":"+[2]Séries_Site!R278","v":379},{"$f":"+[2]Séries_Site!S278","v":0},{"$f":"+[2]Séries_Site!T278","v":371},{"$f":"+[2]Séries_Site!U278","v":0},{"$f":"+[2]Séries_Site!V278","v":124},{"$f":"+[2]Séries_Site!W278","v":124},{"$f":"+[2]Séries_Site!X278","v":0},{"$f":"+[2]Séries_Site!Y278","v":200},{"$f":"+[2]Séries_Site!Z278","v":1},{"$f":"+[2]Séries_Site!AA278","v":0},{"$f":"+[2]Séries_Site!AB278","v":0},{"$f":"+[2]Séries_Site!AC278","v":0},{"$f":"+[2]Séries_Site!AD278","v":0},{"$f":"+[2]Séries_Site!AE278","v":0},{"$f":"+[2]Séries_Site!AF278","v":54},{"$f":"+[2]Séries_Site!AG278","v":54},{"$f":"+[2]Séries_Site!AH278","v":0},{"$f":"+[2]Séries_Site!AI278","v":119},{"$f":"+[2]Séries_Site!AJ278","v":31}]
["1982-10-01",{"$f":"+[2]Séries_Site!B279","v":2208},{"$f":"+[2]Séries_Site!C279","v":2208},{"$f":"+[2]Séries_Site!D279","v":0},{"$f":"+[2]Séries_Site!E279","v":2949},{"$f":"+[2]Séries_Site!F279","v":646},{"$f":"+[2]Séries_Site!G279","v":1797},{"$f":"+[2]Séries_Site!H279","v":1797},{"$f":"+[2]Séries_Site!I279","v":0},{"$f":"+[2]Séries_Site!J279","v":2353},{"$f":"+[2]Séries_Site!K279","v":600},{"$f":"+[2]Séries_Site!L279","v":71},{"$f":"+[2]Séries_Site!M279","v":71},{"$f":"+[2]Séries_Site!N279","v":0},{"$f":"+[2]Séries_Site!O279","v":92},{"$f":"+[2]Séries_Site!P279","v":18},{"$f":"+[2]Séries_Site!Q279","v":200},{"$f":"+[2]Séries_Site!R279","v":200},{"$f":"+[2]Séries_Site!S279","v":0},{"$f":"+[2]Séries_Site!T279","v":246},{"$f":"+[2]Séries_Site!U279","v":5},{"$f":"+[2]Séries_Site!V279","v":114},{"$f":"+[2]Séries_Site!W279","v":114},{"$f":"+[2]Séries_Site!X279","v":0},{"$f":"+[2]Séries_Site!Y279","v":201},{"$f":"+[2]Séries_Site!Z279","v":8},{"$f":"+[2]Séries_Site!AA279","v":0},{"$f":"+[2]Séries_Site!AB279","v":0},{"$f":"+[2]Séries_Site!AC279","v":0},{"$f":"+[2]Séries_Site!AD279","v":0},{"$f":"+[2]Séries_Site!AE279","v":0},{"$f":"+[2]Séries_Site!AF279","v":26},{"$f":"+[2]Séries_Site!AG279","v":26},{"$f":"+[2]Séries_Site!AH279","v":0},{"$f":"+[2]Séries_Site!AI279","v":57},{"$f":"+[2]Séries_Site!AJ279","v":15}]
["1982-11-01",{"$f":"+[2]Séries_Site!B280","v":1768},{"$f":"+[2]Séries_Site!C280","v":1768},{"$f":"+[2]Séries_Site!D280","v":0},{"$f":"+[2]Séries_Site!E280","v":2833},{"$f":"+[2]Séries_Site!F280","v":699},{"$f":"+[2]Séries_Site!G280","v":1358},{"$f":"+[2]Séries_Site!H280","v":1358},{"$f":"+[2]Séries_Site!I280","v":0},{"$f":"+[2]Séries_Site!J280","v":2230},{"$f":"+[2]Séries_Site!K280","v":634},{"$f":"+[2]Séries_Site!L280","v":58},{"$f":"+[2]Séries_Site!M280","v":58},{"$f":"+[2]Séries_Site!N280","v":0},{"$f":"+[2]Séries_Site!O280","v":59},{"$f":"+[2]Séries_Site!P280","v":15},{"$f":"+[2]Séries_Site!Q280","v":200},{"$f":"+[2]Séries_Site!R280","v":200},{"$f":"+[2]Séries_Site!S280","v":0},{"$f":"+[2]Séries_Site!T280","v":267},{"$f":"+[2]Séries_Site!U280","v":28},{"$f":"+[2]Séries_Site!V280","v":116},{"$f":"+[2]Séries_Site!W280","v":116},{"$f":"+[2]Séries_Site!X280","v":0},{"$f":"+[2]Séries_Site!Y280","v":198},{"$f":"+[2]Séries_Site!Z280","v":1},{"$f":"+[2]Séries_Site!AA280","v":0},{"$f":"+[2]Séries_Site!AB280","v":0},{"$f":"+[2]Séries_Site!AC280","v":0},{"$f":"+[2]Séries_Site!AD280","v":0},{"$f":"+[2]Séries_Site!AE280","v":0},{"$f":"+[2]Séries_Site!AF280","v":36},{"$f":"+[2]Séries_Site!AG280","v":36},{"$f":"+[2]Séries_Site!AH280","v":0},{"$f":"+[2]Séries_Site!AI280","v":79},{"$f":"+[2]Séries_Site!AJ280","v":21}]
["1982-12-01",{"$f":"+[2]Séries_Site!B281","v":1990},{"$f":"+[2]Séries_Site!C281","v":1990},{"$f":"+[2]Séries_Site!D281","v":0},{"$f":"+[2]Séries_Site!E281","v":2037},{"$f":"+[2]Séries_Site!F281","v":657},{"$f":"+[2]Séries_Site!G281","v":1168},{"$f":"+[2]Séries_Site!H281","v":1168},{"$f":"+[2]Séries_Site!I281","v":0},{"$f":"+[2]Séries_Site!J281","v":1557},{"$f":"+[2]Séries_Site!K281","v":590},{"$f":"+[2]Séries_Site!L281","v":51},{"$f":"+[2]Séries_Site!M281","v":51},{"$f":"+[2]Séries_Site!N281","v":0},{"$f":"+[2]Séries_Site!O281","v":18},{"$f":"+[2]Séries_Site!P281","v":52},{"$f":"+[2]Séries_Site!Q281","v":369},{"$f":"+[2]Séries_Site!R281","v":369},{"$f":"+[2]Séries_Site!S281","v":0},{"$f":"+[2]Séries_Site!T281","v":126},{"$f":"+[2]Séries_Site!U281","v":5},{"$f":"+[2]Séries_Site!V281","v":402},{"$f":"+[2]Séries_Site!W281","v":402},{"$f":"+[2]Séries_Site!X281","v":0},{"$f":"+[2]Séries_Site!Y281","v":336},{"$f":"+[2]Séries_Site!Z281","v":10},{"$f":"+[2]Séries_Site!AA281","v":0},{"$f":"+[2]Séries_Site!AB281","v":0},{"$f":"+[2]Séries_Site!AC281","v":0},{"$f":"+[2]Séries_Site!AD281","v":0},{"$f":"+[2]Séries_Site!AE281","v":0},{"$f":"+[2]Séries_Site!AF281","v":0},{"$f":"+[2]Séries_Site!AG281","v":0},{"$f":"+[2]Séries_Site!AH281","v":0},{"$f":"+[2]Séries_Site!AI281","v":0},{"$f":"+[2]Séries_Site!AJ281","v":0}]
["1983-01-01",{"$f":"+[2]Séries_Site!B282","v":1227},{"$f":"+[2]Séries_Site!C282","v":1227},{"$f":"+[2]Séries_Site!D282","v":0},{"$f":"+[2]Séries_Site!E282","v":1079},{"$f":"+[2]Séries_Site!F282","v":332},{"$f":"+[2]Séries_Site!G282","v":526},{"$f":"+[2]Séries_Site!H282","v":526},{"$f":"+[2]Séries_Site!I282","v":0},{"$f":"+[2]Séries_Site!J282","v":461},{"$f":"+[2]Séries_Site!K282","v":272},{"$f":"+[2]Séries_Site!L282","v":27},{"$f":"+[2]Séries_Site!M282","v":27},{"$f":"+[2]Séries_Site!N282","v":0},{"$f":"+[2]Séries_Site!O282","v":0},{"$f":"+[2]Séries_Site!P282","v":16},{"$f":"+[2]Séries_Site!Q282","v":260},{"$f":"+[2]Séries_Site!R282","v":260},{"$f":"+[2]Séries_Site!S282","v":0},{"$f":"+[2]Séries_Site!T282","v":296},{"$f":"+[2]Séries_Site!U282","v":1},{"$f":"+[2]Séries_Site!V282","v":392},{"$f":"+[2]Séries_Site!W282","v":392},{"$f":"+[2]Séries_Site!X282","v":0},{"$f":"+[2]Séries_Site!Y282","v":322},{"$f":"+[2]Séries_Site!Z282","v":40},{"$f":"+[2]Séries_Site!AA282","v":0},{"$f":"+[2]Séries_Site!AB282","v":0},{"$f":"+[2]Séries_Site!AC282","v":0},{"$f":"+[2]Séries_Site!AD282","v":0},{"$f":"+[2]Séries_Site!AE282","v":0},{"$f":"+[2]Séries_Site!AF282","v":22},{"$f":"+[2]Séries_Site!AG282","v":22},{"$f":"+[2]Séries_Site!AH282","v":0},{"$f":"+[2]Séries_Site!AI282","v":0},{"$f":"+[2]Séries_Site!AJ282","v":3}]
["1983-02-01",{"$f":"+[2]Séries_Site!B283","v":1843},{"$f":"+[2]Séries_Site!C283","v":1843},{"$f":"+[2]Séries_Site!D283","v":0},{"$f":"+[2]Séries_Site!E283","v":1774},{"$f":"+[2]Séries_Site!F283","v":487},{"$f":"+[2]Séries_Site!G283","v":941},{"$f":"+[2]Séries_Site!H283","v":941},{"$f":"+[2]Séries_Site!I283","v":0},{"$f":"+[2]Séries_Site!J283","v":949},{"$f":"+[2]Séries_Site!K283","v":376},{"$f":"+[2]Séries_Site!L283","v":42},{"$f":"+[2]Séries_Site!M283","v":42},{"$f":"+[2]Séries_Site!N283","v":0},{"$f":"+[2]Séries_Site!O283","v":13},{"$f":"+[2]Séries_Site!P283","v":56},{"$f":"+[2]Séries_Site!Q283","v":303},{"$f":"+[2]Séries_Site!R283","v":303},{"$f":"+[2]Séries_Site!S283","v":0},{"$f":"+[2]Séries_Site!T283","v":360},{"$f":"+[2]Séries_Site!U283","v":5},{"$f":"+[2]Séries_Site!V283","v":498},{"$f":"+[2]Séries_Site!W283","v":498},{"$f":"+[2]Séries_Site!X283","v":0},{"$f":"+[2]Séries_Site!Y283","v":418},{"$f":"+[2]Séries_Site!Z283","v":42},{"$f":"+[2]Séries_Site!AA283","v":0},{"$f":"+[2]Séries_Site!AB283","v":0},{"$f":"+[2]Séries_Site!AC283","v":0},{"$f":"+[2]Séries_Site!AD283","v":0},{"$f":"+[2]Séries_Site!AE283","v":0},{"$f":"+[2]Séries_Site!AF283","v":59},{"$f":"+[2]Séries_Site!AG283","v":59},{"$f":"+[2]Séries_Site!AH283","v":0},{"$f":"+[2]Séries_Site!AI283","v":34},{"$f":"+[2]Séries_Site!AJ283","v":8}]
["1983-03-01",{"$f":"+[2]Séries_Site!B284","v":2415},{"$f":"+[2]Séries_Site!C284","v":2415},{"$f":"+[2]Séries_Site!D284","v":0},{"$f":"+[2]Séries_Site!E284","v":2236},{"$f":"+[2]Séries_Site!F284","v":177},{"$f":"+[2]Séries_Site!G284","v":1323},{"$f":"+[2]Séries_Site!H284","v":1323},{"$f":"+[2]Séries_Site!I284","v":0},{"$f":"+[2]Séries_Site!J284","v":1208},{"$f":"+[2]Séries_Site!K284","v":137},{"$f":"+[2]Séries_Site!L284","v":71},{"$f":"+[2]Séries_Site!M284","v":71},{"$f":"+[2]Séries_Site!N284","v":0},{"$f":"+[2]Séries_Site!O284","v":68},{"$f":"+[2]Séries_Site!P284","v":17},{"$f":"+[2]Séries_Site!Q284","v":349},{"$f":"+[2]Séries_Site!R284","v":349},{"$f":"+[2]Séries_Site!S284","v":0},{"$f":"+[2]Séries_Site!T284","v":458},{"$f":"+[2]Séries_Site!U284","v":2},{"$f":"+[2]Séries_Site!V284","v":635},{"$f":"+[2]Séries_Site!W284","v":635},{"$f":"+[2]Séries_Site!X284","v":0},{"$f":"+[2]Séries_Site!Y284","v":440},{"$f":"+[2]Séries_Site!Z284","v":16},{"$f":"+[2]Séries_Site!AA284","v":0},{"$f":"+[2]Séries_Site!AB284","v":0},{"$f":"+[2]Séries_Site!AC284","v":0},{"$f":"+[2]Séries_Site!AD284","v":0},{"$f":"+[2]Séries_Site!AE284","v":0},{"$f":"+[2]Séries_Site!AF284","v":37},{"$f":"+[2]Séries_Site!AG284","v":37},{"$f":"+[2]Séries_Site!AH284","v":0},{"$f":"+[2]Séries_Site!AI284","v":62},{"$f":"+[2]Séries_Site!AJ284","v":5}]
["1983-04-01",{"$f":"+[2]Séries_Site!B285","v":2313},{"$f":"+[2]Séries_Site!C285","v":2313},{"$f":"+[2]Séries_Site!D285","v":0},{"$f":"+[2]Séries_Site!E285","v":1859},{"$f":"+[2]Séries_Site!F285","v":72},{"$f":"+[2]Séries_Site!G285","v":1579},{"$f":"+[2]Séries_Site!H285","v":1579},{"$f":"+[2]Séries_Site!I285","v":0},{"$f":"+[2]Séries_Site!J285","v":1219},{"$f":"+[2]Séries_Site!K285","v":39},{"$f":"+[2]Séries_Site!L285","v":65},{"$f":"+[2]Séries_Site!M285","v":65},{"$f":"+[2]Séries_Site!N285","v":0},{"$f":"+[2]Séries_Site!O285","v":52},{"$f":"+[2]Séries_Site!P285","v":5},{"$f":"+[2]Séries_Site!Q285","v":332},{"$f":"+[2]Séries_Site!R285","v":332},{"$f":"+[2]Séries_Site!S285","v":0},{"$f":"+[2]Séries_Site!T285","v":335},{"$f":"+[2]Séries_Site!U285","v":20},{"$f":"+[2]Séries_Site!V285","v":304},{"$f":"+[2]Séries_Site!W285","v":304},{"$f":"+[2]Séries_Site!X285","v":0},{"$f":"+[2]Séries_Site!Y285","v":219},{"$f":"+[2]Séries_Site!Z285","v":3},{"$f":"+[2]Séries_Site!AA285","v":0},{"$f":"+[2]Séries_Site!AB285","v":0},{"$f":"+[2]Séries_Site!AC285","v":0},{"$f":"+[2]Séries_Site!AD285","v":0},{"$f":"+[2]Séries_Site!AE285","v":0},{"$f":"+[2]Séries_Site!AF285","v":33},{"$f":"+[2]Séries_Site!AG285","v":33},{"$f":"+[2]Séries_Site!AH285","v":0},{"$f":"+[2]Séries_Site!AI285","v":34},{"$f":"+[2]Séries_Site!AJ285","v":5}]
["1983-05-01",{"$f":"+[2]Séries_Site!B286","v":2207},{"$f":"+[2]Séries_Site!C286","v":2207},{"$f":"+[2]Séries_Site!D286","v":0},{"$f":"+[2]Séries_Site!E286","v":2262},{"$f":"+[2]Séries_Site!F286","v":106},{"$f":"+[2]Séries_Site!G286","v":1746},{"$f":"+[2]Séries_Site!H286","v":1746},{"$f":"+[2]Séries_Site!I286","v":0},{"$f":"+[2]Séries_Site!J286","v":1801},{"$f":"+[2]Séries_Site!K286","v":67},{"$f":"+[2]Séries_Site!L286","v":70},{"$f":"+[2]Séries_Site!M286","v":70},{"$f":"+[2]Séries_Site!N286","v":0},{"$f":"+[2]Séries_Site!O286","v":77},{"$f":"+[2]Séries_Site!P286","v":27},{"$f":"+[2]Séries_Site!Q286","v":195},{"$f":"+[2]Séries_Site!R286","v":195},{"$f":"+[2]Séries_Site!S286","v":0},{"$f":"+[2]Séries_Site!T286","v":296},{"$f":"+[2]Séries_Site!U286","v":0},{"$f":"+[2]Séries_Site!V286","v":112},{"$f":"+[2]Séries_Site!W286","v":112},{"$f":"+[2]Séries_Site!X286","v":0},{"$f":"+[2]Séries_Site!Y286","v":54},{"$f":"+[2]Séries_Site!Z286","v":0},{"$f":"+[2]Séries_Site!AA286","v":0},{"$f":"+[2]Séries_Site!AB286","v":0},{"$f":"+[2]Séries_Site!AC286","v":0},{"$f":"+[2]Séries_Site!AD286","v":0},{"$f":"+[2]Séries_Site!AE286","v":0},{"$f":"+[2]Séries_Site!AF286","v":84},{"$f":"+[2]Séries_Site!AG286","v":84},{"$f":"+[2]Séries_Site!AH286","v":0},{"$f":"+[2]Séries_Site!AI286","v":34},{"$f":"+[2]Séries_Site!AJ286","v":12}]
["1983-06-01",{"$f":"+[2]Séries_Site!B287","v":2273},{"$f":"+[2]Séries_Site!C287","v":2273},{"$f":"+[2]Séries_Site!D287","v":0},{"$f":"+[2]Séries_Site!E287","v":2465},{"$f":"+[2]Séries_Site!F287","v":48},{"$f":"+[2]Séries_Site!G287","v":1962},{"$f":"+[2]Séries_Site!H287","v":1962},{"$f":"+[2]Séries_Site!I287","v":0},{"$f":"+[2]Séries_Site!J287","v":2110},{"$f":"+[2]Séries_Site!K287","v":30},{"$f":"+[2]Séries_Site!L287","v":78},{"$f":"+[2]Séries_Site!M287","v":78},{"$f":"+[2]Séries_Site!N287","v":0},{"$f":"+[2]Séries_Site!O287","v":55},{"$f":"+[2]Séries_Site!P287","v":5},{"$f":"+[2]Séries_Site!Q287","v":136},{"$f":"+[2]Séries_Site!R287","v":136},{"$f":"+[2]Séries_Site!S287","v":0},{"$f":"+[2]Séries_Site!T287","v":182},{"$f":"+[2]Séries_Site!U287","v":0},{"$f":"+[2]Séries_Site!V287","v":42},{"$f":"+[2]Séries_Site!W287","v":42},{"$f":"+[2]Séries_Site!X287","v":0},{"$f":"+[2]Séries_Site!Y287","v":55},{"$f":"+[2]Séries_Site!Z287","v":4},{"$f":"+[2]Séries_Site!AA287","v":0},{"$f":"+[2]Séries_Site!AB287","v":0},{"$f":"+[2]Séries_Site!AC287","v":0},{"$f":"+[2]Séries_Site!AD287","v":0},{"$f":"+[2]Séries_Site!AE287","v":0},{"$f":"+[2]Séries_Site!AF287","v":55},{"$f":"+[2]Séries_Site!AG287","v":55},{"$f":"+[2]Séries_Site!AH287","v":0},{"$f":"+[2]Séries_Site!AI287","v":63},{"$f":"+[2]Séries_Site!AJ287","v":9}]
["1983-07-01",{"$f":"+[2]Séries_Site!B288","v":2481},{"$f":"+[2]Séries_Site!C288","v":2481},{"$f":"+[2]Séries_Site!D288","v":0},{"$f":"+[2]Séries_Site!E288","v":2378},{"$f":"+[2]Séries_Site!F288","v":105},{"$f":"+[2]Séries_Site!G288","v":2118},{"$f":"+[2]Séries_Site!H288","v":2118},{"$f":"+[2]Séries_Site!I288","v":0},{"$f":"+[2]Séries_Site!J288","v":2050},{"$f":"+[2]Séries_Site!K288","v":60},{"$f":"+[2]Séries_Site!L288","v":81},{"$f":"+[2]Séries_Site!M288","v":81},{"$f":"+[2]Séries_Site!N288","v":0},{"$f":"+[2]Séries_Site!O288","v":36},{"$f":"+[2]Séries_Site!P288","v":12},{"$f":"+[2]Séries_Site!Q288","v":166},{"$f":"+[2]Séries_Site!R288","v":166},{"$f":"+[2]Séries_Site!S288","v":0},{"$f":"+[2]Séries_Site!T288","v":120},{"$f":"+[2]Séries_Site!U288","v":11},{"$f":"+[2]Séries_Site!V288","v":61},{"$f":"+[2]Séries_Site!W288","v":61},{"$f":"+[2]Séries_Site!X288","v":0},{"$f":"+[2]Séries_Site!Y288","v":109},{"$f":"+[2]Séries_Site!Z288","v":15},{"$f":"+[2]Séries_Site!AA288","v":0},{"$f":"+[2]Séries_Site!AB288","v":0},{"$f":"+[2]Séries_Site!AC288","v":0},{"$f":"+[2]Séries_Site!AD288","v":0},{"$f":"+[2]Séries_Site!AE288","v":0},{"$f":"+[2]Séries_Site!AF288","v":55},{"$f":"+[2]Séries_Site!AG288","v":55},{"$f":"+[2]Séries_Site!AH288","v":0},{"$f":"+[2]Séries_Site!AI288","v":63},{"$f":"+[2]Séries_Site!AJ288","v":7}]
["1983-08-01",{"$f":"+[2]Séries_Site!B289","v":2681},{"$f":"+[2]Séries_Site!C289","v":2681},{"$f":"+[2]Séries_Site!D289","v":0},{"$f":"+[2]Séries_Site!E289","v":2647},{"$f":"+[2]Séries_Site!F289","v":327},{"$f":"+[2]Séries_Site!G289","v":2235},{"$f":"+[2]Séries_Site!H289","v":2235},{"$f":"+[2]Séries_Site!I289","v":0},{"$f":"+[2]Séries_Site!J289","v":2153},{"$f":"+[2]Séries_Site!K289","v":286},{"$f":"+[2]Séries_Site!L289","v":76},{"$f":"+[2]Séries_Site!M289","v":76},{"$f":"+[2]Séries_Site!N289","v":0},{"$f":"+[2]Séries_Site!O289","v":60},{"$f":"+[2]Séries_Site!P289","v":7},{"$f":"+[2]Séries_Site!Q289","v":151},{"$f":"+[2]Séries_Site!R289","v":151},{"$f":"+[2]Séries_Site!S289","v":0},{"$f":"+[2]Séries_Site!T289","v":213},{"$f":"+[2]Séries_Site!U289","v":26},{"$f":"+[2]Séries_Site!V289","v":182},{"$f":"+[2]Séries_Site!W289","v":182},{"$f":"+[2]Séries_Site!X289","v":0},{"$f":"+[2]Séries_Site!Y289","v":221},{"$f":"+[2]Séries_Site!Z289","v":3},{"$f":"+[2]Séries_Site!AA289","v":0},{"$f":"+[2]Séries_Site!AB289","v":0},{"$f":"+[2]Séries_Site!AC289","v":0},{"$f":"+[2]Séries_Site!AD289","v":0},{"$f":"+[2]Séries_Site!AE289","v":0},{"$f":"+[2]Séries_Site!AF289","v":37},{"$f":"+[2]Séries_Site!AG289","v":37},{"$f":"+[2]Séries_Site!AH289","v":0},{"$f":"+[2]Séries_Site!AI289","v":0},{"$f":"+[2]Séries_Site!AJ289","v":5}]
["1983-09-01",{"$f":"+[2]Séries_Site!B290","v":3185},{"$f":"+[2]Séries_Site!C290","v":3185},{"$f":"+[2]Séries_Site!D290","v":0},{"$f":"+[2]Séries_Site!E290","v":3417},{"$f":"+[2]Séries_Site!F290","v":363},{"$f":"+[2]Séries_Site!G290","v":2542},{"$f":"+[2]Séries_Site!H290","v":2542},{"$f":"+[2]Séries_Site!I290","v":0},{"$f":"+[2]Séries_Site!J290","v":2817},{"$f":"+[2]Séries_Site!K290","v":312},{"$f":"+[2]Séries_Site!L290","v":102},{"$f":"+[2]Séries_Site!M290","v":102},{"$f":"+[2]Séries_Site!N290","v":0},{"$f":"+[2]Séries_Site!O290","v":96},{"$f":"+[2]Séries_Site!P290","v":32},{"$f":"+[2]Séries_Site!Q290","v":227},{"$f":"+[2]Séries_Site!R290","v":227},{"$f":"+[2]Séries_Site!S290","v":0},{"$f":"+[2]Séries_Site!T290","v":132},{"$f":"+[2]Séries_Site!U290","v":0},{"$f":"+[2]Séries_Site!V290","v":263},{"$f":"+[2]Séries_Site!W290","v":263},{"$f":"+[2]Séries_Site!X290","v":0},{"$f":"+[2]Séries_Site!Y290","v":260},{"$f":"+[2]Séries_Site!Z290","v":12},{"$f":"+[2]Séries_Site!AA290","v":0},{"$f":"+[2]Séries_Site!AB290","v":0},{"$f":"+[2]Séries_Site!AC290","v":0},{"$f":"+[2]Séries_Site!AD290","v":0},{"$f":"+[2]Séries_Site!AE290","v":0},{"$f":"+[2]Séries_Site!AF290","v":51},{"$f":"+[2]Séries_Site!AG290","v":51},{"$f":"+[2]Séries_Site!AH290","v":0},{"$f":"+[2]Séries_Site!AI290","v":112},{"$f":"+[2]Séries_Site!AJ290","v":7}]
["1983-10-01",{"$f":"+[2]Séries_Site!B291","v":3805},{"$f":"+[2]Séries_Site!C291","v":3805},{"$f":"+[2]Séries_Site!D291","v":0},{"$f":"+[2]Séries_Site!E291","v":3691},{"$f":"+[2]Séries_Site!F291","v":59},{"$f":"+[2]Séries_Site!G291","v":3056},{"$f":"+[2]Séries_Site!H291","v":3056},{"$f":"+[2]Séries_Site!I291","v":0},{"$f":"+[2]Séries_Site!J291","v":2967},{"$f":"+[2]Séries_Site!K291","v":47},{"$f":"+[2]Séries_Site!L291","v":72},{"$f":"+[2]Séries_Site!M291","v":72},{"$f":"+[2]Séries_Site!N291","v":0},{"$f":"+[2]Séries_Site!O291","v":109},{"$f":"+[2]Séries_Site!P291","v":4},{"$f":"+[2]Séries_Site!Q291","v":318},{"$f":"+[2]Séries_Site!R291","v":318},{"$f":"+[2]Séries_Site!S291","v":0},{"$f":"+[2]Séries_Site!T291","v":264},{"$f":"+[2]Séries_Site!U291","v":0},{"$f":"+[2]Séries_Site!V291","v":308},{"$f":"+[2]Séries_Site!W291","v":308},{"$f":"+[2]Séries_Site!X291","v":0},{"$f":"+[2]Séries_Site!Y291","v":351},{"$f":"+[2]Séries_Site!Z291","v":1},{"$f":"+[2]Séries_Site!AA291","v":0},{"$f":"+[2]Séries_Site!AB291","v":0},{"$f":"+[2]Séries_Site!AC291","v":0},{"$f":"+[2]Séries_Site!AD291","v":0},{"$f":"+[2]Séries_Site!AE291","v":0},{"$f":"+[2]Séries_Site!AF291","v":51},{"$f":"+[2]Séries_Site!AG291","v":51},{"$f":"+[2]Séries_Site!AH291","v":0},{"$f":"+[2]Séries_Site!AI291","v":0},{"$f":"+[2]Séries_Site!AJ291","v":7}]
["1983-11-01",{"$f":"+[2]Séries_Site!B292","v":3301},{"$f":"+[2]Séries_Site!C292","v":3301},{"$f":"+[2]Séries_Site!D292","v":0},{"$f":"+[2]Séries_Site!E292","v":3426},{"$f":"+[2]Séries_Site!F292","v":86},{"$f":"+[2]Séries_Site!G292","v":2457},{"$f":"+[2]Séries_Site!H292","v":2457},{"$f":"+[2]Séries_Site!I292","v":0},{"$f":"+[2]Séries_Site!J292","v":2502},{"$f":"+[2]Séries_Site!K292","v":26},{"$f":"+[2]Séries_Site!L292","v":74},{"$f":"+[2]Séries_Site!M292","v":74},{"$f":"+[2]Séries_Site!N292","v":0},{"$f":"+[2]Séries_Site!O292","v":93},{"$f":"+[2]Séries_Site!P292","v":19},{"$f":"+[2]Séries_Site!Q292","v":349},{"$f":"+[2]Séries_Site!R292","v":349},{"$f":"+[2]Séries_Site!S292","v":0},{"$f":"+[2]Séries_Site!T292","v":349},{"$f":"+[2]Séries_Site!U292","v":18},{"$f":"+[2]Séries_Site!V292","v":351},{"$f":"+[2]Séries_Site!W292","v":351},{"$f":"+[2]Séries_Site!X292","v":0},{"$f":"+[2]Séries_Site!Y292","v":435},{"$f":"+[2]Séries_Site!Z292","v":13},{"$f":"+[2]Séries_Site!AA292","v":0},{"$f":"+[2]Séries_Site!AB292","v":0},{"$f":"+[2]Séries_Site!AC292","v":0},{"$f":"+[2]Séries_Site!AD292","v":0},{"$f":"+[2]Séries_Site!AE292","v":0},{"$f":"+[2]Séries_Site!AF292","v":70},{"$f":"+[2]Séries_Site!AG292","v":70},{"$f":"+[2]Séries_Site!AH292","v":0},{"$f":"+[2]Séries_Site!AI292","v":47},{"$f":"+[2]Séries_Site!AJ292","v":10}]
["1983-12-01",{"$f":"+[2]Séries_Site!B293","v":2769},{"$f":"+[2]Séries_Site!C293","v":2769},{"$f":"+[2]Séries_Site!D293","v":0},{"$f":"+[2]Séries_Site!E293","v":3165},{"$f":"+[2]Séries_Site!F293","v":301},{"$f":"+[2]Séries_Site!G293","v":2061},{"$f":"+[2]Séries_Site!H293","v":2061},{"$f":"+[2]Séries_Site!I293","v":0},{"$f":"+[2]Séries_Site!J293","v":2426},{"$f":"+[2]Séries_Site!K293","v":243},{"$f":"+[2]Séries_Site!L293","v":119},{"$f":"+[2]Séries_Site!M293","v":119},{"$f":"+[2]Séries_Site!N293","v":0},{"$f":"+[2]Séries_Site!O293","v":92},{"$f":"+[2]Séries_Site!P293","v":21},{"$f":"+[2]Séries_Site!Q293","v":210},{"$f":"+[2]Séries_Site!R293","v":210},{"$f":"+[2]Séries_Site!S293","v":0},{"$f":"+[2]Séries_Site!T293","v":208},{"$f":"+[2]Séries_Site!U293","v":20},{"$f":"+[2]Séries_Site!V293","v":364},{"$f":"+[2]Séries_Site!W293","v":364},{"$f":"+[2]Séries_Site!X293","v":0},{"$f":"+[2]Séries_Site!Y293","v":439},{"$f":"+[2]Séries_Site!Z293","v":15},{"$f":"+[2]Séries_Site!AA293","v":0},{"$f":"+[2]Séries_Site!AB293","v":0},{"$f":"+[2]Séries_Site!AC293","v":0},{"$f":"+[2]Séries_Site!AD293","v":0},{"$f":"+[2]Séries_Site!AE293","v":0},{"$f":"+[2]Séries_Site!AF293","v":15},{"$f":"+[2]Séries_Site!AG293","v":15},{"$f":"+[2]Séries_Site!AH293","v":0},{"$f":"+[2]Séries_Site!AI293","v":0},{"$f":"+[2]Séries_Site!AJ293","v":2}]
["1984-01-01",{"$f":"+[2]Séries_Site!B294","v":2781},{"$f":"+[2]Séries_Site!C294","v":2781},{"$f":"+[2]Séries_Site!D294","v":0},{"$f":"+[2]Séries_Site!E294","v":2721},{"$f":"+[2]Séries_Site!F294","v":132},{"$f":"+[2]Séries_Site!G294","v":1840},{"$f":"+[2]Séries_Site!H294","v":1840},{"$f":"+[2]Séries_Site!I294","v":0},{"$f":"+[2]Séries_Site!J294","v":1863},{"$f":"+[2]Séries_Site!K294","v":92},{"$f":"+[2]Séries_Site!L294","v":84},{"$f":"+[2]Séries_Site!M294","v":84},{"$f":"+[2]Séries_Site!N294","v":0},{"$f":"+[2]Séries_Site!O294","v":37},{"$f":"+[2]Séries_Site!P294","v":0},{"$f":"+[2]Séries_Site!Q294","v":214},{"$f":"+[2]Séries_Site!R294","v":214},{"$f":"+[2]Séries_Site!S294","v":0},{"$f":"+[2]Séries_Site!T294","v":181},{"$f":"+[2]Séries_Site!U294","v":2},{"$f":"+[2]Séries_Site!V294","v":643},{"$f":"+[2]Séries_Site!W294","v":643},{"$f":"+[2]Séries_Site!X294","v":0},{"$f":"+[2]Séries_Site!Y294","v":640},{"$f":"+[2]Séries_Site!Z294","v":38},{"$f":"+[2]Séries_Site!AA294","v":0},{"$f":"+[2]Séries_Site!AB294","v":0},{"$f":"+[2]Séries_Site!AC294","v":0},{"$f":"+[2]Séries_Site!AD294","v":0},{"$f":"+[2]Séries_Site!AE294","v":0},{"$f":"+[2]Séries_Site!AF294","v":0},{"$f":"+[2]Séries_Site!AG294","v":0},{"$f":"+[2]Séries_Site!AH294","v":0},{"$f":"+[2]Séries_Site!AI294","v":0},{"$f":"+[2]Séries_Site!AJ294","v":0}]
["1984-02-01",{"$f":"+[2]Séries_Site!B295","v":3224},{"$f":"+[2]Séries_Site!C295","v":3224},{"$f":"+[2]Séries_Site!D295","v":0},{"$f":"+[2]Séries_Site!E295","v":3752},{"$f":"+[2]Séries_Site!F295","v":238},{"$f":"+[2]Séries_Site!G295","v":2393},{"$f":"+[2]Séries_Site!H295","v":2393},{"$f":"+[2]Séries_Site!I295","v":0},{"$f":"+[2]Séries_Site!J295","v":2654},{"$f":"+[2]Séries_Site!K295","v":195},{"$f":"+[2]Séries_Site!L295","v":49},{"$f":"+[2]Séries_Site!M295","v":49},{"$f":"+[2]Séries_Site!N295","v":0},{"$f":"+[2]Séries_Site!O295","v":67},{"$f":"+[2]Séries_Site!P295","v":22},{"$f":"+[2]Séries_Site!Q295","v":147},{"$f":"+[2]Séries_Site!R295","v":147},{"$f":"+[2]Séries_Site!S295","v":0},{"$f":"+[2]Séries_Site!T295","v":264},{"$f":"+[2]Séries_Site!U295","v":1},{"$f":"+[2]Séries_Site!V295","v":635},{"$f":"+[2]Séries_Site!W295","v":635},{"$f":"+[2]Séries_Site!X295","v":0},{"$f":"+[2]Séries_Site!Y295","v":677},{"$f":"+[2]Séries_Site!Z295","v":20},{"$f":"+[2]Séries_Site!AA295","v":0},{"$f":"+[2]Séries_Site!AB295","v":0},{"$f":"+[2]Séries_Site!AC295","v":0},{"$f":"+[2]Séries_Site!AD295","v":0},{"$f":"+[2]Séries_Site!AE295","v":0},{"$f":"+[2]Séries_Site!AF295","v":0},{"$f":"+[2]Séries_Site!AG295","v":0},{"$f":"+[2]Séries_Site!AH295","v":0},{"$f":"+[2]Séries_Site!AI295","v":90},{"$f":"+[2]Séries_Site!AJ295","v":0}]
["1984-03-01",{"$f":"+[2]Séries_Site!B296","v":3938},{"$f":"+[2]Séries_Site!C296","v":3938},{"$f":"+[2]Séries_Site!D296","v":0},{"$f":"+[2]Séries_Site!E296","v":3879},{"$f":"+[2]Séries_Site!F296","v":212},{"$f":"+[2]Séries_Site!G296","v":2754},{"$f":"+[2]Séries_Site!H296","v":2754},{"$f":"+[2]Séries_Site!I296","v":0},{"$f":"+[2]Séries_Site!J296","v":2825},{"$f":"+[2]Séries_Site!K296","v":109},{"$f":"+[2]Séries_Site!L296","v":103},{"$f":"+[2]Séries_Site!M296","v":103},{"$f":"+[2]Séries_Site!N296","v":0},{"$f":"+[2]Séries_Site!O296","v":113},{"$f":"+[2]Séries_Site!P296","v":22},{"$f":"+[2]Séries_Site!Q296","v":251},{"$f":"+[2]Séries_Site!R296","v":251},{"$f":"+[2]Séries_Site!S296","v":0},{"$f":"+[2]Séries_Site!T296","v":177},{"$f":"+[2]Séries_Site!U296","v":1},{"$f":"+[2]Séries_Site!V296","v":741},{"$f":"+[2]Séries_Site!W296","v":741},{"$f":"+[2]Séries_Site!X296","v":0},{"$f":"+[2]Séries_Site!Y296","v":719},{"$f":"+[2]Séries_Site!Z296","v":74},{"$f":"+[2]Séries_Site!AA296","v":0},{"$f":"+[2]Séries_Site!AB296","v":0},{"$f":"+[2]Séries_Site!AC296","v":0},{"$f":"+[2]Séries_Site!AD296","v":0},{"$f":"+[2]Séries_Site!AE296","v":0},{"$f":"+[2]Séries_Site!AF296","v":89},{"$f":"+[2]Séries_Site!AG296","v":89},{"$f":"+[2]Séries_Site!AH296","v":0},{"$f":"+[2]Séries_Site!AI296","v":45},{"$f":"+[2]Séries_Site!AJ296","v":6}]
["1984-04-01",{"$f":"+[2]Séries_Site!B297","v":4025},{"$f":"+[2]Séries_Site!C297","v":4025},{"$f":"+[2]Séries_Site!D297","v":0},{"$f":"+[2]Séries_Site!E297","v":4174},{"$f":"+[2]Séries_Site!F297","v":266},{"$f":"+[2]Séries_Site!G297","v":3135},{"$f":"+[2]Séries_Site!H297","v":3135},{"$f":"+[2]Séries_Site!I297","v":0},{"$f":"+[2]Séries_Site!J297","v":3297},{"$f":"+[2]Séries_Site!K297","v":174},{"$f":"+[2]Séries_Site!L297","v":83},{"$f":"+[2]Séries_Site!M297","v":83},{"$f":"+[2]Séries_Site!N297","v":0},{"$f":"+[2]Séries_Site!O297","v":93},{"$f":"+[2]Séries_Site!P297","v":74},{"$f":"+[2]Séries_Site!Q297","v":240},{"$f":"+[2]Séries_Site!R297","v":240},{"$f":"+[2]Séries_Site!S297","v":0},{"$f":"+[2]Séries_Site!T297","v":208},{"$f":"+[2]Séries_Site!U297","v":2},{"$f":"+[2]Séries_Site!V297","v":503},{"$f":"+[2]Séries_Site!W297","v":503},{"$f":"+[2]Séries_Site!X297","v":0},{"$f":"+[2]Séries_Site!Y297","v":483},{"$f":"+[2]Séries_Site!Z297","v":12},{"$f":"+[2]Séries_Site!AA297","v":0},{"$f":"+[2]Séries_Site!AB297","v":0},{"$f":"+[2]Séries_Site!AC297","v":0},{"$f":"+[2]Séries_Site!AD297","v":0},{"$f":"+[2]Séries_Site!AE297","v":0},{"$f":"+[2]Séries_Site!AF297","v":64},{"$f":"+[2]Séries_Site!AG297","v":64},{"$f":"+[2]Séries_Site!AH297","v":0},{"$f":"+[2]Séries_Site!AI297","v":93},{"$f":"+[2]Séries_Site!AJ297","v":4}]
["1984-05-01",{"$f":"+[2]Séries_Site!B298","v":4371},{"$f":"+[2]Séries_Site!C298","v":4371},{"$f":"+[2]Séries_Site!D298","v":0},{"$f":"+[2]Séries_Site!E298","v":4745},{"$f":"+[2]Séries_Site!F298","v":319},{"$f":"+[2]Séries_Site!G298","v":3669},{"$f":"+[2]Séries_Site!H298","v":3669},{"$f":"+[2]Séries_Site!I298","v":0},{"$f":"+[2]Séries_Site!J298","v":3963},{"$f":"+[2]Séries_Site!K298","v":298},{"$f":"+[2]Séries_Site!L298","v":86},{"$f":"+[2]Séries_Site!M298","v":86},{"$f":"+[2]Séries_Site!N298","v":0},{"$f":"+[2]Séries_Site!O298","v":114},{"$f":"+[2]Séries_Site!P298","v":10},{"$f":"+[2]Séries_Site!Q298","v":258},{"$f":"+[2]Séries_Site!R298","v":258},{"$f":"+[2]Séries_Site!S298","v":0},{"$f":"+[2]Séries_Site!T298","v":277},{"$f":"+[2]Séries_Site!U298","v":0},{"$f":"+[2]Séries_Site!V298","v":304},{"$f":"+[2]Séries_Site!W298","v":304},{"$f":"+[2]Séries_Site!X298","v":0},{"$f":"+[2]Séries_Site!Y298","v":294},{"$f":"+[2]Séries_Site!Z298","v":8},{"$f":"+[2]Séries_Site!AA298","v":0},{"$f":"+[2]Séries_Site!AB298","v":0},{"$f":"+[2]Séries_Site!AC298","v":0},{"$f":"+[2]Séries_Site!AD298","v":0},{"$f":"+[2]Séries_Site!AE298","v":0},{"$f":"+[2]Séries_Site!AF298","v":54},{"$f":"+[2]Séries_Site!AG298","v":54},{"$f":"+[2]Séries_Site!AH298","v":0},{"$f":"+[2]Séries_Site!AI298","v":97},{"$f":"+[2]Séries_Site!AJ298","v":3}]
["1984-06-01",{"$f":"+[2]Séries_Site!B299","v":4355},{"$f":"+[2]Séries_Site!C299","v":4355},{"$f":"+[2]Séries_Site!D299","v":0},{"$f":"+[2]Séries_Site!E299","v":4664},{"$f":"+[2]Séries_Site!F299","v":360},{"$f":"+[2]Séries_Site!G299","v":3851},{"$f":"+[2]Séries_Site!H299","v":3851},{"$f":"+[2]Séries_Site!I299","v":0},{"$f":"+[2]Séries_Site!J299","v":4065},{"$f":"+[2]Séries_Site!K299","v":313},{"$f":"+[2]Séries_Site!L299","v":124},{"$f":"+[2]Séries_Site!M299","v":124},{"$f":"+[2]Séries_Site!N299","v":0},{"$f":"+[2]Séries_Site!O299","v":143},{"$f":"+[2]Séries_Site!P299","v":3},{"$f":"+[2]Séries_Site!Q299","v":226},{"$f":"+[2]Séries_Site!R299","v":226},{"$f":"+[2]Séries_Site!S299","v":0},{"$f":"+[2]Séries_Site!T299","v":202},{"$f":"+[2]Séries_Site!U299","v":24},{"$f":"+[2]Séries_Site!V299","v":90},{"$f":"+[2]Séries_Site!W299","v":90},{"$f":"+[2]Séries_Site!X299","v":0},{"$f":"+[2]Séries_Site!Y299","v":188},{"$f":"+[2]Séries_Site!Z299","v":16},{"$f":"+[2]Séries_Site!AA299","v":0},{"$f":"+[2]Séries_Site!AB299","v":0},{"$f":"+[2]Séries_Site!AC299","v":0},{"$f":"+[2]Séries_Site!AD299","v":0},{"$f":"+[2]Séries_Site!AE299","v":0},{"$f":"+[2]Séries_Site!AF299","v":64},{"$f":"+[2]Séries_Site!AG299","v":64},{"$f":"+[2]Séries_Site!AH299","v":0},{"$f":"+[2]Séries_Site!AI299","v":66},{"$f":"+[2]Séries_Site!AJ299","v":4}]
["1984-07-01",{"$f":"+[2]Séries_Site!B300","v":5327},{"$f":"+[2]Séries_Site!C300","v":5327},{"$f":"+[2]Séries_Site!D300","v":0},{"$f":"+[2]Séries_Site!E300","v":5748},{"$f":"+[2]Séries_Site!F300","v":467},{"$f":"+[2]Séries_Site!G300","v":4609},{"$f":"+[2]Séries_Site!H300","v":4609},{"$f":"+[2]Séries_Site!I300","v":0},{"$f":"+[2]Séries_Site!J300","v":5008},{"$f":"+[2]Séries_Site!K300","v":305},{"$f":"+[2]Séries_Site!L300","v":148},{"$f":"+[2]Séries_Site!M300","v":148},{"$f":"+[2]Séries_Site!N300","v":0},{"$f":"+[2]Séries_Site!O300","v":195},{"$f":"+[2]Séries_Site!P300","v":31},{"$f":"+[2]Séries_Site!Q300","v":236},{"$f":"+[2]Séries_Site!R300","v":236},{"$f":"+[2]Séries_Site!S300","v":0},{"$f":"+[2]Séries_Site!T300","v":221},{"$f":"+[2]Séries_Site!U300","v":95},{"$f":"+[2]Séries_Site!V300","v":200},{"$f":"+[2]Séries_Site!W300","v":200},{"$f":"+[2]Séries_Site!X300","v":0},{"$f":"+[2]Séries_Site!Y300","v":219},{"$f":"+[2]Séries_Site!Z300","v":27},{"$f":"+[2]Séries_Site!AA300","v":0},{"$f":"+[2]Séries_Site!AB300","v":0},{"$f":"+[2]Séries_Site!AC300","v":0},{"$f":"+[2]Séries_Site!AD300","v":0},{"$f":"+[2]Séries_Site!AE300","v":0},{"$f":"+[2]Séries_Site!AF300","v":134},{"$f":"+[2]Séries_Site!AG300","v":134},{"$f":"+[2]Séries_Site!AH300","v":0},{"$f":"+[2]Séries_Site!AI300","v":105},{"$f":"+[2]Séries_Site!AJ300","v":9}]
["1984-08-01",{"$f":"+[2]Séries_Site!B301","v":5081},{"$f":"+[2]Séries_Site!C301","v":5081},{"$f":"+[2]Séries_Site!D301","v":0},{"$f":"+[2]Séries_Site!E301","v":5951},{"$f":"+[2]Séries_Site!F301","v":551},{"$f":"+[2]Séries_Site!G301","v":4301},{"$f":"+[2]Séries_Site!H301","v":4301},{"$f":"+[2]Séries_Site!I301","v":0},{"$f":"+[2]Séries_Site!J301","v":5059},{"$f":"+[2]Séries_Site!K301","v":463},{"$f":"+[2]Séries_Site!L301","v":127},{"$f":"+[2]Séries_Site!M301","v":127},{"$f":"+[2]Séries_Site!N301","v":0},{"$f":"+[2]Séries_Site!O301","v":150},{"$f":"+[2]Séries_Site!P301","v":24},{"$f":"+[2]Séries_Site!Q301","v":225},{"$f":"+[2]Séries_Site!R301","v":225},{"$f":"+[2]Séries_Site!S301","v":0},{"$f":"+[2]Séries_Site!T301","v":231},{"$f":"+[2]Séries_Site!U301","v":43},{"$f":"+[2]Séries_Site!V301","v":353},{"$f":"+[2]Séries_Site!W301","v":353},{"$f":"+[2]Séries_Site!X301","v":0},{"$f":"+[2]Séries_Site!Y301","v":448},{"$f":"+[2]Séries_Site!Z301","v":16},{"$f":"+[2]Séries_Site!AA301","v":0},{"$f":"+[2]Séries_Site!AB301","v":0},{"$f":"+[2]Séries_Site!AC301","v":0},{"$f":"+[2]Séries_Site!AD301","v":0},{"$f":"+[2]Séries_Site!AE301","v":0},{"$f":"+[2]Séries_Site!AF301","v":75},{"$f":"+[2]Séries_Site!AG301","v":75},{"$f":"+[2]Séries_Site!AH301","v":0},{"$f":"+[2]Séries_Site!AI301","v":63},{"$f":"+[2]Séries_Site!AJ301","v":5}]
["1984-09-01",{"$f":"+[2]Séries_Site!B302","v":5191},{"$f":"+[2]Séries_Site!C302","v":5191},{"$f":"+[2]Séries_Site!D302","v":0},{"$f":"+[2]Séries_Site!E302","v":5683},{"$f":"+[2]Séries_Site!F302","v":286},{"$f":"+[2]Séries_Site!G302","v":4382},{"$f":"+[2]Séries_Site!H302","v":4382},{"$f":"+[2]Séries_Site!I302","v":0},{"$f":"+[2]Séries_Site!J302","v":4786},{"$f":"+[2]Séries_Site!K302","v":245},{"$f":"+[2]Séries_Site!L302","v":121},{"$f":"+[2]Séries_Site!M302","v":121},{"$f":"+[2]Séries_Site!N302","v":0},{"$f":"+[2]Séries_Site!O302","v":119},{"$f":"+[2]Séries_Site!P302","v":17},{"$f":"+[2]Séries_Site!Q302","v":200},{"$f":"+[2]Séries_Site!R302","v":200},{"$f":"+[2]Séries_Site!S302","v":0},{"$f":"+[2]Séries_Site!T302","v":234},{"$f":"+[2]Séries_Site!U302","v":0},{"$f":"+[2]Séries_Site!V302","v":405},{"$f":"+[2]Séries_Site!W302","v":405},{"$f":"+[2]Séries_Site!X302","v":0},{"$f":"+[2]Séries_Site!Y302","v":460},{"$f":"+[2]Séries_Site!Z302","v":19},{"$f":"+[2]Séries_Site!AA302","v":0},{"$f":"+[2]Séries_Site!AB302","v":0},{"$f":"+[2]Séries_Site!AC302","v":0},{"$f":"+[2]Séries_Site!AD302","v":0},{"$f":"+[2]Séries_Site!AE302","v":0},{"$f":"+[2]Séries_Site!AF302","v":83},{"$f":"+[2]Séries_Site!AG302","v":83},{"$f":"+[2]Séries_Site!AH302","v":0},{"$f":"+[2]Séries_Site!AI302","v":84},{"$f":"+[2]Séries_Site!AJ302","v":5}]
["1984-10-01",{"$f":"+[2]Séries_Site!B303","v":5097},{"$f":"+[2]Séries_Site!C303","v":5097},{"$f":"+[2]Séries_Site!D303","v":0},{"$f":"+[2]Séries_Site!E303","v":6240},{"$f":"+[2]Séries_Site!F303","v":367},{"$f":"+[2]Séries_Site!G303","v":4301},{"$f":"+[2]Séries_Site!H303","v":4301},{"$f":"+[2]Séries_Site!I303","v":0},{"$f":"+[2]Séries_Site!J303","v":5384},{"$f":"+[2]Séries_Site!K303","v":330},{"$f":"+[2]Séries_Site!L303","v":86},{"$f":"+[2]Séries_Site!M303","v":86},{"$f":"+[2]Séries_Site!N303","v":0},{"$f":"+[2]Séries_Site!O303","v":99},{"$f":"+[2]Séries_Site!P303","v":3},{"$f":"+[2]Séries_Site!Q303","v":207},{"$f":"+[2]Séries_Site!R303","v":207},{"$f":"+[2]Séries_Site!S303","v":0},{"$f":"+[2]Séries_Site!T303","v":191},{"$f":"+[2]Séries_Site!U303","v":0},{"$f":"+[2]Séries_Site!V303","v":446},{"$f":"+[2]Séries_Site!W303","v":446},{"$f":"+[2]Séries_Site!X303","v":0},{"$f":"+[2]Séries_Site!Y303","v":503},{"$f":"+[2]Séries_Site!Z303","v":30},{"$f":"+[2]Séries_Site!AA303","v":0},{"$f":"+[2]Séries_Site!AB303","v":0},{"$f":"+[2]Séries_Site!AC303","v":0},{"$f":"+[2]Séries_Site!AD303","v":0},{"$f":"+[2]Séries_Site!AE303","v":0},{"$f":"+[2]Séries_Site!AF303","v":57},{"$f":"+[2]Séries_Site!AG303","v":57},{"$f":"+[2]Séries_Site!AH303","v":0},{"$f":"+[2]Séries_Site!AI303","v":63},{"$f":"+[2]Séries_Site!AJ303","v":4}]
["1984-11-01",{"$f":"+[2]Séries_Site!B304","v":5058},{"$f":"+[2]Séries_Site!C304","v":5058},{"$f":"+[2]Séries_Site!D304","v":0},{"$f":"+[2]Séries_Site!E304","v":4795},{"$f":"+[2]Séries_Site!F304","v":330},{"$f":"+[2]Séries_Site!G304","v":4088},{"$f":"+[2]Séries_Site!H304","v":4088},{"$f":"+[2]Séries_Site!I304","v":0},{"$f":"+[2]Séries_Site!J304","v":3771},{"$f":"+[2]Séries_Site!K304","v":234},{"$f":"+[2]Séries_Site!L304","v":119},{"$f":"+[2]Séries_Site!M304","v":119},{"$f":"+[2]Séries_Site!N304","v":0},{"$f":"+[2]Séries_Site!O304","v":133},{"$f":"+[2]Séries_Site!P304","v":12},{"$f":"+[2]Séries_Site!Q304","v":199},{"$f":"+[2]Séries_Site!R304","v":199},{"$f":"+[2]Séries_Site!S304","v":0},{"$f":"+[2]Séries_Site!T304","v":217},{"$f":"+[2]Séries_Site!U304","v":45},{"$f":"+[2]Séries_Site!V304","v":552},{"$f":"+[2]Séries_Site!W304","v":552},{"$f":"+[2]Séries_Site!X304","v":0},{"$f":"+[2]Séries_Site!Y304","v":544},{"$f":"+[2]Séries_Site!Z304","v":25},{"$f":"+[2]Séries_Site!AA304","v":0},{"$f":"+[2]Séries_Site!AB304","v":0},{"$f":"+[2]Séries_Site!AC304","v":0},{"$f":"+[2]Séries_Site!AD304","v":0},{"$f":"+[2]Séries_Site!AE304","v":0},{"$f":"+[2]Séries_Site!AF304","v":100},{"$f":"+[2]Séries_Site!AG304","v":100},{"$f":"+[2]Séries_Site!AH304","v":0},{"$f":"+[2]Séries_Site!AI304","v":130},{"$f":"+[2]Séries_Site!AJ304","v":14}]
["1984-12-01",{"$f":"+[2]Séries_Site!B305","v":3255},{"$f":"+[2]Séries_Site!C305","v":3255},{"$f":"+[2]Séries_Site!D305","v":0},{"$f":"+[2]Séries_Site!E305","v":3880},{"$f":"+[2]Séries_Site!F305","v":577},{"$f":"+[2]Séries_Site!G305","v":2322},{"$f":"+[2]Séries_Site!H305","v":2322},{"$f":"+[2]Séries_Site!I305","v":0},{"$f":"+[2]Séries_Site!J305","v":2848},{"$f":"+[2]Séries_Site!K305","v":536},{"$f":"+[2]Séries_Site!L305","v":68},{"$f":"+[2]Séries_Site!M305","v":68},{"$f":"+[2]Séries_Site!N305","v":0},{"$f":"+[2]Séries_Site!O305","v":85},{"$f":"+[2]Séries_Site!P305","v":9},{"$f":"+[2]Séries_Site!Q305","v":163},{"$f":"+[2]Séries_Site!R305","v":163},{"$f":"+[2]Séries_Site!S305","v":0},{"$f":"+[2]Séries_Site!T305","v":192},{"$f":"+[2]Séries_Site!U305","v":0},{"$f":"+[2]Séries_Site!V305","v":597},{"$f":"+[2]Séries_Site!W305","v":597},{"$f":"+[2]Séries_Site!X305","v":0},{"$f":"+[2]Séries_Site!Y305","v":631},{"$f":"+[2]Séries_Site!Z305","v":25},{"$f":"+[2]Séries_Site!AA305","v":0},{"$f":"+[2]Séries_Site!AB305","v":0},{"$f":"+[2]Séries_Site!AC305","v":0},{"$f":"+[2]Séries_Site!AD305","v":0},{"$f":"+[2]Séries_Site!AE305","v":0},{"$f":"+[2]Séries_Site!AF305","v":105},{"$f":"+[2]Séries_Site!AG305","v":105},{"$f":"+[2]Séries_Site!AH305","v":0},{"$f":"+[2]Séries_Site!AI305","v":124},{"$f":"+[2]Séries_Site!AJ305","v":7}]
["1985-01-01",{"$f":"+[2]Séries_Site!B306","v":3015},{"$f":"+[2]Séries_Site!C306","v":3015},{"$f":"+[2]Séries_Site!D306","v":0},{"$f":"+[2]Séries_Site!E306","v":3694},{"$f":"+[2]Séries_Site!F306","v":556},{"$f":"+[2]Séries_Site!G306","v":2084},{"$f":"+[2]Séries_Site!H306","v":2084},{"$f":"+[2]Séries_Site!I306","v":0},{"$f":"+[2]Séries_Site!J306","v":2595},{"$f":"+[2]Séries_Site!K306","v":410},{"$f":"+[2]Séries_Site!L306","v":93},{"$f":"+[2]Séries_Site!M306","v":93},{"$f":"+[2]Séries_Site!N306","v":0},{"$f":"+[2]Séries_Site!O306","v":104},{"$f":"+[2]Séries_Site!P306","v":12},{"$f":"+[2]Séries_Site!Q306","v":125},{"$f":"+[2]Séries_Site!R306","v":125},{"$f":"+[2]Séries_Site!S306","v":0},{"$f":"+[2]Séries_Site!T306","v":155},{"$f":"+[2]Séries_Site!U306","v":36},{"$f":"+[2]Séries_Site!V306","v":665},{"$f":"+[2]Séries_Site!W306","v":665},{"$f":"+[2]Séries_Site!X306","v":0},{"$f":"+[2]Séries_Site!Y306","v":763},{"$f":"+[2]Séries_Site!Z306","v":98},{"$f":"+[2]Séries_Site!AA306","v":0},{"$f":"+[2]Séries_Site!AB306","v":0},{"$f":"+[2]Séries_Site!AC306","v":0},{"$f":"+[2]Séries_Site!AD306","v":0},{"$f":"+[2]Séries_Site!AE306","v":0},{"$f":"+[2]Séries_Site!AF306","v":48},{"$f":"+[2]Séries_Site!AG306","v":48},{"$f":"+[2]Séries_Site!AH306","v":0},{"$f":"+[2]Séries_Site!AI306","v":77},{"$f":"+[2]Séries_Site!AJ306","v":0}]
["1985-02-01",{"$f":"+[2]Séries_Site!B307","v":3508},{"$f":"+[2]Séries_Site!C307","v":3508},{"$f":"+[2]Séries_Site!D307","v":0},{"$f":"+[2]Séries_Site!E307","v":3900},{"$f":"+[2]Séries_Site!F307","v":476},{"$f":"+[2]Séries_Site!G307","v":2545},{"$f":"+[2]Séries_Site!H307","v":2545},{"$f":"+[2]Séries_Site!I307","v":0},{"$f":"+[2]Séries_Site!J307","v":2775},{"$f":"+[2]Séries_Site!K307","v":368},{"$f":"+[2]Séries_Site!L307","v":72},{"$f":"+[2]Séries_Site!M307","v":72},{"$f":"+[2]Séries_Site!N307","v":0},{"$f":"+[2]Séries_Site!O307","v":135},{"$f":"+[2]Séries_Site!P307","v":21},{"$f":"+[2]Séries_Site!Q307","v":145},{"$f":"+[2]Séries_Site!R307","v":145},{"$f":"+[2]Séries_Site!S307","v":0},{"$f":"+[2]Séries_Site!T307","v":188},{"$f":"+[2]Séries_Site!U307","v":23},{"$f":"+[2]Séries_Site!V307","v":662},{"$f":"+[2]Séries_Site!W307","v":662},{"$f":"+[2]Séries_Site!X307","v":0},{"$f":"+[2]Séries_Site!Y307","v":712},{"$f":"+[2]Séries_Site!Z307","v":64},{"$f":"+[2]Séries_Site!AA307","v":0},{"$f":"+[2]Séries_Site!AB307","v":0},{"$f":"+[2]Séries_Site!AC307","v":0},{"$f":"+[2]Séries_Site!AD307","v":0},{"$f":"+[2]Séries_Site!AE307","v":0},{"$f":"+[2]Séries_Site!AF307","v":84},{"$f":"+[2]Séries_Site!AG307","v":84},{"$f":"+[2]Séries_Site!AH307","v":0},{"$f":"+[2]Séries_Site!AI307","v":90},{"$f":"+[2]Séries_Site!AJ307","v":0}]
["1985-03-01",{"$f":"+[2]Séries_Site!B308","v":4028},{"$f":"+[2]Séries_Site!C308","v":4028},{"$f":"+[2]Séries_Site!D308","v":0},{"$f":"+[2]Séries_Site!E308","v":4809},{"$f":"+[2]Séries_Site!F308","v":347},{"$f":"+[2]Séries_Site!G308","v":2956},{"$f":"+[2]Séries_Site!H308","v":2956},{"$f":"+[2]Séries_Site!I308","v":0},{"$f":"+[2]Séries_Site!J308","v":3529},{"$f":"+[2]Séries_Site!K308","v":308},{"$f":"+[2]Séries_Site!L308","v":86},{"$f":"+[2]Séries_Site!M308","v":86},{"$f":"+[2]Séries_Site!N308","v":0},{"$f":"+[2]Séries_Site!O308","v":153},{"$f":"+[2]Séries_Site!P308","v":13},{"$f":"+[2]Séries_Site!Q308","v":186},{"$f":"+[2]Séries_Site!R308","v":186},{"$f":"+[2]Séries_Site!S308","v":0},{"$f":"+[2]Séries_Site!T308","v":230},{"$f":"+[2]Séries_Site!U308","v":2},{"$f":"+[2]Séries_Site!V308","v":745},{"$f":"+[2]Séries_Site!W308","v":745},{"$f":"+[2]Séries_Site!X308","v":0},{"$f":"+[2]Séries_Site!Y308","v":786},{"$f":"+[2]Séries_Site!Z308","v":8},{"$f":"+[2]Séries_Site!AA308","v":0},{"$f":"+[2]Séries_Site!AB308","v":0},{"$f":"+[2]Séries_Site!AC308","v":0},{"$f":"+[2]Séries_Site!AD308","v":0},{"$f":"+[2]Séries_Site!AE308","v":0},{"$f":"+[2]Séries_Site!AF308","v":55},{"$f":"+[2]Séries_Site!AG308","v":55},{"$f":"+[2]Séries_Site!AH308","v":0},{"$f":"+[2]Séries_Site!AI308","v":111},{"$f":"+[2]Séries_Site!AJ308","v":16}]
["1985-04-01",{"$f":"+[2]Séries_Site!B309","v":3731},{"$f":"+[2]Séries_Site!C309","v":3731},{"$f":"+[2]Séries_Site!D309","v":0},{"$f":"+[2]Séries_Site!E309","v":3399},{"$f":"+[2]Séries_Site!F309","v":325},{"$f":"+[2]Séries_Site!G309","v":2791},{"$f":"+[2]Séries_Site!H309","v":2791},{"$f":"+[2]Séries_Site!I309","v":0},{"$f":"+[2]Séries_Site!J309","v":2602},{"$f":"+[2]Séries_Site!K309","v":234},{"$f":"+[2]Séries_Site!L309","v":95},{"$f":"+[2]Séries_Site!M309","v":95},{"$f":"+[2]Séries_Site!N309","v":0},{"$f":"+[2]Séries_Site!O309","v":116},{"$f":"+[2]Séries_Site!P309","v":31},{"$f":"+[2]Séries_Site!Q309","v":138},{"$f":"+[2]Séries_Site!R309","v":138},{"$f":"+[2]Séries_Site!S309","v":0},{"$f":"+[2]Séries_Site!T309","v":137},{"$f":"+[2]Séries_Site!U309","v":0},{"$f":"+[2]Séries_Site!V309","v":657},{"$f":"+[2]Séries_Site!W309","v":657},{"$f":"+[2]Séries_Site!X309","v":0},{"$f":"+[2]Séries_Site!Y309","v":518},{"$f":"+[2]Séries_Site!Z309","v":60},{"$f":"+[2]Séries_Site!AA309","v":0},{"$f":"+[2]Séries_Site!AB309","v":0},{"$f":"+[2]Séries_Site!AC309","v":0},{"$f":"+[2]Séries_Site!AD309","v":0},{"$f":"+[2]Séries_Site!AE309","v":0},{"$f":"+[2]Séries_Site!AF309","v":50},{"$f":"+[2]Séries_Site!AG309","v":50},{"$f":"+[2]Séries_Site!AH309","v":0},{"$f":"+[2]Séries_Site!AI309","v":26},{"$f":"+[2]Séries_Site!AJ309","v":0}]
["1985-05-01",{"$f":"+[2]Séries_Site!B310","v":3765},{"$f":"+[2]Séries_Site!C310","v":3765},{"$f":"+[2]Séries_Site!D310","v":0},{"$f":"+[2]Séries_Site!E310","v":3621},{"$f":"+[2]Séries_Site!F310","v":173},{"$f":"+[2]Séries_Site!G310","v":2997},{"$f":"+[2]Séries_Site!H310","v":2997},{"$f":"+[2]Séries_Site!I310","v":0},{"$f":"+[2]Séries_Site!J310","v":2897},{"$f":"+[2]Séries_Site!K310","v":135},{"$f":"+[2]Séries_Site!L310","v":159},{"$f":"+[2]Séries_Site!M310","v":159},{"$f":"+[2]Séries_Site!N310","v":0},{"$f":"+[2]Séries_Site!O310","v":126},{"$f":"+[2]Séries_Site!P310","v":17},{"$f":"+[2]Séries_Site!Q310","v":253},{"$f":"+[2]Séries_Site!R310","v":253},{"$f":"+[2]Séries_Site!S310","v":0},{"$f":"+[2]Séries_Site!T310","v":271},{"$f":"+[2]Séries_Site!U310","v":6},{"$f":"+[2]Séries_Site!V310","v":217},{"$f":"+[2]Séries_Site!W310","v":217},{"$f":"+[2]Séries_Site!X310","v":0},{"$f":"+[2]Séries_Site!Y310","v":211},{"$f":"+[2]Séries_Site!Z310","v":12},{"$f":"+[2]Séries_Site!AA310","v":0},{"$f":"+[2]Séries_Site!AB310","v":0},{"$f":"+[2]Séries_Site!AC310","v":0},{"$f":"+[2]Séries_Site!AD310","v":0},{"$f":"+[2]Séries_Site!AE310","v":0},{"$f":"+[2]Séries_Site!AF310","v":139},{"$f":"+[2]Séries_Site!AG310","v":139},{"$f":"+[2]Séries_Site!AH310","v":0},{"$f":"+[2]Séries_Site!AI310","v":116},{"$f":"+[2]Séries_Site!AJ310","v":3}]
["1985-06-01",{"$f":"+[2]Séries_Site!B311","v":4442},{"$f":"+[2]Séries_Site!C311","v":4442},{"$f":"+[2]Séries_Site!D311","v":0},{"$f":"+[2]Séries_Site!E311","v":4930},{"$f":"+[2]Séries_Site!F311","v":219},{"$f":"+[2]Séries_Site!G311","v":3576},{"$f":"+[2]Séries_Site!H311","v":3576},{"$f":"+[2]Séries_Site!I311","v":0},{"$f":"+[2]Séries_Site!J311","v":4058},{"$f":"+[2]Séries_Site!K311","v":188},{"$f":"+[2]Séries_Site!L311","v":118},{"$f":"+[2]Séries_Site!M311","v":118},{"$f":"+[2]Séries_Site!N311","v":0},{"$f":"+[2]Séries_Site!O311","v":110},{"$f":"+[2]Séries_Site!P311","v":11},{"$f":"+[2]Séries_Site!Q311","v":321},{"$f":"+[2]Séries_Site!R311","v":321},{"$f":"+[2]Séries_Site!S311","v":0},{"$f":"+[2]Séries_Site!T311","v":246},{"$f":"+[2]Séries_Site!U311","v":0},{"$f":"+[2]Séries_Site!V311","v":307},{"$f":"+[2]Séries_Site!W311","v":307},{"$f":"+[2]Séries_Site!X311","v":0},{"$f":"+[2]Séries_Site!Y311","v":387},{"$f":"+[2]Séries_Site!Z311","v":20},{"$f":"+[2]Séries_Site!AA311","v":0},{"$f":"+[2]Séries_Site!AB311","v":0},{"$f":"+[2]Séries_Site!AC311","v":0},{"$f":"+[2]Séries_Site!AD311","v":0},{"$f":"+[2]Séries_Site!AE311","v":0},{"$f":"+[2]Séries_Site!AF311","v":120},{"$f":"+[2]Séries_Site!AG311","v":120},{"$f":"+[2]Séries_Site!AH311","v":0},{"$f":"+[2]Séries_Site!AI311","v":129},{"$f":"+[2]Séries_Site!AJ311","v":0}]
["1985-07-01",{"$f":"+[2]Séries_Site!B312","v":5052},{"$f":"+[2]Séries_Site!C312","v":5052},{"$f":"+[2]Séries_Site!D312","v":0},{"$f":"+[2]Séries_Site!E312","v":5345},{"$f":"+[2]Séries_Site!F312","v":264},{"$f":"+[2]Séries_Site!G312","v":4281},{"$f":"+[2]Séries_Site!H312","v":4281},{"$f":"+[2]Séries_Site!I312","v":0},{"$f":"+[2]Séries_Site!J312","v":4509},{"$f":"+[2]Séries_Site!K312","v":215},{"$f":"+[2]Séries_Site!L312","v":141},{"$f":"+[2]Séries_Site!M312","v":141},{"$f":"+[2]Séries_Site!N312","v":0},{"$f":"+[2]Séries_Site!O312","v":138},{"$f":"+[2]Séries_Site!P312","v":36},{"$f":"+[2]Séries_Site!Q312","v":345},{"$f":"+[2]Séries_Site!R312","v":345},{"$f":"+[2]Séries_Site!S312","v":0},{"$f":"+[2]Séries_Site!T312","v":343},{"$f":"+[2]Séries_Site!U312","v":0},{"$f":"+[2]Séries_Site!V312","v":141},{"$f":"+[2]Séries_Site!W312","v":141},{"$f":"+[2]Séries_Site!X312","v":0},{"$f":"+[2]Séries_Site!Y312","v":201},{"$f":"+[2]Séries_Site!Z312","v":13},{"$f":"+[2]Séries_Site!AA312","v":0},{"$f":"+[2]Séries_Site!AB312","v":0},{"$f":"+[2]Séries_Site!AC312","v":0},{"$f":"+[2]Séries_Site!AD312","v":0},{"$f":"+[2]Séries_Site!AE312","v":0},{"$f":"+[2]Séries_Site!AF312","v":144},{"$f":"+[2]Séries_Site!AG312","v":144},{"$f":"+[2]Séries_Site!AH312","v":0},{"$f":"+[2]Séries_Site!AI312","v":154},{"$f":"+[2]Séries_Site!AJ312","v":0}]
["1985-08-01",{"$f":"+[2]Séries_Site!B313","v":5591},{"$f":"+[2]Séries_Site!C313","v":5591},{"$f":"+[2]Séries_Site!D313","v":0},{"$f":"+[2]Séries_Site!E313","v":5649},{"$f":"+[2]Séries_Site!F313","v":414},{"$f":"+[2]Séries_Site!G313","v":4666},{"$f":"+[2]Séries_Site!H313","v":4666},{"$f":"+[2]Séries_Site!I313","v":0},{"$f":"+[2]Séries_Site!J313","v":4607},{"$f":"+[2]Séries_Site!K313","v":295},{"$f":"+[2]Séries_Site!L313","v":166},{"$f":"+[2]Séries_Site!M313","v":166},{"$f":"+[2]Séries_Site!N313","v":0},{"$f":"+[2]Séries_Site!O313","v":173},{"$f":"+[2]Séries_Site!P313","v":10},{"$f":"+[2]Séries_Site!Q313","v":338},{"$f":"+[2]Séries_Site!R313","v":338},{"$f":"+[2]Séries_Site!S313","v":0},{"$f":"+[2]Séries_Site!T313","v":386},{"$f":"+[2]Séries_Site!U313","v":40},{"$f":"+[2]Séries_Site!V313","v":344},{"$f":"+[2]Séries_Site!W313","v":344},{"$f":"+[2]Séries_Site!X313","v":0},{"$f":"+[2]Séries_Site!Y313","v":388},{"$f":"+[2]Séries_Site!Z313","v":56},{"$f":"+[2]Séries_Site!AA313","v":0},{"$f":"+[2]Séries_Site!AB313","v":0},{"$f":"+[2]Séries_Site!AC313","v":0},{"$f":"+[2]Séries_Site!AD313","v":0},{"$f":"+[2]Séries_Site!AE313","v":0},{"$f":"+[2]Séries_Site!AF313","v":77},{"$f":"+[2]Séries_Site!AG313","v":77},{"$f":"+[2]Séries_Site!AH313","v":0},{"$f":"+[2]Séries_Site!AI313","v":95},{"$f":"+[2]Séries_Site!AJ313","v":13}]
["1985-09-01",{"$f":"+[2]Séries_Site!B314","v":5648},{"$f":"+[2]Séries_Site!C314","v":5648},{"$f":"+[2]Séries_Site!D314","v":0},{"$f":"+[2]Séries_Site!E314","v":6133},{"$f":"+[2]Séries_Site!F314","v":264},{"$f":"+[2]Séries_Site!G314","v":4464},{"$f":"+[2]Séries_Site!H314","v":4464},{"$f":"+[2]Séries_Site!I314","v":0},{"$f":"+[2]Séries_Site!J314","v":4979},{"$f":"+[2]Séries_Site!K314","v":182},{"$f":"+[2]Séries_Site!L314","v":197},{"$f":"+[2]Séries_Site!M314","v":197},{"$f":"+[2]Séries_Site!N314","v":0},{"$f":"+[2]Séries_Site!O314","v":204},{"$f":"+[2]Séries_Site!P314","v":23},{"$f":"+[2]Séries_Site!Q314","v":387},{"$f":"+[2]Séries_Site!R314","v":387},{"$f":"+[2]Séries_Site!S314","v":0},{"$f":"+[2]Séries_Site!T314","v":347},{"$f":"+[2]Séries_Site!U314","v":2},{"$f":"+[2]Séries_Site!V314","v":487},{"$f":"+[2]Séries_Site!W314","v":487},{"$f":"+[2]Séries_Site!X314","v":0},{"$f":"+[2]Séries_Site!Y314","v":492},{"$f":"+[2]Séries_Site!Z314","v":54},{"$f":"+[2]Séries_Site!AA314","v":0},{"$f":"+[2]Séries_Site!AB314","v":0},{"$f":"+[2]Séries_Site!AC314","v":0},{"$f":"+[2]Séries_Site!AD314","v":0},{"$f":"+[2]Séries_Site!AE314","v":0},{"$f":"+[2]Séries_Site!AF314","v":113},{"$f":"+[2]Séries_Site!AG314","v":113},{"$f":"+[2]Séries_Site!AH314","v":0},{"$f":"+[2]Séries_Site!AI314","v":111},{"$f":"+[2]Séries_Site!AJ314","v":3}]
["1985-10-01",{"$f":"+[2]Séries_Site!B315","v":5447},{"$f":"+[2]Séries_Site!C315","v":5447},{"$f":"+[2]Séries_Site!D315","v":0},{"$f":"+[2]Séries_Site!E315","v":5660},{"$f":"+[2]Séries_Site!F315","v":364},{"$f":"+[2]Séries_Site!G315","v":4263},{"$f":"+[2]Séries_Site!H315","v":4263},{"$f":"+[2]Séries_Site!I315","v":0},{"$f":"+[2]Séries_Site!J315","v":4389},{"$f":"+[2]Séries_Site!K315","v":297},{"$f":"+[2]Séries_Site!L315","v":164},{"$f":"+[2]Séries_Site!M315","v":164},{"$f":"+[2]Séries_Site!N315","v":0},{"$f":"+[2]Séries_Site!O315","v":170},{"$f":"+[2]Séries_Site!P315","v":10},{"$f":"+[2]Séries_Site!Q315","v":349},{"$f":"+[2]Séries_Site!R315","v":349},{"$f":"+[2]Séries_Site!S315","v":0},{"$f":"+[2]Séries_Site!T315","v":352},{"$f":"+[2]Séries_Site!U315","v":14},{"$f":"+[2]Séries_Site!V315","v":551},{"$f":"+[2]Séries_Site!W315","v":551},{"$f":"+[2]Séries_Site!X315","v":0},{"$f":"+[2]Séries_Site!Y315","v":620},{"$f":"+[2]Séries_Site!Z315","v":43},{"$f":"+[2]Séries_Site!AA315","v":0},{"$f":"+[2]Séries_Site!AB315","v":0},{"$f":"+[2]Séries_Site!AC315","v":0},{"$f":"+[2]Séries_Site!AD315","v":0},{"$f":"+[2]Séries_Site!AE315","v":0},{"$f":"+[2]Séries_Site!AF315","v":120},{"$f":"+[2]Séries_Site!AG315","v":120},{"$f":"+[2]Séries_Site!AH315","v":0},{"$f":"+[2]Séries_Site!AI315","v":129},{"$f":"+[2]Séries_Site!AJ315","v":0}]
["1985-11-01",{"$f":"+[2]Séries_Site!B316","v":4777},{"$f":"+[2]Séries_Site!C316","v":4777},{"$f":"+[2]Séries_Site!D316","v":0},{"$f":"+[2]Séries_Site!E316","v":5073},{"$f":"+[2]Séries_Site!F316","v":243},{"$f":"+[2]Séries_Site!G316","v":3561},{"$f":"+[2]Séries_Site!H316","v":3561},{"$f":"+[2]Séries_Site!I316","v":0},{"$f":"+[2]Séries_Site!J316","v":3750},{"$f":"+[2]Séries_Site!K316","v":142},{"$f":"+[2]Séries_Site!L316","v":149},{"$f":"+[2]Séries_Site!M316","v":149},{"$f":"+[2]Séries_Site!N316","v":0},{"$f":"+[2]Séries_Site!O316","v":155},{"$f":"+[2]Séries_Site!P316","v":22},{"$f":"+[2]Séries_Site!Q316","v":366},{"$f":"+[2]Séries_Site!R316","v":366},{"$f":"+[2]Séries_Site!S316","v":0},{"$f":"+[2]Séries_Site!T316","v":344},{"$f":"+[2]Séries_Site!U316","v":16},{"$f":"+[2]Séries_Site!V316","v":565},{"$f":"+[2]Séries_Site!W316","v":565},{"$f":"+[2]Séries_Site!X316","v":0},{"$f":"+[2]Séries_Site!Y316","v":683},{"$f":"+[2]Séries_Site!Z316","v":63},{"$f":"+[2]Séries_Site!AA316","v":0},{"$f":"+[2]Séries_Site!AB316","v":0},{"$f":"+[2]Séries_Site!AC316","v":0},{"$f":"+[2]Séries_Site!AD316","v":0},{"$f":"+[2]Séries_Site!AE316","v":0},{"$f":"+[2]Séries_Site!AF316","v":136},{"$f":"+[2]Séries_Site!AG316","v":136},{"$f":"+[2]Séries_Site!AH316","v":0},{"$f":"+[2]Séries_Site!AI316","v":141},{"$f":"+[2]Séries_Site!AJ316","v":0}]
["1985-12-01",{"$f":"+[2]Séries_Site!B317","v":3461},{"$f":"+[2]Séries_Site!C317","v":3461},{"$f":"+[2]Séries_Site!D317","v":0},{"$f":"+[2]Séries_Site!E317","v":4002},{"$f":"+[2]Séries_Site!F317","v":690},{"$f":"+[2]Séries_Site!G317","v":2552},{"$f":"+[2]Séries_Site!H317","v":2552},{"$f":"+[2]Séries_Site!I317","v":0},{"$f":"+[2]Séries_Site!J317","v":2708},{"$f":"+[2]Séries_Site!K317","v":505},{"$f":"+[2]Séries_Site!L317","v":160},{"$f":"+[2]Séries_Site!M317","v":160},{"$f":"+[2]Séries_Site!N317","v":0},{"$f":"+[2]Séries_Site!O317","v":178},{"$f":"+[2]Séries_Site!P317","v":10},{"$f":"+[2]Séries_Site!Q317","v":186},{"$f":"+[2]Séries_Site!R317","v":186},{"$f":"+[2]Séries_Site!S317","v":0},{"$f":"+[2]Séries_Site!T317","v":301},{"$f":"+[2]Séries_Site!U317","v":120},{"$f":"+[2]Séries_Site!V317","v":434},{"$f":"+[2]Séries_Site!W317","v":434},{"$f":"+[2]Séries_Site!X317","v":0},{"$f":"+[2]Séries_Site!Y317","v":666},{"$f":"+[2]Séries_Site!Z317","v":43},{"$f":"+[2]Séries_Site!AA317","v":0},{"$f":"+[2]Séries_Site!AB317","v":0},{"$f":"+[2]Séries_Site!AC317","v":0},{"$f":"+[2]Séries_Site!AD317","v":0},{"$f":"+[2]Séries_Site!AE317","v":0},{"$f":"+[2]Séries_Site!AF317","v":129},{"$f":"+[2]Séries_Site!AG317","v":129},{"$f":"+[2]Séries_Site!AH317","v":0},{"$f":"+[2]Séries_Site!AI317","v":149},{"$f":"+[2]Séries_Site!AJ317","v":12}]
["1986-01-01",{"$f":"+[2]Séries_Site!B318","v":3308},{"$f":"+[2]Séries_Site!C318","v":3308},{"$f":"+[2]Séries_Site!D318","v":0},{"$f":"+[2]Séries_Site!E318","v":3829},{"$f":"+[2]Séries_Site!F318","v":473},{"$f":"+[2]Séries_Site!G318","v":2028},{"$f":"+[2]Séries_Site!H318","v":2028},{"$f":"+[2]Séries_Site!I318","v":0},{"$f":"+[2]Séries_Site!J318","v":2562},{"$f":"+[2]Séries_Site!K318","v":343},{"$f":"+[2]Séries_Site!L318","v":123},{"$f":"+[2]Séries_Site!M318","v":123},{"$f":"+[2]Séries_Site!N318","v":0},{"$f":"+[2]Séries_Site!O318","v":104},{"$f":"+[2]Séries_Site!P318","v":10},{"$f":"+[2]Séries_Site!Q318","v":259},{"$f":"+[2]Séries_Site!R318","v":259},{"$f":"+[2]Séries_Site!S318","v":0},{"$f":"+[2]Séries_Site!T318","v":331},{"$f":"+[2]Séries_Site!U318","v":72},{"$f":"+[2]Séries_Site!V318","v":735},{"$f":"+[2]Séries_Site!W318","v":735},{"$f":"+[2]Séries_Site!X318","v":0},{"$f":"+[2]Séries_Site!Y318","v":659},{"$f":"+[2]Séries_Site!Z318","v":38},{"$f":"+[2]Séries_Site!AA318","v":0},{"$f":"+[2]Séries_Site!AB318","v":0},{"$f":"+[2]Séries_Site!AC318","v":0},{"$f":"+[2]Séries_Site!AD318","v":0},{"$f":"+[2]Séries_Site!AE318","v":0},{"$f":"+[2]Séries_Site!AF318","v":163},{"$f":"+[2]Séries_Site!AG318","v":163},{"$f":"+[2]Séries_Site!AH318","v":0},{"$f":"+[2]Séries_Site!AI318","v":173},{"$f":"+[2]Séries_Site!AJ318","v":10}]
["1986-02-01",{"$f":"+[2]Séries_Site!B319","v":3579},{"$f":"+[2]Séries_Site!C319","v":3579},{"$f":"+[2]Séries_Site!D319","v":0},{"$f":"+[2]Séries_Site!E319","v":4214},{"$f":"+[2]Séries_Site!F319","v":385},{"$f":"+[2]Séries_Site!G319","v":2564},{"$f":"+[2]Séries_Site!H319","v":2564},{"$f":"+[2]Séries_Site!I319","v":0},{"$f":"+[2]Séries_Site!J319","v":2984},{"$f":"+[2]Séries_Site!K319","v":236},{"$f":"+[2]Séries_Site!L319","v":111},{"$f":"+[2]Séries_Site!M319","v":111},{"$f":"+[2]Séries_Site!N319","v":0},{"$f":"+[2]Séries_Site!O319","v":169},{"$f":"+[2]Séries_Site!P319","v":12},{"$f":"+[2]Séries_Site!Q319","v":237},{"$f":"+[2]Séries_Site!R319","v":237},{"$f":"+[2]Séries_Site!S319","v":0},{"$f":"+[2]Séries_Site!T319","v":379},{"$f":"+[2]Séries_Site!U319","v":121},{"$f":"+[2]Séries_Site!V319","v":592},{"$f":"+[2]Séries_Site!W319","v":592},{"$f":"+[2]Séries_Site!X319","v":0},{"$f":"+[2]Séries_Site!Y319","v":601},{"$f":"+[2]Séries_Site!Z319","v":10},{"$f":"+[2]Séries_Site!AA319","v":0},{"$f":"+[2]Séries_Site!AB319","v":0},{"$f":"+[2]Séries_Site!AC319","v":0},{"$f":"+[2]Séries_Site!AD319","v":0},{"$f":"+[2]Séries_Site!AE319","v":0},{"$f":"+[2]Séries_Site!AF319","v":75},{"$f":"+[2]Séries_Site!AG319","v":75},{"$f":"+[2]Séries_Site!AH319","v":0},{"$f":"+[2]Séries_Site!AI319","v":81},{"$f":"+[2]Séries_Site!AJ319","v":6}]
["1986-03-01",{"$f":"+[2]Séries_Site!B320","v":4988},{"$f":"+[2]Séries_Site!C320","v":4988},{"$f":"+[2]Séries_Site!D320","v":0},{"$f":"+[2]Séries_Site!E320","v":5008},{"$f":"+[2]Séries_Site!F320","v":384},{"$f":"+[2]Séries_Site!G320","v":3283},{"$f":"+[2]Séries_Site!H320","v":3283},{"$f":"+[2]Séries_Site!I320","v":0},{"$f":"+[2]Séries_Site!J320","v":3443},{"$f":"+[2]Séries_Site!K320","v":343},{"$f":"+[2]Séries_Site!L320","v":181},{"$f":"+[2]Séries_Site!M320","v":181},{"$f":"+[2]Séries_Site!N320","v":0},{"$f":"+[2]Séries_Site!O320","v":174},{"$f":"+[2]Séries_Site!P320","v":4},{"$f":"+[2]Séries_Site!Q320","v":454},{"$f":"+[2]Séries_Site!R320","v":454},{"$f":"+[2]Séries_Site!S320","v":0},{"$f":"+[2]Séries_Site!T320","v":461},{"$f":"+[2]Séries_Site!U320","v":2},{"$f":"+[2]Séries_Site!V320","v":915},{"$f":"+[2]Séries_Site!W320","v":915},{"$f":"+[2]Séries_Site!X320","v":0},{"$f":"+[2]Séries_Site!Y320","v":769},{"$f":"+[2]Séries_Site!Z320","v":35},{"$f":"+[2]Séries_Site!AA320","v":0},{"$f":"+[2]Séries_Site!AB320","v":0},{"$f":"+[2]Séries_Site!AC320","v":0},{"$f":"+[2]Séries_Site!AD320","v":0},{"$f":"+[2]Séries_Site!AE320","v":0},{"$f":"+[2]Séries_Site!AF320","v":155},{"$f":"+[2]Séries_Site!AG320","v":155},{"$f":"+[2]Séries_Site!AH320","v":0},{"$f":"+[2]Séries_Site!AI320","v":161},{"$f":"+[2]Séries_Site!AJ320","v":0}]
["1986-04-01",{"$f":"+[2]Séries_Site!B321","v":5441},{"$f":"+[2]Séries_Site!C321","v":5441},{"$f":"+[2]Séries_Site!D321","v":0},{"$f":"+[2]Séries_Site!E321","v":5551},{"$f":"+[2]Séries_Site!F321","v":431},{"$f":"+[2]Séries_Site!G321","v":3952},{"$f":"+[2]Séries_Site!H321","v":3952},{"$f":"+[2]Séries_Site!I321","v":0},{"$f":"+[2]Séries_Site!J321","v":4099},{"$f":"+[2]Séries_Site!K321","v":386},{"$f":"+[2]Séries_Site!L321","v":185},{"$f":"+[2]Séries_Site!M321","v":185},{"$f":"+[2]Séries_Site!N321","v":0},{"$f":"+[2]Séries_Site!O321","v":206},{"$f":"+[2]Séries_Site!P321","v":16},{"$f":"+[2]Séries_Site!Q321","v":558},{"$f":"+[2]Séries_Site!R321","v":558},{"$f":"+[2]Séries_Site!S321","v":0},{"$f":"+[2]Séries_Site!T321","v":543},{"$f":"+[2]Séries_Site!U321","v":8},{"$f":"+[2]Séries_Site!V321","v":606},{"$f":"+[2]Séries_Site!W321","v":606},{"$f":"+[2]Séries_Site!X321","v":0},{"$f":"+[2]Séries_Site!Y321","v":562},{"$f":"+[2]Séries_Site!Z321","v":21},{"$f":"+[2]Séries_Site!AA321","v":0},{"$f":"+[2]Séries_Site!AB321","v":0},{"$f":"+[2]Séries_Site!AC321","v":0},{"$f":"+[2]Séries_Site!AD321","v":0},{"$f":"+[2]Séries_Site!AE321","v":0},{"$f":"+[2]Séries_Site!AF321","v":140},{"$f":"+[2]Séries_Site!AG321","v":140},{"$f":"+[2]Séries_Site!AH321","v":0},{"$f":"+[2]Séries_Site!AI321","v":141},{"$f":"+[2]Séries_Site!AJ321","v":0}]
["1986-05-01",{"$f":"+[2]Séries_Site!B322","v":4560},{"$f":"+[2]Séries_Site!C322","v":4560},{"$f":"+[2]Séries_Site!D322","v":0},{"$f":"+[2]Séries_Site!E322","v":4915},{"$f":"+[2]Séries_Site!F322","v":379},{"$f":"+[2]Séries_Site!G322","v":3439},{"$f":"+[2]Séries_Site!H322","v":3439},{"$f":"+[2]Séries_Site!I322","v":0},{"$f":"+[2]Séries_Site!J322","v":3724},{"$f":"+[2]Séries_Site!K322","v":306},{"$f":"+[2]Séries_Site!L322","v":219},{"$f":"+[2]Séries_Site!M322","v":219},{"$f":"+[2]Séries_Site!N322","v":0},{"$f":"+[2]Séries_Site!O322","v":259},{"$f":"+[2]Séries_Site!P322","v":23},{"$f":"+[2]Séries_Site!Q322","v":521},{"$f":"+[2]Séries_Site!R322","v":521},{"$f":"+[2]Séries_Site!S322","v":0},{"$f":"+[2]Séries_Site!T322","v":556},{"$f":"+[2]Séries_Site!U322","v":40},{"$f":"+[2]Séries_Site!V322","v":245},{"$f":"+[2]Séries_Site!W322","v":245},{"$f":"+[2]Séries_Site!X322","v":0},{"$f":"+[2]Séries_Site!Y322","v":235},{"$f":"+[2]Séries_Site!Z322","v":4},{"$f":"+[2]Séries_Site!AA322","v":0},{"$f":"+[2]Séries_Site!AB322","v":0},{"$f":"+[2]Séries_Site!AC322","v":0},{"$f":"+[2]Séries_Site!AD322","v":0},{"$f":"+[2]Séries_Site!AE322","v":0},{"$f":"+[2]Séries_Site!AF322","v":136},{"$f":"+[2]Séries_Site!AG322","v":136},{"$f":"+[2]Séries_Site!AH322","v":0},{"$f":"+[2]Séries_Site!AI322","v":141},{"$f":"+[2]Séries_Site!AJ322","v":6}]
["1986-06-01",{"$f":"+[2]Séries_Site!B323","v":5664},{"$f":"+[2]Séries_Site!C323","v":5664},{"$f":"+[2]Séries_Site!D323","v":0},{"$f":"+[2]Séries_Site!E323","v":6160},{"$f":"+[2]Séries_Site!F323","v":598},{"$f":"+[2]Séries_Site!G323","v":4416},{"$f":"+[2]Séries_Site!H323","v":4416},{"$f":"+[2]Séries_Site!I323","v":0},{"$f":"+[2]Séries_Site!J323","v":4865},{"$f":"+[2]Séries_Site!K323","v":572},{"$f":"+[2]Séries_Site!L323","v":201},{"$f":"+[2]Séries_Site!M323","v":201},{"$f":"+[2]Séries_Site!N323","v":0},{"$f":"+[2]Séries_Site!O323","v":209},{"$f":"+[2]Séries_Site!P323","v":6},{"$f":"+[2]Séries_Site!Q323","v":624},{"$f":"+[2]Séries_Site!R323","v":624},{"$f":"+[2]Séries_Site!S323","v":0},{"$f":"+[2]Séries_Site!T323","v":621},{"$f":"+[2]Séries_Site!U323","v":8},{"$f":"+[2]Séries_Site!V323","v":185},{"$f":"+[2]Séries_Site!W323","v":185},{"$f":"+[2]Séries_Site!X323","v":0},{"$f":"+[2]Séries_Site!Y323","v":223},{"$f":"+[2]Séries_Site!Z323","v":12},{"$f":"+[2]Séries_Site!AA323","v":0},{"$f":"+[2]Séries_Site!AB323","v":0},{"$f":"+[2]Séries_Site!AC323","v":0},{"$f":"+[2]Séries_Site!AD323","v":0},{"$f":"+[2]Séries_Site!AE323","v":0},{"$f":"+[2]Séries_Site!AF323","v":238},{"$f":"+[2]Séries_Site!AG323","v":238},{"$f":"+[2]Séries_Site!AH323","v":0},{"$f":"+[2]Séries_Site!AI323","v":242},{"$f":"+[2]Séries_Site!AJ323","v":0}]
["1986-07-01",{"$f":"+[2]Séries_Site!B324","v":6082},{"$f":"+[2]Séries_Site!C324","v":6082},{"$f":"+[2]Séries_Site!D324","v":0},{"$f":"+[2]Séries_Site!E324","v":6729},{"$f":"+[2]Séries_Site!F324","v":403},{"$f":"+[2]Séries_Site!G324","v":4635},{"$f":"+[2]Séries_Site!H324","v":4635},{"$f":"+[2]Séries_Site!I324","v":0},{"$f":"+[2]Séries_Site!J324","v":5173},{"$f":"+[2]Séries_Site!K324","v":356},{"$f":"+[2]Séries_Site!L324","v":213},{"$f":"+[2]Séries_Site!M324","v":213},{"$f":"+[2]Séries_Site!N324","v":0},{"$f":"+[2]Séries_Site!O324","v":223},{"$f":"+[2]Séries_Site!P324","v":30},{"$f":"+[2]Séries_Site!Q324","v":728},{"$f":"+[2]Séries_Site!R324","v":728},{"$f":"+[2]Séries_Site!S324","v":0},{"$f":"+[2]Séries_Site!T324","v":726},{"$f":"+[2]Séries_Site!U324","v":1},{"$f":"+[2]Séries_Site!V324","v":272},{"$f":"+[2]Séries_Site!W324","v":272},{"$f":"+[2]Séries_Site!X324","v":0},{"$f":"+[2]Séries_Site!Y324","v":365},{"$f":"+[2]Séries_Site!Z324","v":13},{"$f":"+[2]Séries_Site!AA324","v":0},{"$f":"+[2]Séries_Site!AB324","v":0},{"$f":"+[2]Séries_Site!AC324","v":0},{"$f":"+[2]Séries_Site!AD324","v":0},{"$f":"+[2]Séries_Site!AE324","v":0},{"$f":"+[2]Séries_Site!AF324","v":234},{"$f":"+[2]Séries_Site!AG324","v":234},{"$f":"+[2]Séries_Site!AH324","v":0},{"$f":"+[2]Séries_Site!AI324","v":242},{"$f":"+[2]Séries_Site!AJ324","v":3}]
["1986-08-01",{"$f":"+[2]Séries_Site!B325","v":6256},{"$f":"+[2]Séries_Site!C325","v":6256},{"$f":"+[2]Séries_Site!D325","v":0},{"$f":"+[2]Séries_Site!E325","v":6850},{"$f":"+[2]Séries_Site!F325","v":811},{"$f":"+[2]Séries_Site!G325","v":4574},{"$f":"+[2]Séries_Site!H325","v":4574},{"$f":"+[2]Séries_Site!I325","v":0},{"$f":"+[2]Séries_Site!J325","v":5166},{"$f":"+[2]Séries_Site!K325","v":720},{"$f":"+[2]Séries_Site!L325","v":243},{"$f":"+[2]Séries_Site!M325","v":243},{"$f":"+[2]Séries_Site!N325","v":0},{"$f":"+[2]Séries_Site!O325","v":225},{"$f":"+[2]Séries_Site!P325","v":14},{"$f":"+[2]Séries_Site!Q325","v":668},{"$f":"+[2]Séries_Site!R325","v":668},{"$f":"+[2]Séries_Site!S325","v":0},{"$f":"+[2]Séries_Site!T325","v":676},{"$f":"+[2]Séries_Site!U325","v":0},{"$f":"+[2]Séries_Site!V325","v":537},{"$f":"+[2]Séries_Site!W325","v":537},{"$f":"+[2]Séries_Site!X325","v":0},{"$f":"+[2]Séries_Site!Y325","v":541},{"$f":"+[2]Séries_Site!Z325","v":74},{"$f":"+[2]Séries_Site!AA325","v":0},{"$f":"+[2]Séries_Site!AB325","v":0},{"$f":"+[2]Séries_Site!AC325","v":0},{"$f":"+[2]Séries_Site!AD325","v":0},{"$f":"+[2]Séries_Site!AE325","v":0},{"$f":"+[2]Séries_Site!AF325","v":234},{"$f":"+[2]Séries_Site!AG325","v":234},{"$f":"+[2]Séries_Site!AH325","v":0},{"$f":"+[2]Séries_Site!AI325","v":242},{"$f":"+[2]Séries_Site!AJ325","v":3}]
["1986-09-01",{"$f":"+[2]Séries_Site!B326","v":6645},{"$f":"+[2]Séries_Site!C326","v":6645},{"$f":"+[2]Séries_Site!D326","v":0},{"$f":"+[2]Séries_Site!E326","v":7163},{"$f":"+[2]Séries_Site!F326","v":624},{"$f":"+[2]Séries_Site!G326","v":4752},{"$f":"+[2]Séries_Site!H326","v":4752},{"$f":"+[2]Séries_Site!I326","v":0},{"$f":"+[2]Séries_Site!J326","v":5150},{"$f":"+[2]Séries_Site!K326","v":498},{"$f":"+[2]Séries_Site!L326","v":239},{"$f":"+[2]Séries_Site!M326","v":239},{"$f":"+[2]Séries_Site!N326","v":0},{"$f":"+[2]Séries_Site!O326","v":259},{"$f":"+[2]Séries_Site!P326","v":19},{"$f":"+[2]Séries_Site!Q326","v":776},{"$f":"+[2]Séries_Site!R326","v":776},{"$f":"+[2]Séries_Site!S326","v":0},{"$f":"+[2]Séries_Site!T326","v":798},{"$f":"+[2]Séries_Site!U326","v":15},{"$f":"+[2]Séries_Site!V326","v":650},{"$f":"+[2]Séries_Site!W326","v":650},{"$f":"+[2]Séries_Site!X326","v":0},{"$f":"+[2]Séries_Site!Y326","v":714},{"$f":"+[2]Séries_Site!Z326","v":86},{"$f":"+[2]Séries_Site!AA326","v":0},{"$f":"+[2]Séries_Site!AB326","v":0},{"$f":"+[2]Séries_Site!AC326","v":0},{"$f":"+[2]Séries_Site!AD326","v":0},{"$f":"+[2]Séries_Site!AE326","v":0},{"$f":"+[2]Séries_Site!AF326","v":228},{"$f":"+[2]Séries_Site!AG326","v":228},{"$f":"+[2]Séries_Site!AH326","v":0},{"$f":"+[2]Séries_Site!AI326","v":242},{"$f":"+[2]Séries_Site!AJ326","v":6}]
["1986-10-01",{"$f":"+[2]Séries_Site!B327","v":6707},{"$f":"+[2]Séries_Site!C327","v":6707},{"$f":"+[2]Séries_Site!D327","v":0},{"$f":"+[2]Séries_Site!E327","v":7596},{"$f":"+[2]Séries_Site!F327","v":903},{"$f":"+[2]Séries_Site!G327","v":4883},{"$f":"+[2]Séries_Site!H327","v":4883},{"$f":"+[2]Séries_Site!I327","v":0},{"$f":"+[2]Séries_Site!J327","v":5587},{"$f":"+[2]Séries_Site!K327","v":682},{"$f":"+[2]Séries_Site!L327","v":250},{"$f":"+[2]Séries_Site!M327","v":250},{"$f":"+[2]Séries_Site!N327","v":0},{"$f":"+[2]Séries_Site!O327","v":235},{"$f":"+[2]Séries_Site!P327","v":22},{"$f":"+[2]Séries_Site!Q327","v":679},{"$f":"+[2]Séries_Site!R327","v":679},{"$f":"+[2]Séries_Site!S327","v":0},{"$f":"+[2]Séries_Site!T327","v":770},{"$f":"+[2]Séries_Site!U327","v":100},{"$f":"+[2]Séries_Site!V327","v":657},{"$f":"+[2]Séries_Site!W327","v":657},{"$f":"+[2]Séries_Site!X327","v":0},{"$f":"+[2]Séries_Site!Y327","v":762},{"$f":"+[2]Séries_Site!Z327","v":99},{"$f":"+[2]Séries_Site!AA327","v":0},{"$f":"+[2]Séries_Site!AB327","v":0},{"$f":"+[2]Séries_Site!AC327","v":0},{"$f":"+[2]Séries_Site!AD327","v":0},{"$f":"+[2]Séries_Site!AE327","v":0},{"$f":"+[2]Séries_Site!AF327","v":238},{"$f":"+[2]Séries_Site!AG327","v":238},{"$f":"+[2]Séries_Site!AH327","v":0},{"$f":"+[2]Séries_Site!AI327","v":242},{"$f":"+[2]Séries_Site!AJ327","v":0}]
["1986-11-01",{"$f":"+[2]Séries_Site!B328","v":5596},{"$f":"+[2]Séries_Site!C328","v":5596},{"$f":"+[2]Séries_Site!D328","v":0},{"$f":"+[2]Séries_Site!E328","v":6379},{"$f":"+[2]Séries_Site!F328","v":669},{"$f":"+[2]Séries_Site!G328","v":3979},{"$f":"+[2]Séries_Site!H328","v":3979},{"$f":"+[2]Séries_Site!I328","v":0},{"$f":"+[2]Séries_Site!J328","v":4599},{"$f":"+[2]Séries_Site!K328","v":527},{"$f":"+[2]Séries_Site!L328","v":189},{"$f":"+[2]Séries_Site!M328","v":189},{"$f":"+[2]Séries_Site!N328","v":0},{"$f":"+[2]Séries_Site!O328","v":211},{"$f":"+[2]Séries_Site!P328","v":18},{"$f":"+[2]Séries_Site!Q328","v":621},{"$f":"+[2]Séries_Site!R328","v":621},{"$f":"+[2]Séries_Site!S328","v":0},{"$f":"+[2]Séries_Site!T328","v":696},{"$f":"+[2]Séries_Site!U328","v":37},{"$f":"+[2]Séries_Site!V328","v":610},{"$f":"+[2]Séries_Site!W328","v":610},{"$f":"+[2]Séries_Site!X328","v":0},{"$f":"+[2]Séries_Site!Y328","v":671},{"$f":"+[2]Séries_Site!Z328","v":87},{"$f":"+[2]Séries_Site!AA328","v":0},{"$f":"+[2]Séries_Site!AB328","v":0},{"$f":"+[2]Séries_Site!AC328","v":0},{"$f":"+[2]Séries_Site!AD328","v":0},{"$f":"+[2]Séries_Site!AE328","v":0},{"$f":"+[2]Séries_Site!AF328","v":197},{"$f":"+[2]Séries_Site!AG328","v":197},{"$f":"+[2]Séries_Site!AH328","v":0},{"$f":"+[2]Séries_Site!AI328","v":202},{"$f":"+[2]Séries_Site!AJ328","v":0}]
["1986-12-01",{"$f":"+[2]Séries_Site!B329","v":3964},{"$f":"+[2]Séries_Site!C329","v":3964},{"$f":"+[2]Séries_Site!D329","v":0},{"$f":"+[2]Séries_Site!E329","v":4576},{"$f":"+[2]Séries_Site!F329","v":628},{"$f":"+[2]Séries_Site!G329","v":2792},{"$f":"+[2]Séries_Site!H329","v":2792},{"$f":"+[2]Séries_Site!I329","v":0},{"$f":"+[2]Séries_Site!J329","v":3098},{"$f":"+[2]Séries_Site!K329","v":468},{"$f":"+[2]Séries_Site!L329","v":91},{"$f":"+[2]Séries_Site!M329","v":91},{"$f":"+[2]Séries_Site!N329","v":0},{"$f":"+[2]Séries_Site!O329","v":135},{"$f":"+[2]Séries_Site!P329","v":26},{"$f":"+[2]Séries_Site!Q329","v":433},{"$f":"+[2]Séries_Site!R329","v":433},{"$f":"+[2]Séries_Site!S329","v":0},{"$f":"+[2]Séries_Site!T329","v":571},{"$f":"+[2]Séries_Site!U329","v":63},{"$f":"+[2]Séries_Site!V329","v":540},{"$f":"+[2]Séries_Site!W329","v":540},{"$f":"+[2]Séries_Site!X329","v":0},{"$f":"+[2]Séries_Site!Y329","v":645},{"$f":"+[2]Séries_Site!Z329","v":46},{"$f":"+[2]Séries_Site!AA329","v":0},{"$f":"+[2]Séries_Site!AB329","v":0},{"$f":"+[2]Séries_Site!AC329","v":0},{"$f":"+[2]Séries_Site!AD329","v":0},{"$f":"+[2]Séries_Site!AE329","v":0},{"$f":"+[2]Séries_Site!AF329","v":108},{"$f":"+[2]Séries_Site!AG329","v":108},{"$f":"+[2]Séries_Site!AH329","v":0},{"$f":"+[2]Séries_Site!AI329","v":127},{"$f":"+[2]Séries_Site!AJ329","v":25}]
["1987-01-01",{"$f":"+[2]Séries_Site!B330","v":3657},{"$f":"+[2]Séries_Site!C330","v":3657},{"$f":"+[2]Séries_Site!D330","v":0},{"$f":"+[2]Séries_Site!E330","v":4364},{"$f":"+[2]Séries_Site!F330","v":451},{"$f":"+[2]Séries_Site!G330","v":2272},{"$f":"+[2]Séries_Site!H330","v":2272},{"$f":"+[2]Séries_Site!I330","v":0},{"$f":"+[2]Séries_Site!J330","v":2724},{"$f":"+[2]Séries_Site!K330","v":350},{"$f":"+[2]Séries_Site!L330","v":133},{"$f":"+[2]Séries_Site!M330","v":133},{"$f":"+[2]Séries_Site!N330","v":0},{"$f":"+[2]Séries_Site!O330","v":189},{"$f":"+[2]Séries_Site!P330","v":28},{"$f":"+[2]Séries_Site!Q330","v":491},{"$f":"+[2]Séries_Site!R330","v":491},{"$f":"+[2]Séries_Site!S330","v":0},{"$f":"+[2]Séries_Site!T330","v":592},{"$f":"+[2]Séries_Site!U330","v":54},{"$f":"+[2]Séries_Site!V330","v":577},{"$f":"+[2]Séries_Site!W330","v":577},{"$f":"+[2]Séries_Site!X330","v":0},{"$f":"+[2]Séries_Site!Y330","v":646},{"$f":"+[2]Séries_Site!Z330","v":4},{"$f":"+[2]Séries_Site!AA330","v":0},{"$f":"+[2]Séries_Site!AB330","v":0},{"$f":"+[2]Séries_Site!AC330","v":0},{"$f":"+[2]Séries_Site!AD330","v":0},{"$f":"+[2]Séries_Site!AE330","v":0},{"$f":"+[2]Séries_Site!AF330","v":184},{"$f":"+[2]Séries_Site!AG330","v":184},{"$f":"+[2]Séries_Site!AH330","v":0},{"$f":"+[2]Séries_Site!AI330","v":213},{"$f":"+[2]Séries_Site!AJ330","v":15}]
["1987-02-01",{"$f":"+[2]Séries_Site!B331","v":4893},{"$f":"+[2]Séries_Site!C331","v":4893},{"$f":"+[2]Séries_Site!D331","v":0},{"$f":"+[2]Séries_Site!E331","v":5772},{"$f":"+[2]Séries_Site!F331","v":576},{"$f":"+[2]Séries_Site!G331","v":3298},{"$f":"+[2]Séries_Site!H331","v":3298},{"$f":"+[2]Séries_Site!I331","v":0},{"$f":"+[2]Séries_Site!J331","v":3885},{"$f":"+[2]Séries_Site!K331","v":375},{"$f":"+[2]Séries_Site!L331","v":181},{"$f":"+[2]Séries_Site!M331","v":181},{"$f":"+[2]Séries_Site!N331","v":0},{"$f":"+[2]Séries_Site!O331","v":258},{"$f":"+[2]Séries_Site!P331","v":22},{"$f":"+[2]Séries_Site!Q331","v":682},{"$f":"+[2]Séries_Site!R331","v":682},{"$f":"+[2]Séries_Site!S331","v":0},{"$f":"+[2]Séries_Site!T331","v":745},{"$f":"+[2]Séries_Site!U331","v":118},{"$f":"+[2]Séries_Site!V331","v":572},{"$f":"+[2]Séries_Site!W331","v":572},{"$f":"+[2]Séries_Site!X331","v":0},{"$f":"+[2]Séries_Site!Y331","v":720},{"$f":"+[2]Séries_Site!Z331","v":54},{"$f":"+[2]Séries_Site!AA331","v":0},{"$f":"+[2]Séries_Site!AB331","v":0},{"$f":"+[2]Séries_Site!AC331","v":0},{"$f":"+[2]Séries_Site!AD331","v":0},{"$f":"+[2]Séries_Site!AE331","v":0},{"$f":"+[2]Séries_Site!AF331","v":160},{"$f":"+[2]Séries_Site!AG331","v":160},{"$f":"+[2]Séries_Site!AH331","v":0},{"$f":"+[2]Séries_Site!AI331","v":164},{"$f":"+[2]Séries_Site!AJ331","v":7}]
["1987-03-01",{"$f":"+[2]Séries_Site!B332","v":5277},{"$f":"+[2]Séries_Site!C332","v":5277},{"$f":"+[2]Séries_Site!D332","v":0},{"$f":"+[2]Séries_Site!E332","v":6026},{"$f":"+[2]Séries_Site!F332","v":825},{"$f":"+[2]Séries_Site!G332","v":3717},{"$f":"+[2]Séries_Site!H332","v":3717},{"$f":"+[2]Séries_Site!I332","v":0},{"$f":"+[2]Séries_Site!J332","v":4283},{"$f":"+[2]Séries_Site!K332","v":694},{"$f":"+[2]Séries_Site!L332","v":133},{"$f":"+[2]Séries_Site!M332","v":133},{"$f":"+[2]Séries_Site!N332","v":0},{"$f":"+[2]Séries_Site!O332","v":188},{"$f":"+[2]Séries_Site!P332","v":50},{"$f":"+[2]Séries_Site!Q332","v":561},{"$f":"+[2]Séries_Site!R332","v":561},{"$f":"+[2]Séries_Site!S332","v":0},{"$f":"+[2]Séries_Site!T332","v":590},{"$f":"+[2]Séries_Site!U332","v":0},{"$f":"+[2]Séries_Site!V332","v":659},{"$f":"+[2]Séries_Site!W332","v":659},{"$f":"+[2]Séries_Site!X332","v":0},{"$f":"+[2]Séries_Site!Y332","v":737},{"$f":"+[2]Séries_Site!Z332","v":59},{"$f":"+[2]Séries_Site!AA332","v":0},{"$f":"+[2]Séries_Site!AB332","v":0},{"$f":"+[2]Séries_Site!AC332","v":0},{"$f":"+[2]Séries_Site!AD332","v":0},{"$f":"+[2]Séries_Site!AE332","v":0},{"$f":"+[2]Séries_Site!AF332","v":207},{"$f":"+[2]Séries_Site!AG332","v":207},{"$f":"+[2]Séries_Site!AH332","v":0},{"$f":"+[2]Séries_Site!AI332","v":228},{"$f":"+[2]Séries_Site!AJ332","v":22}]
["1987-04-01",{"$f":"+[2]Séries_Site!B333","v":4862},{"$f":"+[2]Séries_Site!C333","v":4862},{"$f":"+[2]Séries_Site!D333","v":0},{"$f":"+[2]Séries_Site!E333","v":5501},{"$f":"+[2]Séries_Site!F333","v":620},{"$f":"+[2]Séries_Site!G333","v":3548},{"$f":"+[2]Séries_Site!H333","v":3548},{"$f":"+[2]Séries_Site!I333","v":0},{"$f":"+[2]Séries_Site!J333","v":3899},{"$f":"+[2]Séries_Site!K333","v":388},{"$f":"+[2]Séries_Site!L333","v":159},{"$f":"+[2]Séries_Site!M333","v":159},{"$f":"+[2]Séries_Site!N333","v":0},{"$f":"+[2]Séries_Site!O333","v":241},{"$f":"+[2]Séries_Site!P333","v":39},{"$f":"+[2]Séries_Site!Q333","v":429},{"$f":"+[2]Séries_Site!R333","v":429},{"$f":"+[2]Séries_Site!S333","v":0},{"$f":"+[2]Séries_Site!T333","v":532},{"$f":"+[2]Séries_Site!U333","v":96},{"$f":"+[2]Séries_Site!V333","v":521},{"$f":"+[2]Séries_Site!W333","v":521},{"$f":"+[2]Séries_Site!X333","v":0},{"$f":"+[2]Séries_Site!Y333","v":586},{"$f":"+[2]Séries_Site!Z333","v":60},{"$f":"+[2]Séries_Site!AA333","v":0},{"$f":"+[2]Séries_Site!AB333","v":0},{"$f":"+[2]Séries_Site!AC333","v":0},{"$f":"+[2]Séries_Site!AD333","v":0},{"$f":"+[2]Séries_Site!AE333","v":0},{"$f":"+[2]Séries_Site!AF333","v":205},{"$f":"+[2]Séries_Site!AG333","v":205},{"$f":"+[2]Séries_Site!AH333","v":0},{"$f":"+[2]Séries_Site!AI333","v":243},{"$f":"+[2]Séries_Site!AJ333","v":37}]
["1987-05-01",{"$f":"+[2]Séries_Site!B334","v":4127},{"$f":"+[2]Séries_Site!C334","v":4127},{"$f":"+[2]Séries_Site!D334","v":0},{"$f":"+[2]Séries_Site!E334","v":5202},{"$f":"+[2]Séries_Site!F334","v":894},{"$f":"+[2]Séries_Site!G334","v":3048},{"$f":"+[2]Séries_Site!H334","v":3048},{"$f":"+[2]Séries_Site!I334","v":0},{"$f":"+[2]Séries_Site!J334","v":4095},{"$f":"+[2]Séries_Site!K334","v":755},{"$f":"+[2]Séries_Site!L334","v":179},{"$f":"+[2]Séries_Site!M334","v":179},{"$f":"+[2]Séries_Site!N334","v":0},{"$f":"+[2]Séries_Site!O334","v":265},{"$f":"+[2]Séries_Site!P334","v":64},{"$f":"+[2]Séries_Site!Q334","v":378},{"$f":"+[2]Séries_Site!R334","v":378},{"$f":"+[2]Séries_Site!S334","v":0},{"$f":"+[2]Séries_Site!T334","v":377},{"$f":"+[2]Séries_Site!U334","v":30},{"$f":"+[2]Séries_Site!V334","v":366},{"$f":"+[2]Séries_Site!W334","v":366},{"$f":"+[2]Séries_Site!X334","v":0},{"$f":"+[2]Séries_Site!Y334","v":295},{"$f":"+[2]Séries_Site!Z334","v":19},{"$f":"+[2]Séries_Site!AA334","v":0},{"$f":"+[2]Séries_Site!AB334","v":0},{"$f":"+[2]Séries_Site!AC334","v":0},{"$f":"+[2]Séries_Site!AD334","v":0},{"$f":"+[2]Séries_Site!AE334","v":0},{"$f":"+[2]Séries_Site!AF334","v":156},{"$f":"+[2]Séries_Site!AG334","v":156},{"$f":"+[2]Séries_Site!AH334","v":0},{"$f":"+[2]Séries_Site!AI334","v":170},{"$f":"+[2]Séries_Site!AJ334","v":26}]
["1987-06-01",{"$f":"+[2]Séries_Site!B335","v":3142},{"$f":"+[2]Séries_Site!C335","v":3142},{"$f":"+[2]Séries_Site!D335","v":0},{"$f":"+[2]Séries_Site!E335","v":5527},{"$f":"+[2]Séries_Site!F335","v":1042},{"$f":"+[2]Séries_Site!G335","v":2570},{"$f":"+[2]Séries_Site!H335","v":2570},{"$f":"+[2]Séries_Site!I335","v":0},{"$f":"+[2]Séries_Site!J335","v":4340},{"$f":"+[2]Séries_Site!K335","v":852},{"$f":"+[2]Séries_Site!L335","v":152},{"$f":"+[2]Séries_Site!M335","v":152},{"$f":"+[2]Séries_Site!N335","v":0},{"$f":"+[2]Séries_Site!O335","v":259},{"$f":"+[2]Séries_Site!P335","v":55},{"$f":"+[2]Séries_Site!Q335","v":161},{"$f":"+[2]Séries_Site!R335","v":161},{"$f":"+[2]Séries_Site!S335","v":0},{"$f":"+[2]Séries_Site!T335","v":396},{"$f":"+[2]Séries_Site!U335","v":80},{"$f":"+[2]Séries_Site!V335","v":228},{"$f":"+[2]Séries_Site!W335","v":228},{"$f":"+[2]Séries_Site!X335","v":0},{"$f":"+[2]Séries_Site!Y335","v":362},{"$f":"+[2]Séries_Site!Z335","v":33},{"$f":"+[2]Séries_Site!AA335","v":0},{"$f":"+[2]Séries_Site!AB335","v":0},{"$f":"+[2]Séries_Site!AC335","v":0},{"$f":"+[2]Séries_Site!AD335","v":0},{"$f":"+[2]Séries_Site!AE335","v":0},{"$f":"+[2]Séries_Site!AF335","v":31},{"$f":"+[2]Séries_Site!AG335","v":31},{"$f":"+[2]Séries_Site!AH335","v":0},{"$f":"+[2]Séries_Site!AI335","v":170},{"$f":"+[2]Séries_Site!AJ335","v":22}]
["1987-07-01",{"$f":"+[2]Séries_Site!B336","v":4362},{"$f":"+[2]Séries_Site!C336","v":4362},{"$f":"+[2]Séries_Site!D336","v":0},{"$f":"+[2]Séries_Site!E336","v":4781},{"$f":"+[2]Séries_Site!F336","v":584},{"$f":"+[2]Séries_Site!G336","v":3494},{"$f":"+[2]Séries_Site!H336","v":3494},{"$f":"+[2]Séries_Site!I336","v":0},{"$f":"+[2]Séries_Site!J336","v":3765},{"$f":"+[2]Séries_Site!K336","v":410},{"$f":"+[2]Séries_Site!L336","v":193},{"$f":"+[2]Séries_Site!M336","v":193},{"$f":"+[2]Séries_Site!N336","v":0},{"$f":"+[2]Séries_Site!O336","v":254},{"$f":"+[2]Séries_Site!P336","v":67},{"$f":"+[2]Séries_Site!Q336","v":153},{"$f":"+[2]Séries_Site!R336","v":153},{"$f":"+[2]Séries_Site!S336","v":0},{"$f":"+[2]Séries_Site!T336","v":242},{"$f":"+[2]Séries_Site!U336","v":52},{"$f":"+[2]Séries_Site!V336","v":401},{"$f":"+[2]Séries_Site!W336","v":401},{"$f":"+[2]Séries_Site!X336","v":0},{"$f":"+[2]Séries_Site!Y336","v":477},{"$f":"+[2]Séries_Site!Z336","v":37},{"$f":"+[2]Séries_Site!AA336","v":0},{"$f":"+[2]Séries_Site!AB336","v":0},{"$f":"+[2]Séries_Site!AC336","v":0},{"$f":"+[2]Séries_Site!AD336","v":0},{"$f":"+[2]Séries_Site!AE336","v":0},{"$f":"+[2]Séries_Site!AF336","v":121},{"$f":"+[2]Séries_Site!AG336","v":121},{"$f":"+[2]Séries_Site!AH336","v":0},{"$f":"+[2]Séries_Site!AI336","v":43},{"$f":"+[2]Séries_Site!AJ336","v":18}]
["1987-08-01",{"$f":"+[2]Séries_Site!B337","v":5388},{"$f":"+[2]Séries_Site!C337","v":5388},{"$f":"+[2]Séries_Site!D337","v":0},{"$f":"+[2]Séries_Site!E337","v":5132},{"$f":"+[2]Séries_Site!F337","v":428},{"$f":"+[2]Séries_Site!G337","v":4317},{"$f":"+[2]Séries_Site!H337","v":4317},{"$f":"+[2]Séries_Site!I337","v":0},{"$f":"+[2]Séries_Site!J337","v":4075},{"$f":"+[2]Séries_Site!K337","v":314},{"$f":"+[2]Séries_Site!L337","v":251},{"$f":"+[2]Séries_Site!M337","v":251},{"$f":"+[2]Séries_Site!N337","v":0},{"$f":"+[2]Séries_Site!O337","v":241},{"$f":"+[2]Séries_Site!P337","v":57},{"$f":"+[2]Séries_Site!Q337","v":190},{"$f":"+[2]Séries_Site!R337","v":190},{"$f":"+[2]Séries_Site!S337","v":0},{"$f":"+[2]Séries_Site!T337","v":171},{"$f":"+[2]Séries_Site!U337","v":28},{"$f":"+[2]Séries_Site!V337","v":521},{"$f":"+[2]Séries_Site!W337","v":521},{"$f":"+[2]Séries_Site!X337","v":0},{"$f":"+[2]Séries_Site!Y337","v":545},{"$f":"+[2]Séries_Site!Z337","v":22},{"$f":"+[2]Séries_Site!AA337","v":0},{"$f":"+[2]Séries_Site!AB337","v":0},{"$f":"+[2]Séries_Site!AC337","v":0},{"$f":"+[2]Séries_Site!AD337","v":0},{"$f":"+[2]Séries_Site!AE337","v":0},{"$f":"+[2]Séries_Site!AF337","v":109},{"$f":"+[2]Séries_Site!AG337","v":109},{"$f":"+[2]Séries_Site!AH337","v":0},{"$f":"+[2]Séries_Site!AI337","v":100},{"$f":"+[2]Séries_Site!AJ337","v":7}]
["1987-09-01",{"$f":"+[2]Séries_Site!B338","v":4462},{"$f":"+[2]Séries_Site!C338","v":4462},{"$f":"+[2]Séries_Site!D338","v":0},{"$f":"+[2]Séries_Site!E338","v":5051},{"$f":"+[2]Séries_Site!F338","v":501},{"$f":"+[2]Séries_Site!G338","v":3558},{"$f":"+[2]Séries_Site!H338","v":3558},{"$f":"+[2]Séries_Site!I338","v":0},{"$f":"+[2]Séries_Site!J338","v":3838},{"$f":"+[2]Séries_Site!K338","v":320},{"$f":"+[2]Séries_Site!L338","v":208},{"$f":"+[2]Séries_Site!M338","v":208},{"$f":"+[2]Séries_Site!N338","v":0},{"$f":"+[2]Séries_Site!O338","v":218},{"$f":"+[2]Séries_Site!P338","v":41},{"$f":"+[2]Séries_Site!Q338","v":194},{"$f":"+[2]Séries_Site!R338","v":194},{"$f":"+[2]Séries_Site!S338","v":0},{"$f":"+[2]Séries_Site!T338","v":215},{"$f":"+[2]Séries_Site!U338","v":41},{"$f":"+[2]Séries_Site!V338","v":318},{"$f":"+[2]Séries_Site!W338","v":318},{"$f":"+[2]Séries_Site!X338","v":0},{"$f":"+[2]Séries_Site!Y338","v":576},{"$f":"+[2]Séries_Site!Z338","v":58},{"$f":"+[2]Séries_Site!AA338","v":0},{"$f":"+[2]Séries_Site!AB338","v":0},{"$f":"+[2]Séries_Site!AC338","v":0},{"$f":"+[2]Séries_Site!AD338","v":0},{"$f":"+[2]Séries_Site!AE338","v":0},{"$f":"+[2]Séries_Site!AF338","v":184},{"$f":"+[2]Séries_Site!AG338","v":184},{"$f":"+[2]Séries_Site!AH338","v":0},{"$f":"+[2]Séries_Site!AI338","v":204},{"$f":"+[2]Séries_Site!AJ338","v":41}]
["1987-10-01",{"$f":"+[2]Séries_Site!B339","v":4200},{"$f":"+[2]Séries_Site!C339","v":4200},{"$f":"+[2]Séries_Site!D339","v":0},{"$f":"+[2]Séries_Site!E339","v":5438},{"$f":"+[2]Séries_Site!F339","v":774},{"$f":"+[2]Séries_Site!G339","v":3360},{"$f":"+[2]Séries_Site!H339","v":3360},{"$f":"+[2]Séries_Site!I339","v":0},{"$f":"+[2]Séries_Site!J339","v":4251},{"$f":"+[2]Séries_Site!K339","v":587},{"$f":"+[2]Séries_Site!L339","v":148},{"$f":"+[2]Séries_Site!M339","v":148},{"$f":"+[2]Séries_Site!N339","v":0},{"$f":"+[2]Séries_Site!O339","v":193},{"$f":"+[2]Séries_Site!P339","v":48},{"$f":"+[2]Séries_Site!Q339","v":144},{"$f":"+[2]Séries_Site!R339","v":144},{"$f":"+[2]Séries_Site!S339","v":0},{"$f":"+[2]Séries_Site!T339","v":299},{"$f":"+[2]Séries_Site!U339","v":54},{"$f":"+[2]Séries_Site!V339","v":335},{"$f":"+[2]Séries_Site!W339","v":335},{"$f":"+[2]Séries_Site!X339","v":0},{"$f":"+[2]Séries_Site!Y339","v":471},{"$f":"+[2]Séries_Site!Z339","v":70},{"$f":"+[2]Séries_Site!AA339","v":0},{"$f":"+[2]Séries_Site!AB339","v":0},{"$f":"+[2]Séries_Site!AC339","v":0},{"$f":"+[2]Séries_Site!AD339","v":0},{"$f":"+[2]Séries_Site!AE339","v":0},{"$f":"+[2]Séries_Site!AF339","v":213},{"$f":"+[2]Séries_Site!AG339","v":213},{"$f":"+[2]Séries_Site!AH339","v":0},{"$f":"+[2]Séries_Site!AI339","v":224},{"$f":"+[2]Séries_Site!AJ339","v":15}]
["1987-11-01",{"$f":"+[2]Séries_Site!B340","v":4302},{"$f":"+[2]Séries_Site!C340","v":4302},{"$f":"+[2]Séries_Site!D340","v":0},{"$f":"+[2]Séries_Site!E340","v":5462},{"$f":"+[2]Séries_Site!F340","v":997},{"$f":"+[2]Séries_Site!G340","v":3415},{"$f":"+[2]Séries_Site!H340","v":3415},{"$f":"+[2]Séries_Site!I340","v":0},{"$f":"+[2]Séries_Site!J340","v":4317},{"$f":"+[2]Séries_Site!K340","v":808},{"$f":"+[2]Séries_Site!L340","v":111},{"$f":"+[2]Séries_Site!M340","v":111},{"$f":"+[2]Séries_Site!N340","v":0},{"$f":"+[2]Séries_Site!O340","v":154},{"$f":"+[2]Séries_Site!P340","v":40},{"$f":"+[2]Séries_Site!Q340","v":137},{"$f":"+[2]Séries_Site!R340","v":137},{"$f":"+[2]Séries_Site!S340","v":0},{"$f":"+[2]Séries_Site!T340","v":114},{"$f":"+[2]Séries_Site!U340","v":88},{"$f":"+[2]Séries_Site!V340","v":451},{"$f":"+[2]Séries_Site!W340","v":451},{"$f":"+[2]Séries_Site!X340","v":0},{"$f":"+[2]Séries_Site!Y340","v":643},{"$f":"+[2]Séries_Site!Z340","v":46},{"$f":"+[2]Séries_Site!AA340","v":0},{"$f":"+[2]Séries_Site!AB340","v":0},{"$f":"+[2]Séries_Site!AC340","v":0},{"$f":"+[2]Séries_Site!AD340","v":0},{"$f":"+[2]Séries_Site!AE340","v":0},{"$f":"+[2]Séries_Site!AF340","v":188},{"$f":"+[2]Séries_Site!AG340","v":188},{"$f":"+[2]Séries_Site!AH340","v":0},{"$f":"+[2]Séries_Site!AI340","v":234},{"$f":"+[2]Séries_Site!AJ340","v":15}]
["1987-12-01",{"$f":"+[2]Séries_Site!B341","v":3515},{"$f":"+[2]Séries_Site!C341","v":3515},{"$f":"+[2]Séries_Site!D341","v":0},{"$f":"+[2]Séries_Site!E341","v":4412},{"$f":"+[2]Séries_Site!F341","v":903},{"$f":"+[2]Séries_Site!G341","v":2218},{"$f":"+[2]Séries_Site!H341","v":2218},{"$f":"+[2]Séries_Site!I341","v":0},{"$f":"+[2]Séries_Site!J341","v":3230},{"$f":"+[2]Séries_Site!K341","v":740},{"$f":"+[2]Séries_Site!L341","v":162},{"$f":"+[2]Séries_Site!M341","v":162},{"$f":"+[2]Séries_Site!N341","v":0},{"$f":"+[2]Séries_Site!O341","v":217},{"$f":"+[2]Séries_Site!P341","v":88},{"$f":"+[2]Séries_Site!Q341","v":73},{"$f":"+[2]Séries_Site!R341","v":73},{"$f":"+[2]Séries_Site!S341","v":0},{"$f":"+[2]Séries_Site!T341","v":40},{"$f":"+[2]Séries_Site!U341","v":0},{"$f":"+[2]Séries_Site!V341","v":798},{"$f":"+[2]Séries_Site!W341","v":798},{"$f":"+[2]Séries_Site!X341","v":0},{"$f":"+[2]Séries_Site!Y341","v":669},{"$f":"+[2]Séries_Site!Z341","v":60},{"$f":"+[2]Séries_Site!AA341","v":0},{"$f":"+[2]Séries_Site!AB341","v":0},{"$f":"+[2]Séries_Site!AC341","v":0},{"$f":"+[2]Séries_Site!AD341","v":0},{"$f":"+[2]Séries_Site!AE341","v":0},{"$f":"+[2]Séries_Site!AF341","v":264},{"$f":"+[2]Séries_Site!AG341","v":264},{"$f":"+[2]Séries_Site!AH341","v":0},{"$f":"+[2]Séries_Site!AI341","v":256},{"$f":"+[2]Séries_Site!AJ341","v":15}]
["1988-01-01",{"$f":"+[2]Séries_Site!B342","v":2956},{"$f":"+[2]Séries_Site!C342","v":2956},{"$f":"+[2]Séries_Site!D342","v":0},{"$f":"+[2]Séries_Site!E342","v":3884},{"$f":"+[2]Séries_Site!F342","v":766},{"$f":"+[2]Séries_Site!G342","v":2065},{"$f":"+[2]Séries_Site!H342","v":2065},{"$f":"+[2]Séries_Site!I342","v":0},{"$f":"+[2]Séries_Site!J342","v":2889},{"$f":"+[2]Séries_Site!K342","v":694},{"$f":"+[2]Séries_Site!L342","v":142},{"$f":"+[2]Séries_Site!M342","v":142},{"$f":"+[2]Séries_Site!N342","v":0},{"$f":"+[2]Séries_Site!O342","v":176},{"$f":"+[2]Séries_Site!P342","v":14},{"$f":"+[2]Séries_Site!Q342","v":176},{"$f":"+[2]Séries_Site!R342","v":176},{"$f":"+[2]Séries_Site!S342","v":0},{"$f":"+[2]Séries_Site!T342","v":115},{"$f":"+[2]Séries_Site!U342","v":6},{"$f":"+[2]Séries_Site!V342","v":332},{"$f":"+[2]Séries_Site!W342","v":332},{"$f":"+[2]Séries_Site!X342","v":0},{"$f":"+[2]Séries_Site!Y342","v":440},{"$f":"+[2]Séries_Site!Z342","v":46},{"$f":"+[2]Séries_Site!AA342","v":0},{"$f":"+[2]Séries_Site!AB342","v":0},{"$f":"+[2]Séries_Site!AC342","v":0},{"$f":"+[2]Séries_Site!AD342","v":0},{"$f":"+[2]Séries_Site!AE342","v":0},{"$f":"+[2]Séries_Site!AF342","v":241},{"$f":"+[2]Séries_Site!AG342","v":241},{"$f":"+[2]Séries_Site!AH342","v":0},{"$f":"+[2]Séries_Site!AI342","v":264},{"$f":"+[2]Séries_Site!AJ342","v":6}]
["1988-02-01",{"$f":"+[2]Séries_Site!B343","v":3011},{"$f":"+[2]Séries_Site!C343","v":3011},{"$f":"+[2]Séries_Site!D343","v":0},{"$f":"+[2]Séries_Site!E343","v":4805},{"$f":"+[2]Séries_Site!F343","v":1123},{"$f":"+[2]Séries_Site!G343","v":1991},{"$f":"+[2]Séries_Site!H343","v":1991},{"$f":"+[2]Séries_Site!I343","v":0},{"$f":"+[2]Séries_Site!J343","v":3464},{"$f":"+[2]Séries_Site!K343","v":818},{"$f":"+[2]Séries_Site!L343","v":127},{"$f":"+[2]Séries_Site!M343","v":127},{"$f":"+[2]Séries_Site!N343","v":0},{"$f":"+[2]Séries_Site!O343","v":206},{"$f":"+[2]Séries_Site!P343","v":53},{"$f":"+[2]Séries_Site!Q343","v":148},{"$f":"+[2]Séries_Site!R343","v":148},{"$f":"+[2]Séries_Site!S343","v":0},{"$f":"+[2]Séries_Site!T343","v":178},{"$f":"+[2]Séries_Site!U343","v":150},{"$f":"+[2]Séries_Site!V343","v":535},{"$f":"+[2]Séries_Site!W343","v":535},{"$f":"+[2]Séries_Site!X343","v":0},{"$f":"+[2]Séries_Site!Y343","v":678},{"$f":"+[2]Séries_Site!Z343","v":59},{"$f":"+[2]Séries_Site!AA343","v":0},{"$f":"+[2]Séries_Site!AB343","v":0},{"$f":"+[2]Séries_Site!AC343","v":0},{"$f":"+[2]Séries_Site!AD343","v":0},{"$f":"+[2]Séries_Site!AE343","v":0},{"$f":"+[2]Séries_Site!AF343","v":210},{"$f":"+[2]Séries_Site!AG343","v":210},{"$f":"+[2]Séries_Site!AH343","v":0},{"$f":"+[2]Séries_Site!AI343","v":279},{"$f":"+[2]Séries_Site!AJ343","v":43}]
["1988-03-01",{"$f":"+[2]Séries_Site!B344","v":3662},{"$f":"+[2]Séries_Site!C344","v":3662},{"$f":"+[2]Séries_Site!D344","v":0},{"$f":"+[2]Séries_Site!E344","v":4906},{"$f":"+[2]Séries_Site!F344","v":1360},{"$f":"+[2]Séries_Site!G344","v":2619},{"$f":"+[2]Séries_Site!H344","v":2619},{"$f":"+[2]Séries_Site!I344","v":0},{"$f":"+[2]Séries_Site!J344","v":3442},{"$f":"+[2]Séries_Site!K344","v":1050},{"$f":"+[2]Séries_Site!L344","v":125},{"$f":"+[2]Séries_Site!M344","v":125},{"$f":"+[2]Séries_Site!N344","v":0},{"$f":"+[2]Séries_Site!O344","v":220},{"$f":"+[2]Séries_Site!P344","v":76},{"$f":"+[2]Séries_Site!Q344","v":194},{"$f":"+[2]Séries_Site!R344","v":194},{"$f":"+[2]Séries_Site!S344","v":0},{"$f":"+[2]Séries_Site!T344","v":310},{"$f":"+[2]Séries_Site!U344","v":83},{"$f":"+[2]Séries_Site!V344","v":537},{"$f":"+[2]Séries_Site!W344","v":537},{"$f":"+[2]Séries_Site!X344","v":0},{"$f":"+[2]Séries_Site!Y344","v":726},{"$f":"+[2]Séries_Site!Z344","v":122},{"$f":"+[2]Séries_Site!AA344","v":0},{"$f":"+[2]Séries_Site!AB344","v":0},{"$f":"+[2]Séries_Site!AC344","v":0},{"$f":"+[2]Séries_Site!AD344","v":0},{"$f":"+[2]Séries_Site!AE344","v":0},{"$f":"+[2]Séries_Site!AF344","v":187},{"$f":"+[2]Séries_Site!AG344","v":187},{"$f":"+[2]Séries_Site!AH344","v":0},{"$f":"+[2]Séries_Site!AI344","v":208},{"$f":"+[2]Séries_Site!AJ344","v":29}]
["1988-04-01",{"$f":"+[2]Séries_Site!B345","v":3545},{"$f":"+[2]Séries_Site!C345","v":3545},{"$f":"+[2]Séries_Site!D345","v":0},{"$f":"+[2]Séries_Site!E345","v":4345},{"$f":"+[2]Séries_Site!F345","v":1167},{"$f":"+[2]Séries_Site!G345","v":2669},{"$f":"+[2]Séries_Site!H345","v":2669},{"$f":"+[2]Séries_Site!I345","v":0},{"$f":"+[2]Séries_Site!J345","v":3271},{"$f":"+[2]Séries_Site!K345","v":938},{"$f":"+[2]Séries_Site!L345","v":97},{"$f":"+[2]Séries_Site!M345","v":97},{"$f":"+[2]Séries_Site!N345","v":0},{"$f":"+[2]Séries_Site!O345","v":230},{"$f":"+[2]Séries_Site!P345","v":81},{"$f":"+[2]Séries_Site!Q345","v":179},{"$f":"+[2]Séries_Site!R345","v":179},{"$f":"+[2]Séries_Site!S345","v":0},{"$f":"+[2]Séries_Site!T345","v":229},{"$f":"+[2]Séries_Site!U345","v":5},{"$f":"+[2]Séries_Site!V345","v":464},{"$f":"+[2]Séries_Site!W345","v":464},{"$f":"+[2]Séries_Site!X345","v":0},{"$f":"+[2]Séries_Site!Y345","v":387},{"$f":"+[2]Séries_Site!Z345","v":105},{"$f":"+[2]Séries_Site!AA345","v":0},{"$f":"+[2]Séries_Site!AB345","v":0},{"$f":"+[2]Séries_Site!AC345","v":0},{"$f":"+[2]Séries_Site!AD345","v":0},{"$f":"+[2]Séries_Site!AE345","v":0},{"$f":"+[2]Séries_Site!AF345","v":136},{"$f":"+[2]Séries_Site!AG345","v":136},{"$f":"+[2]Séries_Site!AH345","v":0},{"$f":"+[2]Séries_Site!AI345","v":228},{"$f":"+[2]Séries_Site!AJ345","v":38}]
["1988-05-01",{"$f":"+[2]Séries_Site!B346","v":3329},{"$f":"+[2]Séries_Site!C346","v":3329},{"$f":"+[2]Séries_Site!D346","v":0},{"$f":"+[2]Séries_Site!E346","v":4467},{"$f":"+[2]Séries_Site!F346","v":1128},{"$f":"+[2]Séries_Site!G346","v":2653},{"$f":"+[2]Séries_Site!H346","v":2653},{"$f":"+[2]Séries_Site!I346","v":0},{"$f":"+[2]Séries_Site!J346","v":3558},{"$f":"+[2]Séries_Site!K346","v":923},{"$f":"+[2]Séries_Site!L346","v":82},{"$f":"+[2]Séries_Site!M346","v":82},{"$f":"+[2]Séries_Site!N346","v":0},{"$f":"+[2]Séries_Site!O346","v":218},{"$f":"+[2]Séries_Site!P346","v":84},{"$f":"+[2]Séries_Site!Q346","v":220},{"$f":"+[2]Séries_Site!R346","v":220},{"$f":"+[2]Séries_Site!S346","v":0},{"$f":"+[2]Séries_Site!T346","v":166},{"$f":"+[2]Séries_Site!U346","v":36},{"$f":"+[2]Séries_Site!V346","v":323},{"$f":"+[2]Séries_Site!W346","v":323},{"$f":"+[2]Séries_Site!X346","v":0},{"$f":"+[2]Séries_Site!Y346","v":297},{"$f":"+[2]Séries_Site!Z346","v":53},{"$f":"+[2]Séries_Site!AA346","v":0},{"$f":"+[2]Séries_Site!AB346","v":0},{"$f":"+[2]Séries_Site!AC346","v":0},{"$f":"+[2]Séries_Site!AD346","v":0},{"$f":"+[2]Séries_Site!AE346","v":0},{"$f":"+[2]Séries_Site!AF346","v":51},{"$f":"+[2]Séries_Site!AG346","v":51},{"$f":"+[2]Séries_Site!AH346","v":0},{"$f":"+[2]Séries_Site!AI346","v":228},{"$f":"+[2]Séries_Site!AJ346","v":32}]
["1988-06-01",{"$f":"+[2]Séries_Site!B347","v":4315},{"$f":"+[2]Séries_Site!C347","v":4315},{"$f":"+[2]Séries_Site!D347","v":0},{"$f":"+[2]Séries_Site!E347","v":4522},{"$f":"+[2]Séries_Site!F347","v":594},{"$f":"+[2]Séries_Site!G347","v":3514},{"$f":"+[2]Séries_Site!H347","v":3514},{"$f":"+[2]Séries_Site!I347","v":0},{"$f":"+[2]Séries_Site!J347","v":3701},{"$f":"+[2]Séries_Site!K347","v":443},{"$f":"+[2]Séries_Site!L347","v":118},{"$f":"+[2]Séries_Site!M347","v":118},{"$f":"+[2]Séries_Site!N347","v":0},{"$f":"+[2]Séries_Site!O347","v":212},{"$f":"+[2]Séries_Site!P347","v":49},{"$f":"+[2]Séries_Site!Q347","v":201},{"$f":"+[2]Séries_Site!R347","v":201},{"$f":"+[2]Séries_Site!S347","v":0},{"$f":"+[2]Séries_Site!T347","v":212},{"$f":"+[2]Séries_Site!U347","v":16},{"$f":"+[2]Séries_Site!V347","v":349},{"$f":"+[2]Séries_Site!W347","v":349},{"$f":"+[2]Séries_Site!X347","v":0},{"$f":"+[2]Séries_Site!Y347","v":321},{"$f":"+[2]Séries_Site!Z347","v":16},{"$f":"+[2]Séries_Site!AA347","v":0},{"$f":"+[2]Séries_Site!AB347","v":0},{"$f":"+[2]Séries_Site!AC347","v":0},{"$f":"+[2]Séries_Site!AD347","v":0},{"$f":"+[2]Séries_Site!AE347","v":0},{"$f":"+[2]Séries_Site!AF347","v":133},{"$f":"+[2]Séries_Site!AG347","v":133},{"$f":"+[2]Séries_Site!AH347","v":0},{"$f":"+[2]Séries_Site!AI347","v":76},{"$f":"+[2]Séries_Site!AJ347","v":70}]
["1988-07-01",{"$f":"+[2]Séries_Site!B348","v":3067},{"$f":"+[2]Séries_Site!C348","v":3067},{"$f":"+[2]Séries_Site!D348","v":0},{"$f":"+[2]Séries_Site!E348","v":4581},{"$f":"+[2]Séries_Site!F348","v":743},{"$f":"+[2]Séries_Site!G348","v":2549},{"$f":"+[2]Séries_Site!H348","v":2549},{"$f":"+[2]Séries_Site!I348","v":0},{"$f":"+[2]Séries_Site!J348","v":3743},{"$f":"+[2]Séries_Site!K348","v":634},{"$f":"+[2]Séries_Site!L348","v":109},{"$f":"+[2]Séries_Site!M348","v":109},{"$f":"+[2]Séries_Site!N348","v":0},{"$f":"+[2]Séries_Site!O348","v":244},{"$f":"+[2]Séries_Site!P348","v":72},{"$f":"+[2]Séries_Site!Q348","v":124},{"$f":"+[2]Séries_Site!R348","v":124},{"$f":"+[2]Séries_Site!S348","v":0},{"$f":"+[2]Séries_Site!T348","v":252},{"$f":"+[2]Séries_Site!U348","v":7},{"$f":"+[2]Séries_Site!V348","v":238},{"$f":"+[2]Séries_Site!W348","v":238},{"$f":"+[2]Séries_Site!X348","v":0},{"$f":"+[2]Séries_Site!Y348","v":251},{"$f":"+[2]Séries_Site!Z348","v":16},{"$f":"+[2]Séries_Site!AA348","v":0},{"$f":"+[2]Séries_Site!AB348","v":0},{"$f":"+[2]Séries_Site!AC348","v":0},{"$f":"+[2]Séries_Site!AD348","v":0},{"$f":"+[2]Séries_Site!AE348","v":0},{"$f":"+[2]Séries_Site!AF348","v":47},{"$f":"+[2]Séries_Site!AG348","v":47},{"$f":"+[2]Séries_Site!AH348","v":0},{"$f":"+[2]Séries_Site!AI348","v":91},{"$f":"+[2]Séries_Site!AJ348","v":14}]
["1988-08-01",{"$f":"+[2]Séries_Site!B349","v":3852},{"$f":"+[2]Séries_Site!C349","v":3852},{"$f":"+[2]Séries_Site!D349","v":0},{"$f":"+[2]Séries_Site!E349","v":4672},{"$f":"+[2]Séries_Site!F349","v":827},{"$f":"+[2]Séries_Site!G349","v":3161},{"$f":"+[2]Séries_Site!H349","v":3161},{"$f":"+[2]Séries_Site!I349","v":0},{"$f":"+[2]Séries_Site!J349","v":3787},{"$f":"+[2]Séries_Site!K349","v":554},{"$f":"+[2]Séries_Site!L349","v":125},{"$f":"+[2]Séries_Site!M349","v":125},{"$f":"+[2]Séries_Site!N349","v":0},{"$f":"+[2]Séries_Site!O349","v":266},{"$f":"+[2]Séries_Site!P349","v":79},{"$f":"+[2]Séries_Site!Q349","v":159},{"$f":"+[2]Séries_Site!R349","v":159},{"$f":"+[2]Séries_Site!S349","v":0},{"$f":"+[2]Séries_Site!T349","v":159},{"$f":"+[2]Séries_Site!U349","v":26},{"$f":"+[2]Séries_Site!V349","v":342},{"$f":"+[2]Séries_Site!W349","v":342},{"$f":"+[2]Séries_Site!X349","v":0},{"$f":"+[2]Séries_Site!Y349","v":430},{"$f":"+[2]Séries_Site!Z349","v":110},{"$f":"+[2]Séries_Site!AA349","v":0},{"$f":"+[2]Séries_Site!AB349","v":0},{"$f":"+[2]Séries_Site!AC349","v":0},{"$f":"+[2]Séries_Site!AD349","v":0},{"$f":"+[2]Séries_Site!AE349","v":0},{"$f":"+[2]Séries_Site!AF349","v":65},{"$f":"+[2]Séries_Site!AG349","v":65},{"$f":"+[2]Séries_Site!AH349","v":0},{"$f":"+[2]Séries_Site!AI349","v":30},{"$f":"+[2]Séries_Site!AJ349","v":58}]
["1988-09-01",{"$f":"+[2]Séries_Site!B350","v":3637},{"$f":"+[2]Séries_Site!C350","v":3637},{"$f":"+[2]Séries_Site!D350","v":0},{"$f":"+[2]Séries_Site!E350","v":4618},{"$f":"+[2]Séries_Site!F350","v":809},{"$f":"+[2]Séries_Site!G350","v":2790},{"$f":"+[2]Séries_Site!H350","v":2790},{"$f":"+[2]Séries_Site!I350","v":0},{"$f":"+[2]Séries_Site!J350","v":3446},{"$f":"+[2]Séries_Site!K350","v":623},{"$f":"+[2]Séries_Site!L350","v":122},{"$f":"+[2]Séries_Site!M350","v":122},{"$f":"+[2]Séries_Site!N350","v":0},{"$f":"+[2]Séries_Site!O350","v":268},{"$f":"+[2]Séries_Site!P350","v":97},{"$f":"+[2]Séries_Site!Q350","v":120},{"$f":"+[2]Séries_Site!R350","v":120},{"$f":"+[2]Séries_Site!S350","v":0},{"$f":"+[2]Séries_Site!T350","v":177},{"$f":"+[2]Séries_Site!U350","v":12},{"$f":"+[2]Séries_Site!V350","v":462},{"$f":"+[2]Séries_Site!W350","v":462},{"$f":"+[2]Séries_Site!X350","v":0},{"$f":"+[2]Séries_Site!Y350","v":539},{"$f":"+[2]Séries_Site!Z350","v":37},{"$f":"+[2]Séries_Site!AA350","v":0},{"$f":"+[2]Séries_Site!AB350","v":0},{"$f":"+[2]Séries_Site!AC350","v":0},{"$f":"+[2]Séries_Site!AD350","v":0},{"$f":"+[2]Séries_Site!AE350","v":0},{"$f":"+[2]Séries_Site!AF350","v":143},{"$f":"+[2]Séries_Site!AG350","v":143},{"$f":"+[2]Séries_Site!AH350","v":0},{"$f":"+[2]Séries_Site!AI350","v":188},{"$f":"+[2]Séries_Site!AJ350","v":40}]
["1988-10-01",{"$f":"+[2]Séries_Site!B351","v":3201},{"$f":"+[2]Séries_Site!C351","v":3201},{"$f":"+[2]Séries_Site!D351","v":0},{"$f":"+[2]Séries_Site!E351","v":4448},{"$f":"+[2]Séries_Site!F351","v":877},{"$f":"+[2]Séries_Site!G351","v":2451},{"$f":"+[2]Séries_Site!H351","v":2451},{"$f":"+[2]Séries_Site!I351","v":0},{"$f":"+[2]Séries_Site!J351","v":3415},{"$f":"+[2]Séries_Site!K351","v":709},{"$f":"+[2]Séries_Site!L351","v":83},{"$f":"+[2]Séries_Site!M351","v":83},{"$f":"+[2]Séries_Site!N351","v":0},{"$f":"+[2]Séries_Site!O351","v":171},{"$f":"+[2]Séries_Site!P351","v":49},{"$f":"+[2]Séries_Site!Q351","v":112},{"$f":"+[2]Séries_Site!R351","v":112},{"$f":"+[2]Séries_Site!S351","v":0},{"$f":"+[2]Séries_Site!T351","v":117},{"$f":"+[2]Séries_Site!U351","v":5},{"$f":"+[2]Séries_Site!V351","v":413},{"$f":"+[2]Séries_Site!W351","v":413},{"$f":"+[2]Séries_Site!X351","v":0},{"$f":"+[2]Séries_Site!Y351","v":578},{"$f":"+[2]Séries_Site!Z351","v":100},{"$f":"+[2]Séries_Site!AA351","v":0},{"$f":"+[2]Séries_Site!AB351","v":0},{"$f":"+[2]Séries_Site!AC351","v":0},{"$f":"+[2]Séries_Site!AD351","v":0},{"$f":"+[2]Séries_Site!AE351","v":0},{"$f":"+[2]Séries_Site!AF351","v":142},{"$f":"+[2]Séries_Site!AG351","v":142},{"$f":"+[2]Séries_Site!AH351","v":0},{"$f":"+[2]Séries_Site!AI351","v":167},{"$f":"+[2]Séries_Site!AJ351","v":14}]
["1988-11-01",{"$f":"+[2]Séries_Site!B352","v":2678},{"$f":"+[2]Séries_Site!C352","v":2678},{"$f":"+[2]Séries_Site!D352","v":0},{"$f":"+[2]Séries_Site!E352","v":3906},{"$f":"+[2]Séries_Site!F352","v":1106},{"$f":"+[2]Séries_Site!G352","v":1873},{"$f":"+[2]Séries_Site!H352","v":1873},{"$f":"+[2]Séries_Site!I352","v":0},{"$f":"+[2]Séries_Site!J352","v":2970},{"$f":"+[2]Séries_Site!K352","v":889},{"$f":"+[2]Séries_Site!L352","v":92},{"$f":"+[2]Séries_Site!M352","v":92},{"$f":"+[2]Séries_Site!N352","v":0},{"$f":"+[2]Séries_Site!O352","v":200},{"$f":"+[2]Séries_Site!P352","v":110},{"$f":"+[2]Séries_Site!Q352","v":132},{"$f":"+[2]Séries_Site!R352","v":132},{"$f":"+[2]Séries_Site!S352","v":0},{"$f":"+[2]Séries_Site!T352","v":71},{"$f":"+[2]Séries_Site!U352","v":5},{"$f":"+[2]Séries_Site!V352","v":436},{"$f":"+[2]Séries_Site!W352","v":436},{"$f":"+[2]Séries_Site!X352","v":0},{"$f":"+[2]Séries_Site!Y352","v":508},{"$f":"+[2]Séries_Site!Z352","v":88},{"$f":"+[2]Séries_Site!AA352","v":0},{"$f":"+[2]Séries_Site!AB352","v":0},{"$f":"+[2]Séries_Site!AC352","v":0},{"$f":"+[2]Séries_Site!AD352","v":0},{"$f":"+[2]Séries_Site!AE352","v":0},{"$f":"+[2]Séries_Site!AF352","v":145},{"$f":"+[2]Séries_Site!AG352","v":145},{"$f":"+[2]Séries_Site!AH352","v":0},{"$f":"+[2]Séries_Site!AI352","v":157},{"$f":"+[2]Séries_Site!AJ352","v":14}]
["1988-12-01",{"$f":"+[2]Séries_Site!B353","v":2231},{"$f":"+[2]Séries_Site!C353","v":2231},{"$f":"+[2]Séries_Site!D353","v":0},{"$f":"+[2]Séries_Site!E353","v":2322},{"$f":"+[2]Séries_Site!F353","v":1013},{"$f":"+[2]Séries_Site!G353","v":1586},{"$f":"+[2]Séries_Site!H353","v":1586},{"$f":"+[2]Séries_Site!I353","v":0},{"$f":"+[2]Séries_Site!J353","v":1461},{"$f":"+[2]Séries_Site!K353","v":898},{"$f":"+[2]Séries_Site!L353","v":138},{"$f":"+[2]Séries_Site!M353","v":138},{"$f":"+[2]Séries_Site!N353","v":0},{"$f":"+[2]Séries_Site!O353","v":185},{"$f":"+[2]Séries_Site!P353","v":79},{"$f":"+[2]Séries_Site!Q353","v":89},{"$f":"+[2]Séries_Site!R353","v":89},{"$f":"+[2]Séries_Site!S353","v":0},{"$f":"+[2]Séries_Site!T353","v":40},{"$f":"+[2]Séries_Site!U353","v":6},{"$f":"+[2]Séries_Site!V353","v":322},{"$f":"+[2]Séries_Site!W353","v":322},{"$f":"+[2]Séries_Site!X353","v":0},{"$f":"+[2]Séries_Site!Y353","v":496},{"$f":"+[2]Séries_Site!Z353","v":24},{"$f":"+[2]Séries_Site!AA353","v":0},{"$f":"+[2]Séries_Site!AB353","v":0},{"$f":"+[2]Séries_Site!AC353","v":0},{"$f":"+[2]Séries_Site!AD353","v":0},{"$f":"+[2]Séries_Site!AE353","v":0},{"$f":"+[2]Séries_Site!AF353","v":96},{"$f":"+[2]Séries_Site!AG353","v":96},{"$f":"+[2]Séries_Site!AH353","v":0},{"$f":"+[2]Séries_Site!AI353","v":140},{"$f":"+[2]Séries_Site!AJ353","v":6}]
["1989-01-01",{"$f":"+[2]Séries_Site!B354","v":1526},{"$f":"+[2]Séries_Site!C354","v":1526},{"$f":"+[2]Séries_Site!D354","v":0},{"$f":"+[2]Séries_Site!E354","v":2567},{"$f":"+[2]Séries_Site!F354","v":620},{"$f":"+[2]Séries_Site!G354","v":697},{"$f":"+[2]Séries_Site!H354","v":697},{"$f":"+[2]Séries_Site!I354","v":0},{"$f":"+[2]Séries_Site!J354","v":1598},{"$f":"+[2]Séries_Site!K354","v":382},{"$f":"+[2]Séries_Site!L354","v":57},{"$f":"+[2]Séries_Site!M354","v":57},{"$f":"+[2]Séries_Site!N354","v":0},{"$f":"+[2]Séries_Site!O354","v":170},{"$f":"+[2]Séries_Site!P354","v":77},{"$f":"+[2]Séries_Site!Q354","v":144},{"$f":"+[2]Séries_Site!R354","v":144},{"$f":"+[2]Séries_Site!S354","v":0},{"$f":"+[2]Séries_Site!T354","v":127},{"$f":"+[2]Séries_Site!U354","v":7},{"$f":"+[2]Séries_Site!V354","v":600},{"$f":"+[2]Séries_Site!W354","v":600},{"$f":"+[2]Séries_Site!X354","v":0},{"$f":"+[2]Séries_Site!Y354","v":570},{"$f":"+[2]Séries_Site!Z354","v":139},{"$f":"+[2]Séries_Site!AA354","v":0},{"$f":"+[2]Séries_Site!AB354","v":0},{"$f":"+[2]Séries_Site!AC354","v":0},{"$f":"+[2]Séries_Site!AD354","v":0},{"$f":"+[2]Séries_Site!AE354","v":0},{"$f":"+[2]Séries_Site!AF354","v":28},{"$f":"+[2]Séries_Site!AG354","v":28},{"$f":"+[2]Séries_Site!AH354","v":0},{"$f":"+[2]Séries_Site!AI354","v":102},{"$f":"+[2]Séries_Site!AJ354","v":15}]
["1989-02-01",{"$f":"+[2]Séries_Site!B355","v":1957},{"$f":"+[2]Séries_Site!C355","v":1957},{"$f":"+[2]Séries_Site!D355","v":0},{"$f":"+[2]Séries_Site!E355","v":2295},{"$f":"+[2]Séries_Site!F355","v":784},{"$f":"+[2]Séries_Site!G355","v":1322},{"$f":"+[2]Séries_Site!H355","v":1322},{"$f":"+[2]Séries_Site!I355","v":0},{"$f":"+[2]Séries_Site!J355","v":1248},{"$f":"+[2]Séries_Site!K355","v":471},{"$f":"+[2]Séries_Site!L355","v":41},{"$f":"+[2]Séries_Site!M355","v":41},{"$f":"+[2]Séries_Site!N355","v":0},{"$f":"+[2]Séries_Site!O355","v":157},{"$f":"+[2]Séries_Site!P355","v":54},{"$f":"+[2]Séries_Site!Q355","v":98},{"$f":"+[2]Séries_Site!R355","v":98},{"$f":"+[2]Séries_Site!S355","v":0},{"$f":"+[2]Séries_Site!T355","v":209},{"$f":"+[2]Séries_Site!U355","v":54},{"$f":"+[2]Séries_Site!V355","v":432},{"$f":"+[2]Séries_Site!W355","v":432},{"$f":"+[2]Séries_Site!X355","v":0},{"$f":"+[2]Séries_Site!Y355","v":620},{"$f":"+[2]Séries_Site!Z355","v":185},{"$f":"+[2]Séries_Site!AA355","v":0},{"$f":"+[2]Séries_Site!AB355","v":0},{"$f":"+[2]Séries_Site!AC355","v":0},{"$f":"+[2]Séries_Site!AD355","v":0},{"$f":"+[2]Séries_Site!AE355","v":0},{"$f":"+[2]Séries_Site!AF355","v":64},{"$f":"+[2]Séries_Site!AG355","v":64},{"$f":"+[2]Séries_Site!AH355","v":0},{"$f":"+[2]Séries_Site!AI355","v":61},{"$f":"+[2]Séries_Site!AJ355","v":20}]
["1989-03-01",{"$f":"+[2]Séries_Site!B356","v":3337},{"$f":"+[2]Séries_Site!C356","v":3337},{"$f":"+[2]Séries_Site!D356","v":0},{"$f":"+[2]Séries_Site!E356","v":2642},{"$f":"+[2]Séries_Site!F356","v":569},{"$f":"+[2]Séries_Site!G356","v":2179},{"$f":"+[2]Séries_Site!H356","v":2179},{"$f":"+[2]Séries_Site!I356","v":0},{"$f":"+[2]Séries_Site!J356","v":1556},{"$f":"+[2]Séries_Site!K356","v":282},{"$f":"+[2]Séries_Site!L356","v":135},{"$f":"+[2]Séries_Site!M356","v":135},{"$f":"+[2]Séries_Site!N356","v":0},{"$f":"+[2]Séries_Site!O356","v":173},{"$f":"+[2]Séries_Site!P356","v":88},{"$f":"+[2]Séries_Site!Q356","v":213},{"$f":"+[2]Séries_Site!R356","v":213},{"$f":"+[2]Séries_Site!S356","v":0},{"$f":"+[2]Séries_Site!T356","v":246},{"$f":"+[2]Séries_Site!U356","v":50},{"$f":"+[2]Séries_Site!V356","v":758},{"$f":"+[2]Séries_Site!W356","v":758},{"$f":"+[2]Séries_Site!X356","v":0},{"$f":"+[2]Séries_Site!Y356","v":627},{"$f":"+[2]Séries_Site!Z356","v":137},{"$f":"+[2]Séries_Site!AA356","v":0},{"$f":"+[2]Séries_Site!AB356","v":0},{"$f":"+[2]Séries_Site!AC356","v":0},{"$f":"+[2]Séries_Site!AD356","v":0},{"$f":"+[2]Séries_Site!AE356","v":0},{"$f":"+[2]Séries_Site!AF356","v":52},{"$f":"+[2]Séries_Site!AG356","v":52},{"$f":"+[2]Séries_Site!AH356","v":0},{"$f":"+[2]Séries_Site!AI356","v":40},{"$f":"+[2]Séries_Site!AJ356","v":12}]
["1989-04-01",{"$f":"+[2]Séries_Site!B357","v":2724},{"$f":"+[2]Séries_Site!C357","v":2724},{"$f":"+[2]Séries_Site!D357","v":0},{"$f":"+[2]Séries_Site!E357","v":2577},{"$f":"+[2]Séries_Site!F357","v":170},{"$f":"+[2]Séries_Site!G357","v":1769},{"$f":"+[2]Séries_Site!H357","v":1769},{"$f":"+[2]Séries_Site!I357","v":0},{"$f":"+[2]Séries_Site!J357","v":1704},{"$f":"+[2]Séries_Site!K357","v":55},{"$f":"+[2]Séries_Site!L357","v":167},{"$f":"+[2]Séries_Site!M357","v":167},{"$f":"+[2]Séries_Site!N357","v":0},{"$f":"+[2]Séries_Site!O357","v":162},{"$f":"+[2]Séries_Site!P357","v":52},{"$f":"+[2]Séries_Site!Q357","v":314},{"$f":"+[2]Séries_Site!R357","v":314},{"$f":"+[2]Séries_Site!S357","v":0},{"$f":"+[2]Séries_Site!T357","v":248},{"$f":"+[2]Séries_Site!U357","v":1},{"$f":"+[2]Séries_Site!V357","v":417},{"$f":"+[2]Séries_Site!W357","v":417},{"$f":"+[2]Séries_Site!X357","v":0},{"$f":"+[2]Séries_Site!Y357","v":402},{"$f":"+[2]Séries_Site!Z357","v":55},{"$f":"+[2]Séries_Site!AA357","v":0},{"$f":"+[2]Séries_Site!AB357","v":0},{"$f":"+[2]Séries_Site!AC357","v":0},{"$f":"+[2]Séries_Site!AD357","v":0},{"$f":"+[2]Séries_Site!AE357","v":0},{"$f":"+[2]Séries_Site!AF357","v":57},{"$f":"+[2]Séries_Site!AG357","v":57},{"$f":"+[2]Séries_Site!AH357","v":0},{"$f":"+[2]Séries_Site!AI357","v":61},{"$f":"+[2]Séries_Site!AJ357","v":7}]
["1989-05-01",{"$f":"+[2]Séries_Site!B358","v":3815},{"$f":"+[2]Séries_Site!C358","v":3815},{"$f":"+[2]Séries_Site!D358","v":0},{"$f":"+[2]Séries_Site!E358","v":4079},{"$f":"+[2]Séries_Site!F358","v":800},{"$f":"+[2]Séries_Site!G358","v":2888},{"$f":"+[2]Séries_Site!H358","v":2888},{"$f":"+[2]Séries_Site!I358","v":0},{"$f":"+[2]Séries_Site!J358","v":2961},{"$f":"+[2]Séries_Site!K358","v":443},{"$f":"+[2]Séries_Site!L358","v":252},{"$f":"+[2]Séries_Site!M358","v":252},{"$f":"+[2]Séries_Site!N358","v":0},{"$f":"+[2]Séries_Site!O358","v":172},{"$f":"+[2]Séries_Site!P358","v":98},{"$f":"+[2]Séries_Site!Q358","v":265},{"$f":"+[2]Séries_Site!R358","v":265},{"$f":"+[2]Séries_Site!S358","v":0},{"$f":"+[2]Séries_Site!T358","v":270},{"$f":"+[2]Séries_Site!U358","v":26},{"$f":"+[2]Séries_Site!V358","v":292},{"$f":"+[2]Séries_Site!W358","v":292},{"$f":"+[2]Séries_Site!X358","v":0},{"$f":"+[2]Séries_Site!Y358","v":490},{"$f":"+[2]Séries_Site!Z358","v":194},{"$f":"+[2]Séries_Site!AA358","v":0},{"$f":"+[2]Séries_Site!AB358","v":0},{"$f":"+[2]Séries_Site!AC358","v":0},{"$f":"+[2]Séries_Site!AD358","v":0},{"$f":"+[2]Séries_Site!AE358","v":0},{"$f":"+[2]Séries_Site!AF358","v":118},{"$f":"+[2]Séries_Site!AG358","v":118},{"$f":"+[2]Séries_Site!AH358","v":0},{"$f":"+[2]Séries_Site!AI358","v":186},{"$f":"+[2]Séries_Site!AJ358","v":39}]
["1989-06-01",{"$f":"+[2]Séries_Site!B359","v":4860},{"$f":"+[2]Séries_Site!C359","v":4860},{"$f":"+[2]Séries_Site!D359","v":0},{"$f":"+[2]Séries_Site!E359","v":5533},{"$f":"+[2]Séries_Site!F359","v":834},{"$f":"+[2]Séries_Site!G359","v":3881},{"$f":"+[2]Séries_Site!H359","v":3881},{"$f":"+[2]Séries_Site!I359","v":0},{"$f":"+[2]Séries_Site!J359","v":4388},{"$f":"+[2]Séries_Site!K359","v":518},{"$f":"+[2]Séries_Site!L359","v":192},{"$f":"+[2]Séries_Site!M359","v":192},{"$f":"+[2]Séries_Site!N359","v":0},{"$f":"+[2]Séries_Site!O359","v":169},{"$f":"+[2]Séries_Site!P359","v":62},{"$f":"+[2]Séries_Site!Q359","v":286},{"$f":"+[2]Séries_Site!R359","v":286},{"$f":"+[2]Séries_Site!S359","v":0},{"$f":"+[2]Séries_Site!T359","v":286},{"$f":"+[2]Séries_Site!U359","v":1},{"$f":"+[2]Séries_Site!V359","v":252},{"$f":"+[2]Séries_Site!W359","v":252},{"$f":"+[2]Séries_Site!X359","v":0},{"$f":"+[2]Séries_Site!Y359","v":445},{"$f":"+[2]Séries_Site!Z359","v":222},{"$f":"+[2]Séries_Site!AA359","v":0},{"$f":"+[2]Séries_Site!AB359","v":0},{"$f":"+[2]Séries_Site!AC359","v":0},{"$f":"+[2]Séries_Site!AD359","v":0},{"$f":"+[2]Séries_Site!AE359","v":0},{"$f":"+[2]Séries_Site!AF359","v":249},{"$f":"+[2]Séries_Site!AG359","v":249},{"$f":"+[2]Séries_Site!AH359","v":0},{"$f":"+[2]Séries_Site!AI359","v":245},{"$f":"+[2]Séries_Site!AJ359","v":31}]
["1989-07-01",{"$f":"+[2]Séries_Site!B360","v":4525},{"$f":"+[2]Séries_Site!C360","v":4525},{"$f":"+[2]Séries_Site!D360","v":0},{"$f":"+[2]Séries_Site!E360","v":5621},{"$f":"+[2]Séries_Site!F360","v":983},{"$f":"+[2]Séries_Site!G360","v":3677},{"$f":"+[2]Séries_Site!H360","v":3677},{"$f":"+[2]Séries_Site!I360","v":0},{"$f":"+[2]Séries_Site!J360","v":4609},{"$f":"+[2]Séries_Site!K360","v":856},{"$f":"+[2]Séries_Site!L360","v":151},{"$f":"+[2]Séries_Site!M360","v":151},{"$f":"+[2]Séries_Site!N360","v":0},{"$f":"+[2]Séries_Site!O360","v":168},{"$f":"+[2]Séries_Site!P360","v":43},{"$f":"+[2]Séries_Site!Q360","v":240},{"$f":"+[2]Séries_Site!R360","v":240},{"$f":"+[2]Séries_Site!S360","v":0},{"$f":"+[2]Séries_Site!T360","v":276},{"$f":"+[2]Séries_Site!U360","v":36},{"$f":"+[2]Séries_Site!V360","v":253},{"$f":"+[2]Séries_Site!W360","v":253},{"$f":"+[2]Séries_Site!X360","v":0},{"$f":"+[2]Séries_Site!Y360","v":340},{"$f":"+[2]Séries_Site!Z360","v":16},{"$f":"+[2]Séries_Site!AA360","v":0},{"$f":"+[2]Séries_Site!AB360","v":0},{"$f":"+[2]Séries_Site!AC360","v":0},{"$f":"+[2]Séries_Site!AD360","v":0},{"$f":"+[2]Séries_Site!AE360","v":0},{"$f":"+[2]Séries_Site!AF360","v":204},{"$f":"+[2]Séries_Site!AG360","v":204},{"$f":"+[2]Séries_Site!AH360","v":0},{"$f":"+[2]Séries_Site!AI360","v":228},{"$f":"+[2]Séries_Site!AJ360","v":32}]
["1989-08-01",{"$f":"+[2]Séries_Site!B361","v":3776},{"$f":"+[2]Séries_Site!C361","v":3776},{"$f":"+[2]Séries_Site!D361","v":0},{"$f":"+[2]Séries_Site!E361","v":5161},{"$f":"+[2]Séries_Site!F361","v":965},{"$f":"+[2]Séries_Site!G361","v":2996},{"$f":"+[2]Séries_Site!H361","v":2996},{"$f":"+[2]Séries_Site!I361","v":0},{"$f":"+[2]Séries_Site!J361","v":4194},{"$f":"+[2]Séries_Site!K361","v":768},{"$f":"+[2]Séries_Site!L361","v":125},{"$f":"+[2]Séries_Site!M361","v":125},{"$f":"+[2]Séries_Site!N361","v":0},{"$f":"+[2]Séries_Site!O361","v":199},{"$f":"+[2]Séries_Site!P361","v":110},{"$f":"+[2]Séries_Site!Q361","v":286},{"$f":"+[2]Séries_Site!R361","v":286},{"$f":"+[2]Séries_Site!S361","v":0},{"$f":"+[2]Séries_Site!T361","v":336},{"$f":"+[2]Séries_Site!U361","v":36},{"$f":"+[2]Séries_Site!V361","v":177},{"$f":"+[2]Séries_Site!W361","v":177},{"$f":"+[2]Séries_Site!X361","v":0},{"$f":"+[2]Séries_Site!Y361","v":227},{"$f":"+[2]Séries_Site!Z361","v":24},{"$f":"+[2]Séries_Site!AA361","v":0},{"$f":"+[2]Séries_Site!AB361","v":0},{"$f":"+[2]Séries_Site!AC361","v":0},{"$f":"+[2]Séries_Site!AD361","v":0},{"$f":"+[2]Séries_Site!AE361","v":0},{"$f":"+[2]Séries_Site!AF361","v":192},{"$f":"+[2]Séries_Site!AG361","v":192},{"$f":"+[2]Séries_Site!AH361","v":0},{"$f":"+[2]Séries_Site!AI361","v":205},{"$f":"+[2]Séries_Site!AJ361","v":27}]
["1989-09-01",{"$f":"+[2]Séries_Site!B362","v":3593},{"$f":"+[2]Séries_Site!C362","v":3593},{"$f":"+[2]Séries_Site!D362","v":0},{"$f":"+[2]Séries_Site!E362","v":4720},{"$f":"+[2]Séries_Site!F362","v":809},{"$f":"+[2]Séries_Site!G362","v":2884},{"$f":"+[2]Séries_Site!H362","v":2884},{"$f":"+[2]Séries_Site!I362","v":0},{"$f":"+[2]Séries_Site!J362","v":3747},{"$f":"+[2]Séries_Site!K362","v":638},{"$f":"+[2]Séries_Site!L362","v":111},{"$f":"+[2]Séries_Site!M362","v":111},{"$f":"+[2]Séries_Site!N362","v":0},{"$f":"+[2]Séries_Site!O362","v":166},{"$f":"+[2]Séries_Site!P362","v":58},{"$f":"+[2]Séries_Site!Q362","v":276},{"$f":"+[2]Séries_Site!R362","v":276},{"$f":"+[2]Séries_Site!S362","v":0},{"$f":"+[2]Séries_Site!T362","v":286},{"$f":"+[2]Séries_Site!U362","v":0},{"$f":"+[2]Séries_Site!V362","v":135},{"$f":"+[2]Séries_Site!W362","v":135},{"$f":"+[2]Séries_Site!X362","v":0},{"$f":"+[2]Séries_Site!Y362","v":269},{"$f":"+[2]Séries_Site!Z362","v":62},{"$f":"+[2]Séries_Site!AA362","v":0},{"$f":"+[2]Séries_Site!AB362","v":0},{"$f":"+[2]Séries_Site!AC362","v":0},{"$f":"+[2]Séries_Site!AD362","v":0},{"$f":"+[2]Séries_Site!AE362","v":0},{"$f":"+[2]Séries_Site!AF362","v":187},{"$f":"+[2]Séries_Site!AG362","v":187},{"$f":"+[2]Séries_Site!AH362","v":0},{"$f":"+[2]Séries_Site!AI362","v":252},{"$f":"+[2]Séries_Site!AJ362","v":51}]
["1989-10-01",{"$f":"+[2]Séries_Site!B363","v":2406},{"$f":"+[2]Séries_Site!C363","v":2406},{"$f":"+[2]Séries_Site!D363","v":0},{"$f":"+[2]Séries_Site!E363","v":3525},{"$f":"+[2]Séries_Site!F363","v":885},{"$f":"+[2]Séries_Site!G363","v":1712},{"$f":"+[2]Séries_Site!H363","v":1712},{"$f":"+[2]Séries_Site!I363","v":0},{"$f":"+[2]Séries_Site!J363","v":2444},{"$f":"+[2]Séries_Site!K363","v":694},{"$f":"+[2]Séries_Site!L363","v":89},{"$f":"+[2]Séries_Site!M363","v":89},{"$f":"+[2]Séries_Site!N363","v":0},{"$f":"+[2]Séries_Site!O363","v":172},{"$f":"+[2]Séries_Site!P363","v":69},{"$f":"+[2]Séries_Site!Q363","v":222},{"$f":"+[2]Séries_Site!R363","v":222},{"$f":"+[2]Séries_Site!S363","v":0},{"$f":"+[2]Séries_Site!T363","v":253},{"$f":"+[2]Séries_Site!U363","v":3},{"$f":"+[2]Séries_Site!V363","v":213},{"$f":"+[2]Séries_Site!W363","v":213},{"$f":"+[2]Séries_Site!X363","v":0},{"$f":"+[2]Séries_Site!Y363","v":453},{"$f":"+[2]Séries_Site!Z363","v":86},{"$f":"+[2]Séries_Site!AA363","v":0},{"$f":"+[2]Séries_Site!AB363","v":0},{"$f":"+[2]Séries_Site!AC363","v":0},{"$f":"+[2]Séries_Site!AD363","v":0},{"$f":"+[2]Séries_Site!AE363","v":0},{"$f":"+[2]Séries_Site!AF363","v":170},{"$f":"+[2]Séries_Site!AG363","v":170},{"$f":"+[2]Séries_Site!AH363","v":0},{"$f":"+[2]Séries_Site!AI363","v":203},{"$f":"+[2]Séries_Site!AJ363","v":33}]
["1989-11-01",{"$f":"+[2]Séries_Site!B364","v":1913},{"$f":"+[2]Séries_Site!C364","v":1913},{"$f":"+[2]Séries_Site!D364","v":0},{"$f":"+[2]Séries_Site!E364","v":2989},{"$f":"+[2]Séries_Site!F364","v":694},{"$f":"+[2]Séries_Site!G364","v":1342},{"$f":"+[2]Séries_Site!H364","v":1342},{"$f":"+[2]Séries_Site!I364","v":0},{"$f":"+[2]Séries_Site!J364","v":2021},{"$f":"+[2]Séries_Site!K364","v":529},{"$f":"+[2]Séries_Site!L364","v":79},{"$f":"+[2]Séries_Site!M364","v":79},{"$f":"+[2]Séries_Site!N364","v":0},{"$f":"+[2]Séries_Site!O364","v":171},{"$f":"+[2]Séries_Site!P364","v":63},{"$f":"+[2]Séries_Site!Q364","v":219},{"$f":"+[2]Séries_Site!R364","v":219},{"$f":"+[2]Séries_Site!S364","v":0},{"$f":"+[2]Séries_Site!T364","v":273},{"$f":"+[2]Séries_Site!U364","v":4},{"$f":"+[2]Séries_Site!V364","v":178},{"$f":"+[2]Séries_Site!W364","v":178},{"$f":"+[2]Séries_Site!X364","v":0},{"$f":"+[2]Séries_Site!Y364","v":370},{"$f":"+[2]Séries_Site!Z364","v":69},{"$f":"+[2]Séries_Site!AA364","v":0},{"$f":"+[2]Séries_Site!AB364","v":0},{"$f":"+[2]Séries_Site!AC364","v":0},{"$f":"+[2]Séries_Site!AD364","v":0},{"$f":"+[2]Séries_Site!AE364","v":0},{"$f":"+[2]Séries_Site!AF364","v":95},{"$f":"+[2]Séries_Site!AG364","v":95},{"$f":"+[2]Séries_Site!AH364","v":0},{"$f":"+[2]Séries_Site!AI364","v":154},{"$f":"+[2]Séries_Site!AJ364","v":29}]
["1989-12-01",{"$f":"+[2]Séries_Site!B365","v":1457},{"$f":"+[2]Séries_Site!C365","v":1457},{"$f":"+[2]Séries_Site!D365","v":0},{"$f":"+[2]Séries_Site!E365","v":1971},{"$f":"+[2]Séries_Site!F365","v":708},{"$f":"+[2]Séries_Site!G365","v":963},{"$f":"+[2]Séries_Site!H365","v":963},{"$f":"+[2]Séries_Site!I365","v":0},{"$f":"+[2]Séries_Site!J365","v":1245},{"$f":"+[2]Séries_Site!K365","v":514},{"$f":"+[2]Séries_Site!L365","v":94},{"$f":"+[2]Séries_Site!M365","v":94},{"$f":"+[2]Séries_Site!N365","v":0},{"$f":"+[2]Séries_Site!O365","v":159},{"$f":"+[2]Séries_Site!P365","v":129},{"$f":"+[2]Séries_Site!Q365","v":54},{"$f":"+[2]Séries_Site!R365","v":54},{"$f":"+[2]Séries_Site!S365","v":0},{"$f":"+[2]Séries_Site!T365","v":197},{"$f":"+[2]Séries_Site!U365","v":5},{"$f":"+[2]Séries_Site!V365","v":235},{"$f":"+[2]Séries_Site!W365","v":235},{"$f":"+[2]Séries_Site!X365","v":0},{"$f":"+[2]Séries_Site!Y365","v":207},{"$f":"+[2]Séries_Site!Z365","v":38},{"$f":"+[2]Séries_Site!AA365","v":0},{"$f":"+[2]Séries_Site!AB365","v":0},{"$f":"+[2]Séries_Site!AC365","v":0},{"$f":"+[2]Séries_Site!AD365","v":0},{"$f":"+[2]Séries_Site!AE365","v":0},{"$f":"+[2]Séries_Site!AF365","v":111},{"$f":"+[2]Séries_Site!AG365","v":111},{"$f":"+[2]Séries_Site!AH365","v":0},{"$f":"+[2]Séries_Site!AI365","v":163},{"$f":"+[2]Séries_Site!AJ365","v":22}]
["1990-01-01",{"$f":"+[2]Séries_Site!B366","v":1941},{"$f":"+[2]Séries_Site!C366","v":1941},{"$f":"+[2]Séries_Site!D366","v":0},{"$f":"+[2]Séries_Site!E366","v":1916},{"$f":"+[2]Séries_Site!F366","v":470},{"$f":"+[2]Séries_Site!G366","v":1311},{"$f":"+[2]Séries_Site!H366","v":1311},{"$f":"+[2]Séries_Site!I366","v":0},{"$f":"+[2]Séries_Site!J366","v":1237},{"$f":"+[2]Séries_Site!K366","v":83},{"$f":"+[2]Séries_Site!L366","v":74},{"$f":"+[2]Séries_Site!M366","v":74},{"$f":"+[2]Séries_Site!N366","v":0},{"$f":"+[2]Séries_Site!O366","v":143},{"$f":"+[2]Séries_Site!P366","v":37},{"$f":"+[2]Séries_Site!Q366","v":110},{"$f":"+[2]Séries_Site!R366","v":110},{"$f":"+[2]Séries_Site!S366","v":0},{"$f":"+[2]Séries_Site!T366","v":208},{"$f":"+[2]Séries_Site!U366","v":293},{"$f":"+[2]Séries_Site!V366","v":378},{"$f":"+[2]Séries_Site!W366","v":378},{"$f":"+[2]Séries_Site!X366","v":0},{"$f":"+[2]Séries_Site!Y366","v":266},{"$f":"+[2]Séries_Site!Z366","v":53},{"$f":"+[2]Séries_Site!AA366","v":0},{"$f":"+[2]Séries_Site!AB366","v":0},{"$f":"+[2]Séries_Site!AC366","v":0},{"$f":"+[2]Séries_Site!AD366","v":0},{"$f":"+[2]Séries_Site!AE366","v":0},{"$f":"+[2]Séries_Site!AF366","v":68},{"$f":"+[2]Séries_Site!AG366","v":68},{"$f":"+[2]Séries_Site!AH366","v":0},{"$f":"+[2]Séries_Site!AI366","v":62},{"$f":"+[2]Séries_Site!AJ366","v":4}]
["1990-02-01",{"$f":"+[2]Séries_Site!B367","v":2021},{"$f":"+[2]Séries_Site!C367","v":2021},{"$f":"+[2]Séries_Site!D367","v":0},{"$f":"+[2]Séries_Site!E367","v":2546},{"$f":"+[2]Séries_Site!F367","v":433},{"$f":"+[2]Séries_Site!G367","v":1323},{"$f":"+[2]Séries_Site!H367","v":1323},{"$f":"+[2]Séries_Site!I367","v":0},{"$f":"+[2]Séries_Site!J367","v":1577},{"$f":"+[2]Séries_Site!K367","v":168},{"$f":"+[2]Séries_Site!L367","v":92},{"$f":"+[2]Séries_Site!M367","v":92},{"$f":"+[2]Séries_Site!N367","v":0},{"$f":"+[2]Séries_Site!O367","v":169},{"$f":"+[2]Séries_Site!P367","v":27},{"$f":"+[2]Séries_Site!Q367","v":156},{"$f":"+[2]Séries_Site!R367","v":156},{"$f":"+[2]Séries_Site!S367","v":0},{"$f":"+[2]Séries_Site!T367","v":306},{"$f":"+[2]Séries_Site!U367","v":189},{"$f":"+[2]Séries_Site!V367","v":370},{"$f":"+[2]Séries_Site!W367","v":370},{"$f":"+[2]Séries_Site!X367","v":0},{"$f":"+[2]Séries_Site!Y367","v":441},{"$f":"+[2]Séries_Site!Z367","v":48},{"$f":"+[2]Séries_Site!AA367","v":0},{"$f":"+[2]Séries_Site!AB367","v":0},{"$f":"+[2]Séries_Site!AC367","v":0},{"$f":"+[2]Séries_Site!AD367","v":0},{"$f":"+[2]Séries_Site!AE367","v":0},{"$f":"+[2]Séries_Site!AF367","v":80},{"$f":"+[2]Séries_Site!AG367","v":80},{"$f":"+[2]Séries_Site!AH367","v":0},{"$f":"+[2]Séries_Site!AI367","v":53},{"$f":"+[2]Séries_Site!AJ367","v":1}]
["1990-03-01",{"$f":"+[2]Séries_Site!B368","v":1305},{"$f":"+[2]Séries_Site!C368","v":1305},{"$f":"+[2]Séries_Site!D368","v":0},{"$f":"+[2]Séries_Site!E368","v":1822},{"$f":"+[2]Séries_Site!F368","v":271},{"$f":"+[2]Séries_Site!G368","v":746},{"$f":"+[2]Séries_Site!H368","v":746},{"$f":"+[2]Séries_Site!I368","v":0},{"$f":"+[2]Séries_Site!J368","v":1075},{"$f":"+[2]Séries_Site!K368","v":106},{"$f":"+[2]Séries_Site!L368","v":91},{"$f":"+[2]Séries_Site!M368","v":91},{"$f":"+[2]Séries_Site!N368","v":0},{"$f":"+[2]Séries_Site!O368","v":190},{"$f":"+[2]Séries_Site!P368","v":78},{"$f":"+[2]Séries_Site!Q368","v":180},{"$f":"+[2]Séries_Site!R368","v":180},{"$f":"+[2]Séries_Site!S368","v":0},{"$f":"+[2]Séries_Site!T368","v":235},{"$f":"+[2]Séries_Site!U368","v":51},{"$f":"+[2]Séries_Site!V368","v":276},{"$f":"+[2]Séries_Site!W368","v":276},{"$f":"+[2]Séries_Site!X368","v":0},{"$f":"+[2]Séries_Site!Y368","v":287},{"$f":"+[2]Séries_Site!Z368","v":30},{"$f":"+[2]Séries_Site!AA368","v":0},{"$f":"+[2]Séries_Site!AB368","v":0},{"$f":"+[2]Séries_Site!AC368","v":0},{"$f":"+[2]Séries_Site!AD368","v":0},{"$f":"+[2]Séries_Site!AE368","v":0},{"$f":"+[2]Séries_Site!AF368","v":12},{"$f":"+[2]Séries_Site!AG368","v":12},{"$f":"+[2]Séries_Site!AH368","v":0},{"$f":"+[2]Séries_Site!AI368","v":35},{"$f":"+[2]Séries_Site!AJ368","v":6}]
["1990-04-01",{"$f":"+[2]Séries_Site!B369","v":1518},{"$f":"+[2]Séries_Site!C369","v":1518},{"$f":"+[2]Séries_Site!D369","v":0},{"$f":"+[2]Séries_Site!E369","v":1632},{"$f":"+[2]Séries_Site!F369","v":838},{"$f":"+[2]Séries_Site!G369","v":1032},{"$f":"+[2]Séries_Site!H369","v":1032},{"$f":"+[2]Séries_Site!I369","v":0},{"$f":"+[2]Séries_Site!J369","v":1084},{"$f":"+[2]Séries_Site!K369","v":570},{"$f":"+[2]Séries_Site!L369","v":59},{"$f":"+[2]Séries_Site!M369","v":59},{"$f":"+[2]Séries_Site!N369","v":0},{"$f":"+[2]Séries_Site!O369","v":68},{"$f":"+[2]Séries_Site!P369","v":31},{"$f":"+[2]Séries_Site!Q369","v":112},{"$f":"+[2]Séries_Site!R369","v":112},{"$f":"+[2]Séries_Site!S369","v":0},{"$f":"+[2]Séries_Site!T369","v":175},{"$f":"+[2]Séries_Site!U369","v":0},{"$f":"+[2]Séries_Site!V369","v":217},{"$f":"+[2]Séries_Site!W369","v":217},{"$f":"+[2]Séries_Site!X369","v":0},{"$f":"+[2]Séries_Site!Y369","v":170},{"$f":"+[2]Séries_Site!Z369","v":213},{"$f":"+[2]Séries_Site!AA369","v":0},{"$f":"+[2]Séries_Site!AB369","v":0},{"$f":"+[2]Séries_Site!AC369","v":0},{"$f":"+[2]Séries_Site!AD369","v":0},{"$f":"+[2]Séries_Site!AE369","v":0},{"$f":"+[2]Séries_Site!AF369","v":98},{"$f":"+[2]Séries_Site!AG369","v":98},{"$f":"+[2]Séries_Site!AH369","v":0},{"$f":"+[2]Séries_Site!AI369","v":135},{"$f":"+[2]Séries_Site!AJ369","v":24}]
["1990-05-01",{"$f":"+[2]Séries_Site!B370","v":3681},{"$f":"+[2]Séries_Site!C370","v":3681},{"$f":"+[2]Séries_Site!D370","v":0},{"$f":"+[2]Séries_Site!E370","v":3568},{"$f":"+[2]Séries_Site!F370","v":441},{"$f":"+[2]Séries_Site!G370","v":2867},{"$f":"+[2]Séries_Site!H370","v":2867},{"$f":"+[2]Séries_Site!I370","v":0},{"$f":"+[2]Séries_Site!J370","v":2876},{"$f":"+[2]Séries_Site!K370","v":236},{"$f":"+[2]Séries_Site!L370","v":181},{"$f":"+[2]Séries_Site!M370","v":181},{"$f":"+[2]Séries_Site!N370","v":0},{"$f":"+[2]Séries_Site!O370","v":120},{"$f":"+[2]Séries_Site!P370","v":51},{"$f":"+[2]Séries_Site!Q370","v":217},{"$f":"+[2]Séries_Site!R370","v":217},{"$f":"+[2]Séries_Site!S370","v":0},{"$f":"+[2]Séries_Site!T370","v":153},{"$f":"+[2]Séries_Site!U370","v":0},{"$f":"+[2]Séries_Site!V370","v":203},{"$f":"+[2]Séries_Site!W370","v":203},{"$f":"+[2]Séries_Site!X370","v":0},{"$f":"+[2]Séries_Site!Y370","v":256},{"$f":"+[2]Séries_Site!Z370","v":152},{"$f":"+[2]Séries_Site!AA370","v":0},{"$f":"+[2]Séries_Site!AB370","v":0},{"$f":"+[2]Séries_Site!AC370","v":0},{"$f":"+[2]Séries_Site!AD370","v":0},{"$f":"+[2]Séries_Site!AE370","v":0},{"$f":"+[2]Séries_Site!AF370","v":213},{"$f":"+[2]Séries_Site!AG370","v":213},{"$f":"+[2]Séries_Site!AH370","v":0},{"$f":"+[2]Séries_Site!AI370","v":163},{"$f":"+[2]Séries_Site!AJ370","v":2}]
["1990-06-01",{"$f":"+[2]Séries_Site!B371","v":3747},{"$f":"+[2]Séries_Site!C371","v":3747},{"$f":"+[2]Séries_Site!D371","v":0},{"$f":"+[2]Séries_Site!E371","v":3964},{"$f":"+[2]Séries_Site!F371","v":220},{"$f":"+[2]Séries_Site!G371","v":3007},{"$f":"+[2]Séries_Site!H371","v":3007},{"$f":"+[2]Séries_Site!I371","v":0},{"$f":"+[2]Séries_Site!J371","v":3062},{"$f":"+[2]Séries_Site!K371","v":73},{"$f":"+[2]Séries_Site!L371","v":110},{"$f":"+[2]Séries_Site!M371","v":110},{"$f":"+[2]Séries_Site!N371","v":0},{"$f":"+[2]Séries_Site!O371","v":161},{"$f":"+[2]Séries_Site!P371","v":97},{"$f":"+[2]Séries_Site!Q371","v":219},{"$f":"+[2]Séries_Site!R371","v":219},{"$f":"+[2]Séries_Site!S371","v":0},{"$f":"+[2]Séries_Site!T371","v":233},{"$f":"+[2]Séries_Site!U371","v":5},{"$f":"+[2]Séries_Site!V371","v":184},{"$f":"+[2]Séries_Site!W371","v":184},{"$f":"+[2]Séries_Site!X371","v":0},{"$f":"+[2]Séries_Site!Y371","v":270},{"$f":"+[2]Séries_Site!Z371","v":27},{"$f":"+[2]Séries_Site!AA371","v":0},{"$f":"+[2]Séries_Site!AB371","v":0},{"$f":"+[2]Séries_Site!AC371","v":0},{"$f":"+[2]Séries_Site!AD371","v":0},{"$f":"+[2]Séries_Site!AE371","v":0},{"$f":"+[2]Séries_Site!AF371","v":227},{"$f":"+[2]Séries_Site!AG371","v":227},{"$f":"+[2]Séries_Site!AH371","v":0},{"$f":"+[2]Séries_Site!AI371","v":238},{"$f":"+[2]Séries_Site!AJ371","v":18}]
["1990-07-01",{"$f":"+[2]Séries_Site!B372","v":4352},{"$f":"+[2]Séries_Site!C372","v":4352},{"$f":"+[2]Séries_Site!D372","v":0},{"$f":"+[2]Séries_Site!E372","v":4909},{"$f":"+[2]Séries_Site!F372","v":250},{"$f":"+[2]Séries_Site!G372","v":3437},{"$f":"+[2]Séries_Site!H372","v":3437},{"$f":"+[2]Séries_Site!I372","v":0},{"$f":"+[2]Séries_Site!J372","v":3828},{"$f":"+[2]Séries_Site!K372","v":147},{"$f":"+[2]Séries_Site!L372","v":147},{"$f":"+[2]Séries_Site!M372","v":147},{"$f":"+[2]Séries_Site!N372","v":0},{"$f":"+[2]Séries_Site!O372","v":160},{"$f":"+[2]Séries_Site!P372","v":31},{"$f":"+[2]Séries_Site!Q372","v":224},{"$f":"+[2]Séries_Site!R372","v":224},{"$f":"+[2]Séries_Site!S372","v":0},{"$f":"+[2]Séries_Site!T372","v":360},{"$f":"+[2]Séries_Site!U372","v":2},{"$f":"+[2]Séries_Site!V372","v":237},{"$f":"+[2]Séries_Site!W372","v":237},{"$f":"+[2]Séries_Site!X372","v":0},{"$f":"+[2]Séries_Site!Y372","v":276},{"$f":"+[2]Séries_Site!Z372","v":70},{"$f":"+[2]Séries_Site!AA372","v":0},{"$f":"+[2]Séries_Site!AB372","v":0},{"$f":"+[2]Séries_Site!AC372","v":0},{"$f":"+[2]Séries_Site!AD372","v":0},{"$f":"+[2]Séries_Site!AE372","v":0},{"$f":"+[2]Séries_Site!AF372","v":307},{"$f":"+[2]Séries_Site!AG372","v":307},{"$f":"+[2]Séries_Site!AH372","v":0},{"$f":"+[2]Séries_Site!AI372","v":285},{"$f":"+[2]Séries_Site!AJ372","v":0}]
["1990-08-01",{"$f":"+[2]Séries_Site!B373","v":4184},{"$f":"+[2]Séries_Site!C373","v":4184},{"$f":"+[2]Séries_Site!D373","v":0},{"$f":"+[2]Séries_Site!E373","v":5190},{"$f":"+[2]Séries_Site!F373","v":299},{"$f":"+[2]Séries_Site!G373","v":3335},{"$f":"+[2]Séries_Site!H373","v":3335},{"$f":"+[2]Séries_Site!I373","v":0},{"$f":"+[2]Séries_Site!J373","v":4143},{"$f":"+[2]Séries_Site!K373","v":223},{"$f":"+[2]Séries_Site!L373","v":133},{"$f":"+[2]Séries_Site!M373","v":133},{"$f":"+[2]Séries_Site!N373","v":0},{"$f":"+[2]Séries_Site!O373","v":163},{"$f":"+[2]Séries_Site!P373","v":32},{"$f":"+[2]Séries_Site!Q373","v":234},{"$f":"+[2]Séries_Site!R373","v":234},{"$f":"+[2]Séries_Site!S373","v":0},{"$f":"+[2]Séries_Site!T373","v":241},{"$f":"+[2]Séries_Site!U373","v":0},{"$f":"+[2]Séries_Site!V373","v":247},{"$f":"+[2]Séries_Site!W373","v":247},{"$f":"+[2]Séries_Site!X373","v":0},{"$f":"+[2]Séries_Site!Y373","v":362},{"$f":"+[2]Séries_Site!Z373","v":32},{"$f":"+[2]Séries_Site!AA373","v":0},{"$f":"+[2]Séries_Site!AB373","v":0},{"$f":"+[2]Séries_Site!AC373","v":0},{"$f":"+[2]Séries_Site!AD373","v":0},{"$f":"+[2]Séries_Site!AE373","v":0},{"$f":"+[2]Séries_Site!AF373","v":235},{"$f":"+[2]Séries_Site!AG373","v":235},{"$f":"+[2]Séries_Site!AH373","v":0},{"$f":"+[2]Séries_Site!AI373","v":281},{"$f":"+[2]Séries_Site!AJ373","v":12}]
["1990-09-01",{"$f":"+[2]Séries_Site!B374","v":2345},{"$f":"+[2]Séries_Site!C374","v":2345},{"$f":"+[2]Séries_Site!D374","v":0},{"$f":"+[2]Séries_Site!E374","v":3797},{"$f":"+[2]Séries_Site!F374","v":450},{"$f":"+[2]Séries_Site!G374","v":1810},{"$f":"+[2]Séries_Site!H374","v":1810},{"$f":"+[2]Séries_Site!I374","v":0},{"$f":"+[2]Séries_Site!J374","v":3015},{"$f":"+[2]Séries_Site!K374","v":381},{"$f":"+[2]Séries_Site!L374","v":141},{"$f":"+[2]Séries_Site!M374","v":141},{"$f":"+[2]Séries_Site!N374","v":0},{"$f":"+[2]Séries_Site!O374","v":175},{"$f":"+[2]Séries_Site!P374","v":28},{"$f":"+[2]Séries_Site!Q374","v":183},{"$f":"+[2]Séries_Site!R374","v":183},{"$f":"+[2]Séries_Site!S374","v":0},{"$f":"+[2]Séries_Site!T374","v":169},{"$f":"+[2]Séries_Site!U374","v":0},{"$f":"+[2]Séries_Site!V374","v":66},{"$f":"+[2]Séries_Site!W374","v":66},{"$f":"+[2]Séries_Site!X374","v":0},{"$f":"+[2]Séries_Site!Y374","v":310},{"$f":"+[2]Séries_Site!Z374","v":35},{"$f":"+[2]Séries_Site!AA374","v":0},{"$f":"+[2]Séries_Site!AB374","v":0},{"$f":"+[2]Séries_Site!AC374","v":0},{"$f":"+[2]Séries_Site!AD374","v":0},{"$f":"+[2]Séries_Site!AE374","v":0},{"$f":"+[2]Séries_Site!AF374","v":145},{"$f":"+[2]Séries_Site!AG374","v":145},{"$f":"+[2]Séries_Site!AH374","v":0},{"$f":"+[2]Séries_Site!AI374","v":128},{"$f":"+[2]Séries_Site!AJ374","v":6}]
["1990-10-01",{"$f":"+[2]Séries_Site!B375","v":1508},{"$f":"+[2]Séries_Site!C375","v":1508},{"$f":"+[2]Séries_Site!D375","v":0},{"$f":"+[2]Séries_Site!E375","v":1710},{"$f":"+[2]Séries_Site!F375","v":316},{"$f":"+[2]Séries_Site!G375","v":1160},{"$f":"+[2]Séries_Site!H375","v":1160},{"$f":"+[2]Séries_Site!I375","v":0},{"$f":"+[2]Séries_Site!J375","v":942},{"$f":"+[2]Séries_Site!K375","v":184},{"$f":"+[2]Séries_Site!L375","v":72},{"$f":"+[2]Séries_Site!M375","v":72},{"$f":"+[2]Séries_Site!N375","v":0},{"$f":"+[2]Séries_Site!O375","v":194},{"$f":"+[2]Séries_Site!P375","v":11},{"$f":"+[2]Séries_Site!Q375","v":133},{"$f":"+[2]Séries_Site!R375","v":133},{"$f":"+[2]Séries_Site!S375","v":0},{"$f":"+[2]Séries_Site!T375","v":249},{"$f":"+[2]Séries_Site!U375","v":1},{"$f":"+[2]Séries_Site!V375","v":47},{"$f":"+[2]Séries_Site!W375","v":47},{"$f":"+[2]Séries_Site!X375","v":0},{"$f":"+[2]Séries_Site!Y375","v":195},{"$f":"+[2]Séries_Site!Z375","v":95},{"$f":"+[2]Séries_Site!AA375","v":0},{"$f":"+[2]Séries_Site!AB375","v":0},{"$f":"+[2]Séries_Site!AC375","v":0},{"$f":"+[2]Séries_Site!AD375","v":0},{"$f":"+[2]Séries_Site!AE375","v":0},{"$f":"+[2]Séries_Site!AF375","v":96},{"$f":"+[2]Séries_Site!AG375","v":96},{"$f":"+[2]Séries_Site!AH375","v":0},{"$f":"+[2]Séries_Site!AI375","v":130},{"$f":"+[2]Séries_Site!AJ375","v":25}]
["1990-11-01",{"$f":"+[2]Séries_Site!B376","v":1073},{"$f":"+[2]Séries_Site!C376","v":1073},{"$f":"+[2]Séries_Site!D376","v":0},{"$f":"+[2]Séries_Site!E376","v":1373},{"$f":"+[2]Séries_Site!F376","v":500},{"$f":"+[2]Séries_Site!G376","v":847},{"$f":"+[2]Séries_Site!H376","v":847},{"$f":"+[2]Séries_Site!I376","v":0},{"$f":"+[2]Séries_Site!J376","v":938},{"$f":"+[2]Séries_Site!K376","v":319},{"$f":"+[2]Séries_Site!L376","v":15},{"$f":"+[2]Séries_Site!M376","v":15},{"$f":"+[2]Séries_Site!N376","v":0},{"$f":"+[2]Séries_Site!O376","v":114},{"$f":"+[2]Séries_Site!P376","v":61},{"$f":"+[2]Séries_Site!Q376","v":102},{"$f":"+[2]Séries_Site!R376","v":102},{"$f":"+[2]Séries_Site!S376","v":0},{"$f":"+[2]Séries_Site!T376","v":125},{"$f":"+[2]Séries_Site!U376","v":10},{"$f":"+[2]Séries_Site!V376","v":71},{"$f":"+[2]Séries_Site!W376","v":71},{"$f":"+[2]Séries_Site!X376","v":0},{"$f":"+[2]Séries_Site!Y376","v":125},{"$f":"+[2]Séries_Site!Z376","v":87},{"$f":"+[2]Séries_Site!AA376","v":0},{"$f":"+[2]Séries_Site!AB376","v":0},{"$f":"+[2]Séries_Site!AC376","v":0},{"$f":"+[2]Séries_Site!AD376","v":0},{"$f":"+[2]Séries_Site!AE376","v":0},{"$f":"+[2]Séries_Site!AF376","v":38},{"$f":"+[2]Séries_Site!AG376","v":38},{"$f":"+[2]Séries_Site!AH376","v":0},{"$f":"+[2]Séries_Site!AI376","v":71},{"$f":"+[2]Séries_Site!AJ376","v":23}]
["1990-12-01",{"$f":"+[2]Séries_Site!B377","v":529},{"$f":"+[2]Séries_Site!C377","v":529},{"$f":"+[2]Séries_Site!D377","v":0},{"$f":"+[2]Séries_Site!E377","v":687},{"$f":"+[2]Séries_Site!F377","v":392},{"$f":"+[2]Séries_Site!G377","v":366},{"$f":"+[2]Séries_Site!H377","v":366},{"$f":"+[2]Séries_Site!I377","v":0},{"$f":"+[2]Séries_Site!J377","v":446},{"$f":"+[2]Séries_Site!K377","v":268},{"$f":"+[2]Séries_Site!L377","v":25},{"$f":"+[2]Séries_Site!M377","v":25},{"$f":"+[2]Séries_Site!N377","v":0},{"$f":"+[2]Séries_Site!O377","v":89},{"$f":"+[2]Séries_Site!P377","v":58},{"$f":"+[2]Séries_Site!Q377","v":41},{"$f":"+[2]Séries_Site!R377","v":41},{"$f":"+[2]Séries_Site!S377","v":0},{"$f":"+[2]Séries_Site!T377","v":65},{"$f":"+[2]Séries_Site!U377","v":0},{"$f":"+[2]Séries_Site!V377","v":54},{"$f":"+[2]Séries_Site!W377","v":54},{"$f":"+[2]Séries_Site!X377","v":0},{"$f":"+[2]Séries_Site!Y377","v":13},{"$f":"+[2]Séries_Site!Z377","v":49},{"$f":"+[2]Séries_Site!AA377","v":0},{"$f":"+[2]Séries_Site!AB377","v":0},{"$f":"+[2]Séries_Site!AC377","v":0},{"$f":"+[2]Séries_Site!AD377","v":0},{"$f":"+[2]Séries_Site!AE377","v":0},{"$f":"+[2]Séries_Site!AF377","v":43},{"$f":"+[2]Séries_Site!AG377","v":43},{"$f":"+[2]Séries_Site!AH377","v":0},{"$f":"+[2]Séries_Site!AI377","v":74},{"$f":"+[2]Séries_Site!AJ377","v":17}]
["1991-01-01",{"$f":"+[2]Séries_Site!B378","v":782},{"$f":"+[2]Séries_Site!C378","v":782},{"$f":"+[2]Séries_Site!D378","v":0},{"$f":"+[2]Séries_Site!E378","v":709},{"$f":"+[2]Séries_Site!F378","v":328},{"$f":"+[2]Séries_Site!G378","v":510},{"$f":"+[2]Séries_Site!H378","v":510},{"$f":"+[2]Séries_Site!I378","v":0},{"$f":"+[2]Séries_Site!J378","v":393},{"$f":"+[2]Séries_Site!K378","v":139},{"$f":"+[2]Séries_Site!L378","v":24},{"$f":"+[2]Séries_Site!M378","v":24},{"$f":"+[2]Séries_Site!N378","v":0},{"$f":"+[2]Séries_Site!O378","v":74},{"$f":"+[2]Séries_Site!P378","v":48},{"$f":"+[2]Séries_Site!Q378","v":57},{"$f":"+[2]Séries_Site!R378","v":57},{"$f":"+[2]Séries_Site!S378","v":0},{"$f":"+[2]Séries_Site!T378","v":52},{"$f":"+[2]Séries_Site!U378","v":101},{"$f":"+[2]Séries_Site!V378","v":142},{"$f":"+[2]Séries_Site!W378","v":142},{"$f":"+[2]Séries_Site!X378","v":0},{"$f":"+[2]Séries_Site!Y378","v":137},{"$f":"+[2]Séries_Site!Z378","v":29},{"$f":"+[2]Séries_Site!AA378","v":0},{"$f":"+[2]Séries_Site!AB378","v":0},{"$f":"+[2]Séries_Site!AC378","v":0},{"$f":"+[2]Séries_Site!AD378","v":0},{"$f":"+[2]Séries_Site!AE378","v":0},{"$f":"+[2]Séries_Site!AF378","v":49},{"$f":"+[2]Séries_Site!AG378","v":49},{"$f":"+[2]Séries_Site!AH378","v":0},{"$f":"+[2]Séries_Site!AI378","v":53},{"$f":"+[2]Séries_Site!AJ378","v":11}]
["1991-02-01",{"$f":"+[2]Séries_Site!B379","v":622},{"$f":"+[2]Séries_Site!C379","v":622},{"$f":"+[2]Séries_Site!D379","v":0},{"$f":"+[2]Séries_Site!E379","v":1222},{"$f":"+[2]Séries_Site!F379","v":414},{"$f":"+[2]Séries_Site!G379","v":306},{"$f":"+[2]Séries_Site!H379","v":306},{"$f":"+[2]Séries_Site!I379","v":0},{"$f":"+[2]Séries_Site!J379","v":771},{"$f":"+[2]Séries_Site!K379","v":367},{"$f":"+[2]Séries_Site!L379","v":9},{"$f":"+[2]Séries_Site!M379","v":9},{"$f":"+[2]Séries_Site!N379","v":0},{"$f":"+[2]Séries_Site!O379","v":74},{"$f":"+[2]Séries_Site!P379","v":15},{"$f":"+[2]Séries_Site!Q379","v":124},{"$f":"+[2]Séries_Site!R379","v":124},{"$f":"+[2]Séries_Site!S379","v":0},{"$f":"+[2]Séries_Site!T379","v":77},{"$f":"+[2]Séries_Site!U379","v":7},{"$f":"+[2]Séries_Site!V379","v":155},{"$f":"+[2]Séries_Site!W379","v":155},{"$f":"+[2]Séries_Site!X379","v":0},{"$f":"+[2]Séries_Site!Y379","v":210},{"$f":"+[2]Séries_Site!Z379","v":14},{"$f":"+[2]Séries_Site!AA379","v":0},{"$f":"+[2]Séries_Site!AB379","v":0},{"$f":"+[2]Séries_Site!AC379","v":0},{"$f":"+[2]Séries_Site!AD379","v":0},{"$f":"+[2]Séries_Site!AE379","v":0},{"$f":"+[2]Séries_Site!AF379","v":28},{"$f":"+[2]Séries_Site!AG379","v":28},{"$f":"+[2]Séries_Site!AH379","v":0},{"$f":"+[2]Séries_Site!AI379","v":90},{"$f":"+[2]Séries_Site!AJ379","v":11}]
["1991-03-01",{"$f":"+[2]Séries_Site!B380","v":1317},{"$f":"+[2]Séries_Site!C380","v":1317},{"$f":"+[2]Séries_Site!D380","v":0},{"$f":"+[2]Séries_Site!E380","v":1522},{"$f":"+[2]Séries_Site!F380","v":395},{"$f":"+[2]Séries_Site!G380","v":760},{"$f":"+[2]Séries_Site!H380","v":760},{"$f":"+[2]Séries_Site!I380","v":0},{"$f":"+[2]Séries_Site!J380","v":973},{"$f":"+[2]Séries_Site!K380","v":313},{"$f":"+[2]Séries_Site!L380","v":26},{"$f":"+[2]Séries_Site!M380","v":26},{"$f":"+[2]Séries_Site!N380","v":0},{"$f":"+[2]Séries_Site!O380","v":61},{"$f":"+[2]Séries_Site!P380","v":54},{"$f":"+[2]Séries_Site!Q380","v":179},{"$f":"+[2]Séries_Site!R380","v":179},{"$f":"+[2]Séries_Site!S380","v":0},{"$f":"+[2]Séries_Site!T380","v":189},{"$f":"+[2]Séries_Site!U380","v":4},{"$f":"+[2]Séries_Site!V380","v":262},{"$f":"+[2]Séries_Site!W380","v":262},{"$f":"+[2]Séries_Site!X380","v":0},{"$f":"+[2]Séries_Site!Y380","v":259},{"$f":"+[2]Séries_Site!Z380","v":18},{"$f":"+[2]Séries_Site!AA380","v":0},{"$f":"+[2]Séries_Site!AB380","v":0},{"$f":"+[2]Séries_Site!AC380","v":0},{"$f":"+[2]Séries_Site!AD380","v":0},{"$f":"+[2]Séries_Site!AE380","v":0},{"$f":"+[2]Séries_Site!AF380","v":90},{"$f":"+[2]Séries_Site!AG380","v":90},{"$f":"+[2]Séries_Site!AH380","v":0},{"$f":"+[2]Séries_Site!AI380","v":40},{"$f":"+[2]Séries_Site!AJ380","v":6}]
["1991-04-01",{"$f":"+[2]Séries_Site!B381","v":2168},{"$f":"+[2]Séries_Site!C381","v":2168},{"$f":"+[2]Séries_Site!D381","v":0},{"$f":"+[2]Séries_Site!E381","v":2288},{"$f":"+[2]Séries_Site!F381","v":431},{"$f":"+[2]Séries_Site!G381","v":1631},{"$f":"+[2]Séries_Site!H381","v":1631},{"$f":"+[2]Séries_Site!I381","v":0},{"$f":"+[2]Séries_Site!J381","v":1832},{"$f":"+[2]Séries_Site!K381","v":311},{"$f":"+[2]Séries_Site!L381","v":47},{"$f":"+[2]Séries_Site!M381","v":47},{"$f":"+[2]Séries_Site!N381","v":0},{"$f":"+[2]Séries_Site!O381","v":71},{"$f":"+[2]Séries_Site!P381","v":32},{"$f":"+[2]Séries_Site!Q381","v":229},{"$f":"+[2]Séries_Site!R381","v":229},{"$f":"+[2]Séries_Site!S381","v":0},{"$f":"+[2]Séries_Site!T381","v":144},{"$f":"+[2]Séries_Site!U381","v":0},{"$f":"+[2]Séries_Site!V381","v":170},{"$f":"+[2]Séries_Site!W381","v":170},{"$f":"+[2]Séries_Site!X381","v":0},{"$f":"+[2]Séries_Site!Y381","v":144},{"$f":"+[2]Séries_Site!Z381","v":66},{"$f":"+[2]Séries_Site!AA381","v":0},{"$f":"+[2]Séries_Site!AB381","v":0},{"$f":"+[2]Séries_Site!AC381","v":0},{"$f":"+[2]Séries_Site!AD381","v":0},{"$f":"+[2]Séries_Site!AE381","v":0},{"$f":"+[2]Séries_Site!AF381","v":91},{"$f":"+[2]Séries_Site!AG381","v":91},{"$f":"+[2]Séries_Site!AH381","v":0},{"$f":"+[2]Séries_Site!AI381","v":97},{"$f":"+[2]Séries_Site!AJ381","v":22}]
["1991-05-01",{"$f":"+[2]Séries_Site!B382","v":2398},{"$f":"+[2]Séries_Site!C382","v":2398},{"$f":"+[2]Séries_Site!D382","v":0},{"$f":"+[2]Séries_Site!E382","v":2664},{"$f":"+[2]Séries_Site!F382","v":400},{"$f":"+[2]Séries_Site!G382","v":1877},{"$f":"+[2]Séries_Site!H382","v":1877},{"$f":"+[2]Séries_Site!I382","v":0},{"$f":"+[2]Séries_Site!J382","v":2132},{"$f":"+[2]Séries_Site!K382","v":222},{"$f":"+[2]Séries_Site!L382","v":73},{"$f":"+[2]Séries_Site!M382","v":73},{"$f":"+[2]Séries_Site!N382","v":0},{"$f":"+[2]Séries_Site!O382","v":60},{"$f":"+[2]Séries_Site!P382","v":34},{"$f":"+[2]Séries_Site!Q382","v":229},{"$f":"+[2]Séries_Site!R382","v":229},{"$f":"+[2]Séries_Site!S382","v":0},{"$f":"+[2]Séries_Site!T382","v":209},{"$f":"+[2]Séries_Site!U382","v":7},{"$f":"+[2]Séries_Site!V382","v":84},{"$f":"+[2]Séries_Site!W382","v":84},{"$f":"+[2]Séries_Site!X382","v":0},{"$f":"+[2]Séries_Site!Y382","v":91},{"$f":"+[2]Séries_Site!Z382","v":105},{"$f":"+[2]Séries_Site!AA382","v":0},{"$f":"+[2]Séries_Site!AB382","v":0},{"$f":"+[2]Séries_Site!AC382","v":0},{"$f":"+[2]Séries_Site!AD382","v":0},{"$f":"+[2]Séries_Site!AE382","v":0},{"$f":"+[2]Séries_Site!AF382","v":135},{"$f":"+[2]Séries_Site!AG382","v":135},{"$f":"+[2]Séries_Site!AH382","v":0},{"$f":"+[2]Séries_Site!AI382","v":172},{"$f":"+[2]Séries_Site!AJ382","v":32}]
["1991-06-01",{"$f":"+[2]Séries_Site!B383","v":2274},{"$f":"+[2]Séries_Site!C383","v":2274},{"$f":"+[2]Séries_Site!D383","v":0},{"$f":"+[2]Séries_Site!E383","v":3249},{"$f":"+[2]Séries_Site!F383","v":330},{"$f":"+[2]Séries_Site!G383","v":1782},{"$f":"+[2]Séries_Site!H383","v":1782},{"$f":"+[2]Séries_Site!I383","v":0},{"$f":"+[2]Séries_Site!J383","v":2586},{"$f":"+[2]Séries_Site!K383","v":224},{"$f":"+[2]Séries_Site!L383","v":80},{"$f":"+[2]Séries_Site!M383","v":80},{"$f":"+[2]Séries_Site!N383","v":0},{"$f":"+[2]Séries_Site!O383","v":113},{"$f":"+[2]Séries_Site!P383","v":36},{"$f":"+[2]Séries_Site!Q383","v":199},{"$f":"+[2]Séries_Site!R383","v":199},{"$f":"+[2]Séries_Site!S383","v":0},{"$f":"+[2]Séries_Site!T383","v":189},{"$f":"+[2]Séries_Site!U383","v":6},{"$f":"+[2]Séries_Site!V383","v":62},{"$f":"+[2]Séries_Site!W383","v":62},{"$f":"+[2]Séries_Site!X383","v":0},{"$f":"+[2]Séries_Site!Y383","v":184},{"$f":"+[2]Séries_Site!Z383","v":33},{"$f":"+[2]Séries_Site!AA383","v":0},{"$f":"+[2]Séries_Site!AB383","v":0},{"$f":"+[2]Séries_Site!AC383","v":0},{"$f":"+[2]Séries_Site!AD383","v":0},{"$f":"+[2]Séries_Site!AE383","v":0},{"$f":"+[2]Séries_Site!AF383","v":151},{"$f":"+[2]Séries_Site!AG383","v":151},{"$f":"+[2]Séries_Site!AH383","v":0},{"$f":"+[2]Séries_Site!AI383","v":177},{"$f":"+[2]Séries_Site!AJ383","v":31}]
["1991-07-01",{"$f":"+[2]Séries_Site!B384","v":1932},{"$f":"+[2]Séries_Site!C384","v":1932},{"$f":"+[2]Séries_Site!D384","v":0},{"$f":"+[2]Séries_Site!E384","v":2832},{"$f":"+[2]Séries_Site!F384","v":252},{"$f":"+[2]Séries_Site!G384","v":1488},{"$f":"+[2]Séries_Site!H384","v":1488},{"$f":"+[2]Séries_Site!I384","v":0},{"$f":"+[2]Séries_Site!J384","v":2123},{"$f":"+[2]Séries_Site!K384","v":170},{"$f":"+[2]Séries_Site!L384","v":89},{"$f":"+[2]Séries_Site!M384","v":89},{"$f":"+[2]Séries_Site!N384","v":0},{"$f":"+[2]Séries_Site!O384","v":115},{"$f":"+[2]Séries_Site!P384","v":25},{"$f":"+[2]Séries_Site!Q384","v":151},{"$f":"+[2]Séries_Site!R384","v":151},{"$f":"+[2]Séries_Site!S384","v":0},{"$f":"+[2]Séries_Site!T384","v":254},{"$f":"+[2]Séries_Site!U384","v":4},{"$f":"+[2]Séries_Site!V384","v":35},{"$f":"+[2]Séries_Site!W384","v":35},{"$f":"+[2]Séries_Site!X384","v":0},{"$f":"+[2]Séries_Site!Y384","v":115},{"$f":"+[2]Séries_Site!Z384","v":24},{"$f":"+[2]Séries_Site!AA384","v":0},{"$f":"+[2]Séries_Site!AB384","v":0},{"$f":"+[2]Séries_Site!AC384","v":0},{"$f":"+[2]Séries_Site!AD384","v":0},{"$f":"+[2]Séries_Site!AE384","v":0},{"$f":"+[2]Séries_Site!AF384","v":169},{"$f":"+[2]Séries_Site!AG384","v":169},{"$f":"+[2]Séries_Site!AH384","v":0},{"$f":"+[2]Séries_Site!AI384","v":225},{"$f":"+[2]Séries_Site!AJ384","v":29}]
["1991-08-01",{"$f":"+[2]Séries_Site!B385","v":1830},{"$f":"+[2]Séries_Site!C385","v":1830},{"$f":"+[2]Séries_Site!D385","v":0},{"$f":"+[2]Séries_Site!E385","v":2296},{"$f":"+[2]Séries_Site!F385","v":258},{"$f":"+[2]Séries_Site!G385","v":1467},{"$f":"+[2]Séries_Site!H385","v":1467},{"$f":"+[2]Séries_Site!I385","v":0},{"$f":"+[2]Séries_Site!J385","v":1713},{"$f":"+[2]Séries_Site!K385","v":200},{"$f":"+[2]Séries_Site!L385","v":54},{"$f":"+[2]Séries_Site!M385","v":54},{"$f":"+[2]Séries_Site!N385","v":0},{"$f":"+[2]Séries_Site!O385","v":112},{"$f":"+[2]Séries_Site!P385","v":22},{"$f":"+[2]Séries_Site!Q385","v":143},{"$f":"+[2]Séries_Site!R385","v":143},{"$f":"+[2]Séries_Site!S385","v":0},{"$f":"+[2]Séries_Site!T385","v":195},{"$f":"+[2]Séries_Site!U385","v":6},{"$f":"+[2]Séries_Site!V385","v":48},{"$f":"+[2]Séries_Site!W385","v":48},{"$f":"+[2]Séries_Site!X385","v":0},{"$f":"+[2]Séries_Site!Y385","v":129},{"$f":"+[2]Séries_Site!Z385","v":15},{"$f":"+[2]Séries_Site!AA385","v":0},{"$f":"+[2]Séries_Site!AB385","v":0},{"$f":"+[2]Séries_Site!AC385","v":0},{"$f":"+[2]Séries_Site!AD385","v":0},{"$f":"+[2]Séries_Site!AE385","v":0},{"$f":"+[2]Séries_Site!AF385","v":118},{"$f":"+[2]Séries_Site!AG385","v":118},{"$f":"+[2]Séries_Site!AH385","v":0},{"$f":"+[2]Séries_Site!AI385","v":147},{"$f":"+[2]Séries_Site!AJ385","v":15}]
["1991-09-01",{"$f":"+[2]Séries_Site!B386","v":1505},{"$f":"+[2]Séries_Site!C386","v":1505},{"$f":"+[2]Séries_Site!D386","v":0},{"$f":"+[2]Séries_Site!E386","v":1498},{"$f":"+[2]Séries_Site!F386","v":430},{"$f":"+[2]Séries_Site!G386","v":1085},{"$f":"+[2]Séries_Site!H386","v":1085},{"$f":"+[2]Séries_Site!I386","v":0},{"$f":"+[2]Séries_Site!J386","v":1023},{"$f":"+[2]Séries_Site!K386","v":380},{"$f":"+[2]Séries_Site!L386","v":52},{"$f":"+[2]Séries_Site!M386","v":52},{"$f":"+[2]Séries_Site!N386","v":0},{"$f":"+[2]Séries_Site!O386","v":117},{"$f":"+[2]Séries_Site!P386","v":23},{"$f":"+[2]Séries_Site!Q386","v":169},{"$f":"+[2]Séries_Site!R386","v":169},{"$f":"+[2]Séries_Site!S386","v":0},{"$f":"+[2]Séries_Site!T386","v":117},{"$f":"+[2]Séries_Site!U386","v":0},{"$f":"+[2]Séries_Site!V386","v":91},{"$f":"+[2]Séries_Site!W386","v":91},{"$f":"+[2]Séries_Site!X386","v":0},{"$f":"+[2]Séries_Site!Y386","v":104},{"$f":"+[2]Séries_Site!Z386","v":17},{"$f":"+[2]Séries_Site!AA386","v":0},{"$f":"+[2]Séries_Site!AB386","v":0},{"$f":"+[2]Séries_Site!AC386","v":0},{"$f":"+[2]Séries_Site!AD386","v":0},{"$f":"+[2]Séries_Site!AE386","v":0},{"$f":"+[2]Séries_Site!AF386","v":108},{"$f":"+[2]Séries_Site!AG386","v":108},{"$f":"+[2]Séries_Site!AH386","v":0},{"$f":"+[2]Séries_Site!AI386","v":137},{"$f":"+[2]Séries_Site!AJ386","v":10}]
["1991-10-01",{"$f":"+[2]Séries_Site!B387","v":1850},{"$f":"+[2]Séries_Site!C387","v":1850},{"$f":"+[2]Séries_Site!D387","v":0},{"$f":"+[2]Séries_Site!E387","v":1352},{"$f":"+[2]Séries_Site!F387","v":322},{"$f":"+[2]Séries_Site!G387","v":1326},{"$f":"+[2]Séries_Site!H387","v":1326},{"$f":"+[2]Séries_Site!I387","v":0},{"$f":"+[2]Séries_Site!J387","v":826},{"$f":"+[2]Séries_Site!K387","v":222},{"$f":"+[2]Séries_Site!L387","v":58},{"$f":"+[2]Séries_Site!M387","v":58},{"$f":"+[2]Séries_Site!N387","v":0},{"$f":"+[2]Séries_Site!O387","v":120},{"$f":"+[2]Séries_Site!P387","v":17},{"$f":"+[2]Séries_Site!Q387","v":214},{"$f":"+[2]Séries_Site!R387","v":214},{"$f":"+[2]Séries_Site!S387","v":0},{"$f":"+[2]Séries_Site!T387","v":171},{"$f":"+[2]Séries_Site!U387","v":0},{"$f":"+[2]Séries_Site!V387","v":158},{"$f":"+[2]Séries_Site!W387","v":158},{"$f":"+[2]Séries_Site!X387","v":0},{"$f":"+[2]Séries_Site!Y387","v":117},{"$f":"+[2]Séries_Site!Z387","v":50},{"$f":"+[2]Séries_Site!AA387","v":0},{"$f":"+[2]Séries_Site!AB387","v":0},{"$f":"+[2]Séries_Site!AC387","v":0},{"$f":"+[2]Séries_Site!AD387","v":0},{"$f":"+[2]Séries_Site!AE387","v":0},{"$f":"+[2]Séries_Site!AF387","v":94},{"$f":"+[2]Séries_Site!AG387","v":94},{"$f":"+[2]Séries_Site!AH387","v":0},{"$f":"+[2]Séries_Site!AI387","v":118},{"$f":"+[2]Séries_Site!AJ387","v":33}]
["1991-11-01",{"$f":"+[2]Séries_Site!B388","v":1274},{"$f":"+[2]Séries_Site!C388","v":1274},{"$f":"+[2]Séries_Site!D388","v":0},{"$f":"+[2]Séries_Site!E388","v":1560},{"$f":"+[2]Séries_Site!F388","v":474},{"$f":"+[2]Séries_Site!G388","v":741},{"$f":"+[2]Séries_Site!H388","v":741},{"$f":"+[2]Séries_Site!I388","v":0},{"$f":"+[2]Séries_Site!J388","v":915},{"$f":"+[2]Séries_Site!K388","v":337},{"$f":"+[2]Séries_Site!L388","v":45},{"$f":"+[2]Séries_Site!M388","v":45},{"$f":"+[2]Séries_Site!N388","v":0},{"$f":"+[2]Séries_Site!O388","v":138},{"$f":"+[2]Séries_Site!P388","v":35},{"$f":"+[2]Séries_Site!Q388","v":151},{"$f":"+[2]Séries_Site!R388","v":151},{"$f":"+[2]Séries_Site!S388","v":0},{"$f":"+[2]Séries_Site!T388","v":178},{"$f":"+[2]Séries_Site!U388","v":39},{"$f":"+[2]Séries_Site!V388","v":255},{"$f":"+[2]Séries_Site!W388","v":255},{"$f":"+[2]Séries_Site!X388","v":0},{"$f":"+[2]Séries_Site!Y388","v":241},{"$f":"+[2]Séries_Site!Z388","v":35},{"$f":"+[2]Séries_Site!AA388","v":0},{"$f":"+[2]Séries_Site!AB388","v":0},{"$f":"+[2]Séries_Site!AC388","v":0},{"$f":"+[2]Séries_Site!AD388","v":0},{"$f":"+[2]Séries_Site!AE388","v":0},{"$f":"+[2]Séries_Site!AF388","v":82},{"$f":"+[2]Séries_Site!AG388","v":82},{"$f":"+[2]Séries_Site!AH388","v":0},{"$f":"+[2]Séries_Site!AI388","v":88},{"$f":"+[2]Séries_Site!AJ388","v":28}]
["1991-12-01",{"$f":"+[2]Séries_Site!B389","v":992},{"$f":"+[2]Séries_Site!C389","v":992},{"$f":"+[2]Séries_Site!D389","v":0},{"$f":"+[2]Séries_Site!E389","v":1008},{"$f":"+[2]Séries_Site!F389","v":184},{"$f":"+[2]Séries_Site!G389","v":522},{"$f":"+[2]Séries_Site!H389","v":522},{"$f":"+[2]Séries_Site!I389","v":0},{"$f":"+[2]Séries_Site!J389","v":581},{"$f":"+[2]Séries_Site!K389","v":89},{"$f":"+[2]Séries_Site!L389","v":32},{"$f":"+[2]Séries_Site!M389","v":32},{"$f":"+[2]Séries_Site!N389","v":0},{"$f":"+[2]Séries_Site!O389","v":13},{"$f":"+[2]Séries_Site!P389","v":24},{"$f":"+[2]Séries_Site!Q389","v":138},{"$f":"+[2]Séries_Site!R389","v":138},{"$f":"+[2]Séries_Site!S389","v":0},{"$f":"+[2]Séries_Site!T389","v":111},{"$f":"+[2]Séries_Site!U389","v":0},{"$f":"+[2]Séries_Site!V389","v":256},{"$f":"+[2]Séries_Site!W389","v":256},{"$f":"+[2]Séries_Site!X389","v":0},{"$f":"+[2]Séries_Site!Y389","v":228},{"$f":"+[2]Séries_Site!Z389","v":41},{"$f":"+[2]Séries_Site!AA389","v":0},{"$f":"+[2]Séries_Site!AB389","v":0},{"$f":"+[2]Séries_Site!AC389","v":0},{"$f":"+[2]Séries_Site!AD389","v":0},{"$f":"+[2]Séries_Site!AE389","v":0},{"$f":"+[2]Séries_Site!AF389","v":44},{"$f":"+[2]Séries_Site!AG389","v":44},{"$f":"+[2]Séries_Site!AH389","v":0},{"$f":"+[2]Séries_Site!AI389","v":75},{"$f":"+[2]Séries_Site!AJ389","v":30}]
["1992-01-01",{"$f":"+[2]Séries_Site!B390","v":930},{"$f":"+[2]Séries_Site!C390","v":930},{"$f":"+[2]Séries_Site!D390","v":0},{"$f":"+[2]Séries_Site!E390","v":1237},{"$f":"+[2]Séries_Site!F390","v":628},{"$f":"+[2]Séries_Site!G390","v":495},{"$f":"+[2]Séries_Site!H390","v":495},{"$f":"+[2]Séries_Site!I390","v":0},{"$f":"+[2]Séries_Site!J390","v":705},{"$f":"+[2]Séries_Site!K390","v":481},{"$f":"+[2]Séries_Site!L390","v":20},{"$f":"+[2]Séries_Site!M390","v":20},{"$f":"+[2]Séries_Site!N390","v":0},{"$f":"+[2]Séries_Site!O390","v":64},{"$f":"+[2]Séries_Site!P390","v":31},{"$f":"+[2]Séries_Site!Q390","v":144},{"$f":"+[2]Séries_Site!R390","v":144},{"$f":"+[2]Séries_Site!S390","v":0},{"$f":"+[2]Séries_Site!T390","v":122},{"$f":"+[2]Séries_Site!U390","v":0},{"$f":"+[2]Séries_Site!V390","v":213},{"$f":"+[2]Séries_Site!W390","v":213},{"$f":"+[2]Séries_Site!X390","v":0},{"$f":"+[2]Séries_Site!Y390","v":291},{"$f":"+[2]Séries_Site!Z390","v":107},{"$f":"+[2]Séries_Site!AA390","v":0},{"$f":"+[2]Séries_Site!AB390","v":0},{"$f":"+[2]Séries_Site!AC390","v":0},{"$f":"+[2]Séries_Site!AD390","v":0},{"$f":"+[2]Séries_Site!AE390","v":0},{"$f":"+[2]Séries_Site!AF390","v":58},{"$f":"+[2]Séries_Site!AG390","v":58},{"$f":"+[2]Séries_Site!AH390","v":0},{"$f":"+[2]Séries_Site!AI390","v":55},{"$f":"+[2]Séries_Site!AJ390","v":9}]
["1992-02-01",{"$f":"+[2]Séries_Site!B391","v":1369},{"$f":"+[2]Séries_Site!C391","v":1369},{"$f":"+[2]Séries_Site!D391","v":0},{"$f":"+[2]Séries_Site!E391","v":2054},{"$f":"+[2]Séries_Site!F391","v":758},{"$f":"+[2]Séries_Site!G391","v":733},{"$f":"+[2]Séries_Site!H391","v":733},{"$f":"+[2]Séries_Site!I391","v":0},{"$f":"+[2]Séries_Site!J391","v":1297},{"$f":"+[2]Séries_Site!K391","v":614},{"$f":"+[2]Séries_Site!L391","v":33},{"$f":"+[2]Séries_Site!M391","v":33},{"$f":"+[2]Séries_Site!N391","v":0},{"$f":"+[2]Séries_Site!O391","v":55},{"$f":"+[2]Séries_Site!P391","v":49},{"$f":"+[2]Séries_Site!Q391","v":208},{"$f":"+[2]Séries_Site!R391","v":208},{"$f":"+[2]Séries_Site!S391","v":0},{"$f":"+[2]Séries_Site!T391","v":213},{"$f":"+[2]Séries_Site!U391","v":11},{"$f":"+[2]Séries_Site!V391","v":313},{"$f":"+[2]Séries_Site!W391","v":313},{"$f":"+[2]Séries_Site!X391","v":0},{"$f":"+[2]Séries_Site!Y391","v":412},{"$f":"+[2]Séries_Site!Z391","v":72},{"$f":"+[2]Séries_Site!AA391","v":0},{"$f":"+[2]Séries_Site!AB391","v":0},{"$f":"+[2]Séries_Site!AC391","v":0},{"$f":"+[2]Séries_Site!AD391","v":0},{"$f":"+[2]Séries_Site!AE391","v":0},{"$f":"+[2]Séries_Site!AF391","v":82},{"$f":"+[2]Séries_Site!AG391","v":82},{"$f":"+[2]Séries_Site!AH391","v":0},{"$f":"+[2]Séries_Site!AI391","v":77},{"$f":"+[2]Séries_Site!AJ391","v":12}]
["1992-03-01",{"$f":"+[2]Séries_Site!B392","v":1584},{"$f":"+[2]Séries_Site!C392","v":1584},{"$f":"+[2]Séries_Site!D392","v":0},{"$f":"+[2]Séries_Site!E392","v":2185},{"$f":"+[2]Séries_Site!F392","v":592},{"$f":"+[2]Séries_Site!G392","v":1000},{"$f":"+[2]Séries_Site!H392","v":1000},{"$f":"+[2]Séries_Site!I392","v":0},{"$f":"+[2]Séries_Site!J392","v":1472},{"$f":"+[2]Séries_Site!K392","v":446},{"$f":"+[2]Séries_Site!L392","v":49},{"$f":"+[2]Séries_Site!M392","v":49},{"$f":"+[2]Séries_Site!N392","v":0},{"$f":"+[2]Séries_Site!O392","v":43},{"$f":"+[2]Séries_Site!P392","v":18},{"$f":"+[2]Séries_Site!Q392","v":160},{"$f":"+[2]Séries_Site!R392","v":160},{"$f":"+[2]Séries_Site!S392","v":0},{"$f":"+[2]Séries_Site!T392","v":230},{"$f":"+[2]Séries_Site!U392","v":10},{"$f":"+[2]Séries_Site!V392","v":262},{"$f":"+[2]Séries_Site!W392","v":262},{"$f":"+[2]Séries_Site!X392","v":0},{"$f":"+[2]Séries_Site!Y392","v":342},{"$f":"+[2]Séries_Site!Z392","v":100},{"$f":"+[2]Séries_Site!AA392","v":0},{"$f":"+[2]Séries_Site!AB392","v":0},{"$f":"+[2]Séries_Site!AC392","v":0},{"$f":"+[2]Séries_Site!AD392","v":0},{"$f":"+[2]Séries_Site!AE392","v":0},{"$f":"+[2]Séries_Site!AF392","v":113},{"$f":"+[2]Séries_Site!AG392","v":113},{"$f":"+[2]Séries_Site!AH392","v":0},{"$f":"+[2]Séries_Site!AI392","v":98},{"$f":"+[2]Séries_Site!AJ392","v":18}]
["1992-04-01",{"$f":"+[2]Séries_Site!B393","v":1334},{"$f":"+[2]Séries_Site!C393","v":1334},{"$f":"+[2]Séries_Site!D393","v":0},{"$f":"+[2]Séries_Site!E393","v":2133},{"$f":"+[2]Séries_Site!F393","v":613},{"$f":"+[2]Séries_Site!G393","v":1005},{"$f":"+[2]Séries_Site!H393","v":1005},{"$f":"+[2]Séries_Site!I393","v":0},{"$f":"+[2]Séries_Site!J393","v":1590},{"$f":"+[2]Séries_Site!K393","v":468},{"$f":"+[2]Séries_Site!L393","v":49},{"$f":"+[2]Séries_Site!M393","v":49},{"$f":"+[2]Séries_Site!N393","v":0},{"$f":"+[2]Séries_Site!O393","v":100},{"$f":"+[2]Séries_Site!P393","v":26},{"$f":"+[2]Séries_Site!Q393","v":114},{"$f":"+[2]Séries_Site!R393","v":114},{"$f":"+[2]Séries_Site!S393","v":0},{"$f":"+[2]Séries_Site!T393","v":144},{"$f":"+[2]Séries_Site!U393","v":10},{"$f":"+[2]Séries_Site!V393","v":97},{"$f":"+[2]Séries_Site!W393","v":97},{"$f":"+[2]Séries_Site!X393","v":0},{"$f":"+[2]Séries_Site!Y393","v":191},{"$f":"+[2]Séries_Site!Z393","v":69},{"$f":"+[2]Séries_Site!AA393","v":0},{"$f":"+[2]Séries_Site!AB393","v":0},{"$f":"+[2]Séries_Site!AC393","v":0},{"$f":"+[2]Séries_Site!AD393","v":0},{"$f":"+[2]Séries_Site!AE393","v":0},{"$f":"+[2]Séries_Site!AF393","v":69},{"$f":"+[2]Séries_Site!AG393","v":69},{"$f":"+[2]Séries_Site!AH393","v":0},{"$f":"+[2]Séries_Site!AI393","v":108},{"$f":"+[2]Séries_Site!AJ393","v":40}]
["1992-05-01",{"$f":"+[2]Séries_Site!B394","v":1581},{"$f":"+[2]Séries_Site!C394","v":1581},{"$f":"+[2]Séries_Site!D394","v":0},{"$f":"+[2]Séries_Site!E394","v":2127},{"$f":"+[2]Séries_Site!F394","v":391},{"$f":"+[2]Séries_Site!G394","v":1241},{"$f":"+[2]Séries_Site!H394","v":1241},{"$f":"+[2]Séries_Site!I394","v":0},{"$f":"+[2]Séries_Site!J394","v":1626},{"$f":"+[2]Séries_Site!K394","v":288},{"$f":"+[2]Séries_Site!L394","v":39},{"$f":"+[2]Séries_Site!M394","v":39},{"$f":"+[2]Séries_Site!N394","v":0},{"$f":"+[2]Séries_Site!O394","v":89},{"$f":"+[2]Séries_Site!P394","v":51},{"$f":"+[2]Séries_Site!Q394","v":127},{"$f":"+[2]Séries_Site!R394","v":127},{"$f":"+[2]Séries_Site!S394","v":0},{"$f":"+[2]Séries_Site!T394","v":162},{"$f":"+[2]Séries_Site!U394","v":5},{"$f":"+[2]Séries_Site!V394","v":71},{"$f":"+[2]Séries_Site!W394","v":71},{"$f":"+[2]Séries_Site!X394","v":0},{"$f":"+[2]Séries_Site!Y394","v":104},{"$f":"+[2]Séries_Site!Z394","v":13},{"$f":"+[2]Séries_Site!AA394","v":0},{"$f":"+[2]Séries_Site!AB394","v":0},{"$f":"+[2]Séries_Site!AC394","v":0},{"$f":"+[2]Séries_Site!AD394","v":0},{"$f":"+[2]Séries_Site!AE394","v":0},{"$f":"+[2]Séries_Site!AF394","v":103},{"$f":"+[2]Séries_Site!AG394","v":103},{"$f":"+[2]Séries_Site!AH394","v":0},{"$f":"+[2]Séries_Site!AI394","v":146},{"$f":"+[2]Séries_Site!AJ394","v":34}]
["1992-06-01",{"$f":"+[2]Séries_Site!B395","v":1899},{"$f":"+[2]Séries_Site!C395","v":1899},{"$f":"+[2]Séries_Site!D395","v":0},{"$f":"+[2]Séries_Site!E395","v":2220},{"$f":"+[2]Séries_Site!F395","v":457},{"$f":"+[2]Séries_Site!G395","v":1477},{"$f":"+[2]Séries_Site!H395","v":1477},{"$f":"+[2]Séries_Site!I395","v":0},{"$f":"+[2]Séries_Site!J395","v":1860},{"$f":"+[2]Séries_Site!K395","v":382},{"$f":"+[2]Séries_Site!L395","v":65},{"$f":"+[2]Séries_Site!M395","v":65},{"$f":"+[2]Séries_Site!N395","v":0},{"$f":"+[2]Séries_Site!O395","v":99},{"$f":"+[2]Séries_Site!P395","v":34},{"$f":"+[2]Séries_Site!Q395","v":181},{"$f":"+[2]Séries_Site!R395","v":181},{"$f":"+[2]Séries_Site!S395","v":0},{"$f":"+[2]Séries_Site!T395","v":145},{"$f":"+[2]Séries_Site!U395","v":10},{"$f":"+[2]Séries_Site!V395","v":75},{"$f":"+[2]Séries_Site!W395","v":75},{"$f":"+[2]Séries_Site!X395","v":0},{"$f":"+[2]Séries_Site!Y395","v":5},{"$f":"+[2]Séries_Site!Z395","v":2},{"$f":"+[2]Séries_Site!AA395","v":0},{"$f":"+[2]Séries_Site!AB395","v":0},{"$f":"+[2]Séries_Site!AC395","v":0},{"$f":"+[2]Séries_Site!AD395","v":0},{"$f":"+[2]Séries_Site!AE395","v":0},{"$f":"+[2]Séries_Site!AF395","v":101},{"$f":"+[2]Séries_Site!AG395","v":101},{"$f":"+[2]Séries_Site!AH395","v":0},{"$f":"+[2]Séries_Site!AI395","v":111},{"$f":"+[2]Séries_Site!AJ395","v":29}]
["1992-07-01",{"$f":"+[2]Séries_Site!B396","v":1909},{"$f":"+[2]Séries_Site!C396","v":1909},{"$f":"+[2]Séries_Site!D396","v":0},{"$f":"+[2]Séries_Site!E396","v":2270},{"$f":"+[2]Séries_Site!F396","v":319},{"$f":"+[2]Séries_Site!G396","v":1441},{"$f":"+[2]Séries_Site!H396","v":1441},{"$f":"+[2]Séries_Site!I396","v":0},{"$f":"+[2]Séries_Site!J396","v":1732},{"$f":"+[2]Séries_Site!K396","v":188},{"$f":"+[2]Séries_Site!L396","v":64},{"$f":"+[2]Séries_Site!M396","v":64},{"$f":"+[2]Séries_Site!N396","v":0},{"$f":"+[2]Séries_Site!O396","v":103},{"$f":"+[2]Séries_Site!P396","v":51},{"$f":"+[2]Séries_Site!Q396","v":193},{"$f":"+[2]Séries_Site!R396","v":193},{"$f":"+[2]Séries_Site!S396","v":0},{"$f":"+[2]Séries_Site!T396","v":211},{"$f":"+[2]Séries_Site!U396","v":35},{"$f":"+[2]Séries_Site!V396","v":96},{"$f":"+[2]Séries_Site!W396","v":96},{"$f":"+[2]Séries_Site!X396","v":0},{"$f":"+[2]Séries_Site!Y396","v":98},{"$f":"+[2]Séries_Site!Z396","v":22},{"$f":"+[2]Séries_Site!AA396","v":0},{"$f":"+[2]Séries_Site!AB396","v":0},{"$f":"+[2]Séries_Site!AC396","v":0},{"$f":"+[2]Séries_Site!AD396","v":0},{"$f":"+[2]Séries_Site!AE396","v":0},{"$f":"+[2]Séries_Site!AF396","v":115},{"$f":"+[2]Séries_Site!AG396","v":115},{"$f":"+[2]Séries_Site!AH396","v":0},{"$f":"+[2]Séries_Site!AI396","v":126},{"$f":"+[2]Séries_Site!AJ396","v":23}]
["1992-08-01",{"$f":"+[2]Séries_Site!B397","v":2037},{"$f":"+[2]Séries_Site!C397","v":2037},{"$f":"+[2]Séries_Site!D397","v":0},{"$f":"+[2]Séries_Site!E397","v":2268},{"$f":"+[2]Séries_Site!F397","v":485},{"$f":"+[2]Séries_Site!G397","v":1547},{"$f":"+[2]Séries_Site!H397","v":1547},{"$f":"+[2]Séries_Site!I397","v":0},{"$f":"+[2]Séries_Site!J397","v":1684},{"$f":"+[2]Séries_Site!K397","v":317},{"$f":"+[2]Séries_Site!L397","v":71},{"$f":"+[2]Séries_Site!M397","v":71},{"$f":"+[2]Séries_Site!N397","v":0},{"$f":"+[2]Séries_Site!O397","v":126},{"$f":"+[2]Séries_Site!P397","v":89},{"$f":"+[2]Séries_Site!Q397","v":173},{"$f":"+[2]Séries_Site!R397","v":173},{"$f":"+[2]Séries_Site!S397","v":0},{"$f":"+[2]Séries_Site!T397","v":189},{"$f":"+[2]Séries_Site!U397","v":3},{"$f":"+[2]Séries_Site!V397","v":112},{"$f":"+[2]Séries_Site!W397","v":112},{"$f":"+[2]Séries_Site!X397","v":0},{"$f":"+[2]Séries_Site!Y397","v":142},{"$f":"+[2]Séries_Site!Z397","v":30},{"$f":"+[2]Séries_Site!AA397","v":0},{"$f":"+[2]Séries_Site!AB397","v":0},{"$f":"+[2]Séries_Site!AC397","v":0},{"$f":"+[2]Séries_Site!AD397","v":0},{"$f":"+[2]Séries_Site!AE397","v":0},{"$f":"+[2]Séries_Site!AF397","v":134},{"$f":"+[2]Séries_Site!AG397","v":134},{"$f":"+[2]Séries_Site!AH397","v":0},{"$f":"+[2]Séries_Site!AI397","v":127},{"$f":"+[2]Séries_Site!AJ397","v":46}]
["1992-09-01",{"$f":"+[2]Séries_Site!B398","v":827},{"$f":"+[2]Séries_Site!C398","v":827},{"$f":"+[2]Séries_Site!D398","v":0},{"$f":"+[2]Séries_Site!E398","v":1672},{"$f":"+[2]Séries_Site!F398","v":402},{"$f":"+[2]Séries_Site!G398","v":543},{"$f":"+[2]Séries_Site!H398","v":543},{"$f":"+[2]Séries_Site!I398","v":0},{"$f":"+[2]Séries_Site!J398","v":1083},{"$f":"+[2]Séries_Site!K398","v":307},{"$f":"+[2]Séries_Site!L398","v":39},{"$f":"+[2]Séries_Site!M398","v":39},{"$f":"+[2]Séries_Site!N398","v":0},{"$f":"+[2]Séries_Site!O398","v":84},{"$f":"+[2]Séries_Site!P398","v":42},{"$f":"+[2]Séries_Site!Q398","v":33},{"$f":"+[2]Séries_Site!R398","v":33},{"$f":"+[2]Séries_Site!S398","v":0},{"$f":"+[2]Séries_Site!T398","v":197},{"$f":"+[2]Séries_Site!U398","v":2},{"$f":"+[2]Séries_Site!V398","v":128},{"$f":"+[2]Séries_Site!W398","v":128},{"$f":"+[2]Séries_Site!X398","v":0},{"$f":"+[2]Séries_Site!Y398","v":181},{"$f":"+[2]Séries_Site!Z398","v":28},{"$f":"+[2]Séries_Site!AA398","v":0},{"$f":"+[2]Séries_Site!AB398","v":0},{"$f":"+[2]Séries_Site!AC398","v":0},{"$f":"+[2]Séries_Site!AD398","v":0},{"$f":"+[2]Séries_Site!AE398","v":0},{"$f":"+[2]Séries_Site!AF398","v":84},{"$f":"+[2]Séries_Site!AG398","v":84},{"$f":"+[2]Séries_Site!AH398","v":0},{"$f":"+[2]Séries_Site!AI398","v":127},{"$f":"+[2]Séries_Site!AJ398","v":23}]
["1992-10-01",{"$f":"+[2]Séries_Site!B399","v":920},{"$f":"+[2]Séries_Site!C399","v":920},{"$f":"+[2]Séries_Site!D399","v":0},{"$f":"+[2]Séries_Site!E399","v":1376},{"$f":"+[2]Séries_Site!F399","v":564},{"$f":"+[2]Séries_Site!G399","v":650},{"$f":"+[2]Séries_Site!H399","v":650},{"$f":"+[2]Séries_Site!I399","v":0},{"$f":"+[2]Séries_Site!J399","v":904},{"$f":"+[2]Séries_Site!K399","v":412},{"$f":"+[2]Séries_Site!L399","v":37},{"$f":"+[2]Séries_Site!M399","v":37},{"$f":"+[2]Séries_Site!N399","v":0},{"$f":"+[2]Séries_Site!O399","v":86},{"$f":"+[2]Séries_Site!P399","v":24},{"$f":"+[2]Séries_Site!Q399","v":21},{"$f":"+[2]Séries_Site!R399","v":21},{"$f":"+[2]Séries_Site!S399","v":0},{"$f":"+[2]Séries_Site!T399","v":59},{"$f":"+[2]Séries_Site!U399","v":76},{"$f":"+[2]Séries_Site!V399","v":152},{"$f":"+[2]Séries_Site!W399","v":152},{"$f":"+[2]Séries_Site!X399","v":0},{"$f":"+[2]Séries_Site!Y399","v":195},{"$f":"+[2]Séries_Site!Z399","v":26},{"$f":"+[2]Séries_Site!AA399","v":0},{"$f":"+[2]Séries_Site!AB399","v":0},{"$f":"+[2]Séries_Site!AC399","v":0},{"$f":"+[2]Séries_Site!AD399","v":0},{"$f":"+[2]Séries_Site!AE399","v":0},{"$f":"+[2]Séries_Site!AF399","v":60},{"$f":"+[2]Séries_Site!AG399","v":60},{"$f":"+[2]Séries_Site!AH399","v":0},{"$f":"+[2]Séries_Site!AI399","v":132},{"$f":"+[2]Séries_Site!AJ399","v":26}]
["1992-11-01",{"$f":"+[2]Séries_Site!B400","v":1383},{"$f":"+[2]Séries_Site!C400","v":1383},{"$f":"+[2]Séries_Site!D400","v":0},{"$f":"+[2]Séries_Site!E400","v":1464},{"$f":"+[2]Séries_Site!F400","v":446},{"$f":"+[2]Séries_Site!G400","v":917},{"$f":"+[2]Séries_Site!H400","v":917},{"$f":"+[2]Séries_Site!I400","v":0},{"$f":"+[2]Séries_Site!J400","v":1055},{"$f":"+[2]Séries_Site!K400","v":292},{"$f":"+[2]Séries_Site!L400","v":40},{"$f":"+[2]Séries_Site!M400","v":40},{"$f":"+[2]Séries_Site!N400","v":0},{"$f":"+[2]Séries_Site!O400","v":65},{"$f":"+[2]Séries_Site!P400","v":39},{"$f":"+[2]Séries_Site!Q400","v":136},{"$f":"+[2]Séries_Site!R400","v":136},{"$f":"+[2]Séries_Site!S400","v":0},{"$f":"+[2]Séries_Site!T400","v":53},{"$f":"+[2]Séries_Site!U400","v":1},{"$f":"+[2]Séries_Site!V400","v":237},{"$f":"+[2]Séries_Site!W400","v":237},{"$f":"+[2]Séries_Site!X400","v":0},{"$f":"+[2]Séries_Site!Y400","v":221},{"$f":"+[2]Séries_Site!Z400","v":66},{"$f":"+[2]Séries_Site!AA400","v":0},{"$f":"+[2]Séries_Site!AB400","v":0},{"$f":"+[2]Séries_Site!AC400","v":0},{"$f":"+[2]Séries_Site!AD400","v":0},{"$f":"+[2]Séries_Site!AE400","v":0},{"$f":"+[2]Séries_Site!AF400","v":53},{"$f":"+[2]Séries_Site!AG400","v":53},{"$f":"+[2]Séries_Site!AH400","v":0},{"$f":"+[2]Séries_Site!AI400","v":70},{"$f":"+[2]Séries_Site!AJ400","v":48}]
["1992-12-01",{"$f":"+[2]Séries_Site!B401","v":1071},{"$f":"+[2]Séries_Site!C401","v":1071},{"$f":"+[2]Séries_Site!D401","v":0},{"$f":"+[2]Séries_Site!E401","v":1078},{"$f":"+[2]Séries_Site!F401","v":168},{"$f":"+[2]Séries_Site!G401","v":678},{"$f":"+[2]Séries_Site!H401","v":678},{"$f":"+[2]Séries_Site!I401","v":0},{"$f":"+[2]Séries_Site!J401","v":640},{"$f":"+[2]Séries_Site!K401","v":68},{"$f":"+[2]Séries_Site!L401","v":26},{"$f":"+[2]Séries_Site!M401","v":26},{"$f":"+[2]Séries_Site!N401","v":0},{"$f":"+[2]Séries_Site!O401","v":75},{"$f":"+[2]Séries_Site!P401","v":32},{"$f":"+[2]Séries_Site!Q401","v":80},{"$f":"+[2]Séries_Site!R401","v":80},{"$f":"+[2]Séries_Site!S401","v":0},{"$f":"+[2]Séries_Site!T401","v":65},{"$f":"+[2]Séries_Site!U401","v":1},{"$f":"+[2]Séries_Site!V401","v":248},{"$f":"+[2]Séries_Site!W401","v":248},{"$f":"+[2]Séries_Site!X401","v":0},{"$f":"+[2]Séries_Site!Y401","v":263},{"$f":"+[2]Séries_Site!Z401","v":34},{"$f":"+[2]Séries_Site!AA401","v":0},{"$f":"+[2]Séries_Site!AB401","v":0},{"$f":"+[2]Séries_Site!AC401","v":0},{"$f":"+[2]Séries_Site!AD401","v":0},{"$f":"+[2]Séries_Site!AE401","v":0},{"$f":"+[2]Séries_Site!AF401","v":39},{"$f":"+[2]Séries_Site!AG401","v":39},{"$f":"+[2]Séries_Site!AH401","v":0},{"$f":"+[2]Séries_Site!AI401","v":35},{"$f":"+[2]Séries_Site!AJ401","v":33}]
["1993-01-01",{"$f":"+[2]Séries_Site!B402","v":1158},{"$f":"+[2]Séries_Site!C402","v":1158},{"$f":"+[2]Séries_Site!D402","v":0},{"$f":"+[2]Séries_Site!E402","v":1398},{"$f":"+[2]Séries_Site!F402","v":309},{"$f":"+[2]Séries_Site!G402","v":597},{"$f":"+[2]Séries_Site!H402","v":597},{"$f":"+[2]Séries_Site!I402","v":0},{"$f":"+[2]Séries_Site!J402","v":785},{"$f":"+[2]Séries_Site!K402","v":157},{"$f":"+[2]Séries_Site!L402","v":31},{"$f":"+[2]Séries_Site!M402","v":31},{"$f":"+[2]Séries_Site!N402","v":0},{"$f":"+[2]Séries_Site!O402","v":59},{"$f":"+[2]Séries_Site!P402","v":43},{"$f":"+[2]Séries_Site!Q402","v":120},{"$f":"+[2]Séries_Site!R402","v":120},{"$f":"+[2]Séries_Site!S402","v":0},{"$f":"+[2]Séries_Site!T402","v":106},{"$f":"+[2]Séries_Site!U402","v":70},{"$f":"+[2]Séries_Site!V402","v":332},{"$f":"+[2]Séries_Site!W402","v":332},{"$f":"+[2]Séries_Site!X402","v":0},{"$f":"+[2]Séries_Site!Y402","v":355},{"$f":"+[2]Séries_Site!Z402","v":27},{"$f":"+[2]Séries_Site!AA402","v":0},{"$f":"+[2]Séries_Site!AB402","v":0},{"$f":"+[2]Séries_Site!AC402","v":0},{"$f":"+[2]Séries_Site!AD402","v":0},{"$f":"+[2]Séries_Site!AE402","v":0},{"$f":"+[2]Séries_Site!AF402","v":78},{"$f":"+[2]Séries_Site!AG402","v":78},{"$f":"+[2]Séries_Site!AH402","v":0},{"$f":"+[2]Séries_Site!AI402","v":93},{"$f":"+[2]Séries_Site!AJ402","v":12}]
["1993-02-01",{"$f":"+[2]Séries_Site!B403","v":1581},{"$f":"+[2]Séries_Site!C403","v":1581},{"$f":"+[2]Séries_Site!D403","v":0},{"$f":"+[2]Séries_Site!E403","v":1993},{"$f":"+[2]Séries_Site!F403","v":361},{"$f":"+[2]Séries_Site!G403","v":891},{"$f":"+[2]Séries_Site!H403","v":891},{"$f":"+[2]Séries_Site!I403","v":0},{"$f":"+[2]Séries_Site!J403","v":1181},{"$f":"+[2]Séries_Site!K403","v":253},{"$f":"+[2]Séries_Site!L403","v":40},{"$f":"+[2]Séries_Site!M403","v":40},{"$f":"+[2]Séries_Site!N403","v":0},{"$f":"+[2]Séries_Site!O403","v":70},{"$f":"+[2]Séries_Site!P403","v":30},{"$f":"+[2]Séries_Site!Q403","v":173},{"$f":"+[2]Séries_Site!R403","v":173},{"$f":"+[2]Séries_Site!S403","v":0},{"$f":"+[2]Séries_Site!T403","v":216},{"$f":"+[2]Séries_Site!U403","v":4},{"$f":"+[2]Séries_Site!V403","v":378},{"$f":"+[2]Séries_Site!W403","v":378},{"$f":"+[2]Séries_Site!X403","v":0},{"$f":"+[2]Séries_Site!Y403","v":391},{"$f":"+[2]Séries_Site!Z403","v":63},{"$f":"+[2]Séries_Site!AA403","v":0},{"$f":"+[2]Séries_Site!AB403","v":0},{"$f":"+[2]Séries_Site!AC403","v":0},{"$f":"+[2]Séries_Site!AD403","v":0},{"$f":"+[2]Séries_Site!AE403","v":0},{"$f":"+[2]Séries_Site!AF403","v":99},{"$f":"+[2]Séries_Site!AG403","v":99},{"$f":"+[2]Séries_Site!AH403","v":0},{"$f":"+[2]Séries_Site!AI403","v":135},{"$f":"+[2]Séries_Site!AJ403","v":11}]
["1993-03-01",{"$f":"+[2]Séries_Site!B404","v":1957},{"$f":"+[2]Séries_Site!C404","v":1957},{"$f":"+[2]Séries_Site!D404","v":0},{"$f":"+[2]Séries_Site!E404","v":2476},{"$f":"+[2]Séries_Site!F404","v":502},{"$f":"+[2]Séries_Site!G404","v":1326},{"$f":"+[2]Séries_Site!H404","v":1326},{"$f":"+[2]Séries_Site!I404","v":0},{"$f":"+[2]Séries_Site!J404","v":1575},{"$f":"+[2]Séries_Site!K404","v":224},{"$f":"+[2]Séries_Site!L404","v":75},{"$f":"+[2]Séries_Site!M404","v":75},{"$f":"+[2]Séries_Site!N404","v":0},{"$f":"+[2]Séries_Site!O404","v":116},{"$f":"+[2]Séries_Site!P404","v":82},{"$f":"+[2]Séries_Site!Q404","v":126},{"$f":"+[2]Séries_Site!R404","v":126},{"$f":"+[2]Séries_Site!S404","v":0},{"$f":"+[2]Séries_Site!T404","v":224},{"$f":"+[2]Séries_Site!U404","v":94},{"$f":"+[2]Séries_Site!V404","v":323},{"$f":"+[2]Séries_Site!W404","v":323},{"$f":"+[2]Séries_Site!X404","v":0},{"$f":"+[2]Séries_Site!Y404","v":460},{"$f":"+[2]Séries_Site!Z404","v":86},{"$f":"+[2]Séries_Site!AA404","v":0},{"$f":"+[2]Séries_Site!AB404","v":0},{"$f":"+[2]Séries_Site!AC404","v":0},{"$f":"+[2]Séries_Site!AD404","v":0},{"$f":"+[2]Séries_Site!AE404","v":0},{"$f":"+[2]Séries_Site!AF404","v":107},{"$f":"+[2]Séries_Site!AG404","v":107},{"$f":"+[2]Séries_Site!AH404","v":0},{"$f":"+[2]Séries_Site!AI404","v":101},{"$f":"+[2]Séries_Site!AJ404","v":16}]
["1993-04-01",{"$f":"+[2]Séries_Site!B405","v":1927},{"$f":"+[2]Séries_Site!C405","v":1927},{"$f":"+[2]Séries_Site!D405","v":0},{"$f":"+[2]Séries_Site!E405","v":2244},{"$f":"+[2]Séries_Site!F405","v":489},{"$f":"+[2]Séries_Site!G405","v":1492},{"$f":"+[2]Séries_Site!H405","v":1492},{"$f":"+[2]Séries_Site!I405","v":0},{"$f":"+[2]Séries_Site!J405","v":1654},{"$f":"+[2]Séries_Site!K405","v":313},{"$f":"+[2]Séries_Site!L405","v":60},{"$f":"+[2]Séries_Site!M405","v":60},{"$f":"+[2]Séries_Site!N405","v":0},{"$f":"+[2]Séries_Site!O405","v":99},{"$f":"+[2]Séries_Site!P405","v":51},{"$f":"+[2]Séries_Site!Q405","v":82},{"$f":"+[2]Séries_Site!R405","v":82},{"$f":"+[2]Séries_Site!S405","v":0},{"$f":"+[2]Séries_Site!T405","v":122},{"$f":"+[2]Séries_Site!U405","v":47},{"$f":"+[2]Séries_Site!V405","v":143},{"$f":"+[2]Séries_Site!W405","v":143},{"$f":"+[2]Séries_Site!X405","v":0},{"$f":"+[2]Séries_Site!Y405","v":193},{"$f":"+[2]Séries_Site!Z405","v":40},{"$f":"+[2]Séries_Site!AA405","v":0},{"$f":"+[2]Séries_Site!AB405","v":0},{"$f":"+[2]Séries_Site!AC405","v":0},{"$f":"+[2]Séries_Site!AD405","v":0},{"$f":"+[2]Séries_Site!AE405","v":0},{"$f":"+[2]Séries_Site!AF405","v":150},{"$f":"+[2]Séries_Site!AG405","v":150},{"$f":"+[2]Séries_Site!AH405","v":0},{"$f":"+[2]Séries_Site!AI405","v":176},{"$f":"+[2]Séries_Site!AJ405","v":38}]
["1993-05-01",{"$f":"+[2]Séries_Site!B406","v":2123},{"$f":"+[2]Séries_Site!C406","v":2123},{"$f":"+[2]Séries_Site!D406","v":0},{"$f":"+[2]Séries_Site!E406","v":2519},{"$f":"+[2]Séries_Site!F406","v":264},{"$f":"+[2]Séries_Site!G406","v":1700},{"$f":"+[2]Séries_Site!H406","v":1700},{"$f":"+[2]Séries_Site!I406","v":0},{"$f":"+[2]Séries_Site!J406","v":1967},{"$f":"+[2]Séries_Site!K406","v":164},{"$f":"+[2]Séries_Site!L406","v":86},{"$f":"+[2]Séries_Site!M406","v":86},{"$f":"+[2]Séries_Site!N406","v":0},{"$f":"+[2]Séries_Site!O406","v":105},{"$f":"+[2]Séries_Site!P406","v":34},{"$f":"+[2]Séries_Site!Q406","v":51},{"$f":"+[2]Séries_Site!R406","v":51},{"$f":"+[2]Séries_Site!S406","v":0},{"$f":"+[2]Séries_Site!T406","v":114},{"$f":"+[2]Séries_Site!U406","v":1},{"$f":"+[2]Séries_Site!V406","v":116},{"$f":"+[2]Séries_Site!W406","v":116},{"$f":"+[2]Séries_Site!X406","v":0},{"$f":"+[2]Séries_Site!Y406","v":138},{"$f":"+[2]Séries_Site!Z406","v":32},{"$f":"+[2]Séries_Site!AA406","v":0},{"$f":"+[2]Séries_Site!AB406","v":0},{"$f":"+[2]Séries_Site!AC406","v":0},{"$f":"+[2]Séries_Site!AD406","v":0},{"$f":"+[2]Séries_Site!AE406","v":0},{"$f":"+[2]Séries_Site!AF406","v":170},{"$f":"+[2]Séries_Site!AG406","v":170},{"$f":"+[2]Séries_Site!AH406","v":0},{"$f":"+[2]Séries_Site!AI406","v":195},{"$f":"+[2]Séries_Site!AJ406","v":33}]
["1993-06-01",{"$f":"+[2]Séries_Site!B407","v":2036},{"$f":"+[2]Séries_Site!C407","v":2036},{"$f":"+[2]Séries_Site!D407","v":0},{"$f":"+[2]Séries_Site!E407","v":2627},{"$f":"+[2]Séries_Site!F407","v":272},{"$f":"+[2]Séries_Site!G407","v":1682},{"$f":"+[2]Séries_Site!H407","v":1682},{"$f":"+[2]Séries_Site!I407","v":0},{"$f":"+[2]Séries_Site!J407","v":2111},{"$f":"+[2]Séries_Site!K407","v":143},{"$f":"+[2]Séries_Site!L407","v":76},{"$f":"+[2]Séries_Site!M407","v":76},{"$f":"+[2]Séries_Site!N407","v":0},{"$f":"+[2]Séries_Site!O407","v":93},{"$f":"+[2]Séries_Site!P407","v":58},{"$f":"+[2]Séries_Site!Q407","v":60},{"$f":"+[2]Séries_Site!R407","v":60},{"$f":"+[2]Séries_Site!S407","v":0},{"$f":"+[2]Séries_Site!T407","v":90},{"$f":"+[2]Séries_Site!U407","v":14},{"$f":"+[2]Séries_Site!V407","v":97},{"$f":"+[2]Séries_Site!W407","v":97},{"$f":"+[2]Séries_Site!X407","v":0},{"$f":"+[2]Séries_Site!Y407","v":161},{"$f":"+[2]Séries_Site!Z407","v":17},{"$f":"+[2]Séries_Site!AA407","v":0},{"$f":"+[2]Séries_Site!AB407","v":0},{"$f":"+[2]Séries_Site!AC407","v":0},{"$f":"+[2]Séries_Site!AD407","v":0},{"$f":"+[2]Séries_Site!AE407","v":0},{"$f":"+[2]Séries_Site!AF407","v":121},{"$f":"+[2]Séries_Site!AG407","v":121},{"$f":"+[2]Séries_Site!AH407","v":0},{"$f":"+[2]Séries_Site!AI407","v":172},{"$f":"+[2]Séries_Site!AJ407","v":40}]
["1993-07-01",{"$f":"+[2]Séries_Site!B408","v":3251},{"$f":"+[2]Séries_Site!C408","v":3251},{"$f":"+[2]Séries_Site!D408","v":0},{"$f":"+[2]Séries_Site!E408","v":3340},{"$f":"+[2]Séries_Site!F408","v":300},{"$f":"+[2]Séries_Site!G408","v":2844},{"$f":"+[2]Séries_Site!H408","v":2844},{"$f":"+[2]Séries_Site!I408","v":0},{"$f":"+[2]Séries_Site!J408","v":2842},{"$f":"+[2]Séries_Site!K408","v":198},{"$f":"+[2]Séries_Site!L408","v":103},{"$f":"+[2]Séries_Site!M408","v":103},{"$f":"+[2]Séries_Site!N408","v":0},{"$f":"+[2]Séries_Site!O408","v":111},{"$f":"+[2]Séries_Site!P408","v":38},{"$f":"+[2]Séries_Site!Q408","v":91},{"$f":"+[2]Séries_Site!R408","v":91},{"$f":"+[2]Séries_Site!S408","v":0},{"$f":"+[2]Séries_Site!T408","v":110},{"$f":"+[2]Séries_Site!U408","v":6},{"$f":"+[2]Séries_Site!V408","v":106},{"$f":"+[2]Séries_Site!W408","v":106},{"$f":"+[2]Séries_Site!X408","v":0},{"$f":"+[2]Séries_Site!Y408","v":135},{"$f":"+[2]Séries_Site!Z408","v":33},{"$f":"+[2]Séries_Site!AA408","v":0},{"$f":"+[2]Séries_Site!AB408","v":0},{"$f":"+[2]Séries_Site!AC408","v":0},{"$f":"+[2]Séries_Site!AD408","v":0},{"$f":"+[2]Séries_Site!AE408","v":0},{"$f":"+[2]Séries_Site!AF408","v":107},{"$f":"+[2]Séries_Site!AG408","v":107},{"$f":"+[2]Séries_Site!AH408","v":0},{"$f":"+[2]Séries_Site!AI408","v":142},{"$f":"+[2]Séries_Site!AJ408","v":25}]
["1993-08-01",{"$f":"+[2]Séries_Site!B409","v":3747},{"$f":"+[2]Séries_Site!C409","v":3747},{"$f":"+[2]Séries_Site!D409","v":0},{"$f":"+[2]Séries_Site!E409","v":3983},{"$f":"+[2]Séries_Site!F409","v":335},{"$f":"+[2]Séries_Site!G409","v":3283},{"$f":"+[2]Séries_Site!H409","v":3283},{"$f":"+[2]Séries_Site!I409","v":0},{"$f":"+[2]Séries_Site!J409","v":3399},{"$f":"+[2]Séries_Site!K409","v":175},{"$f":"+[2]Séries_Site!L409","v":102},{"$f":"+[2]Séries_Site!M409","v":102},{"$f":"+[2]Séries_Site!N409","v":0},{"$f":"+[2]Séries_Site!O409","v":93},{"$f":"+[2]Séries_Site!P409","v":34},{"$f":"+[2]Séries_Site!Q409","v":105},{"$f":"+[2]Séries_Site!R409","v":105},{"$f":"+[2]Séries_Site!S409","v":0},{"$f":"+[2]Séries_Site!T409","v":139},{"$f":"+[2]Séries_Site!U409","v":66},{"$f":"+[2]Séries_Site!V409","v":162},{"$f":"+[2]Séries_Site!W409","v":162},{"$f":"+[2]Séries_Site!X409","v":0},{"$f":"+[2]Séries_Site!Y409","v":215},{"$f":"+[2]Séries_Site!Z409","v":39},{"$f":"+[2]Séries_Site!AA409","v":0},{"$f":"+[2]Séries_Site!AB409","v":0},{"$f":"+[2]Séries_Site!AC409","v":0},{"$f":"+[2]Séries_Site!AD409","v":0},{"$f":"+[2]Séries_Site!AE409","v":0},{"$f":"+[2]Séries_Site!AF409","v":95},{"$f":"+[2]Séries_Site!AG409","v":95},{"$f":"+[2]Séries_Site!AH409","v":0},{"$f":"+[2]Séries_Site!AI409","v":137},{"$f":"+[2]Séries_Site!AJ409","v":21}]
["1993-09-01",{"$f":"+[2]Séries_Site!B410","v":3155},{"$f":"+[2]Séries_Site!C410","v":3155},{"$f":"+[2]Séries_Site!D410","v":0},{"$f":"+[2]Séries_Site!E410","v":3499},{"$f":"+[2]Séries_Site!F410","v":406},{"$f":"+[2]Séries_Site!G410","v":2659},{"$f":"+[2]Séries_Site!H410","v":2659},{"$f":"+[2]Séries_Site!I410","v":0},{"$f":"+[2]Séries_Site!J410","v":2822},{"$f":"+[2]Séries_Site!K410","v":243},{"$f":"+[2]Séries_Site!L410","v":87},{"$f":"+[2]Séries_Site!M410","v":87},{"$f":"+[2]Séries_Site!N410","v":0},{"$f":"+[2]Séries_Site!O410","v":119},{"$f":"+[2]Séries_Site!P410","v":32},{"$f":"+[2]Séries_Site!Q410","v":91},{"$f":"+[2]Séries_Site!R410","v":91},{"$f":"+[2]Séries_Site!S410","v":0},{"$f":"+[2]Séries_Site!T410","v":108},{"$f":"+[2]Séries_Site!U410","v":10},{"$f":"+[2]Séries_Site!V410","v":214},{"$f":"+[2]Séries_Site!W410","v":214},{"$f":"+[2]Séries_Site!X410","v":0},{"$f":"+[2]Séries_Site!Y410","v":317},{"$f":"+[2]Séries_Site!Z410","v":91},{"$f":"+[2]Séries_Site!AA410","v":0},{"$f":"+[2]Séries_Site!AB410","v":0},{"$f":"+[2]Séries_Site!AC410","v":0},{"$f":"+[2]Séries_Site!AD410","v":0},{"$f":"+[2]Séries_Site!AE410","v":0},{"$f":"+[2]Séries_Site!AF410","v":104},{"$f":"+[2]Séries_Site!AG410","v":104},{"$f":"+[2]Séries_Site!AH410","v":0},{"$f":"+[2]Séries_Site!AI410","v":133},{"$f":"+[2]Séries_Site!AJ410","v":30}]
["1993-10-01",{"$f":"+[2]Séries_Site!B411","v":2544},{"$f":"+[2]Séries_Site!C411","v":2544},{"$f":"+[2]Séries_Site!D411","v":0},{"$f":"+[2]Séries_Site!E411","v":2941},{"$f":"+[2]Séries_Site!F411","v":374},{"$f":"+[2]Séries_Site!G411","v":1953},{"$f":"+[2]Séries_Site!H411","v":1953},{"$f":"+[2]Séries_Site!I411","v":0},{"$f":"+[2]Séries_Site!J411","v":2238},{"$f":"+[2]Séries_Site!K411","v":264},{"$f":"+[2]Séries_Site!L411","v":91},{"$f":"+[2]Séries_Site!M411","v":91},{"$f":"+[2]Séries_Site!N411","v":0},{"$f":"+[2]Séries_Site!O411","v":120},{"$f":"+[2]Séries_Site!P411","v":35},{"$f":"+[2]Séries_Site!Q411","v":99},{"$f":"+[2]Séries_Site!R411","v":99},{"$f":"+[2]Séries_Site!S411","v":0},{"$f":"+[2]Séries_Site!T411","v":95},{"$f":"+[2]Séries_Site!U411","v":21},{"$f":"+[2]Séries_Site!V411","v":286},{"$f":"+[2]Séries_Site!W411","v":286},{"$f":"+[2]Séries_Site!X411","v":0},{"$f":"+[2]Séries_Site!Y411","v":362},{"$f":"+[2]Séries_Site!Z411","v":38},{"$f":"+[2]Séries_Site!AA411","v":0},{"$f":"+[2]Séries_Site!AB411","v":0},{"$f":"+[2]Séries_Site!AC411","v":0},{"$f":"+[2]Séries_Site!AD411","v":0},{"$f":"+[2]Séries_Site!AE411","v":0},{"$f":"+[2]Séries_Site!AF411","v":115},{"$f":"+[2]Séries_Site!AG411","v":115},{"$f":"+[2]Séries_Site!AH411","v":0},{"$f":"+[2]Séries_Site!AI411","v":126},{"$f":"+[2]Séries_Site!AJ411","v":16}]
["1993-11-01",{"$f":"+[2]Séries_Site!B412","v":2271},{"$f":"+[2]Séries_Site!C412","v":2271},{"$f":"+[2]Séries_Site!D412","v":0},{"$f":"+[2]Séries_Site!E412","v":3149},{"$f":"+[2]Séries_Site!F412","v":591},{"$f":"+[2]Séries_Site!G412","v":1765},{"$f":"+[2]Séries_Site!H412","v":1765},{"$f":"+[2]Séries_Site!I412","v":0},{"$f":"+[2]Séries_Site!J412","v":2477},{"$f":"+[2]Séries_Site!K412","v":436},{"$f":"+[2]Séries_Site!L412","v":78},{"$f":"+[2]Séries_Site!M412","v":78},{"$f":"+[2]Séries_Site!N412","v":0},{"$f":"+[2]Séries_Site!O412","v":117},{"$f":"+[2]Séries_Site!P412","v":48},{"$f":"+[2]Séries_Site!Q412","v":50},{"$f":"+[2]Séries_Site!R412","v":50},{"$f":"+[2]Séries_Site!S412","v":0},{"$f":"+[2]Séries_Site!T412","v":62},{"$f":"+[2]Séries_Site!U412","v":3},{"$f":"+[2]Séries_Site!V412","v":289},{"$f":"+[2]Séries_Site!W412","v":289},{"$f":"+[2]Séries_Site!X412","v":0},{"$f":"+[2]Séries_Site!Y412","v":370},{"$f":"+[2]Séries_Site!Z412","v":73},{"$f":"+[2]Séries_Site!AA412","v":0},{"$f":"+[2]Séries_Site!AB412","v":0},{"$f":"+[2]Séries_Site!AC412","v":0},{"$f":"+[2]Séries_Site!AD412","v":0},{"$f":"+[2]Séries_Site!AE412","v":0},{"$f":"+[2]Séries_Site!AF412","v":89},{"$f":"+[2]Séries_Site!AG412","v":89},{"$f":"+[2]Séries_Site!AH412","v":0},{"$f":"+[2]Séries_Site!AI412","v":123},{"$f":"+[2]Séries_Site!AJ412","v":31}]
["1993-12-01",{"$f":"+[2]Séries_Site!B413","v":1657},{"$f":"+[2]Séries_Site!C413","v":1657},{"$f":"+[2]Séries_Site!D413","v":0},{"$f":"+[2]Séries_Site!E413","v":2008},{"$f":"+[2]Séries_Site!F413","v":280},{"$f":"+[2]Séries_Site!G413","v":1204},{"$f":"+[2]Séries_Site!H413","v":1204},{"$f":"+[2]Séries_Site!I413","v":0},{"$f":"+[2]Séries_Site!J413","v":1449},{"$f":"+[2]Séries_Site!K413","v":155},{"$f":"+[2]Séries_Site!L413","v":79},{"$f":"+[2]Séries_Site!M413","v":79},{"$f":"+[2]Séries_Site!N413","v":0},{"$f":"+[2]Séries_Site!O413","v":132},{"$f":"+[2]Séries_Site!P413","v":33},{"$f":"+[2]Séries_Site!Q413","v":48},{"$f":"+[2]Séries_Site!R413","v":48},{"$f":"+[2]Séries_Site!S413","v":0},{"$f":"+[2]Séries_Site!T413","v":17},{"$f":"+[2]Séries_Site!U413","v":0},{"$f":"+[2]Séries_Site!V413","v":289},{"$f":"+[2]Séries_Site!W413","v":289},{"$f":"+[2]Séries_Site!X413","v":0},{"$f":"+[2]Séries_Site!Y413","v":348},{"$f":"+[2]Séries_Site!Z413","v":72},{"$f":"+[2]Séries_Site!AA413","v":0},{"$f":"+[2]Séries_Site!AB413","v":0},{"$f":"+[2]Séries_Site!AC413","v":0},{"$f":"+[2]Séries_Site!AD413","v":0},{"$f":"+[2]Séries_Site!AE413","v":0},{"$f":"+[2]Séries_Site!AF413","v":37},{"$f":"+[2]Séries_Site!AG413","v":37},{"$f":"+[2]Séries_Site!AH413","v":0},{"$f":"+[2]Séries_Site!AI413","v":62},{"$f":"+[2]Séries_Site!AJ413","v":20}]
["1994-01-01",{"$f":"+[2]Séries_Site!B414","v":1683},{"$f":"+[2]Séries_Site!C414","v":1683},{"$f":"+[2]Séries_Site!D414","v":0},{"$f":"+[2]Séries_Site!E414","v":2171},{"$f":"+[2]Séries_Site!F414","v":441},{"$f":"+[2]Séries_Site!G414","v":1047},{"$f":"+[2]Séries_Site!H414","v":1047},{"$f":"+[2]Séries_Site!I414","v":0},{"$f":"+[2]Séries_Site!J414","v":1354},{"$f":"+[2]Séries_Site!K414","v":274},{"$f":"+[2]Séries_Site!L414","v":52},{"$f":"+[2]Séries_Site!M414","v":52},{"$f":"+[2]Séries_Site!N414","v":0},{"$f":"+[2]Séries_Site!O414","v":107},{"$f":"+[2]Séries_Site!P414","v":33},{"$f":"+[2]Séries_Site!Q414","v":29},{"$f":"+[2]Séries_Site!R414","v":29},{"$f":"+[2]Séries_Site!S414","v":0},{"$f":"+[2]Séries_Site!T414","v":50},{"$f":"+[2]Séries_Site!U414","v":0},{"$f":"+[2]Séries_Site!V414","v":500},{"$f":"+[2]Séries_Site!W414","v":500},{"$f":"+[2]Séries_Site!X414","v":0},{"$f":"+[2]Séries_Site!Y414","v":561},{"$f":"+[2]Séries_Site!Z414","v":87},{"$f":"+[2]Séries_Site!AA414","v":0},{"$f":"+[2]Séries_Site!AB414","v":0},{"$f":"+[2]Séries_Site!AC414","v":0},{"$f":"+[2]Séries_Site!AD414","v":0},{"$f":"+[2]Séries_Site!AE414","v":0},{"$f":"+[2]Séries_Site!AF414","v":55},{"$f":"+[2]Séries_Site!AG414","v":55},{"$f":"+[2]Séries_Site!AH414","v":0},{"$f":"+[2]Séries_Site!AI414","v":99},{"$f":"+[2]Séries_Site!AJ414","v":47}]
["1994-02-01",{"$f":"+[2]Séries_Site!B415","v":2191},{"$f":"+[2]Séries_Site!C415","v":2191},{"$f":"+[2]Séries_Site!D415","v":0},{"$f":"+[2]Séries_Site!E415","v":2772},{"$f":"+[2]Séries_Site!F415","v":402},{"$f":"+[2]Séries_Site!G415","v":1516},{"$f":"+[2]Séries_Site!H415","v":1516},{"$f":"+[2]Séries_Site!I415","v":0},{"$f":"+[2]Séries_Site!J415","v":1865},{"$f":"+[2]Séries_Site!K415","v":204},{"$f":"+[2]Séries_Site!L415","v":53},{"$f":"+[2]Séries_Site!M415","v":53},{"$f":"+[2]Séries_Site!N415","v":0},{"$f":"+[2]Séries_Site!O415","v":104},{"$f":"+[2]Séries_Site!P415","v":37},{"$f":"+[2]Séries_Site!Q415","v":67},{"$f":"+[2]Séries_Site!R415","v":67},{"$f":"+[2]Séries_Site!S415","v":0},{"$f":"+[2]Séries_Site!T415","v":56},{"$f":"+[2]Séries_Site!U415","v":1},{"$f":"+[2]Séries_Site!V415","v":477},{"$f":"+[2]Séries_Site!W415","v":477},{"$f":"+[2]Séries_Site!X415","v":0},{"$f":"+[2]Séries_Site!Y415","v":655},{"$f":"+[2]Séries_Site!Z415","v":143},{"$f":"+[2]Séries_Site!AA415","v":0},{"$f":"+[2]Séries_Site!AB415","v":0},{"$f":"+[2]Séries_Site!AC415","v":0},{"$f":"+[2]Séries_Site!AD415","v":0},{"$f":"+[2]Séries_Site!AE415","v":0},{"$f":"+[2]Séries_Site!AF415","v":78},{"$f":"+[2]Séries_Site!AG415","v":78},{"$f":"+[2]Séries_Site!AH415","v":0},{"$f":"+[2]Séries_Site!AI415","v":92},{"$f":"+[2]Séries_Site!AJ415","v":17}]
["1994-03-01",{"$f":"+[2]Séries_Site!B416","v":3957},{"$f":"+[2]Séries_Site!C416","v":3957},{"$f":"+[2]Séries_Site!D416","v":0},{"$f":"+[2]Séries_Site!E416","v":4188},{"$f":"+[2]Séries_Site!F416","v":620},{"$f":"+[2]Séries_Site!G416","v":3131},{"$f":"+[2]Séries_Site!H416","v":3131},{"$f":"+[2]Séries_Site!I416","v":0},{"$f":"+[2]Séries_Site!J416","v":3234},{"$f":"+[2]Séries_Site!K416","v":360},{"$f":"+[2]Séries_Site!L416","v":104},{"$f":"+[2]Séries_Site!M416","v":104},{"$f":"+[2]Séries_Site!N416","v":0},{"$f":"+[2]Séries_Site!O416","v":134},{"$f":"+[2]Séries_Site!P416","v":59},{"$f":"+[2]Séries_Site!Q416","v":54},{"$f":"+[2]Séries_Site!R416","v":54},{"$f":"+[2]Séries_Site!S416","v":0},{"$f":"+[2]Séries_Site!T416","v":71},{"$f":"+[2]Séries_Site!U416","v":13},{"$f":"+[2]Séries_Site!V416","v":566},{"$f":"+[2]Séries_Site!W416","v":566},{"$f":"+[2]Séries_Site!X416","v":0},{"$f":"+[2]Séries_Site!Y416","v":602},{"$f":"+[2]Séries_Site!Z416","v":142},{"$f":"+[2]Séries_Site!AA416","v":0},{"$f":"+[2]Séries_Site!AB416","v":0},{"$f":"+[2]Séries_Site!AC416","v":0},{"$f":"+[2]Séries_Site!AD416","v":0},{"$f":"+[2]Séries_Site!AE416","v":0},{"$f":"+[2]Séries_Site!AF416","v":102},{"$f":"+[2]Séries_Site!AG416","v":102},{"$f":"+[2]Séries_Site!AH416","v":0},{"$f":"+[2]Séries_Site!AI416","v":147},{"$f":"+[2]Séries_Site!AJ416","v":46}]
["1994-04-01",{"$f":"+[2]Séries_Site!B417","v":4074},{"$f":"+[2]Séries_Site!C417","v":4074},{"$f":"+[2]Séries_Site!D417","v":0},{"$f":"+[2]Séries_Site!E417","v":4429},{"$f":"+[2]Séries_Site!F417","v":364},{"$f":"+[2]Séries_Site!G417","v":3584},{"$f":"+[2]Séries_Site!H417","v":3584},{"$f":"+[2]Séries_Site!I417","v":0},{"$f":"+[2]Séries_Site!J417","v":3722},{"$f":"+[2]Séries_Site!K417","v":199},{"$f":"+[2]Séries_Site!L417","v":86},{"$f":"+[2]Séries_Site!M417","v":86},{"$f":"+[2]Séries_Site!N417","v":0},{"$f":"+[2]Séries_Site!O417","v":136},{"$f":"+[2]Séries_Site!P417","v":43},{"$f":"+[2]Séries_Site!Q417","v":86},{"$f":"+[2]Séries_Site!R417","v":86},{"$f":"+[2]Séries_Site!S417","v":0},{"$f":"+[2]Séries_Site!T417","v":65},{"$f":"+[2]Séries_Site!U417","v":0},{"$f":"+[2]Séries_Site!V417","v":199},{"$f":"+[2]Séries_Site!W417","v":199},{"$f":"+[2]Séries_Site!X417","v":0},{"$f":"+[2]Séries_Site!Y417","v":363},{"$f":"+[2]Séries_Site!Z417","v":101},{"$f":"+[2]Séries_Site!AA417","v":0},{"$f":"+[2]Séries_Site!AB417","v":0},{"$f":"+[2]Séries_Site!AC417","v":0},{"$f":"+[2]Séries_Site!AD417","v":0},{"$f":"+[2]Séries_Site!AE417","v":0},{"$f":"+[2]Séries_Site!AF417","v":119},{"$f":"+[2]Séries_Site!AG417","v":119},{"$f":"+[2]Séries_Site!AH417","v":0},{"$f":"+[2]Séries_Site!AI417","v":143},{"$f":"+[2]Séries_Site!AJ417","v":21}]
["1994-05-01",{"$f":"+[2]Séries_Site!B418","v":4571},{"$f":"+[2]Séries_Site!C418","v":4561},{"$f":"+[2]Séries_Site!D418","v":10},{"$f":"+[2]Séries_Site!E418","v":4800},{"$f":"+[2]Séries_Site!F418","v":279},{"$f":"+[2]Séries_Site!G418","v":4124},{"$f":"+[2]Séries_Site!H418","v":4114},{"$f":"+[2]Séries_Site!I418","v":10},{"$f":"+[2]Séries_Site!J418","v":4163},{"$f":"+[2]Séries_Site!K418","v":134},{"$f":"+[2]Séries_Site!L418","v":100},{"$f":"+[2]Séries_Site!M418","v":100},{"$f":"+[2]Séries_Site!N418","v":0},{"$f":"+[2]Séries_Site!O418","v":156},{"$f":"+[2]Séries_Site!P418","v":46},{"$f":"+[2]Séries_Site!Q418","v":68},{"$f":"+[2]Séries_Site!R418","v":68},{"$f":"+[2]Séries_Site!S418","v":0},{"$f":"+[2]Séries_Site!T418","v":70},{"$f":"+[2]Séries_Site!U418","v":4},{"$f":"+[2]Séries_Site!V418","v":122},{"$f":"+[2]Séries_Site!W418","v":122},{"$f":"+[2]Séries_Site!X418","v":0},{"$f":"+[2]Séries_Site!Y418","v":244},{"$f":"+[2]Séries_Site!Z418","v":82},{"$f":"+[2]Séries_Site!AA418","v":0},{"$f":"+[2]Séries_Site!AB418","v":0},{"$f":"+[2]Séries_Site!AC418","v":0},{"$f":"+[2]Séries_Site!AD418","v":0},{"$f":"+[2]Séries_Site!AE418","v":0},{"$f":"+[2]Séries_Site!AF418","v":157},{"$f":"+[2]Séries_Site!AG418","v":157},{"$f":"+[2]Séries_Site!AH418","v":0},{"$f":"+[2]Séries_Site!AI418","v":167},{"$f":"+[2]Séries_Site!AJ418","v":13}]
["1994-06-01",{"$f":"+[2]Séries_Site!B419","v":4591},{"$f":"+[2]Séries_Site!C419","v":4591},{"$f":"+[2]Séries_Site!D419","v":0},{"$f":"+[2]Séries_Site!E419","v":5043},{"$f":"+[2]Séries_Site!F419","v":363},{"$f":"+[2]Séries_Site!G419","v":4066},{"$f":"+[2]Séries_Site!H419","v":4066},{"$f":"+[2]Séries_Site!I419","v":0},{"$f":"+[2]Séries_Site!J419","v":4383},{"$f":"+[2]Séries_Site!K419","v":244},{"$f":"+[2]Séries_Site!L419","v":100},{"$f":"+[2]Séries_Site!M419","v":100},{"$f":"+[2]Séries_Site!N419","v":0},{"$f":"+[2]Séries_Site!O419","v":141},{"$f":"+[2]Séries_Site!P419","v":56},{"$f":"+[2]Séries_Site!Q419","v":100},{"$f":"+[2]Séries_Site!R419","v":100},{"$f":"+[2]Séries_Site!S419","v":0},{"$f":"+[2]Séries_Site!T419","v":118},{"$f":"+[2]Séries_Site!U419","v":2},{"$f":"+[2]Séries_Site!V419","v":175},{"$f":"+[2]Séries_Site!W419","v":175},{"$f":"+[2]Séries_Site!X419","v":0},{"$f":"+[2]Séries_Site!Y419","v":245},{"$f":"+[2]Séries_Site!Z419","v":56},{"$f":"+[2]Séries_Site!AA419","v":0},{"$f":"+[2]Séries_Site!AB419","v":0},{"$f":"+[2]Séries_Site!AC419","v":0},{"$f":"+[2]Séries_Site!AD419","v":0},{"$f":"+[2]Séries_Site!AE419","v":0},{"$f":"+[2]Séries_Site!AF419","v":150},{"$f":"+[2]Séries_Site!AG419","v":150},{"$f":"+[2]Séries_Site!AH419","v":0},{"$f":"+[2]Séries_Site!AI419","v":156},{"$f":"+[2]Séries_Site!AJ419","v":5}]
["1994-07-01",{"$f":"+[2]Séries_Site!B420","v":4276},{"$f":"+[2]Séries_Site!C420","v":4276},{"$f":"+[2]Séries_Site!D420","v":0},{"$f":"+[2]Séries_Site!E420","v":4839},{"$f":"+[2]Séries_Site!F420","v":479},{"$f":"+[2]Séries_Site!G420","v":3823},{"$f":"+[2]Séries_Site!H420","v":3823},{"$f":"+[2]Séries_Site!I420","v":0},{"$f":"+[2]Séries_Site!J420","v":4227},{"$f":"+[2]Séries_Site!K420","v":336},{"$f":"+[2]Séries_Site!L420","v":95},{"$f":"+[2]Séries_Site!M420","v":95},{"$f":"+[2]Séries_Site!N420","v":0},{"$f":"+[2]Séries_Site!O420","v":144},{"$f":"+[2]Séries_Site!P420","v":47},{"$f":"+[2]Séries_Site!Q420","v":123},{"$f":"+[2]Séries_Site!R420","v":123},{"$f":"+[2]Séries_Site!S420","v":0},{"$f":"+[2]Séries_Site!T420","v":160},{"$f":"+[2]Séries_Site!U420","v":12},{"$f":"+[2]Séries_Site!V420","v":132},{"$f":"+[2]Séries_Site!W420","v":132},{"$f":"+[2]Séries_Site!X420","v":0},{"$f":"+[2]Séries_Site!Y420","v":190},{"$f":"+[2]Séries_Site!Z420","v":71},{"$f":"+[2]Séries_Site!AA420","v":0},{"$f":"+[2]Séries_Site!AB420","v":0},{"$f":"+[2]Séries_Site!AC420","v":0},{"$f":"+[2]Séries_Site!AD420","v":0},{"$f":"+[2]Séries_Site!AE420","v":0},{"$f":"+[2]Séries_Site!AF420","v":103},{"$f":"+[2]Séries_Site!AG420","v":103},{"$f":"+[2]Séries_Site!AH420","v":0},{"$f":"+[2]Séries_Site!AI420","v":118},{"$f":"+[2]Séries_Site!AJ420","v":13}]
["1994-08-01",{"$f":"+[2]Séries_Site!B421","v":5494},{"$f":"+[2]Séries_Site!C421","v":5494},{"$f":"+[2]Séries_Site!D421","v":0},{"$f":"+[2]Séries_Site!E421","v":5852},{"$f":"+[2]Séries_Site!F421","v":449},{"$f":"+[2]Séries_Site!G421","v":4779},{"$f":"+[2]Séries_Site!H421","v":4779},{"$f":"+[2]Séries_Site!I421","v":0},{"$f":"+[2]Séries_Site!J421","v":4930},{"$f":"+[2]Séries_Site!K421","v":291},{"$f":"+[2]Séries_Site!L421","v":122},{"$f":"+[2]Séries_Site!M421","v":122},{"$f":"+[2]Séries_Site!N421","v":0},{"$f":"+[2]Séries_Site!O421","v":162},{"$f":"+[2]Séries_Site!P421","v":62},{"$f":"+[2]Séries_Site!Q421","v":169},{"$f":"+[2]Séries_Site!R421","v":169},{"$f":"+[2]Séries_Site!S421","v":0},{"$f":"+[2]Séries_Site!T421","v":193},{"$f":"+[2]Séries_Site!U421","v":4},{"$f":"+[2]Séries_Site!V421","v":285},{"$f":"+[2]Séries_Site!W421","v":285},{"$f":"+[2]Séries_Site!X421","v":0},{"$f":"+[2]Séries_Site!Y421","v":416},{"$f":"+[2]Séries_Site!Z421","v":77},{"$f":"+[2]Séries_Site!AA421","v":0},{"$f":"+[2]Séries_Site!AB421","v":0},{"$f":"+[2]Séries_Site!AC421","v":0},{"$f":"+[2]Séries_Site!AD421","v":0},{"$f":"+[2]Séries_Site!AE421","v":0},{"$f":"+[2]Séries_Site!AF421","v":139},{"$f":"+[2]Séries_Site!AG421","v":139},{"$f":"+[2]Séries_Site!AH421","v":0},{"$f":"+[2]Séries_Site!AI421","v":151},{"$f":"+[2]Séries_Site!AJ421","v":15}]
["1994-09-01",{"$f":"+[2]Séries_Site!B422","v":5169},{"$f":"+[2]Séries_Site!C422","v":5169},{"$f":"+[2]Séries_Site!D422","v":0},{"$f":"+[2]Séries_Site!E422","v":5375},{"$f":"+[2]Séries_Site!F422","v":345},{"$f":"+[2]Séries_Site!G422","v":4283},{"$f":"+[2]Séries_Site!H422","v":4283},{"$f":"+[2]Séries_Site!I422","v":0},{"$f":"+[2]Séries_Site!J422","v":4345},{"$f":"+[2]Séries_Site!K422","v":179},{"$f":"+[2]Séries_Site!L422","v":146},{"$f":"+[2]Séries_Site!M422","v":146},{"$f":"+[2]Séries_Site!N422","v":0},{"$f":"+[2]Séries_Site!O422","v":147},{"$f":"+[2]Séries_Site!P422","v":38},{"$f":"+[2]Séries_Site!Q422","v":163},{"$f":"+[2]Séries_Site!R422","v":163},{"$f":"+[2]Séries_Site!S422","v":0},{"$f":"+[2]Séries_Site!T422","v":226},{"$f":"+[2]Séries_Site!U422","v":0},{"$f":"+[2]Séries_Site!V422","v":418},{"$f":"+[2]Séries_Site!W422","v":418},{"$f":"+[2]Séries_Site!X422","v":0},{"$f":"+[2]Séries_Site!Y422","v":487},{"$f":"+[2]Séries_Site!Z422","v":117},{"$f":"+[2]Séries_Site!AA422","v":0},{"$f":"+[2]Séries_Site!AB422","v":0},{"$f":"+[2]Séries_Site!AC422","v":0},{"$f":"+[2]Séries_Site!AD422","v":0},{"$f":"+[2]Séries_Site!AE422","v":0},{"$f":"+[2]Séries_Site!AF422","v":159},{"$f":"+[2]Séries_Site!AG422","v":159},{"$f":"+[2]Séries_Site!AH422","v":0},{"$f":"+[2]Séries_Site!AI422","v":170},{"$f":"+[2]Séries_Site!AJ422","v":11}]
["1994-10-01",{"$f":"+[2]Séries_Site!B423","v":4316},{"$f":"+[2]Séries_Site!C423","v":4314},{"$f":"+[2]Séries_Site!D423","v":2},{"$f":"+[2]Séries_Site!E423","v":5096},{"$f":"+[2]Séries_Site!F423","v":704},{"$f":"+[2]Séries_Site!G423","v":3542},{"$f":"+[2]Séries_Site!H423","v":3540},{"$f":"+[2]Séries_Site!I423","v":2},{"$f":"+[2]Séries_Site!J423","v":4062},{"$f":"+[2]Séries_Site!K423","v":316},{"$f":"+[2]Séries_Site!L423","v":122},{"$f":"+[2]Séries_Site!M423","v":122},{"$f":"+[2]Séries_Site!N423","v":0},{"$f":"+[2]Séries_Site!O423","v":167},{"$f":"+[2]Séries_Site!P423","v":33},{"$f":"+[2]Séries_Site!Q423","v":117},{"$f":"+[2]Séries_Site!R423","v":117},{"$f":"+[2]Séries_Site!S423","v":0},{"$f":"+[2]Séries_Site!T423","v":198},{"$f":"+[2]Séries_Site!U423","v":247},{"$f":"+[2]Séries_Site!V423","v":366},{"$f":"+[2]Séries_Site!W423","v":366},{"$f":"+[2]Séries_Site!X423","v":0},{"$f":"+[2]Séries_Site!Y423","v":475},{"$f":"+[2]Séries_Site!Z423","v":86},{"$f":"+[2]Séries_Site!AA423","v":0},{"$f":"+[2]Séries_Site!AB423","v":0},{"$f":"+[2]Séries_Site!AC423","v":0},{"$f":"+[2]Séries_Site!AD423","v":0},{"$f":"+[2]Séries_Site!AE423","v":0},{"$f":"+[2]Séries_Site!AF423","v":169},{"$f":"+[2]Séries_Site!AG423","v":169},{"$f":"+[2]Séries_Site!AH423","v":0},{"$f":"+[2]Séries_Site!AI423","v":194},{"$f":"+[2]Séries_Site!AJ423","v":22}]
["1994-11-01",{"$f":"+[2]Séries_Site!B424","v":3607},{"$f":"+[2]Séries_Site!C424","v":3607},{"$f":"+[2]Séries_Site!D424","v":0},{"$f":"+[2]Séries_Site!E424","v":3790},{"$f":"+[2]Séries_Site!F424","v":297},{"$f":"+[2]Séries_Site!G424","v":2816},{"$f":"+[2]Séries_Site!H424","v":2816},{"$f":"+[2]Séries_Site!I424","v":0},{"$f":"+[2]Séries_Site!J424","v":2826},{"$f":"+[2]Séries_Site!K424","v":119},{"$f":"+[2]Séries_Site!L424","v":103},{"$f":"+[2]Séries_Site!M424","v":103},{"$f":"+[2]Séries_Site!N424","v":0},{"$f":"+[2]Séries_Site!O424","v":152},{"$f":"+[2]Séries_Site!P424","v":50},{"$f":"+[2]Séries_Site!Q424","v":168},{"$f":"+[2]Séries_Site!R424","v":168},{"$f":"+[2]Séries_Site!S424","v":0},{"$f":"+[2]Séries_Site!T424","v":170},{"$f":"+[2]Séries_Site!U424","v":0},{"$f":"+[2]Séries_Site!V424","v":393},{"$f":"+[2]Séries_Site!W424","v":393},{"$f":"+[2]Séries_Site!X424","v":0},{"$f":"+[2]Séries_Site!Y424","v":491},{"$f":"+[2]Séries_Site!Z424","v":101},{"$f":"+[2]Séries_Site!AA424","v":0},{"$f":"+[2]Séries_Site!AB424","v":0},{"$f":"+[2]Séries_Site!AC424","v":0},{"$f":"+[2]Séries_Site!AD424","v":0},{"$f":"+[2]Séries_Site!AE424","v":0},{"$f":"+[2]Séries_Site!AF424","v":127},{"$f":"+[2]Séries_Site!AG424","v":127},{"$f":"+[2]Séries_Site!AH424","v":0},{"$f":"+[2]Séries_Site!AI424","v":151},{"$f":"+[2]Séries_Site!AJ424","v":27}]
["1994-12-01",{"$f":"+[2]Séries_Site!B425","v":2558},{"$f":"+[2]Séries_Site!C425","v":2539},{"$f":"+[2]Séries_Site!D425","v":19},{"$f":"+[2]Séries_Site!E425","v":2978},{"$f":"+[2]Séries_Site!F425","v":285},{"$f":"+[2]Séries_Site!G425","v":1807},{"$f":"+[2]Séries_Site!H425","v":1792},{"$f":"+[2]Séries_Site!I425","v":15},{"$f":"+[2]Séries_Site!J425","v":1983},{"$f":"+[2]Séries_Site!K425","v":92},{"$f":"+[2]Séries_Site!L425","v":101},{"$f":"+[2]Séries_Site!M425","v":97},{"$f":"+[2]Séries_Site!N425","v":4},{"$f":"+[2]Séries_Site!O425","v":155},{"$f":"+[2]Séries_Site!P425","v":40},{"$f":"+[2]Séries_Site!Q425","v":164},{"$f":"+[2]Séries_Site!R425","v":164},{"$f":"+[2]Séries_Site!S425","v":0},{"$f":"+[2]Séries_Site!T425","v":161},{"$f":"+[2]Séries_Site!U425","v":0},{"$f":"+[2]Séries_Site!V425","v":416},{"$f":"+[2]Séries_Site!W425","v":416},{"$f":"+[2]Séries_Site!X425","v":0},{"$f":"+[2]Séries_Site!Y425","v":597},{"$f":"+[2]Séries_Site!Z425","v":141},{"$f":"+[2]Séries_Site!AA425","v":0},{"$f":"+[2]Séries_Site!AB425","v":0},{"$f":"+[2]Séries_Site!AC425","v":0},{"$f":"+[2]Séries_Site!AD425","v":0},{"$f":"+[2]Séries_Site!AE425","v":0},{"$f":"+[2]Séries_Site!AF425","v":70},{"$f":"+[2]Séries_Site!AG425","v":70},{"$f":"+[2]Séries_Site!AH425","v":0},{"$f":"+[2]Séries_Site!AI425","v":82},{"$f":"+[2]Séries_Site!AJ425","v":12}]
["1995-01-01",{"$f":"+[2]Séries_Site!B426","v":3108},{"$f":"+[2]Séries_Site!C426","v":3107},{"$f":"+[2]Séries_Site!D426","v":1},{"$f":"+[2]Séries_Site!E426","v":3309},{"$f":"+[2]Séries_Site!F426","v":265},{"$f":"+[2]Séries_Site!G426","v":2301},{"$f":"+[2]Séries_Site!H426","v":2301},{"$f":"+[2]Séries_Site!I426","v":0},{"$f":"+[2]Séries_Site!J426","v":2279},{"$f":"+[2]Séries_Site!K426","v":119},{"$f":"+[2]Séries_Site!L426","v":86},{"$f":"+[2]Séries_Site!M426","v":85},{"$f":"+[2]Séries_Site!N426","v":1},{"$f":"+[2]Séries_Site!O426","v":120},{"$f":"+[2]Séries_Site!P426","v":41},{"$f":"+[2]Séries_Site!Q426","v":165},{"$f":"+[2]Séries_Site!R426","v":165},{"$f":"+[2]Séries_Site!S426","v":0},{"$f":"+[2]Séries_Site!T426","v":165},{"$f":"+[2]Séries_Site!U426","v":0},{"$f":"+[2]Séries_Site!V426","v":442},{"$f":"+[2]Séries_Site!W426","v":442},{"$f":"+[2]Séries_Site!X426","v":0},{"$f":"+[2]Séries_Site!Y426","v":617},{"$f":"+[2]Séries_Site!Z426","v":90},{"$f":"+[2]Séries_Site!AA426","v":0},{"$f":"+[2]Séries_Site!AB426","v":0},{"$f":"+[2]Séries_Site!AC426","v":0},{"$f":"+[2]Séries_Site!AD426","v":0},{"$f":"+[2]Séries_Site!AE426","v":0},{"$f":"+[2]Séries_Site!AF426","v":114},{"$f":"+[2]Séries_Site!AG426","v":114},{"$f":"+[2]Séries_Site!AH426","v":0},{"$f":"+[2]Séries_Site!AI426","v":128},{"$f":"+[2]Séries_Site!AJ426","v":15}]
["1995-02-01",{"$f":"+[2]Séries_Site!B427","v":3962},{"$f":"+[2]Séries_Site!C427","v":3960},{"$f":"+[2]Séries_Site!D427","v":2},{"$f":"+[2]Séries_Site!E427","v":4679},{"$f":"+[2]Séries_Site!F427","v":530},{"$f":"+[2]Séries_Site!G427","v":2995},{"$f":"+[2]Séries_Site!H427","v":2995},{"$f":"+[2]Séries_Site!I427","v":0},{"$f":"+[2]Séries_Site!J427","v":3547},{"$f":"+[2]Séries_Site!K427","v":303},{"$f":"+[2]Séries_Site!L427","v":119},{"$f":"+[2]Séries_Site!M427","v":117},{"$f":"+[2]Séries_Site!N427","v":2},{"$f":"+[2]Séries_Site!O427","v":189},{"$f":"+[2]Séries_Site!P427","v":57},{"$f":"+[2]Séries_Site!Q427","v":168},{"$f":"+[2]Séries_Site!R427","v":168},{"$f":"+[2]Séries_Site!S427","v":0},{"$f":"+[2]Séries_Site!T427","v":190},{"$f":"+[2]Séries_Site!U427","v":11},{"$f":"+[2]Séries_Site!V427","v":539},{"$f":"+[2]Séries_Site!W427","v":539},{"$f":"+[2]Séries_Site!X427","v":0},{"$f":"+[2]Séries_Site!Y427","v":594},{"$f":"+[2]Séries_Site!Z427","v":141},{"$f":"+[2]Séries_Site!AA427","v":0},{"$f":"+[2]Séries_Site!AB427","v":0},{"$f":"+[2]Séries_Site!AC427","v":0},{"$f":"+[2]Séries_Site!AD427","v":0},{"$f":"+[2]Séries_Site!AE427","v":0},{"$f":"+[2]Séries_Site!AF427","v":141},{"$f":"+[2]Séries_Site!AG427","v":141},{"$f":"+[2]Séries_Site!AH427","v":0},{"$f":"+[2]Séries_Site!AI427","v":159},{"$f":"+[2]Séries_Site!AJ427","v":18}]
["1995-03-01",{"$f":"+[2]Séries_Site!B428","v":4216},{"$f":"+[2]Séries_Site!C428","v":4214},{"$f":"+[2]Séries_Site!D428","v":2},{"$f":"+[2]Séries_Site!E428","v":5004},{"$f":"+[2]Séries_Site!F428","v":570},{"$f":"+[2]Séries_Site!G428","v":3522},{"$f":"+[2]Séries_Site!H428","v":3522},{"$f":"+[2]Séries_Site!I428","v":0},{"$f":"+[2]Séries_Site!J428","v":4057},{"$f":"+[2]Séries_Site!K428","v":294},{"$f":"+[2]Séries_Site!L428","v":127},{"$f":"+[2]Séries_Site!M428","v":125},{"$f":"+[2]Séries_Site!N428","v":2},{"$f":"+[2]Séries_Site!O428","v":150},{"$f":"+[2]Séries_Site!P428","v":68},{"$f":"+[2]Séries_Site!Q428","v":172},{"$f":"+[2]Séries_Site!R428","v":172},{"$f":"+[2]Séries_Site!S428","v":0},{"$f":"+[2]Séries_Site!T428","v":195},{"$f":"+[2]Séries_Site!U428","v":12},{"$f":"+[2]Séries_Site!V428","v":241},{"$f":"+[2]Séries_Site!W428","v":241},{"$f":"+[2]Séries_Site!X428","v":0},{"$f":"+[2]Séries_Site!Y428","v":441},{"$f":"+[2]Séries_Site!Z428","v":189},{"$f":"+[2]Séries_Site!AA428","v":0},{"$f":"+[2]Séries_Site!AB428","v":0},{"$f":"+[2]Séries_Site!AC428","v":0},{"$f":"+[2]Séries_Site!AD428","v":0},{"$f":"+[2]Séries_Site!AE428","v":0},{"$f":"+[2]Séries_Site!AF428","v":154},{"$f":"+[2]Séries_Site!AG428","v":154},{"$f":"+[2]Séries_Site!AH428","v":0},{"$f":"+[2]Séries_Site!AI428","v":161},{"$f":"+[2]Séries_Site!AJ428","v":7}]
["1995-04-01",{"$f":"+[2]Séries_Site!B429","v":2043},{"$f":"+[2]Séries_Site!C429","v":2041},{"$f":"+[2]Séries_Site!D429","v":2},{"$f":"+[2]Séries_Site!E429","v":2911},{"$f":"+[2]Séries_Site!F429","v":428},{"$f":"+[2]Séries_Site!G429","v":1556},{"$f":"+[2]Séries_Site!H429","v":1556},{"$f":"+[2]Séries_Site!I429","v":0},{"$f":"+[2]Séries_Site!J429","v":2182},{"$f":"+[2]Séries_Site!K429","v":288},{"$f":"+[2]Séries_Site!L429","v":138},{"$f":"+[2]Séries_Site!M429","v":136},{"$f":"+[2]Séries_Site!N429","v":2},{"$f":"+[2]Séries_Site!O429","v":223},{"$f":"+[2]Séries_Site!P429","v":39},{"$f":"+[2]Séries_Site!Q429","v":129},{"$f":"+[2]Séries_Site!R429","v":129},{"$f":"+[2]Séries_Site!S429","v":0},{"$f":"+[2]Séries_Site!T429","v":149},{"$f":"+[2]Séries_Site!U429","v":0},{"$f":"+[2]Séries_Site!V429","v":38},{"$f":"+[2]Séries_Site!W429","v":38},{"$f":"+[2]Séries_Site!X429","v":0},{"$f":"+[2]Séries_Site!Y429","v":162},{"$f":"+[2]Séries_Site!Z429","v":89},{"$f":"+[2]Séries_Site!AA429","v":0},{"$f":"+[2]Séries_Site!AB429","v":0},{"$f":"+[2]Séries_Site!AC429","v":0},{"$f":"+[2]Séries_Site!AD429","v":0},{"$f":"+[2]Séries_Site!AE429","v":0},{"$f":"+[2]Séries_Site!AF429","v":182},{"$f":"+[2]Séries_Site!AG429","v":182},{"$f":"+[2]Séries_Site!AH429","v":0},{"$f":"+[2]Séries_Site!AI429","v":195},{"$f":"+[2]Séries_Site!AJ429","v":12}]
["1995-05-01",{"$f":"+[2]Séries_Site!B430","v":1357},{"$f":"+[2]Séries_Site!C430","v":1354},{"$f":"+[2]Séries_Site!D430","v":3},{"$f":"+[2]Séries_Site!E430","v":2122},{"$f":"+[2]Séries_Site!F430","v":406},{"$f":"+[2]Séries_Site!G430","v":943},{"$f":"+[2]Séries_Site!H430","v":942},{"$f":"+[2]Séries_Site!I430","v":1},{"$f":"+[2]Séries_Site!J430","v":1496},{"$f":"+[2]Séries_Site!K430","v":258},{"$f":"+[2]Séries_Site!L430","v":130},{"$f":"+[2]Séries_Site!M430","v":128},{"$f":"+[2]Séries_Site!N430","v":2},{"$f":"+[2]Séries_Site!O430","v":236},{"$f":"+[2]Séries_Site!P430","v":79},{"$f":"+[2]Séries_Site!Q430","v":112},{"$f":"+[2]Séries_Site!R430","v":112},{"$f":"+[2]Séries_Site!S430","v":0},{"$f":"+[2]Séries_Site!T430","v":132},{"$f":"+[2]Séries_Site!U430","v":11},{"$f":"+[2]Séries_Site!V430","v":34},{"$f":"+[2]Séries_Site!W430","v":34},{"$f":"+[2]Séries_Site!X430","v":0},{"$f":"+[2]Séries_Site!Y430","v":95},{"$f":"+[2]Séries_Site!Z430","v":33},{"$f":"+[2]Séries_Site!AA430","v":0},{"$f":"+[2]Séries_Site!AB430","v":0},{"$f":"+[2]Séries_Site!AC430","v":0},{"$f":"+[2]Séries_Site!AD430","v":0},{"$f":"+[2]Séries_Site!AE430","v":0},{"$f":"+[2]Séries_Site!AF430","v":138},{"$f":"+[2]Séries_Site!AG430","v":138},{"$f":"+[2]Séries_Site!AH430","v":0},{"$f":"+[2]Séries_Site!AI430","v":163},{"$f":"+[2]Séries_Site!AJ430","v":25}]
["1995-06-01",{"$f":"+[2]Séries_Site!B431","v":1952},{"$f":"+[2]Séries_Site!C431","v":1944},{"$f":"+[2]Séries_Site!D431","v":8},{"$f":"+[2]Séries_Site!E431","v":2256},{"$f":"+[2]Séries_Site!F431","v":321},{"$f":"+[2]Séries_Site!G431","v":1568},{"$f":"+[2]Séries_Site!H431","v":1563},{"$f":"+[2]Séries_Site!I431","v":5},{"$f":"+[2]Séries_Site!J431","v":1699},{"$f":"+[2]Séries_Site!K431","v":196},{"$f":"+[2]Séries_Site!L431","v":142},{"$f":"+[2]Séries_Site!M431","v":139},{"$f":"+[2]Séries_Site!N431","v":3},{"$f":"+[2]Séries_Site!O431","v":242},{"$f":"+[2]Séries_Site!P431","v":67},{"$f":"+[2]Séries_Site!Q431","v":89},{"$f":"+[2]Séries_Site!R431","v":89},{"$f":"+[2]Séries_Site!S431","v":0},{"$f":"+[2]Séries_Site!T431","v":115},{"$f":"+[2]Séries_Site!U431","v":13},{"$f":"+[2]Séries_Site!V431","v":15},{"$f":"+[2]Séries_Site!W431","v":15},{"$f":"+[2]Séries_Site!X431","v":0},{"$f":"+[2]Séries_Site!Y431","v":50},{"$f":"+[2]Séries_Site!Z431","v":34},{"$f":"+[2]Séries_Site!AA431","v":0},{"$f":"+[2]Séries_Site!AB431","v":0},{"$f":"+[2]Séries_Site!AC431","v":0},{"$f":"+[2]Séries_Site!AD431","v":0},{"$f":"+[2]Séries_Site!AE431","v":0},{"$f":"+[2]Séries_Site!AF431","v":138},{"$f":"+[2]Séries_Site!AG431","v":138},{"$f":"+[2]Séries_Site!AH431","v":0},{"$f":"+[2]Séries_Site!AI431","v":150},{"$f":"+[2]Séries_Site!AJ431","v":11}]
["1995-07-01",{"$f":"+[2]Séries_Site!B432","v":1445},{"$f":"+[2]Séries_Site!C432","v":1443},{"$f":"+[2]Séries_Site!D432","v":2},{"$f":"+[2]Séries_Site!E432","v":2456},{"$f":"+[2]Séries_Site!F432","v":445},{"$f":"+[2]Séries_Site!G432","v":1189},{"$f":"+[2]Séries_Site!H432","v":1189},{"$f":"+[2]Séries_Site!I432","v":0},{"$f":"+[2]Séries_Site!J432","v":2024},{"$f":"+[2]Séries_Site!K432","v":323},{"$f":"+[2]Séries_Site!L432","v":79},{"$f":"+[2]Séries_Site!M432","v":77},{"$f":"+[2]Séries_Site!N432","v":2},{"$f":"+[2]Séries_Site!O432","v":161},{"$f":"+[2]Séries_Site!P432","v":61},{"$f":"+[2]Séries_Site!Q432","v":75},{"$f":"+[2]Séries_Site!R432","v":75},{"$f":"+[2]Séries_Site!S432","v":0},{"$f":"+[2]Séries_Site!T432","v":129},{"$f":"+[2]Séries_Site!U432","v":40},{"$f":"+[2]Séries_Site!V432","v":2},{"$f":"+[2]Séries_Site!W432","v":2},{"$f":"+[2]Séries_Site!X432","v":0},{"$f":"+[2]Séries_Site!Y432","v":7},{"$f":"+[2]Séries_Site!Z432","v":18},{"$f":"+[2]Séries_Site!AA432","v":0},{"$f":"+[2]Séries_Site!AB432","v":0},{"$f":"+[2]Séries_Site!AC432","v":0},{"$f":"+[2]Séries_Site!AD432","v":0},{"$f":"+[2]Séries_Site!AE432","v":0},{"$f":"+[2]Séries_Site!AF432","v":100},{"$f":"+[2]Séries_Site!AG432","v":100},{"$f":"+[2]Séries_Site!AH432","v":0},{"$f":"+[2]Séries_Site!AI432","v":135},{"$f":"+[2]Séries_Site!AJ432","v":3}]
["1995-08-01",{"$f":"+[2]Séries_Site!B433","v":1234},{"$f":"+[2]Séries_Site!C433","v":1231},{"$f":"+[2]Séries_Site!D433","v":3},{"$f":"+[2]Séries_Site!E433","v":974},{"$f":"+[2]Séries_Site!F433","v":441},{"$f":"+[2]Séries_Site!G433","v":1022},{"$f":"+[2]Séries_Site!H433","v":1021},{"$f":"+[2]Séries_Site!I433","v":1},{"$f":"+[2]Séries_Site!J433","v":608},{"$f":"+[2]Séries_Site!K433","v":226},{"$f":"+[2]Séries_Site!L433","v":67},{"$f":"+[2]Séries_Site!M433","v":65},{"$f":"+[2]Séries_Site!N433","v":2},{"$f":"+[2]Séries_Site!O433","v":86},{"$f":"+[2]Séries_Site!P433","v":49},{"$f":"+[2]Séries_Site!Q433","v":67},{"$f":"+[2]Séries_Site!R433","v":67},{"$f":"+[2]Séries_Site!S433","v":0},{"$f":"+[2]Séries_Site!T433","v":123},{"$f":"+[2]Séries_Site!U433","v":115},{"$f":"+[2]Séries_Site!V433","v":6},{"$f":"+[2]Séries_Site!W433","v":6},{"$f":"+[2]Séries_Site!X433","v":0},{"$f":"+[2]Séries_Site!Y433","v":82},{"$f":"+[2]Séries_Site!Z433","v":50},{"$f":"+[2]Séries_Site!AA433","v":0},{"$f":"+[2]Séries_Site!AB433","v":0},{"$f":"+[2]Séries_Site!AC433","v":0},{"$f":"+[2]Séries_Site!AD433","v":0},{"$f":"+[2]Séries_Site!AE433","v":0},{"$f":"+[2]Séries_Site!AF433","v":72},{"$f":"+[2]Séries_Site!AG433","v":72},{"$f":"+[2]Séries_Site!AH433","v":0},{"$f":"+[2]Séries_Site!AI433","v":75},{"$f":"+[2]Séries_Site!AJ433","v":1}]
["1995-09-01",{"$f":"+[2]Séries_Site!B434","v":1259},{"$f":"+[2]Séries_Site!C434","v":1255},{"$f":"+[2]Séries_Site!D434","v":4},{"$f":"+[2]Séries_Site!E434","v":1383},{"$f":"+[2]Séries_Site!F434","v":433},{"$f":"+[2]Séries_Site!G434","v":1025},{"$f":"+[2]Séries_Site!H434","v":1023},{"$f":"+[2]Séries_Site!I434","v":2},{"$f":"+[2]Séries_Site!J434","v":1066},{"$f":"+[2]Séries_Site!K434","v":291},{"$f":"+[2]Séries_Site!L434","v":75},{"$f":"+[2]Séries_Site!M434","v":73},{"$f":"+[2]Séries_Site!N434","v":2},{"$f":"+[2]Séries_Site!O434","v":103},{"$f":"+[2]Séries_Site!P434","v":77},{"$f":"+[2]Séries_Site!Q434","v":73},{"$f":"+[2]Séries_Site!R434","v":73},{"$f":"+[2]Séries_Site!S434","v":0},{"$f":"+[2]Séries_Site!T434","v":113},{"$f":"+[2]Séries_Site!U434","v":2},{"$f":"+[2]Séries_Site!V434","v":8},{"$f":"+[2]Séries_Site!W434","v":8},{"$f":"+[2]Séries_Site!X434","v":0},{"$f":"+[2]Séries_Site!Y434","v":51},{"$f":"+[2]Séries_Site!Z434","v":57},{"$f":"+[2]Séries_Site!AA434","v":0},{"$f":"+[2]Séries_Site!AB434","v":0},{"$f":"+[2]Séries_Site!AC434","v":0},{"$f":"+[2]Séries_Site!AD434","v":0},{"$f":"+[2]Séries_Site!AE434","v":0},{"$f":"+[2]Séries_Site!AF434","v":78},{"$f":"+[2]Séries_Site!AG434","v":78},{"$f":"+[2]Séries_Site!AH434","v":0},{"$f":"+[2]Séries_Site!AI434","v":50},{"$f":"+[2]Séries_Site!AJ434","v":6}]
["1995-10-01",{"$f":"+[2]Séries_Site!B435","v":831},{"$f":"+[2]Séries_Site!C435","v":829},{"$f":"+[2]Séries_Site!D435","v":2},{"$f":"+[2]Séries_Site!E435","v":1212},{"$f":"+[2]Séries_Site!F435","v":515},{"$f":"+[2]Séries_Site!G435","v":555},{"$f":"+[2]Séries_Site!H435","v":555},{"$f":"+[2]Séries_Site!I435","v":0},{"$f":"+[2]Séries_Site!J435","v":842},{"$f":"+[2]Séries_Site!K435","v":372},{"$f":"+[2]Séries_Site!L435","v":84},{"$f":"+[2]Séries_Site!M435","v":82},{"$f":"+[2]Séries_Site!N435","v":2},{"$f":"+[2]Séries_Site!O435","v":113},{"$f":"+[2]Séries_Site!P435","v":38},{"$f":"+[2]Séries_Site!Q435","v":51},{"$f":"+[2]Séries_Site!R435","v":51},{"$f":"+[2]Séries_Site!S435","v":0},{"$f":"+[2]Séries_Site!T435","v":90},{"$f":"+[2]Séries_Site!U435","v":14},{"$f":"+[2]Séries_Site!V435","v":57},{"$f":"+[2]Séries_Site!W435","v":57},{"$f":"+[2]Séries_Site!X435","v":0},{"$f":"+[2]Séries_Site!Y435","v":68},{"$f":"+[2]Séries_Site!Z435","v":76},{"$f":"+[2]Séries_Site!AA435","v":0},{"$f":"+[2]Séries_Site!AB435","v":0},{"$f":"+[2]Séries_Site!AC435","v":0},{"$f":"+[2]Séries_Site!AD435","v":0},{"$f":"+[2]Séries_Site!AE435","v":0},{"$f":"+[2]Séries_Site!AF435","v":84},{"$f":"+[2]Séries_Site!AG435","v":84},{"$f":"+[2]Séries_Site!AH435","v":0},{"$f":"+[2]Séries_Site!AI435","v":99},{"$f":"+[2]Séries_Site!AJ435","v":15}]
["1995-11-01",{"$f":"+[2]Séries_Site!B436","v":680},{"$f":"+[2]Séries_Site!C436","v":678},{"$f":"+[2]Séries_Site!D436","v":2},{"$f":"+[2]Séries_Site!E436","v":985},{"$f":"+[2]Séries_Site!F436","v":569},{"$f":"+[2]Séries_Site!G436","v":499},{"$f":"+[2]Séries_Site!H436","v":498},{"$f":"+[2]Séries_Site!I436","v":1},{"$f":"+[2]Séries_Site!J436","v":594},{"$f":"+[2]Séries_Site!K436","v":336},{"$f":"+[2]Séries_Site!L436","v":45},{"$f":"+[2]Séries_Site!M436","v":44},{"$f":"+[2]Séries_Site!N436","v":1},{"$f":"+[2]Séries_Site!O436","v":118},{"$f":"+[2]Séries_Site!P436","v":49},{"$f":"+[2]Séries_Site!Q436","v":57},{"$f":"+[2]Séries_Site!R436","v":57},{"$f":"+[2]Séries_Site!S436","v":0},{"$f":"+[2]Séries_Site!T436","v":117},{"$f":"+[2]Séries_Site!U436","v":103},{"$f":"+[2]Séries_Site!V436","v":18},{"$f":"+[2]Séries_Site!W436","v":18},{"$f":"+[2]Séries_Site!X436","v":0},{"$f":"+[2]Séries_Site!Y436","v":79},{"$f":"+[2]Séries_Site!Z436","v":76},{"$f":"+[2]Séries_Site!AA436","v":0},{"$f":"+[2]Séries_Site!AB436","v":0},{"$f":"+[2]Séries_Site!AC436","v":0},{"$f":"+[2]Séries_Site!AD436","v":0},{"$f":"+[2]Séries_Site!AE436","v":0},{"$f":"+[2]Séries_Site!AF436","v":61},{"$f":"+[2]Séries_Site!AG436","v":61},{"$f":"+[2]Séries_Site!AH436","v":0},{"$f":"+[2]Séries_Site!AI436","v":77},{"$f":"+[2]Séries_Site!AJ436","v":5}]
["1995-12-01",{"$f":"+[2]Séries_Site!B437","v":652},{"$f":"+[2]Séries_Site!C437","v":650},{"$f":"+[2]Séries_Site!D437","v":2},{"$f":"+[2]Séries_Site!E437","v":1047},{"$f":"+[2]Séries_Site!F437","v":340},{"$f":"+[2]Séries_Site!G437","v":419},{"$f":"+[2]Séries_Site!H437","v":419},{"$f":"+[2]Séries_Site!I437","v":0},{"$f":"+[2]Séries_Site!J437","v":650},{"$f":"+[2]Séries_Site!K437","v":132},{"$f":"+[2]Séries_Site!L437","v":86},{"$f":"+[2]Séries_Site!M437","v":84},{"$f":"+[2]Séries_Site!N437","v":2},{"$f":"+[2]Séries_Site!O437","v":134},{"$f":"+[2]Séries_Site!P437","v":96},{"$f":"+[2]Séries_Site!Q437","v":52},{"$f":"+[2]Séries_Site!R437","v":52},{"$f":"+[2]Séries_Site!S437","v":0},{"$f":"+[2]Séries_Site!T437","v":50},{"$f":"+[2]Séries_Site!U437","v":6},{"$f":"+[2]Séries_Site!V437","v":23},{"$f":"+[2]Séries_Site!W437","v":23},{"$f":"+[2]Séries_Site!X437","v":0},{"$f":"+[2]Séries_Site!Y437","v":125},{"$f":"+[2]Séries_Site!Z437","v":95},{"$f":"+[2]Séries_Site!AA437","v":0},{"$f":"+[2]Séries_Site!AB437","v":0},{"$f":"+[2]Séries_Site!AC437","v":0},{"$f":"+[2]Séries_Site!AD437","v":0},{"$f":"+[2]Séries_Site!AE437","v":0},{"$f":"+[2]Séries_Site!AF437","v":72},{"$f":"+[2]Séries_Site!AG437","v":72},{"$f":"+[2]Séries_Site!AH437","v":0},{"$f":"+[2]Séries_Site!AI437","v":88},{"$f":"+[2]Séries_Site!AJ437","v":11}]
["1996-01-01",{"$f":"+[2]Séries_Site!B438","v":566},{"$f":"+[2]Séries_Site!C438","v":566},{"$f":"+[2]Séries_Site!D438","v":0},{"$f":"+[2]Séries_Site!E438","v":892},{"$f":"+[2]Séries_Site!F438","v":384},{"$f":"+[2]Séries_Site!G438","v":340},{"$f":"+[2]Séries_Site!H438","v":340},{"$f":"+[2]Séries_Site!I438","v":0},{"$f":"+[2]Séries_Site!J438","v":516},{"$f":"+[2]Séries_Site!K438","v":225},{"$f":"+[2]Séries_Site!L438","v":36},{"$f":"+[2]Séries_Site!M438","v":36},{"$f":"+[2]Séries_Site!N438","v":0},{"$f":"+[2]Séries_Site!O438","v":105},{"$f":"+[2]Séries_Site!P438","v":62},{"$f":"+[2]Séries_Site!Q438","v":63},{"$f":"+[2]Séries_Site!R438","v":63},{"$f":"+[2]Séries_Site!S438","v":0},{"$f":"+[2]Séries_Site!T438","v":58},{"$f":"+[2]Séries_Site!U438","v":0},{"$f":"+[2]Séries_Site!V438","v":69},{"$f":"+[2]Séries_Site!W438","v":69},{"$f":"+[2]Séries_Site!X438","v":0},{"$f":"+[2]Séries_Site!Y438","v":152},{"$f":"+[2]Séries_Site!Z438","v":92},{"$f":"+[2]Séries_Site!AA438","v":0},{"$f":"+[2]Séries_Site!AB438","v":0},{"$f":"+[2]Séries_Site!AC438","v":0},{"$f":"+[2]Séries_Site!AD438","v":0},{"$f":"+[2]Séries_Site!AE438","v":0},{"$f":"+[2]Séries_Site!AF438","v":58},{"$f":"+[2]Séries_Site!AG438","v":58},{"$f":"+[2]Séries_Site!AH438","v":0},{"$f":"+[2]Séries_Site!AI438","v":61},{"$f":"+[2]Séries_Site!AJ438","v":5}]
["1996-02-01",{"$f":"+[2]Séries_Site!B439","v":949},{"$f":"+[2]Séries_Site!C439","v":947},{"$f":"+[2]Séries_Site!D439","v":2},{"$f":"+[2]Séries_Site!E439","v":1469},{"$f":"+[2]Séries_Site!F439","v":613},{"$f":"+[2]Séries_Site!G439","v":570},{"$f":"+[2]Séries_Site!H439","v":568},{"$f":"+[2]Séries_Site!I439","v":2},{"$f":"+[2]Séries_Site!J439","v":880},{"$f":"+[2]Séries_Site!K439","v":338},{"$f":"+[2]Séries_Site!L439","v":37},{"$f":"+[2]Séries_Site!M439","v":37},{"$f":"+[2]Séries_Site!N439","v":0},{"$f":"+[2]Séries_Site!O439","v":123},{"$f":"+[2]Séries_Site!P439","v":73},{"$f":"+[2]Séries_Site!Q439","v":55},{"$f":"+[2]Séries_Site!R439","v":55},{"$f":"+[2]Séries_Site!S439","v":0},{"$f":"+[2]Séries_Site!T439","v":80},{"$f":"+[2]Séries_Site!U439","v":40},{"$f":"+[2]Séries_Site!V439","v":199},{"$f":"+[2]Séries_Site!W439","v":199},{"$f":"+[2]Séries_Site!X439","v":0},{"$f":"+[2]Séries_Site!Y439","v":272},{"$f":"+[2]Séries_Site!Z439","v":150},{"$f":"+[2]Séries_Site!AA439","v":0},{"$f":"+[2]Séries_Site!AB439","v":0},{"$f":"+[2]Séries_Site!AC439","v":0},{"$f":"+[2]Séries_Site!AD439","v":0},{"$f":"+[2]Séries_Site!AE439","v":0},{"$f":"+[2]Séries_Site!AF439","v":88},{"$f":"+[2]Séries_Site!AG439","v":88},{"$f":"+[2]Séries_Site!AH439","v":0},{"$f":"+[2]Séries_Site!AI439","v":114},{"$f":"+[2]Séries_Site!AJ439","v":12}]
["1996-03-01",{"$f":"+[2]Séries_Site!B440","v":1265},{"$f":"+[2]Séries_Site!C440","v":1265},{"$f":"+[2]Séries_Site!D440","v":0},{"$f":"+[2]Séries_Site!E440","v":1691},{"$f":"+[2]Séries_Site!F440","v":503},{"$f":"+[2]Séries_Site!G440","v":812},{"$f":"+[2]Séries_Site!H440","v":812},{"$f":"+[2]Séries_Site!I440","v":0},{"$f":"+[2]Séries_Site!J440","v":1007},{"$f":"+[2]Séries_Site!K440","v":222},{"$f":"+[2]Séries_Site!L440","v":37},{"$f":"+[2]Séries_Site!M440","v":37},{"$f":"+[2]Séries_Site!N440","v":0},{"$f":"+[2]Séries_Site!O440","v":138},{"$f":"+[2]Séries_Site!P440","v":95},{"$f":"+[2]Séries_Site!Q440","v":108},{"$f":"+[2]Séries_Site!R440","v":108},{"$f":"+[2]Séries_Site!S440","v":0},{"$f":"+[2]Séries_Site!T440","v":122},{"$f":"+[2]Séries_Site!U440","v":0},{"$f":"+[2]Séries_Site!V440","v":201},{"$f":"+[2]Séries_Site!W440","v":201},{"$f":"+[2]Séries_Site!X440","v":0},{"$f":"+[2]Séries_Site!Y440","v":340},{"$f":"+[2]Séries_Site!Z440","v":183},{"$f":"+[2]Séries_Site!AA440","v":0},{"$f":"+[2]Séries_Site!AB440","v":0},{"$f":"+[2]Séries_Site!AC440","v":0},{"$f":"+[2]Séries_Site!AD440","v":0},{"$f":"+[2]Séries_Site!AE440","v":0},{"$f":"+[2]Séries_Site!AF440","v":107},{"$f":"+[2]Séries_Site!AG440","v":107},{"$f":"+[2]Séries_Site!AH440","v":0},{"$f":"+[2]Séries_Site!AI440","v":84},{"$f":"+[2]Séries_Site!AJ440","v":3}]
["1996-04-01",{"$f":"+[2]Séries_Site!B441","v":1308},{"$f":"+[2]Séries_Site!C441","v":1308},{"$f":"+[2]Séries_Site!D441","v":0},{"$f":"+[2]Séries_Site!E441","v":2054},{"$f":"+[2]Séries_Site!F441","v":606},{"$f":"+[2]Séries_Site!G441","v":998},{"$f":"+[2]Séries_Site!H441","v":998},{"$f":"+[2]Séries_Site!I441","v":0},{"$f":"+[2]Séries_Site!J441","v":1528},{"$f":"+[2]Séries_Site!K441","v":403},{"$f":"+[2]Séries_Site!L441","v":51},{"$f":"+[2]Séries_Site!M441","v":51},{"$f":"+[2]Séries_Site!N441","v":0},{"$f":"+[2]Séries_Site!O441","v":150},{"$f":"+[2]Séries_Site!P441","v":66},{"$f":"+[2]Séries_Site!Q441","v":97},{"$f":"+[2]Séries_Site!R441","v":97},{"$f":"+[2]Séries_Site!S441","v":0},{"$f":"+[2]Séries_Site!T441","v":115},{"$f":"+[2]Séries_Site!U441","v":5},{"$f":"+[2]Séries_Site!V441","v":67},{"$f":"+[2]Séries_Site!W441","v":67},{"$f":"+[2]Séries_Site!X441","v":0},{"$f":"+[2]Séries_Site!Y441","v":150},{"$f":"+[2]Séries_Site!Z441","v":124},{"$f":"+[2]Séries_Site!AA441","v":0},{"$f":"+[2]Séries_Site!AB441","v":0},{"$f":"+[2]Séries_Site!AC441","v":0},{"$f":"+[2]Séries_Site!AD441","v":0},{"$f":"+[2]Séries_Site!AE441","v":0},{"$f":"+[2]Séries_Site!AF441","v":95},{"$f":"+[2]Séries_Site!AG441","v":95},{"$f":"+[2]Séries_Site!AH441","v":0},{"$f":"+[2]Séries_Site!AI441","v":111},{"$f":"+[2]Séries_Site!AJ441","v":8}]
["1996-05-01",{"$f":"+[2]Séries_Site!B442","v":1382},{"$f":"+[2]Séries_Site!C442","v":1381},{"$f":"+[2]Séries_Site!D442","v":1},{"$f":"+[2]Séries_Site!E442","v":1980},{"$f":"+[2]Séries_Site!F442","v":682},{"$f":"+[2]Séries_Site!G442","v":1082},{"$f":"+[2]Séries_Site!H442","v":1082},{"$f":"+[2]Séries_Site!I442","v":0},{"$f":"+[2]Séries_Site!J442","v":1387},{"$f":"+[2]Séries_Site!K442","v":430},{"$f":"+[2]Séries_Site!L442","v":51},{"$f":"+[2]Séries_Site!M442","v":51},{"$f":"+[2]Séries_Site!N442","v":0},{"$f":"+[2]Séries_Site!O442","v":121},{"$f":"+[2]Séries_Site!P442","v":87},{"$f":"+[2]Séries_Site!Q442","v":45},{"$f":"+[2]Séries_Site!R442","v":45},{"$f":"+[2]Séries_Site!S442","v":0},{"$f":"+[2]Séries_Site!T442","v":122},{"$f":"+[2]Séries_Site!U442","v":3},{"$f":"+[2]Séries_Site!V442","v":57},{"$f":"+[2]Séries_Site!W442","v":56},{"$f":"+[2]Séries_Site!X442","v":1},{"$f":"+[2]Séries_Site!Y442","v":180},{"$f":"+[2]Séries_Site!Z442","v":137},{"$f":"+[2]Séries_Site!AA442","v":0},{"$f":"+[2]Séries_Site!AB442","v":0},{"$f":"+[2]Séries_Site!AC442","v":0},{"$f":"+[2]Séries_Site!AD442","v":0},{"$f":"+[2]Séries_Site!AE442","v":0},{"$f":"+[2]Séries_Site!AF442","v":147},{"$f":"+[2]Séries_Site!AG442","v":147},{"$f":"+[2]Séries_Site!AH442","v":0},{"$f":"+[2]Séries_Site!AI442","v":170},{"$f":"+[2]Séries_Site!AJ442","v":25}]
["1996-06-01",{"$f":"+[2]Séries_Site!B443","v":1161},{"$f":"+[2]Séries_Site!C443","v":1157},{"$f":"+[2]Séries_Site!D443","v":4},{"$f":"+[2]Séries_Site!E443","v":1822},{"$f":"+[2]Séries_Site!F443","v":765},{"$f":"+[2]Séries_Site!G443","v":865},{"$f":"+[2]Séries_Site!H443","v":861},{"$f":"+[2]Séries_Site!I443","v":4},{"$f":"+[2]Séries_Site!J443","v":1392},{"$f":"+[2]Séries_Site!K443","v":556},{"$f":"+[2]Séries_Site!L443","v":65},{"$f":"+[2]Séries_Site!M443","v":65},{"$f":"+[2]Séries_Site!N443","v":0},{"$f":"+[2]Séries_Site!O443","v":143},{"$f":"+[2]Séries_Site!P443","v":84},{"$f":"+[2]Séries_Site!Q443","v":58},{"$f":"+[2]Séries_Site!R443","v":58},{"$f":"+[2]Séries_Site!S443","v":0},{"$f":"+[2]Séries_Site!T443","v":45},{"$f":"+[2]Séries_Site!U443","v":53},{"$f":"+[2]Séries_Site!V443","v":36},{"$f":"+[2]Séries_Site!W443","v":36},{"$f":"+[2]Séries_Site!X443","v":0},{"$f":"+[2]Séries_Site!Y443","v":95},{"$f":"+[2]Séries_Site!Z443","v":59},{"$f":"+[2]Séries_Site!AA443","v":0},{"$f":"+[2]Séries_Site!AB443","v":0},{"$f":"+[2]Séries_Site!AC443","v":0},{"$f":"+[2]Séries_Site!AD443","v":0},{"$f":"+[2]Séries_Site!AE443","v":0},{"$f":"+[2]Séries_Site!AF443","v":137},{"$f":"+[2]Séries_Site!AG443","v":137},{"$f":"+[2]Séries_Site!AH443","v":0},{"$f":"+[2]Séries_Site!AI443","v":147},{"$f":"+[2]Séries_Site!AJ443","v":13}]
["1996-07-01",{"$f":"+[2]Séries_Site!B444","v":1313},{"$f":"+[2]Séries_Site!C444","v":1304},{"$f":"+[2]Séries_Site!D444","v":9},{"$f":"+[2]Séries_Site!E444","v":2266},{"$f":"+[2]Séries_Site!F444","v":835},{"$f":"+[2]Séries_Site!G444","v":996},{"$f":"+[2]Séries_Site!H444","v":987},{"$f":"+[2]Séries_Site!I444","v":9},{"$f":"+[2]Séries_Site!J444","v":1744},{"$f":"+[2]Séries_Site!K444","v":645},{"$f":"+[2]Séries_Site!L444","v":42},{"$f":"+[2]Séries_Site!M444","v":42},{"$f":"+[2]Séries_Site!N444","v":0},{"$f":"+[2]Séries_Site!O444","v":133},{"$f":"+[2]Séries_Site!P444","v":95},{"$f":"+[2]Séries_Site!Q444","v":59},{"$f":"+[2]Séries_Site!R444","v":59},{"$f":"+[2]Séries_Site!S444","v":0},{"$f":"+[2]Séries_Site!T444","v":61},{"$f":"+[2]Séries_Site!U444","v":7},{"$f":"+[2]Séries_Site!V444","v":23},{"$f":"+[2]Séries_Site!W444","v":23},{"$f":"+[2]Séries_Site!X444","v":0},{"$f":"+[2]Séries_Site!Y444","v":132},{"$f":"+[2]Séries_Site!Z444","v":81},{"$f":"+[2]Séries_Site!AA444","v":0},{"$f":"+[2]Séries_Site!AB444","v":0},{"$f":"+[2]Séries_Site!AC444","v":0},{"$f":"+[2]Séries_Site!AD444","v":0},{"$f":"+[2]Séries_Site!AE444","v":0},{"$f":"+[2]Séries_Site!AF444","v":193},{"$f":"+[2]Séries_Site!AG444","v":193},{"$f":"+[2]Séries_Site!AH444","v":0},{"$f":"+[2]Séries_Site!AI444","v":196},{"$f":"+[2]Séries_Site!AJ444","v":7}]
["1996-08-01",{"$f":"+[2]Séries_Site!B445","v":1495},{"$f":"+[2]Séries_Site!C445","v":1495},{"$f":"+[2]Séries_Site!D445","v":0},{"$f":"+[2]Séries_Site!E445","v":2398},{"$f":"+[2]Séries_Site!F445","v":878},{"$f":"+[2]Séries_Site!G445","v":1207},{"$f":"+[2]Séries_Site!H445","v":1207},{"$f":"+[2]Séries_Site!I445","v":0},{"$f":"+[2]Séries_Site!J445","v":1838},{"$f":"+[2]Séries_Site!K445","v":668},{"$f":"+[2]Séries_Site!L445","v":31},{"$f":"+[2]Séries_Site!M445","v":31},{"$f":"+[2]Séries_Site!N445","v":0},{"$f":"+[2]Séries_Site!O445","v":133},{"$f":"+[2]Séries_Site!P445","v":74},{"$f":"+[2]Séries_Site!Q445","v":53},{"$f":"+[2]Séries_Site!R445","v":53},{"$f":"+[2]Séries_Site!S445","v":0},{"$f":"+[2]Séries_Site!T445","v":92},{"$f":"+[2]Séries_Site!U445","v":0},{"$f":"+[2]Séries_Site!V445","v":28},{"$f":"+[2]Séries_Site!W445","v":28},{"$f":"+[2]Séries_Site!X445","v":0},{"$f":"+[2]Séries_Site!Y445","v":153},{"$f":"+[2]Séries_Site!Z445","v":129},{"$f":"+[2]Séries_Site!AA445","v":0},{"$f":"+[2]Séries_Site!AB445","v":0},{"$f":"+[2]Séries_Site!AC445","v":0},{"$f":"+[2]Séries_Site!AD445","v":0},{"$f":"+[2]Séries_Site!AE445","v":0},{"$f":"+[2]Séries_Site!AF445","v":176},{"$f":"+[2]Séries_Site!AG445","v":176},{"$f":"+[2]Séries_Site!AH445","v":0},{"$f":"+[2]Séries_Site!AI445","v":182},{"$f":"+[2]Séries_Site!AJ445","v":7}]
["1996-09-01",{"$f":"+[2]Séries_Site!B446","v":1305},{"$f":"+[2]Séries_Site!C446","v":1300},{"$f":"+[2]Séries_Site!D446","v":5},{"$f":"+[2]Séries_Site!E446","v":1935},{"$f":"+[2]Séries_Site!F446","v":822},{"$f":"+[2]Séries_Site!G446","v":1051},{"$f":"+[2]Séries_Site!H446","v":1046},{"$f":"+[2]Séries_Site!I446","v":5},{"$f":"+[2]Séries_Site!J446","v":1362},{"$f":"+[2]Séries_Site!K446","v":458},{"$f":"+[2]Séries_Site!L446","v":45},{"$f":"+[2]Séries_Site!M446","v":45},{"$f":"+[2]Séries_Site!N446","v":0},{"$f":"+[2]Séries_Site!O446","v":113},{"$f":"+[2]Séries_Site!P446","v":85},{"$f":"+[2]Séries_Site!Q446","v":33},{"$f":"+[2]Séries_Site!R446","v":33},{"$f":"+[2]Séries_Site!S446","v":0},{"$f":"+[2]Séries_Site!T446","v":84},{"$f":"+[2]Séries_Site!U446","v":101},{"$f":"+[2]Séries_Site!V446","v":30},{"$f":"+[2]Séries_Site!W446","v":30},{"$f":"+[2]Séries_Site!X446","v":0},{"$f":"+[2]Séries_Site!Y446","v":217},{"$f":"+[2]Séries_Site!Z446","v":166},{"$f":"+[2]Séries_Site!AA446","v":0},{"$f":"+[2]Séries_Site!AB446","v":0},{"$f":"+[2]Séries_Site!AC446","v":0},{"$f":"+[2]Séries_Site!AD446","v":0},{"$f":"+[2]Séries_Site!AE446","v":0},{"$f":"+[2]Séries_Site!AF446","v":146},{"$f":"+[2]Séries_Site!AG446","v":146},{"$f":"+[2]Séries_Site!AH446","v":0},{"$f":"+[2]Séries_Site!AI446","v":159},{"$f":"+[2]Séries_Site!AJ446","v":12}]
["1996-10-01",{"$f":"+[2]Séries_Site!B447","v":1166},{"$f":"+[2]Séries_Site!C447","v":1165},{"$f":"+[2]Séries_Site!D447","v":1},{"$f":"+[2]Séries_Site!E447","v":2072},{"$f":"+[2]Séries_Site!F447","v":899},{"$f":"+[2]Séries_Site!G447","v":904},{"$f":"+[2]Séries_Site!H447","v":903},{"$f":"+[2]Séries_Site!I447","v":1},{"$f":"+[2]Séries_Site!J447","v":1432},{"$f":"+[2]Séries_Site!K447","v":537},{"$f":"+[2]Séries_Site!L447","v":35},{"$f":"+[2]Séries_Site!M447","v":35},{"$f":"+[2]Séries_Site!N447","v":0},{"$f":"+[2]Séries_Site!O447","v":136},{"$f":"+[2]Séries_Site!P447","v":100},{"$f":"+[2]Séries_Site!Q447","v":41},{"$f":"+[2]Séries_Site!R447","v":41},{"$f":"+[2]Séries_Site!S447","v":0},{"$f":"+[2]Séries_Site!T447","v":63},{"$f":"+[2]Séries_Site!U447","v":5},{"$f":"+[2]Séries_Site!V447","v":46},{"$f":"+[2]Séries_Site!W447","v":46},{"$f":"+[2]Séries_Site!X447","v":0},{"$f":"+[2]Séries_Site!Y447","v":249},{"$f":"+[2]Séries_Site!Z447","v":213},{"$f":"+[2]Séries_Site!AA447","v":0},{"$f":"+[2]Séries_Site!AB447","v":0},{"$f":"+[2]Séries_Site!AC447","v":0},{"$f":"+[2]Séries_Site!AD447","v":0},{"$f":"+[2]Séries_Site!AE447","v":0},{"$f":"+[2]Séries_Site!AF447","v":140},{"$f":"+[2]Séries_Site!AG447","v":140},{"$f":"+[2]Séries_Site!AH447","v":0},{"$f":"+[2]Séries_Site!AI447","v":192},{"$f":"+[2]Séries_Site!AJ447","v":44}]
["1996-11-01",{"$f":"+[2]Séries_Site!B448","v":997},{"$f":"+[2]Séries_Site!C448","v":997},{"$f":"+[2]Séries_Site!D448","v":0},{"$f":"+[2]Séries_Site!E448","v":2071},{"$f":"+[2]Séries_Site!F448","v":803},{"$f":"+[2]Séries_Site!G448","v":745},{"$f":"+[2]Séries_Site!H448","v":745},{"$f":"+[2]Séries_Site!I448","v":0},{"$f":"+[2]Séries_Site!J448","v":1505},{"$f":"+[2]Séries_Site!K448","v":511},{"$f":"+[2]Séries_Site!L448","v":24},{"$f":"+[2]Séries_Site!M448","v":24},{"$f":"+[2]Séries_Site!N448","v":0},{"$f":"+[2]Séries_Site!O448","v":131},{"$f":"+[2]Séries_Site!P448","v":83},{"$f":"+[2]Séries_Site!Q448","v":63},{"$f":"+[2]Séries_Site!R448","v":63},{"$f":"+[2]Séries_Site!S448","v":0},{"$f":"+[2]Séries_Site!T448","v":40},{"$f":"+[2]Séries_Site!U448","v":0},{"$f":"+[2]Séries_Site!V448","v":55},{"$f":"+[2]Séries_Site!W448","v":55},{"$f":"+[2]Séries_Site!X448","v":0},{"$f":"+[2]Séries_Site!Y448","v":265},{"$f":"+[2]Séries_Site!Z448","v":185},{"$f":"+[2]Séries_Site!AA448","v":0},{"$f":"+[2]Séries_Site!AB448","v":0},{"$f":"+[2]Séries_Site!AC448","v":0},{"$f":"+[2]Séries_Site!AD448","v":0},{"$f":"+[2]Séries_Site!AE448","v":0},{"$f":"+[2]Séries_Site!AF448","v":110},{"$f":"+[2]Séries_Site!AG448","v":110},{"$f":"+[2]Séries_Site!AH448","v":0},{"$f":"+[2]Séries_Site!AI448","v":130},{"$f":"+[2]Séries_Site!AJ448","v":24}]
["1996-12-01",{"$f":"+[2]Séries_Site!B449","v":1017},{"$f":"+[2]Séries_Site!C449","v":1008},{"$f":"+[2]Séries_Site!D449","v":9},{"$f":"+[2]Séries_Site!E449","v":1539},{"$f":"+[2]Séries_Site!F449","v":569},{"$f":"+[2]Séries_Site!G449","v":742},{"$f":"+[2]Séries_Site!H449","v":742},{"$f":"+[2]Séries_Site!I449","v":0},{"$f":"+[2]Séries_Site!J449","v":954},{"$f":"+[2]Séries_Site!K449","v":280},{"$f":"+[2]Séries_Site!L449","v":51},{"$f":"+[2]Séries_Site!M449","v":46},{"$f":"+[2]Séries_Site!N449","v":5},{"$f":"+[2]Séries_Site!O449","v":117},{"$f":"+[2]Séries_Site!P449","v":81},{"$f":"+[2]Séries_Site!Q449","v":39},{"$f":"+[2]Séries_Site!R449","v":39},{"$f":"+[2]Séries_Site!S449","v":0},{"$f":"+[2]Séries_Site!T449","v":44},{"$f":"+[2]Séries_Site!U449","v":21},{"$f":"+[2]Séries_Site!V449","v":89},{"$f":"+[2]Séries_Site!W449","v":89},{"$f":"+[2]Séries_Site!X449","v":0},{"$f":"+[2]Séries_Site!Y449","v":326},{"$f":"+[2]Séries_Site!Z449","v":170},{"$f":"+[2]Séries_Site!AA449","v":0},{"$f":"+[2]Séries_Site!AB449","v":0},{"$f":"+[2]Séries_Site!AC449","v":0},{"$f":"+[2]Séries_Site!AD449","v":0},{"$f":"+[2]Séries_Site!AE449","v":0},{"$f":"+[2]Séries_Site!AF449","v":96},{"$f":"+[2]Séries_Site!AG449","v":92},{"$f":"+[2]Séries_Site!AH449","v":4},{"$f":"+[2]Séries_Site!AI449","v":98},{"$f":"+[2]Séries_Site!AJ449","v":17}]
["1997-01-01",{"$f":"+[2]Séries_Site!B450","v":951},{"$f":"+[2]Séries_Site!C450","v":944},{"$f":"+[2]Séries_Site!D450","v":7},{"$f":"+[2]Séries_Site!E450","v":1525},{"$f":"+[2]Séries_Site!F450","v":576},{"$f":"+[2]Séries_Site!G450","v":564},{"$f":"+[2]Séries_Site!H450","v":563},{"$f":"+[2]Séries_Site!I450","v":1},{"$f":"+[2]Séries_Site!J450","v":909},{"$f":"+[2]Séries_Site!K450","v":366},{"$f":"+[2]Séries_Site!L450","v":35},{"$f":"+[2]Séries_Site!M450","v":31},{"$f":"+[2]Séries_Site!N450","v":4},{"$f":"+[2]Séries_Site!O450","v":98},{"$f":"+[2]Séries_Site!P450","v":70},{"$f":"+[2]Séries_Site!Q450","v":42},{"$f":"+[2]Séries_Site!R450","v":42},{"$f":"+[2]Séries_Site!S450","v":0},{"$f":"+[2]Séries_Site!T450","v":59},{"$f":"+[2]Séries_Site!U450","v":0},{"$f":"+[2]Séries_Site!V450","v":215},{"$f":"+[2]Séries_Site!W450","v":213},{"$f":"+[2]Séries_Site!X450","v":2},{"$f":"+[2]Séries_Site!Y450","v":364},{"$f":"+[2]Séries_Site!Z450","v":138},{"$f":"+[2]Séries_Site!AA450","v":0},{"$f":"+[2]Séries_Site!AB450","v":0},{"$f":"+[2]Séries_Site!AC450","v":0},{"$f":"+[2]Séries_Site!AD450","v":0},{"$f":"+[2]Séries_Site!AE450","v":0},{"$f":"+[2]Séries_Site!AF450","v":95},{"$f":"+[2]Séries_Site!AG450","v":95},{"$f":"+[2]Séries_Site!AH450","v":0},{"$f":"+[2]Séries_Site!AI450","v":95},{"$f":"+[2]Séries_Site!AJ450","v":2}]
["1997-02-01",{"$f":"+[2]Séries_Site!B451","v":1206},{"$f":"+[2]Séries_Site!C451","v":1201},{"$f":"+[2]Séries_Site!D451","v":5},{"$f":"+[2]Séries_Site!E451","v":2061},{"$f":"+[2]Séries_Site!F451","v":871},{"$f":"+[2]Séries_Site!G451","v":685},{"$f":"+[2]Séries_Site!H451","v":685},{"$f":"+[2]Séries_Site!I451","v":0},{"$f":"+[2]Séries_Site!J451","v":1227},{"$f":"+[2]Séries_Site!K451","v":438},{"$f":"+[2]Séries_Site!L451","v":58},{"$f":"+[2]Séries_Site!M451","v":53},{"$f":"+[2]Séries_Site!N451","v":5},{"$f":"+[2]Séries_Site!O451","v":136},{"$f":"+[2]Séries_Site!P451","v":75},{"$f":"+[2]Séries_Site!Q451","v":47},{"$f":"+[2]Séries_Site!R451","v":47},{"$f":"+[2]Séries_Site!S451","v":0},{"$f":"+[2]Séries_Site!T451","v":81},{"$f":"+[2]Séries_Site!U451","v":53},{"$f":"+[2]Séries_Site!V451","v":289},{"$f":"+[2]Séries_Site!W451","v":289},{"$f":"+[2]Séries_Site!X451","v":0},{"$f":"+[2]Séries_Site!Y451","v":475},{"$f":"+[2]Séries_Site!Z451","v":290},{"$f":"+[2]Séries_Site!AA451","v":0},{"$f":"+[2]Séries_Site!AB451","v":0},{"$f":"+[2]Séries_Site!AC451","v":0},{"$f":"+[2]Séries_Site!AD451","v":0},{"$f":"+[2]Séries_Site!AE451","v":0},{"$f":"+[2]Séries_Site!AF451","v":127},{"$f":"+[2]Séries_Site!AG451","v":127},{"$f":"+[2]Séries_Site!AH451","v":0},{"$f":"+[2]Séries_Site!AI451","v":142},{"$f":"+[2]Séries_Site!AJ451","v":15}]
["1997-03-01",{"$f":"+[2]Séries_Site!B452","v":1511},{"$f":"+[2]Séries_Site!C452","v":1492},{"$f":"+[2]Séries_Site!D452","v":19},{"$f":"+[2]Séries_Site!E452","v":2471},{"$f":"+[2]Séries_Site!F452","v":835},{"$f":"+[2]Séries_Site!G452","v":935},{"$f":"+[2]Séries_Site!H452","v":923},{"$f":"+[2]Séries_Site!I452","v":12},{"$f":"+[2]Séries_Site!J452","v":1644},{"$f":"+[2]Séries_Site!K452","v":519},{"$f":"+[2]Séries_Site!L452","v":66},{"$f":"+[2]Séries_Site!M452","v":59},{"$f":"+[2]Séries_Site!N452","v":7},{"$f":"+[2]Séries_Site!O452","v":136},{"$f":"+[2]Séries_Site!P452","v":100},{"$f":"+[2]Séries_Site!Q452","v":77},{"$f":"+[2]Séries_Site!R452","v":77},{"$f":"+[2]Séries_Site!S452","v":0},{"$f":"+[2]Séries_Site!T452","v":81},{"$f":"+[2]Séries_Site!U452","v":4},{"$f":"+[2]Séries_Site!V452","v":289},{"$f":"+[2]Séries_Site!W452","v":289},{"$f":"+[2]Séries_Site!X452","v":0},{"$f":"+[2]Séries_Site!Y452","v":433},{"$f":"+[2]Séries_Site!Z452","v":179},{"$f":"+[2]Séries_Site!AA452","v":0},{"$f":"+[2]Séries_Site!AB452","v":0},{"$f":"+[2]Séries_Site!AC452","v":0},{"$f":"+[2]Séries_Site!AD452","v":0},{"$f":"+[2]Séries_Site!AE452","v":0},{"$f":"+[2]Séries_Site!AF452","v":144},{"$f":"+[2]Séries_Site!AG452","v":144},{"$f":"+[2]Séries_Site!AH452","v":0},{"$f":"+[2]Séries_Site!AI452","v":177},{"$f":"+[2]Séries_Site!AJ452","v":33}]
["1997-04-01",{"$f":"+[2]Séries_Site!B453","v":1686},{"$f":"+[2]Séries_Site!C453","v":1675},{"$f":"+[2]Séries_Site!D453","v":11},{"$f":"+[2]Séries_Site!E453","v":2529},{"$f":"+[2]Séries_Site!F453","v":902},{"$f":"+[2]Séries_Site!G453","v":1296},{"$f":"+[2]Séries_Site!H453","v":1294},{"$f":"+[2]Séries_Site!I453","v":2},{"$f":"+[2]Séries_Site!J453","v":1725},{"$f":"+[2]Séries_Site!K453","v":490},{"$f":"+[2]Séries_Site!L453","v":80},{"$f":"+[2]Séries_Site!M453","v":73},{"$f":"+[2]Séries_Site!N453","v":7},{"$f":"+[2]Séries_Site!O453","v":159},{"$f":"+[2]Séries_Site!P453","v":106},{"$f":"+[2]Séries_Site!Q453","v":66},{"$f":"+[2]Séries_Site!R453","v":66},{"$f":"+[2]Séries_Site!S453","v":0},{"$f":"+[2]Séries_Site!T453","v":84},{"$f":"+[2]Séries_Site!U453","v":5},{"$f":"+[2]Séries_Site!V453","v":70},{"$f":"+[2]Séries_Site!W453","v":68},{"$f":"+[2]Séries_Site!X453","v":2},{"$f":"+[2]Séries_Site!Y453","v":347},{"$f":"+[2]Séries_Site!Z453","v":263},{"$f":"+[2]Séries_Site!AA453","v":0},{"$f":"+[2]Séries_Site!AB453","v":0},{"$f":"+[2]Séries_Site!AC453","v":0},{"$f":"+[2]Séries_Site!AD453","v":0},{"$f":"+[2]Séries_Site!AE453","v":0},{"$f":"+[2]Séries_Site!AF453","v":174},{"$f":"+[2]Séries_Site!AG453","v":174},{"$f":"+[2]Séries_Site!AH453","v":0},{"$f":"+[2]Séries_Site!AI453","v":214},{"$f":"+[2]Séries_Site!AJ453","v":38}]
["1997-05-01",{"$f":"+[2]Séries_Site!B454","v":1778},{"$f":"+[2]Séries_Site!C454","v":1745},{"$f":"+[2]Séries_Site!D454","v":33},{"$f":"+[2]Séries_Site!E454","v":2728},{"$f":"+[2]Séries_Site!F454","v":773},{"$f":"+[2]Séries_Site!G454","v":1417},{"$f":"+[2]Séries_Site!H454","v":1391},{"$f":"+[2]Séries_Site!I454","v":26},{"$f":"+[2]Séries_Site!J454","v":2029},{"$f":"+[2]Séries_Site!K454","v":510},{"$f":"+[2]Séries_Site!L454","v":77},{"$f":"+[2]Séries_Site!M454","v":71},{"$f":"+[2]Séries_Site!N454","v":6},{"$f":"+[2]Séries_Site!O454","v":169},{"$f":"+[2]Séries_Site!P454","v":92},{"$f":"+[2]Séries_Site!Q454","v":62},{"$f":"+[2]Séries_Site!R454","v":62},{"$f":"+[2]Séries_Site!S454","v":0},{"$f":"+[2]Séries_Site!T454","v":57},{"$f":"+[2]Séries_Site!U454","v":4},{"$f":"+[2]Séries_Site!V454","v":25},{"$f":"+[2]Séries_Site!W454","v":24},{"$f":"+[2]Séries_Site!X454","v":1},{"$f":"+[2]Séries_Site!Y454","v":236},{"$f":"+[2]Séries_Site!Z454","v":133},{"$f":"+[2]Séries_Site!AA454","v":0},{"$f":"+[2]Séries_Site!AB454","v":0},{"$f":"+[2]Séries_Site!AC454","v":0},{"$f":"+[2]Séries_Site!AD454","v":0},{"$f":"+[2]Séries_Site!AE454","v":0},{"$f":"+[2]Séries_Site!AF454","v":197},{"$f":"+[2]Séries_Site!AG454","v":197},{"$f":"+[2]Séries_Site!AH454","v":0},{"$f":"+[2]Séries_Site!AI454","v":237},{"$f":"+[2]Séries_Site!AJ454","v":34}]
["1997-06-01",{"$f":"+[2]Séries_Site!B455","v":1901},{"$f":"+[2]Séries_Site!C455","v":1863},{"$f":"+[2]Séries_Site!D455","v":38},{"$f":"+[2]Séries_Site!E455","v":2999},{"$f":"+[2]Séries_Site!F455","v":804},{"$f":"+[2]Séries_Site!G455","v":1520},{"$f":"+[2]Séries_Site!H455","v":1490},{"$f":"+[2]Séries_Site!I455","v":30},{"$f":"+[2]Séries_Site!J455","v":2344},{"$f":"+[2]Séries_Site!K455","v":585},{"$f":"+[2]Séries_Site!L455","v":93},{"$f":"+[2]Séries_Site!M455","v":86},{"$f":"+[2]Séries_Site!N455","v":7},{"$f":"+[2]Séries_Site!O455","v":181},{"$f":"+[2]Séries_Site!P455","v":78},{"$f":"+[2]Séries_Site!Q455","v":62},{"$f":"+[2]Séries_Site!R455","v":62},{"$f":"+[2]Séries_Site!S455","v":0},{"$f":"+[2]Séries_Site!T455","v":84},{"$f":"+[2]Séries_Site!U455","v":25},{"$f":"+[2]Séries_Site!V455","v":30},{"$f":"+[2]Séries_Site!W455","v":29},{"$f":"+[2]Séries_Site!X455","v":1},{"$f":"+[2]Séries_Site!Y455","v":116},{"$f":"+[2]Séries_Site!Z455","v":66},{"$f":"+[2]Séries_Site!AA455","v":0},{"$f":"+[2]Séries_Site!AB455","v":0},{"$f":"+[2]Séries_Site!AC455","v":0},{"$f":"+[2]Séries_Site!AD455","v":0},{"$f":"+[2]Séries_Site!AE455","v":0},{"$f":"+[2]Séries_Site!AF455","v":196},{"$f":"+[2]Séries_Site!AG455","v":196},{"$f":"+[2]Séries_Site!AH455","v":0},{"$f":"+[2]Séries_Site!AI455","v":274},{"$f":"+[2]Séries_Site!AJ455","v":50}]
["1997-07-01",{"$f":"+[2]Séries_Site!B456","v":2093},{"$f":"+[2]Séries_Site!C456","v":2041},{"$f":"+[2]Séries_Site!D456","v":52},{"$f":"+[2]Séries_Site!E456","v":3043},{"$f":"+[2]Séries_Site!F456","v":799},{"$f":"+[2]Séries_Site!G456","v":1687},{"$f":"+[2]Séries_Site!H456","v":1646},{"$f":"+[2]Séries_Site!I456","v":41},{"$f":"+[2]Séries_Site!J456","v":2386},{"$f":"+[2]Séries_Site!K456","v":524},{"$f":"+[2]Séries_Site!L456","v":81},{"$f":"+[2]Séries_Site!M456","v":75},{"$f":"+[2]Séries_Site!N456","v":6},{"$f":"+[2]Séries_Site!O456","v":230},{"$f":"+[2]Séries_Site!P456","v":110},{"$f":"+[2]Séries_Site!Q456","v":86},{"$f":"+[2]Séries_Site!R456","v":86},{"$f":"+[2]Séries_Site!S456","v":0},{"$f":"+[2]Séries_Site!T456","v":86},{"$f":"+[2]Séries_Site!U456","v":0},{"$f":"+[2]Séries_Site!V456","v":52},{"$f":"+[2]Séries_Site!W456","v":47},{"$f":"+[2]Séries_Site!X456","v":5},{"$f":"+[2]Séries_Site!Y456","v":163},{"$f":"+[2]Séries_Site!Z456","v":139},{"$f":"+[2]Séries_Site!AA456","v":0},{"$f":"+[2]Séries_Site!AB456","v":0},{"$f":"+[2]Séries_Site!AC456","v":0},{"$f":"+[2]Séries_Site!AD456","v":0},{"$f":"+[2]Séries_Site!AE456","v":0},{"$f":"+[2]Séries_Site!AF456","v":187},{"$f":"+[2]Séries_Site!AG456","v":187},{"$f":"+[2]Séries_Site!AH456","v":0},{"$f":"+[2]Séries_Site!AI456","v":178},{"$f":"+[2]Séries_Site!AJ456","v":26}]
["1997-08-01",{"$f":"+[2]Séries_Site!B457","v":2354},{"$f":"+[2]Séries_Site!C457","v":2300},{"$f":"+[2]Séries_Site!D457","v":54},{"$f":"+[2]Séries_Site!E457","v":3238},{"$f":"+[2]Séries_Site!F457","v":960},{"$f":"+[2]Séries_Site!G457","v":1871},{"$f":"+[2]Séries_Site!H457","v":1826},{"$f":"+[2]Séries_Site!I457","v":45},{"$f":"+[2]Séries_Site!J457","v":2402},{"$f":"+[2]Séries_Site!K457","v":695},{"$f":"+[2]Séries_Site!L457","v":105},{"$f":"+[2]Séries_Site!M457","v":99},{"$f":"+[2]Séries_Site!N457","v":6},{"$f":"+[2]Séries_Site!O457","v":201},{"$f":"+[2]Séries_Site!P457","v":92},{"$f":"+[2]Séries_Site!Q457","v":64},{"$f":"+[2]Séries_Site!R457","v":64},{"$f":"+[2]Séries_Site!S457","v":0},{"$f":"+[2]Séries_Site!T457","v":70},{"$f":"+[2]Séries_Site!U457","v":2},{"$f":"+[2]Séries_Site!V457","v":68},{"$f":"+[2]Séries_Site!W457","v":65},{"$f":"+[2]Séries_Site!X457","v":3},{"$f":"+[2]Séries_Site!Y457","v":274},{"$f":"+[2]Séries_Site!Z457","v":132},{"$f":"+[2]Séries_Site!AA457","v":0},{"$f":"+[2]Séries_Site!AB457","v":0},{"$f":"+[2]Séries_Site!AC457","v":0},{"$f":"+[2]Séries_Site!AD457","v":0},{"$f":"+[2]Séries_Site!AE457","v":0},{"$f":"+[2]Séries_Site!AF457","v":246},{"$f":"+[2]Séries_Site!AG457","v":246},{"$f":"+[2]Séries_Site!AH457","v":0},{"$f":"+[2]Séries_Site!AI457","v":291},{"$f":"+[2]Séries_Site!AJ457","v":39}]
["1997-09-01",{"$f":"+[2]Séries_Site!B458","v":2499},{"$f":"+[2]Séries_Site!C458","v":2457},{"$f":"+[2]Séries_Site!D458","v":42},{"$f":"+[2]Séries_Site!E458","v":3117},{"$f":"+[2]Séries_Site!F458","v":883},{"$f":"+[2]Séries_Site!G458","v":1957},{"$f":"+[2]Séries_Site!H458","v":1922},{"$f":"+[2]Séries_Site!I458","v":35},{"$f":"+[2]Séries_Site!J458","v":2202},{"$f":"+[2]Séries_Site!K458","v":609},{"$f":"+[2]Séries_Site!L458","v":94},{"$f":"+[2]Séries_Site!M458","v":88},{"$f":"+[2]Séries_Site!N458","v":6},{"$f":"+[2]Séries_Site!O458","v":209},{"$f":"+[2]Séries_Site!P458","v":114},{"$f":"+[2]Séries_Site!Q458","v":61},{"$f":"+[2]Séries_Site!R458","v":61},{"$f":"+[2]Séries_Site!S458","v":0},{"$f":"+[2]Séries_Site!T458","v":81},{"$f":"+[2]Séries_Site!U458","v":15},{"$f":"+[2]Séries_Site!V458","v":128},{"$f":"+[2]Séries_Site!W458","v":127},{"$f":"+[2]Séries_Site!X458","v":1},{"$f":"+[2]Séries_Site!Y458","v":316},{"$f":"+[2]Séries_Site!Z458","v":99},{"$f":"+[2]Séries_Site!AA458","v":0},{"$f":"+[2]Séries_Site!AB458","v":0},{"$f":"+[2]Séries_Site!AC458","v":0},{"$f":"+[2]Séries_Site!AD458","v":0},{"$f":"+[2]Séries_Site!AE458","v":0},{"$f":"+[2]Séries_Site!AF458","v":259},{"$f":"+[2]Séries_Site!AG458","v":259},{"$f":"+[2]Séries_Site!AH458","v":0},{"$f":"+[2]Séries_Site!AI458","v":309},{"$f":"+[2]Séries_Site!AJ458","v":46}]
["1997-10-01",{"$f":"+[2]Séries_Site!B459","v":2243},{"$f":"+[2]Séries_Site!C459","v":2199},{"$f":"+[2]Séries_Site!D459","v":44},{"$f":"+[2]Séries_Site!E459","v":3165},{"$f":"+[2]Séries_Site!F459","v":996},{"$f":"+[2]Séries_Site!G459","v":1840},{"$f":"+[2]Séries_Site!H459","v":1805},{"$f":"+[2]Séries_Site!I459","v":35},{"$f":"+[2]Séries_Site!J459","v":2299},{"$f":"+[2]Séries_Site!K459","v":614},{"$f":"+[2]Séries_Site!L459","v":59},{"$f":"+[2]Séries_Site!M459","v":55},{"$f":"+[2]Séries_Site!N459","v":4},{"$f":"+[2]Séries_Site!O459","v":206},{"$f":"+[2]Séries_Site!P459","v":143},{"$f":"+[2]Séries_Site!Q459","v":27},{"$f":"+[2]Séries_Site!R459","v":27},{"$f":"+[2]Séries_Site!S459","v":0},{"$f":"+[2]Séries_Site!T459","v":81},{"$f":"+[2]Séries_Site!U459","v":26},{"$f":"+[2]Séries_Site!V459","v":109},{"$f":"+[2]Séries_Site!W459","v":104},{"$f":"+[2]Séries_Site!X459","v":5},{"$f":"+[2]Séries_Site!Y459","v":279},{"$f":"+[2]Séries_Site!Z459","v":150},{"$f":"+[2]Séries_Site!AA459","v":0},{"$f":"+[2]Séries_Site!AB459","v":0},{"$f":"+[2]Séries_Site!AC459","v":0},{"$f":"+[2]Séries_Site!AD459","v":0},{"$f":"+[2]Séries_Site!AE459","v":0},{"$f":"+[2]Séries_Site!AF459","v":208},{"$f":"+[2]Séries_Site!AG459","v":208},{"$f":"+[2]Séries_Site!AH459","v":0},{"$f":"+[2]Séries_Site!AI459","v":300},{"$f":"+[2]Séries_Site!AJ459","v":63}]
["1997-11-01",{"$f":"+[2]Séries_Site!B460","v":1672},{"$f":"+[2]Séries_Site!C460","v":1596},{"$f":"+[2]Séries_Site!D460","v":76},{"$f":"+[2]Séries_Site!E460","v":2804},{"$f":"+[2]Séries_Site!F460","v":906},{"$f":"+[2]Séries_Site!G460","v":1240},{"$f":"+[2]Séries_Site!H460","v":1177},{"$f":"+[2]Séries_Site!I460","v":63},{"$f":"+[2]Séries_Site!J460","v":1974},{"$f":"+[2]Séries_Site!K460","v":611},{"$f":"+[2]Séries_Site!L460","v":52},{"$f":"+[2]Séries_Site!M460","v":49},{"$f":"+[2]Séries_Site!N460","v":3},{"$f":"+[2]Séries_Site!O460","v":167},{"$f":"+[2]Séries_Site!P460","v":120},{"$f":"+[2]Séries_Site!Q460","v":60},{"$f":"+[2]Séries_Site!R460","v":60},{"$f":"+[2]Séries_Site!S460","v":0},{"$f":"+[2]Séries_Site!T460","v":60},{"$f":"+[2]Séries_Site!U460","v":2},{"$f":"+[2]Séries_Site!V460","v":160},{"$f":"+[2]Séries_Site!W460","v":150},{"$f":"+[2]Séries_Site!X460","v":10},{"$f":"+[2]Séries_Site!Y460","v":369},{"$f":"+[2]Séries_Site!Z460","v":120},{"$f":"+[2]Séries_Site!AA460","v":0},{"$f":"+[2]Séries_Site!AB460","v":0},{"$f":"+[2]Séries_Site!AC460","v":0},{"$f":"+[2]Séries_Site!AD460","v":0},{"$f":"+[2]Séries_Site!AE460","v":0},{"$f":"+[2]Séries_Site!AF460","v":160},{"$f":"+[2]Séries_Site!AG460","v":160},{"$f":"+[2]Séries_Site!AH460","v":0},{"$f":"+[2]Séries_Site!AI460","v":234},{"$f":"+[2]Séries_Site!AJ460","v":53}]
["1997-12-01",{"$f":"+[2]Séries_Site!B461","v":1571},{"$f":"+[2]Séries_Site!C461","v":1516},{"$f":"+[2]Séries_Site!D461","v":55},{"$f":"+[2]Séries_Site!E461","v":1977},{"$f":"+[2]Séries_Site!F461","v":759},{"$f":"+[2]Séries_Site!G461","v":1037},{"$f":"+[2]Séries_Site!H461","v":1009},{"$f":"+[2]Séries_Site!I461","v":28},{"$f":"+[2]Séries_Site!J461","v":1323},{"$f":"+[2]Séries_Site!K461","v":423},{"$f":"+[2]Séries_Site!L461","v":42},{"$f":"+[2]Séries_Site!M461","v":38},{"$f":"+[2]Séries_Site!N461","v":4},{"$f":"+[2]Séries_Site!O461","v":143},{"$f":"+[2]Séries_Site!P461","v":99},{"$f":"+[2]Séries_Site!Q461","v":53},{"$f":"+[2]Séries_Site!R461","v":53},{"$f":"+[2]Séries_Site!S461","v":0},{"$f":"+[2]Séries_Site!T461","v":20},{"$f":"+[2]Séries_Site!U461","v":2},{"$f":"+[2]Séries_Site!V461","v":274},{"$f":"+[2]Séries_Site!W461","v":257},{"$f":"+[2]Séries_Site!X461","v":17},{"$f":"+[2]Séries_Site!Y461","v":343},{"$f":"+[2]Séries_Site!Z461","v":197},{"$f":"+[2]Séries_Site!AA461","v":0},{"$f":"+[2]Séries_Site!AB461","v":0},{"$f":"+[2]Séries_Site!AC461","v":0},{"$f":"+[2]Séries_Site!AD461","v":0},{"$f":"+[2]Séries_Site!AE461","v":0},{"$f":"+[2]Séries_Site!AF461","v":165},{"$f":"+[2]Séries_Site!AG461","v":159},{"$f":"+[2]Séries_Site!AH461","v":6},{"$f":"+[2]Séries_Site!AI461","v":148},{"$f":"+[2]Séries_Site!AJ461","v":38}]
["1998-01-01",{"$f":"+[2]Séries_Site!B462","v":1287},{"$f":"+[2]Séries_Site!C462","v":1242},{"$f":"+[2]Séries_Site!D462","v":45},{"$f":"+[2]Séries_Site!E462","v":2070},{"$f":"+[2]Séries_Site!F462","v":724},{"$f":"+[2]Séries_Site!G462","v":735},{"$f":"+[2]Séries_Site!H462","v":699},{"$f":"+[2]Séries_Site!I462","v":36},{"$f":"+[2]Séries_Site!J462","v":1313},{"$f":"+[2]Séries_Site!K462","v":361},{"$f":"+[2]Séries_Site!L462","v":47},{"$f":"+[2]Séries_Site!M462","v":47},{"$f":"+[2]Séries_Site!N462","v":0},{"$f":"+[2]Séries_Site!O462","v":163},{"$f":"+[2]Séries_Site!P462","v":101},{"$f":"+[2]Séries_Site!Q462","v":40},{"$f":"+[2]Séries_Site!R462","v":40},{"$f":"+[2]Séries_Site!S462","v":0},{"$f":"+[2]Séries_Site!T462","v":52},{"$f":"+[2]Séries_Site!U462","v":0},{"$f":"+[2]Séries_Site!V462","v":341},{"$f":"+[2]Séries_Site!W462","v":334},{"$f":"+[2]Séries_Site!X462","v":7},{"$f":"+[2]Séries_Site!Y462","v":397},{"$f":"+[2]Séries_Site!Z462","v":225},{"$f":"+[2]Séries_Site!AA462","v":0},{"$f":"+[2]Séries_Site!AB462","v":0},{"$f":"+[2]Séries_Site!AC462","v":0},{"$f":"+[2]Séries_Site!AD462","v":0},{"$f":"+[2]Séries_Site!AE462","v":0},{"$f":"+[2]Séries_Site!AF462","v":124},{"$f":"+[2]Séries_Site!AG462","v":122},{"$f":"+[2]Séries_Site!AH462","v":2},{"$f":"+[2]Séries_Site!AI462","v":145},{"$f":"+[2]Séries_Site!AJ462","v":37}]
["1998-02-01",{"$f":"+[2]Séries_Site!B463","v":1533},{"$f":"+[2]Séries_Site!C463","v":1526},{"$f":"+[2]Séries_Site!D463","v":7},{"$f":"+[2]Séries_Site!E463","v":2994},{"$f":"+[2]Séries_Site!F463","v":1107},{"$f":"+[2]Séries_Site!G463","v":832},{"$f":"+[2]Séries_Site!H463","v":825},{"$f":"+[2]Séries_Site!I463","v":7},{"$f":"+[2]Séries_Site!J463","v":2061},{"$f":"+[2]Séries_Site!K463","v":731},{"$f":"+[2]Séries_Site!L463","v":48},{"$f":"+[2]Séries_Site!M463","v":48},{"$f":"+[2]Séries_Site!N463","v":0},{"$f":"+[2]Séries_Site!O463","v":178},{"$f":"+[2]Séries_Site!P463","v":120},{"$f":"+[2]Séries_Site!Q463","v":56},{"$f":"+[2]Séries_Site!R463","v":56},{"$f":"+[2]Séries_Site!S463","v":0},{"$f":"+[2]Séries_Site!T463","v":51},{"$f":"+[2]Séries_Site!U463","v":2},{"$f":"+[2]Séries_Site!V463","v":470},{"$f":"+[2]Séries_Site!W463","v":471},{"$f":"+[2]Séries_Site!X463","v":-1},{"$f":"+[2]Séries_Site!Y463","v":508},{"$f":"+[2]Séries_Site!Z463","v":209},{"$f":"+[2]Séries_Site!AA463","v":0},{"$f":"+[2]Séries_Site!AB463","v":0},{"$f":"+[2]Séries_Site!AC463","v":0},{"$f":"+[2]Séries_Site!AD463","v":0},{"$f":"+[2]Séries_Site!AE463","v":0},{"$f":"+[2]Séries_Site!AF463","v":127},{"$f":"+[2]Séries_Site!AG463","v":126},{"$f":"+[2]Séries_Site!AH463","v":1},{"$f":"+[2]Séries_Site!AI463","v":196},{"$f":"+[2]Séries_Site!AJ463","v":45}]
["1998-03-01",{"$f":"+[2]Séries_Site!B464","v":2230},{"$f":"+[2]Séries_Site!C464","v":2176},{"$f":"+[2]Séries_Site!D464","v":54},{"$f":"+[2]Séries_Site!E464","v":3399},{"$f":"+[2]Séries_Site!F464","v":1160},{"$f":"+[2]Séries_Site!G464","v":1375},{"$f":"+[2]Séries_Site!H464","v":1344},{"$f":"+[2]Séries_Site!I464","v":31},{"$f":"+[2]Séries_Site!J464","v":2372},{"$f":"+[2]Séries_Site!K464","v":809},{"$f":"+[2]Séries_Site!L464","v":69},{"$f":"+[2]Séries_Site!M464","v":62},{"$f":"+[2]Séries_Site!N464","v":7},{"$f":"+[2]Séries_Site!O464","v":159},{"$f":"+[2]Séries_Site!P464","v":153},{"$f":"+[2]Séries_Site!Q464","v":55},{"$f":"+[2]Séries_Site!R464","v":55},{"$f":"+[2]Séries_Site!S464","v":0},{"$f":"+[2]Séries_Site!T464","v":60},{"$f":"+[2]Séries_Site!U464","v":9},{"$f":"+[2]Séries_Site!V464","v":501},{"$f":"+[2]Séries_Site!W464","v":488},{"$f":"+[2]Séries_Site!X464","v":13},{"$f":"+[2]Séries_Site!Y464","v":564},{"$f":"+[2]Séries_Site!Z464","v":142},{"$f":"+[2]Séries_Site!AA464","v":0},{"$f":"+[2]Séries_Site!AB464","v":0},{"$f":"+[2]Séries_Site!AC464","v":0},{"$f":"+[2]Séries_Site!AD464","v":0},{"$f":"+[2]Séries_Site!AE464","v":0},{"$f":"+[2]Séries_Site!AF464","v":230},{"$f":"+[2]Séries_Site!AG464","v":227},{"$f":"+[2]Séries_Site!AH464","v":3},{"$f":"+[2]Séries_Site!AI464","v":244},{"$f":"+[2]Séries_Site!AJ464","v":47}]
["1998-04-01",{"$f":"+[2]Séries_Site!B465","v":2152},{"$f":"+[2]Séries_Site!C465","v":2111},{"$f":"+[2]Séries_Site!D465","v":41},{"$f":"+[2]Séries_Site!E465","v":3223},{"$f":"+[2]Séries_Site!F465","v":754},{"$f":"+[2]Séries_Site!G465","v":1647},{"$f":"+[2]Séries_Site!H465","v":1612},{"$f":"+[2]Séries_Site!I465","v":35},{"$f":"+[2]Séries_Site!J465","v":2392},{"$f":"+[2]Séries_Site!K465","v":486},{"$f":"+[2]Séries_Site!L465","v":81},{"$f":"+[2]Séries_Site!M465","v":81},{"$f":"+[2]Séries_Site!N465","v":0},{"$f":"+[2]Séries_Site!O465","v":193},{"$f":"+[2]Séries_Site!P465","v":98},{"$f":"+[2]Séries_Site!Q465","v":67},{"$f":"+[2]Séries_Site!R465","v":67},{"$f":"+[2]Séries_Site!S465","v":0},{"$f":"+[2]Séries_Site!T465","v":70},{"$f":"+[2]Séries_Site!U465","v":2},{"$f":"+[2]Séries_Site!V465","v":145},{"$f":"+[2]Séries_Site!W465","v":144},{"$f":"+[2]Séries_Site!X465","v":1},{"$f":"+[2]Séries_Site!Y465","v":338},{"$f":"+[2]Séries_Site!Z465","v":157},{"$f":"+[2]Séries_Site!AA465","v":0},{"$f":"+[2]Séries_Site!AB465","v":0},{"$f":"+[2]Séries_Site!AC465","v":0},{"$f":"+[2]Séries_Site!AD465","v":0},{"$f":"+[2]Séries_Site!AE465","v":0},{"$f":"+[2]Séries_Site!AF465","v":212},{"$f":"+[2]Séries_Site!AG465","v":207},{"$f":"+[2]Séries_Site!AH465","v":5},{"$f":"+[2]Séries_Site!AI465","v":230},{"$f":"+[2]Séries_Site!AJ465","v":11}]
["1998-05-01",{"$f":"+[2]Séries_Site!B466","v":2352},{"$f":"+[2]Séries_Site!C466","v":2285},{"$f":"+[2]Séries_Site!D466","v":67},{"$f":"+[2]Séries_Site!E466","v":3283},{"$f":"+[2]Séries_Site!F466","v":834},{"$f":"+[2]Séries_Site!G466","v":1938},{"$f":"+[2]Séries_Site!H466","v":1876},{"$f":"+[2]Séries_Site!I466","v":62},{"$f":"+[2]Séries_Site!J466","v":2565},{"$f":"+[2]Séries_Site!K466","v":556},{"$f":"+[2]Séries_Site!L466","v":72},{"$f":"+[2]Séries_Site!M466","v":71},{"$f":"+[2]Séries_Site!N466","v":1},{"$f":"+[2]Séries_Site!O466","v":184},{"$f":"+[2]Séries_Site!P466","v":130},{"$f":"+[2]Séries_Site!Q466","v":54},{"$f":"+[2]Séries_Site!R466","v":54},{"$f":"+[2]Séries_Site!S466","v":0},{"$f":"+[2]Séries_Site!T466","v":80},{"$f":"+[2]Séries_Site!U466","v":2},{"$f":"+[2]Séries_Site!V466","v":27},{"$f":"+[2]Séries_Site!W466","v":25},{"$f":"+[2]Séries_Site!X466","v":2},{"$f":"+[2]Séries_Site!Y466","v":205},{"$f":"+[2]Séries_Site!Z466","v":122},{"$f":"+[2]Séries_Site!AA466","v":0},{"$f":"+[2]Séries_Site!AB466","v":0},{"$f":"+[2]Séries_Site!AC466","v":0},{"$f":"+[2]Séries_Site!AD466","v":0},{"$f":"+[2]Séries_Site!AE466","v":0},{"$f":"+[2]Séries_Site!AF466","v":261},{"$f":"+[2]Séries_Site!AG466","v":259},{"$f":"+[2]Séries_Site!AH466","v":2},{"$f":"+[2]Séries_Site!AI466","v":249},{"$f":"+[2]Séries_Site!AJ466","v":24}]
["1998-06-01",{"$f":"+[2]Séries_Site!B467","v":2624},{"$f":"+[2]Séries_Site!C467","v":2515},{"$f":"+[2]Séries_Site!D467","v":109},{"$f":"+[2]Séries_Site!E467","v":3298},{"$f":"+[2]Séries_Site!F467","v":687},{"$f":"+[2]Séries_Site!G467","v":2137},{"$f":"+[2]Séries_Site!H467","v":2053},{"$f":"+[2]Séries_Site!I467","v":84},{"$f":"+[2]Séries_Site!J467","v":2407},{"$f":"+[2]Séries_Site!K467","v":495},{"$f":"+[2]Séries_Site!L467","v":65},{"$f":"+[2]Séries_Site!M467","v":65},{"$f":"+[2]Séries_Site!N467","v":0},{"$f":"+[2]Séries_Site!O467","v":219},{"$f":"+[2]Séries_Site!P467","v":116},{"$f":"+[2]Séries_Site!Q467","v":67},{"$f":"+[2]Séries_Site!R467","v":67},{"$f":"+[2]Séries_Site!S467","v":0},{"$f":"+[2]Séries_Site!T467","v":84},{"$f":"+[2]Séries_Site!U467","v":2},{"$f":"+[2]Séries_Site!V467","v":57},{"$f":"+[2]Séries_Site!W467","v":32},{"$f":"+[2]Séries_Site!X467","v":25},{"$f":"+[2]Séries_Site!Y467","v":269},{"$f":"+[2]Séries_Site!Z467","v":57},{"$f":"+[2]Séries_Site!AA467","v":0},{"$f":"+[2]Séries_Site!AB467","v":0},{"$f":"+[2]Séries_Site!AC467","v":0},{"$f":"+[2]Séries_Site!AD467","v":0},{"$f":"+[2]Séries_Site!AE467","v":0},{"$f":"+[2]Séries_Site!AF467","v":298},{"$f":"+[2]Séries_Site!AG467","v":298},{"$f":"+[2]Séries_Site!AH467","v":0},{"$f":"+[2]Séries_Site!AI467","v":319},{"$f":"+[2]Séries_Site!AJ467","v":17}]
["1998-07-01",{"$f":"+[2]Séries_Site!B468","v":2460},{"$f":"+[2]Séries_Site!C468","v":2372},{"$f":"+[2]Séries_Site!D468","v":88},{"$f":"+[2]Séries_Site!E468","v":3637},{"$f":"+[2]Séries_Site!F468","v":600},{"$f":"+[2]Séries_Site!G468","v":1994},{"$f":"+[2]Séries_Site!H468","v":1926},{"$f":"+[2]Séries_Site!I468","v":68},{"$f":"+[2]Séries_Site!J468","v":2858},{"$f":"+[2]Séries_Site!K468","v":446},{"$f":"+[2]Séries_Site!L468","v":88},{"$f":"+[2]Séries_Site!M468","v":88},{"$f":"+[2]Séries_Site!N468","v":0},{"$f":"+[2]Séries_Site!O468","v":219},{"$f":"+[2]Séries_Site!P468","v":91},{"$f":"+[2]Séries_Site!Q468","v":46},{"$f":"+[2]Séries_Site!R468","v":46},{"$f":"+[2]Séries_Site!S468","v":0},{"$f":"+[2]Séries_Site!T468","v":33},{"$f":"+[2]Séries_Site!U468","v":0},{"$f":"+[2]Séries_Site!V468","v":53},{"$f":"+[2]Séries_Site!W468","v":35},{"$f":"+[2]Séries_Site!X468","v":18},{"$f":"+[2]Séries_Site!Y468","v":223},{"$f":"+[2]Séries_Site!Z468","v":47},{"$f":"+[2]Séries_Site!AA468","v":0},{"$f":"+[2]Séries_Site!AB468","v":0},{"$f":"+[2]Séries_Site!AC468","v":0},{"$f":"+[2]Séries_Site!AD468","v":0},{"$f":"+[2]Séries_Site!AE468","v":0},{"$f":"+[2]Séries_Site!AF468","v":279},{"$f":"+[2]Séries_Site!AG468","v":277},{"$f":"+[2]Séries_Site!AH468","v":2},{"$f":"+[2]Séries_Site!AI468","v":304},{"$f":"+[2]Séries_Site!AJ468","v":16}]
["1998-08-01",{"$f":"+[2]Séries_Site!B469","v":2619},{"$f":"+[2]Séries_Site!C469","v":2527},{"$f":"+[2]Séries_Site!D469","v":92},{"$f":"+[2]Séries_Site!E469","v":3347},{"$f":"+[2]Séries_Site!F469","v":644},{"$f":"+[2]Séries_Site!G469","v":2133},{"$f":"+[2]Séries_Site!H469","v":2059},{"$f":"+[2]Séries_Site!I469","v":74},{"$f":"+[2]Séries_Site!J469","v":2502},{"$f":"+[2]Séries_Site!K469","v":406},{"$f":"+[2]Séries_Site!L469","v":113},{"$f":"+[2]Séries_Site!M469","v":97},{"$f":"+[2]Séries_Site!N469","v":16},{"$f":"+[2]Séries_Site!O469","v":202},{"$f":"+[2]Séries_Site!P469","v":77},{"$f":"+[2]Séries_Site!Q469","v":41},{"$f":"+[2]Séries_Site!R469","v":41},{"$f":"+[2]Séries_Site!S469","v":0},{"$f":"+[2]Séries_Site!T469","v":68},{"$f":"+[2]Séries_Site!U469","v":0},{"$f":"+[2]Séries_Site!V469","v":87},{"$f":"+[2]Séries_Site!W469","v":86},{"$f":"+[2]Séries_Site!X469","v":1},{"$f":"+[2]Séries_Site!Y469","v":282},{"$f":"+[2]Séries_Site!Z469","v":130},{"$f":"+[2]Séries_Site!AA469","v":0},{"$f":"+[2]Séries_Site!AB469","v":0},{"$f":"+[2]Séries_Site!AC469","v":0},{"$f":"+[2]Séries_Site!AD469","v":0},{"$f":"+[2]Séries_Site!AE469","v":0},{"$f":"+[2]Séries_Site!AF469","v":245},{"$f":"+[2]Séries_Site!AG469","v":244},{"$f":"+[2]Séries_Site!AH469","v":1},{"$f":"+[2]Séries_Site!AI469","v":293},{"$f":"+[2]Séries_Site!AJ469","v":31}]
["1998-09-01",{"$f":"+[2]Séries_Site!B470","v":2548},{"$f":"+[2]Séries_Site!C470","v":2481},{"$f":"+[2]Séries_Site!D470","v":67},{"$f":"+[2]Séries_Site!E470","v":2853},{"$f":"+[2]Séries_Site!F470","v":523},{"$f":"+[2]Séries_Site!G470","v":2107},{"$f":"+[2]Séries_Site!H470","v":2051},{"$f":"+[2]Séries_Site!I470","v":56},{"$f":"+[2]Séries_Site!J470","v":2063},{"$f":"+[2]Séries_Site!K470","v":307},{"$f":"+[2]Séries_Site!L470","v":74},{"$f":"+[2]Séries_Site!M470","v":74},{"$f":"+[2]Séries_Site!N470","v":0},{"$f":"+[2]Séries_Site!O470","v":188},{"$f":"+[2]Séries_Site!P470","v":77},{"$f":"+[2]Séries_Site!Q470","v":42},{"$f":"+[2]Séries_Site!R470","v":42},{"$f":"+[2]Séries_Site!S470","v":0},{"$f":"+[2]Séries_Site!T470","v":64},{"$f":"+[2]Séries_Site!U470","v":0},{"$f":"+[2]Séries_Site!V470","v":172},{"$f":"+[2]Séries_Site!W470","v":164},{"$f":"+[2]Séries_Site!X470","v":8},{"$f":"+[2]Séries_Site!Y470","v":307},{"$f":"+[2]Séries_Site!Z470","v":105},{"$f":"+[2]Séries_Site!AA470","v":0},{"$f":"+[2]Séries_Site!AB470","v":0},{"$f":"+[2]Séries_Site!AC470","v":0},{"$f":"+[2]Séries_Site!AD470","v":0},{"$f":"+[2]Séries_Site!AE470","v":0},{"$f":"+[2]Séries_Site!AF470","v":153},{"$f":"+[2]Séries_Site!AG470","v":150},{"$f":"+[2]Séries_Site!AH470","v":3},{"$f":"+[2]Séries_Site!AI470","v":231},{"$f":"+[2]Séries_Site!AJ470","v":34}]
["1998-10-01",{"$f":"+[2]Séries_Site!B471","v":2013},{"$f":"+[2]Séries_Site!C471","v":1962},{"$f":"+[2]Séries_Site!D471","v":51},{"$f":"+[2]Séries_Site!E471","v":2468},{"$f":"+[2]Séries_Site!F471","v":708},{"$f":"+[2]Séries_Site!G471","v":1689},{"$f":"+[2]Séries_Site!H471","v":1649},{"$f":"+[2]Séries_Site!I471","v":40},{"$f":"+[2]Séries_Site!J471","v":1754},{"$f":"+[2]Séries_Site!K471","v":333},{"$f":"+[2]Séries_Site!L471","v":38},{"$f":"+[2]Séries_Site!M471","v":38},{"$f":"+[2]Séries_Site!N471","v":0},{"$f":"+[2]Séries_Site!O471","v":148},{"$f":"+[2]Séries_Site!P471","v":85},{"$f":"+[2]Séries_Site!Q471","v":32},{"$f":"+[2]Séries_Site!R471","v":32},{"$f":"+[2]Séries_Site!S471","v":0},{"$f":"+[2]Séries_Site!T471","v":59},{"$f":"+[2]Séries_Site!U471","v":83},{"$f":"+[2]Séries_Site!V471","v":155},{"$f":"+[2]Séries_Site!W471","v":152},{"$f":"+[2]Séries_Site!X471","v":3},{"$f":"+[2]Séries_Site!Y471","v":370},{"$f":"+[2]Séries_Site!Z471","v":197},{"$f":"+[2]Séries_Site!AA471","v":0},{"$f":"+[2]Séries_Site!AB471","v":0},{"$f":"+[2]Séries_Site!AC471","v":0},{"$f":"+[2]Séries_Site!AD471","v":0},{"$f":"+[2]Séries_Site!AE471","v":0},{"$f":"+[2]Séries_Site!AF471","v":99},{"$f":"+[2]Séries_Site!AG471","v":91},{"$f":"+[2]Séries_Site!AH471","v":8},{"$f":"+[2]Séries_Site!AI471","v":137},{"$f":"+[2]Séries_Site!AJ471","v":10}]
["1998-11-01",{"$f":"+[2]Séries_Site!B472","v":1365},{"$f":"+[2]Séries_Site!C472","v":1338},{"$f":"+[2]Séries_Site!D472","v":27},{"$f":"+[2]Séries_Site!E472","v":1682},{"$f":"+[2]Séries_Site!F472","v":514},{"$f":"+[2]Séries_Site!G472","v":1014},{"$f":"+[2]Séries_Site!H472","v":1004},{"$f":"+[2]Séries_Site!I472","v":10},{"$f":"+[2]Séries_Site!J472","v":1085},{"$f":"+[2]Séries_Site!K472","v":176},{"$f":"+[2]Séries_Site!L472","v":38},{"$f":"+[2]Séries_Site!M472","v":38},{"$f":"+[2]Séries_Site!N472","v":0},{"$f":"+[2]Séries_Site!O472","v":121},{"$f":"+[2]Séries_Site!P472","v":88},{"$f":"+[2]Séries_Site!Q472","v":45},{"$f":"+[2]Séries_Site!R472","v":45},{"$f":"+[2]Séries_Site!S472","v":0},{"$f":"+[2]Séries_Site!T472","v":39},{"$f":"+[2]Séries_Site!U472","v":0},{"$f":"+[2]Séries_Site!V472","v":169},{"$f":"+[2]Séries_Site!W472","v":153},{"$f":"+[2]Séries_Site!X472","v":16},{"$f":"+[2]Séries_Site!Y472","v":332},{"$f":"+[2]Séries_Site!Z472","v":222},{"$f":"+[2]Séries_Site!AA472","v":0},{"$f":"+[2]Séries_Site!AB472","v":0},{"$f":"+[2]Séries_Site!AC472","v":0},{"$f":"+[2]Séries_Site!AD472","v":0},{"$f":"+[2]Séries_Site!AE472","v":0},{"$f":"+[2]Séries_Site!AF472","v":99},{"$f":"+[2]Séries_Site!AG472","v":98},{"$f":"+[2]Séries_Site!AH472","v":1},{"$f":"+[2]Séries_Site!AI472","v":105},{"$f":"+[2]Séries_Site!AJ472","v":28}]
["1998-12-01",{"$f":"+[2]Séries_Site!B473","v":1670},{"$f":"+[2]Séries_Site!C473","v":1622},{"$f":"+[2]Séries_Site!D473","v":48},{"$f":"+[2]Séries_Site!E473","v":1158},{"$f":"+[2]Séries_Site!F473","v":607},{"$f":"+[2]Séries_Site!G473","v":1076},{"$f":"+[2]Séries_Site!H473","v":1060},{"$f":"+[2]Séries_Site!I473","v":16},{"$f":"+[2]Séries_Site!J473","v":720},{"$f":"+[2]Séries_Site!K473","v":363},{"$f":"+[2]Séries_Site!L473","v":62},{"$f":"+[2]Séries_Site!M473","v":55},{"$f":"+[2]Séries_Site!N473","v":7},{"$f":"+[2]Séries_Site!O473","v":98},{"$f":"+[2]Séries_Site!P473","v":78},{"$f":"+[2]Séries_Site!Q473","v":42},{"$f":"+[2]Séries_Site!R473","v":42},{"$f":"+[2]Séries_Site!S473","v":0},{"$f":"+[2]Séries_Site!T473","v":32},{"$f":"+[2]Séries_Site!U473","v":1},{"$f":"+[2]Séries_Site!V473","v":347},{"$f":"+[2]Séries_Site!W473","v":322},{"$f":"+[2]Séries_Site!X473","v":25},{"$f":"+[2]Séries_Site!Y473","v":268},{"$f":"+[2]Séries_Site!Z473","v":153},{"$f":"+[2]Séries_Site!AA473","v":0},{"$f":"+[2]Séries_Site!AB473","v":0},{"$f":"+[2]Séries_Site!AC473","v":0},{"$f":"+[2]Séries_Site!AD473","v":0},{"$f":"+[2]Séries_Site!AE473","v":0},{"$f":"+[2]Séries_Site!AF473","v":143},{"$f":"+[2]Séries_Site!AG473","v":143},{"$f":"+[2]Séries_Site!AH473","v":0},{"$f":"+[2]Séries_Site!AI473","v":40},{"$f":"+[2]Séries_Site!AJ473","v":12}]
["1999-01-01",{"$f":"+[2]Séries_Site!B474","v":1465},{"$f":"+[2]Séries_Site!C474","v":1366},{"$f":"+[2]Séries_Site!D474","v":99},{"$f":"+[2]Séries_Site!E474","v":1444},{"$f":"+[2]Séries_Site!F474","v":239},{"$f":"+[2]Séries_Site!G474","v":886},{"$f":"+[2]Séries_Site!H474","v":848},{"$f":"+[2]Séries_Site!I474","v":38},{"$f":"+[2]Séries_Site!J474","v":802},{"$f":"+[2]Séries_Site!K474","v":72},{"$f":"+[2]Séries_Site!L474","v":61},{"$f":"+[2]Séries_Site!M474","v":14},{"$f":"+[2]Séries_Site!N474","v":47},{"$f":"+[2]Séries_Site!O474","v":78},{"$f":"+[2]Séries_Site!P474","v":79},{"$f":"+[2]Séries_Site!Q474","v":52},{"$f":"+[2]Séries_Site!R474","v":52},{"$f":"+[2]Séries_Site!S474","v":0},{"$f":"+[2]Séries_Site!T474","v":53},{"$f":"+[2]Séries_Site!U474","v":0},{"$f":"+[2]Séries_Site!V474","v":331},{"$f":"+[2]Séries_Site!W474","v":326},{"$f":"+[2]Séries_Site!X474","v":5},{"$f":"+[2]Séries_Site!Y474","v":368},{"$f":"+[2]Séries_Site!Z474","v":75},{"$f":"+[2]Séries_Site!AA474","v":0},{"$f":"+[2]Séries_Site!AB474","v":0},{"$f":"+[2]Séries_Site!AC474","v":0},{"$f":"+[2]Séries_Site!AD474","v":0},{"$f":"+[2]Séries_Site!AE474","v":0},{"$f":"+[2]Séries_Site!AF474","v":135},{"$f":"+[2]Séries_Site!AG474","v":126},{"$f":"+[2]Séries_Site!AH474","v":9},{"$f":"+[2]Séries_Site!AI474","v":143},{"$f":"+[2]Séries_Site!AJ474","v":13}]
["1999-02-01",{"$f":"+[2]Séries_Site!B475","v":2008},{"$f":"+[2]Séries_Site!C475","v":1959},{"$f":"+[2]Séries_Site!D475","v":49},{"$f":"+[2]Séries_Site!E475","v":2093},{"$f":"+[2]Séries_Site!F475","v":278},{"$f":"+[2]Séries_Site!G475","v":1271},{"$f":"+[2]Séries_Site!H475","v":1247},{"$f":"+[2]Séries_Site!I475","v":24},{"$f":"+[2]Séries_Site!J475","v":1365},{"$f":"+[2]Séries_Site!K475","v":81},{"$f":"+[2]Séries_Site!L475","v":45},{"$f":"+[2]Séries_Site!M475","v":45},{"$f":"+[2]Séries_Site!N475","v":0},{"$f":"+[2]Séries_Site!O475","v":93},{"$f":"+[2]Séries_Site!P475","v":81},{"$f":"+[2]Séries_Site!Q475","v":65},{"$f":"+[2]Séries_Site!R475","v":65},{"$f":"+[2]Séries_Site!S475","v":0},{"$f":"+[2]Séries_Site!T475","v":69},{"$f":"+[2]Séries_Site!U475","v":4},{"$f":"+[2]Séries_Site!V475","v":522},{"$f":"+[2]Séries_Site!W475","v":505},{"$f":"+[2]Séries_Site!X475","v":17},{"$f":"+[2]Séries_Site!Y475","v":452},{"$f":"+[2]Séries_Site!Z475","v":105},{"$f":"+[2]Séries_Site!AA475","v":0},{"$f":"+[2]Séries_Site!AB475","v":0},{"$f":"+[2]Séries_Site!AC475","v":0},{"$f":"+[2]Séries_Site!AD475","v":0},{"$f":"+[2]Séries_Site!AE475","v":0},{"$f":"+[2]Séries_Site!AF475","v":105},{"$f":"+[2]Séries_Site!AG475","v":97},{"$f":"+[2]Séries_Site!AH475","v":8},{"$f":"+[2]Séries_Site!AI475","v":114},{"$f":"+[2]Séries_Site!AJ475","v":7}]
["1999-03-01",{"$f":"+[2]Séries_Site!B476","v":2500},{"$f":"+[2]Séries_Site!C476","v":2450},{"$f":"+[2]Séries_Site!D476","v":50},{"$f":"+[2]Séries_Site!E476","v":2577},{"$f":"+[2]Séries_Site!F476","v":333},{"$f":"+[2]Séries_Site!G476","v":1713},{"$f":"+[2]Séries_Site!H476","v":1678},{"$f":"+[2]Séries_Site!I476","v":35},{"$f":"+[2]Séries_Site!J476","v":1704},{"$f":"+[2]Séries_Site!K476","v":163},{"$f":"+[2]Séries_Site!L476","v":105},{"$f":"+[2]Séries_Site!M476","v":104},{"$f":"+[2]Séries_Site!N476","v":1},{"$f":"+[2]Séries_Site!O476","v":136},{"$f":"+[2]Séries_Site!P476","v":105},{"$f":"+[2]Séries_Site!Q476","v":69},{"$f":"+[2]Séries_Site!R476","v":69},{"$f":"+[2]Séries_Site!S476","v":0},{"$f":"+[2]Séries_Site!T476","v":70},{"$f":"+[2]Séries_Site!U476","v":0},{"$f":"+[2]Séries_Site!V476","v":504},{"$f":"+[2]Séries_Site!W476","v":494},{"$f":"+[2]Séries_Site!X476","v":10},{"$f":"+[2]Séries_Site!Y476","v":553},{"$f":"+[2]Séries_Site!Z476","v":44},{"$f":"+[2]Séries_Site!AA476","v":0},{"$f":"+[2]Séries_Site!AB476","v":0},{"$f":"+[2]Séries_Site!AC476","v":0},{"$f":"+[2]Séries_Site!AD476","v":0},{"$f":"+[2]Séries_Site!AE476","v":0},{"$f":"+[2]Séries_Site!AF476","v":109},{"$f":"+[2]Séries_Site!AG476","v":105},{"$f":"+[2]Séries_Site!AH476","v":4},{"$f":"+[2]Séries_Site!AI476","v":114},{"$f":"+[2]Séries_Site!AJ476","v":21}]
["1999-04-01",{"$f":"+[2]Séries_Site!B477","v":2421},{"$f":"+[2]Séries_Site!C477","v":2358},{"$f":"+[2]Séries_Site!D477","v":63},{"$f":"+[2]Séries_Site!E477","v":2849},{"$f":"+[2]Séries_Site!F477","v":319},{"$f":"+[2]Séries_Site!G477","v":1937},{"$f":"+[2]Séries_Site!H477","v":1918},{"$f":"+[2]Séries_Site!I477","v":19},{"$f":"+[2]Séries_Site!J477","v":2135},{"$f":"+[2]Séries_Site!K477","v":163},{"$f":"+[2]Séries_Site!L477","v":61},{"$f":"+[2]Séries_Site!M477","v":59},{"$f":"+[2]Séries_Site!N477","v":2},{"$f":"+[2]Séries_Site!O477","v":137},{"$f":"+[2]Séries_Site!P477","v":92},{"$f":"+[2]Séries_Site!Q477","v":57},{"$f":"+[2]Séries_Site!R477","v":57},{"$f":"+[2]Séries_Site!S477","v":0},{"$f":"+[2]Séries_Site!T477","v":65},{"$f":"+[2]Séries_Site!U477","v":2},{"$f":"+[2]Séries_Site!V477","v":216},{"$f":"+[2]Séries_Site!W477","v":196},{"$f":"+[2]Séries_Site!X477","v":20},{"$f":"+[2]Séries_Site!Y477","v":345},{"$f":"+[2]Séries_Site!Z477","v":55},{"$f":"+[2]Séries_Site!AA477","v":0},{"$f":"+[2]Séries_Site!AB477","v":0},{"$f":"+[2]Séries_Site!AC477","v":0},{"$f":"+[2]Séries_Site!AD477","v":0},{"$f":"+[2]Séries_Site!AE477","v":0},{"$f":"+[2]Séries_Site!AF477","v":150},{"$f":"+[2]Séries_Site!AG477","v":128},{"$f":"+[2]Séries_Site!AH477","v":22},{"$f":"+[2]Séries_Site!AI477","v":167},{"$f":"+[2]Séries_Site!AJ477","v":7}]
["1999-05-01",{"$f":"+[2]Séries_Site!B478","v":2303},{"$f":"+[2]Séries_Site!C478","v":2212},{"$f":"+[2]Séries_Site!D478","v":91},{"$f":"+[2]Séries_Site!E478","v":3207},{"$f":"+[2]Séries_Site!F478","v":298},{"$f":"+[2]Séries_Site!G478","v":1969},{"$f":"+[2]Séries_Site!H478","v":1899},{"$f":"+[2]Séries_Site!I478","v":70},{"$f":"+[2]Séries_Site!J478","v":2684},{"$f":"+[2]Séries_Site!K478","v":135},{"$f":"+[2]Séries_Site!L478","v":46},{"$f":"+[2]Séries_Site!M478","v":45},{"$f":"+[2]Séries_Site!N478","v":1},{"$f":"+[2]Séries_Site!O478","v":127},{"$f":"+[2]Séries_Site!P478","v":93},{"$f":"+[2]Séries_Site!Q478","v":60},{"$f":"+[2]Séries_Site!R478","v":60},{"$f":"+[2]Séries_Site!S478","v":0},{"$f":"+[2]Séries_Site!T478","v":75},{"$f":"+[2]Séries_Site!U478","v":3},{"$f":"+[2]Séries_Site!V478","v":96},{"$f":"+[2]Séries_Site!W478","v":79},{"$f":"+[2]Séries_Site!X478","v":17},{"$f":"+[2]Séries_Site!Y478","v":145},{"$f":"+[2]Séries_Site!Z478","v":60},{"$f":"+[2]Séries_Site!AA478","v":0},{"$f":"+[2]Séries_Site!AB478","v":0},{"$f":"+[2]Séries_Site!AC478","v":0},{"$f":"+[2]Séries_Site!AD478","v":0},{"$f":"+[2]Séries_Site!AE478","v":0},{"$f":"+[2]Séries_Site!AF478","v":132},{"$f":"+[2]Séries_Site!AG478","v":129},{"$f":"+[2]Séries_Site!AH478","v":3},{"$f":"+[2]Séries_Site!AI478","v":176},{"$f":"+[2]Séries_Site!AJ478","v":7}]
["1999-06-01",{"$f":"+[2]Séries_Site!B479","v":2475},{"$f":"+[2]Séries_Site!C479","v":2423},{"$f":"+[2]Séries_Site!D479","v":52},{"$f":"+[2]Séries_Site!E479","v":3120},{"$f":"+[2]Séries_Site!F479","v":397},{"$f":"+[2]Séries_Site!G479","v":2088},{"$f":"+[2]Séries_Site!H479","v":2047},{"$f":"+[2]Séries_Site!I479","v":41},{"$f":"+[2]Séries_Site!J479","v":2564},{"$f":"+[2]Séries_Site!K479","v":288},{"$f":"+[2]Séries_Site!L479","v":56},{"$f":"+[2]Séries_Site!M479","v":55},{"$f":"+[2]Séries_Site!N479","v":1},{"$f":"+[2]Séries_Site!O479","v":143},{"$f":"+[2]Séries_Site!P479","v":85},{"$f":"+[2]Séries_Site!Q479","v":45},{"$f":"+[2]Séries_Site!R479","v":45},{"$f":"+[2]Séries_Site!S479","v":0},{"$f":"+[2]Séries_Site!T479","v":60},{"$f":"+[2]Séries_Site!U479","v":3},{"$f":"+[2]Séries_Site!V479","v":134},{"$f":"+[2]Séries_Site!W479","v":127},{"$f":"+[2]Séries_Site!X479","v":7},{"$f":"+[2]Séries_Site!Y479","v":211},{"$f":"+[2]Séries_Site!Z479","v":15},{"$f":"+[2]Séries_Site!AA479","v":0},{"$f":"+[2]Séries_Site!AB479","v":0},{"$f":"+[2]Séries_Site!AC479","v":0},{"$f":"+[2]Séries_Site!AD479","v":0},{"$f":"+[2]Séries_Site!AE479","v":0},{"$f":"+[2]Séries_Site!AF479","v":152},{"$f":"+[2]Séries_Site!AG479","v":149},{"$f":"+[2]Séries_Site!AH479","v":3},{"$f":"+[2]Séries_Site!AI479","v":142},{"$f":"+[2]Séries_Site!AJ479","v":6}]
["1999-07-01",{"$f":"+[2]Séries_Site!B480","v":2348},{"$f":"+[2]Séries_Site!C480","v":2296},{"$f":"+[2]Séries_Site!D480","v":52},{"$f":"+[2]Séries_Site!E480","v":2582},{"$f":"+[2]Séries_Site!F480","v":289},{"$f":"+[2]Séries_Site!G480","v":2037},{"$f":"+[2]Séries_Site!H480","v":2001},{"$f":"+[2]Séries_Site!I480","v":36},{"$f":"+[2]Séries_Site!J480","v":2151},{"$f":"+[2]Séries_Site!K480","v":183},{"$f":"+[2]Séries_Site!L480","v":57},{"$f":"+[2]Séries_Site!M480","v":53},{"$f":"+[2]Séries_Site!N480","v":4},{"$f":"+[2]Séries_Site!O480","v":80},{"$f":"+[2]Séries_Site!P480","v":72},{"$f":"+[2]Séries_Site!Q480","v":53},{"$f":"+[2]Séries_Site!R480","v":53},{"$f":"+[2]Séries_Site!S480","v":0},{"$f":"+[2]Séries_Site!T480","v":32},{"$f":"+[2]Séries_Site!U480","v":1},{"$f":"+[2]Séries_Site!V480","v":113},{"$f":"+[2]Séries_Site!W480","v":112},{"$f":"+[2]Séries_Site!X480","v":1},{"$f":"+[2]Séries_Site!Y480","v":165},{"$f":"+[2]Séries_Site!Z480","v":9},{"$f":"+[2]Séries_Site!AA480","v":0},{"$f":"+[2]Séries_Site!AB480","v":0},{"$f":"+[2]Séries_Site!AC480","v":0},{"$f":"+[2]Séries_Site!AD480","v":0},{"$f":"+[2]Séries_Site!AE480","v":0},{"$f":"+[2]Séries_Site!AF480","v":88},{"$f":"+[2]Séries_Site!AG480","v":77},{"$f":"+[2]Séries_Site!AH480","v":11},{"$f":"+[2]Séries_Site!AI480","v":154},{"$f":"+[2]Séries_Site!AJ480","v":24}]
["1999-08-01",{"$f":"+[2]Séries_Site!B481","v":2029},{"$f":"+[2]Séries_Site!C481","v":1961},{"$f":"+[2]Séries_Site!D481","v":68},{"$f":"+[2]Séries_Site!E481","v":2456},{"$f":"+[2]Séries_Site!F481","v":310},{"$f":"+[2]Séries_Site!G481","v":1763},{"$f":"+[2]Séries_Site!H481","v":1703},{"$f":"+[2]Séries_Site!I481","v":60},{"$f":"+[2]Séries_Site!J481","v":1893},{"$f":"+[2]Séries_Site!K481","v":169},{"$f":"+[2]Séries_Site!L481","v":43},{"$f":"+[2]Séries_Site!M481","v":43},{"$f":"+[2]Séries_Site!N481","v":0},{"$f":"+[2]Séries_Site!O481","v":122},{"$f":"+[2]Séries_Site!P481","v":65},{"$f":"+[2]Séries_Site!Q481","v":54},{"$f":"+[2]Séries_Site!R481","v":54},{"$f":"+[2]Séries_Site!S481","v":0},{"$f":"+[2]Séries_Site!T481","v":63},{"$f":"+[2]Séries_Site!U481","v":0},{"$f":"+[2]Séries_Site!V481","v":82},{"$f":"+[2]Séries_Site!W481","v":77},{"$f":"+[2]Séries_Site!X481","v":5},{"$f":"+[2]Séries_Site!Y481","v":258},{"$f":"+[2]Séries_Site!Z481","v":52},{"$f":"+[2]Séries_Site!AA481","v":0},{"$f":"+[2]Séries_Site!AB481","v":0},{"$f":"+[2]Séries_Site!AC481","v":0},{"$f":"+[2]Séries_Site!AD481","v":0},{"$f":"+[2]Séries_Site!AE481","v":0},{"$f":"+[2]Séries_Site!AF481","v":87},{"$f":"+[2]Séries_Site!AG481","v":84},{"$f":"+[2]Séries_Site!AH481","v":3},{"$f":"+[2]Séries_Site!AI481","v":120},{"$f":"+[2]Séries_Site!AJ481","v":24}]
["1999-09-01",{"$f":"+[2]Séries_Site!B482","v":2083},{"$f":"+[2]Séries_Site!C482","v":2015},{"$f":"+[2]Séries_Site!D482","v":68},{"$f":"+[2]Séries_Site!E482","v":2260},{"$f":"+[2]Séries_Site!F482","v":245},{"$f":"+[2]Séries_Site!G482","v":1746},{"$f":"+[2]Séries_Site!H482","v":1693},{"$f":"+[2]Séries_Site!I482","v":53},{"$f":"+[2]Séries_Site!J482","v":1705},{"$f":"+[2]Séries_Site!K482","v":139},{"$f":"+[2]Séries_Site!L482","v":55},{"$f":"+[2]Séries_Site!M482","v":55},{"$f":"+[2]Séries_Site!N482","v":0},{"$f":"+[2]Séries_Site!O482","v":80},{"$f":"+[2]Séries_Site!P482","v":50},{"$f":"+[2]Séries_Site!Q482","v":56},{"$f":"+[2]Séries_Site!R482","v":56},{"$f":"+[2]Séries_Site!S482","v":0},{"$f":"+[2]Séries_Site!T482","v":90},{"$f":"+[2]Séries_Site!U482","v":6},{"$f":"+[2]Séries_Site!V482","v":106},{"$f":"+[2]Séries_Site!W482","v":105},{"$f":"+[2]Séries_Site!X482","v":1},{"$f":"+[2]Séries_Site!Y482","v":277},{"$f":"+[2]Séries_Site!Z482","v":10},{"$f":"+[2]Séries_Site!AA482","v":0},{"$f":"+[2]Séries_Site!AB482","v":0},{"$f":"+[2]Séries_Site!AC482","v":0},{"$f":"+[2]Séries_Site!AD482","v":0},{"$f":"+[2]Séries_Site!AE482","v":0},{"$f":"+[2]Séries_Site!AF482","v":120},{"$f":"+[2]Séries_Site!AG482","v":106},{"$f":"+[2]Séries_Site!AH482","v":14},{"$f":"+[2]Séries_Site!AI482","v":108},{"$f":"+[2]Séries_Site!AJ482","v":40}]
["1999-10-01",{"$f":"+[2]Séries_Site!B483","v":2004},{"$f":"+[2]Séries_Site!C483","v":1935},{"$f":"+[2]Séries_Site!D483","v":69},{"$f":"+[2]Séries_Site!E483","v":2121},{"$f":"+[2]Séries_Site!F483","v":452},{"$f":"+[2]Séries_Site!G483","v":1613},{"$f":"+[2]Séries_Site!H483","v":1587},{"$f":"+[2]Séries_Site!I483","v":26},{"$f":"+[2]Séries_Site!J483","v":1560},{"$f":"+[2]Séries_Site!K483","v":275},{"$f":"+[2]Séries_Site!L483","v":39},{"$f":"+[2]Séries_Site!M483","v":39},{"$f":"+[2]Séries_Site!N483","v":0},{"$f":"+[2]Séries_Site!O483","v":81},{"$f":"+[2]Séries_Site!P483","v":32},{"$f":"+[2]Séries_Site!Q483","v":43},{"$f":"+[2]Séries_Site!R483","v":43},{"$f":"+[2]Séries_Site!S483","v":0},{"$f":"+[2]Séries_Site!T483","v":95},{"$f":"+[2]Séries_Site!U483","v":90},{"$f":"+[2]Séries_Site!V483","v":193},{"$f":"+[2]Séries_Site!W483","v":179},{"$f":"+[2]Séries_Site!X483","v":14},{"$f":"+[2]Séries_Site!Y483","v":265},{"$f":"+[2]Séries_Site!Z483","v":18},{"$f":"+[2]Séries_Site!AA483","v":0},{"$f":"+[2]Séries_Site!AB483","v":0},{"$f":"+[2]Séries_Site!AC483","v":0},{"$f":"+[2]Séries_Site!AD483","v":0},{"$f":"+[2]Séries_Site!AE483","v":0},{"$f":"+[2]Séries_Site!AF483","v":116},{"$f":"+[2]Séries_Site!AG483","v":87},{"$f":"+[2]Séries_Site!AH483","v":29},{"$f":"+[2]Séries_Site!AI483","v":120},{"$f":"+[2]Séries_Site!AJ483","v":37}]
["1999-11-01",{"$f":"+[2]Séries_Site!B484","v":1438},{"$f":"+[2]Séries_Site!C484","v":1419},{"$f":"+[2]Séries_Site!D484","v":19},{"$f":"+[2]Séries_Site!E484","v":1966},{"$f":"+[2]Séries_Site!F484","v":458},{"$f":"+[2]Séries_Site!G484","v":1083},{"$f":"+[2]Séries_Site!H484","v":1067},{"$f":"+[2]Séries_Site!I484","v":16},{"$f":"+[2]Séries_Site!J484","v":1318},{"$f":"+[2]Séries_Site!K484","v":260},{"$f":"+[2]Séries_Site!L484","v":39},{"$f":"+[2]Séries_Site!M484","v":38},{"$f":"+[2]Séries_Site!N484","v":1},{"$f":"+[2]Séries_Site!O484","v":106},{"$f":"+[2]Séries_Site!P484","v":38},{"$f":"+[2]Séries_Site!Q484","v":41},{"$f":"+[2]Séries_Site!R484","v":41},{"$f":"+[2]Séries_Site!S484","v":0},{"$f":"+[2]Séries_Site!T484","v":70},{"$f":"+[2]Séries_Site!U484","v":30},{"$f":"+[2]Séries_Site!V484","v":215},{"$f":"+[2]Séries_Site!W484","v":217},{"$f":"+[2]Séries_Site!X484","v":-2},{"$f":"+[2]Séries_Site!Y484","v":359},{"$f":"+[2]Séries_Site!Z484","v":113},{"$f":"+[2]Séries_Site!AA484","v":0},{"$f":"+[2]Séries_Site!AB484","v":0},{"$f":"+[2]Séries_Site!AC484","v":0},{"$f":"+[2]Séries_Site!AD484","v":0},{"$f":"+[2]Séries_Site!AE484","v":0},{"$f":"+[2]Séries_Site!AF484","v":60},{"$f":"+[2]Séries_Site!AG484","v":56},{"$f":"+[2]Séries_Site!AH484","v":4},{"$f":"+[2]Séries_Site!AI484","v":113},{"$f":"+[2]Séries_Site!AJ484","v":17}]
["1999-12-01",{"$f":"+[2]Séries_Site!B485","v":1622},{"$f":"+[2]Séries_Site!C485","v":1649},{"$f":"+[2]Séries_Site!D485","v":-27},{"$f":"+[2]Séries_Site!E485","v":1546},{"$f":"+[2]Séries_Site!F485","v":589},{"$f":"+[2]Séries_Site!G485","v":1099},{"$f":"+[2]Séries_Site!H485","v":1100},{"$f":"+[2]Séries_Site!I485","v":-1},{"$f":"+[2]Séries_Site!J485","v":1030},{"$f":"+[2]Séries_Site!K485","v":407},{"$f":"+[2]Séries_Site!L485","v":39},{"$f":"+[2]Séries_Site!M485","v":32},{"$f":"+[2]Séries_Site!N485","v":7},{"$f":"+[2]Séries_Site!O485","v":65},{"$f":"+[2]Séries_Site!P485","v":32},{"$f":"+[2]Séries_Site!Q485","v":34},{"$f":"+[2]Séries_Site!R485","v":34},{"$f":"+[2]Séries_Site!S485","v":0},{"$f":"+[2]Séries_Site!T485","v":36},{"$f":"+[2]Séries_Site!U485","v":5},{"$f":"+[2]Séries_Site!V485","v":394},{"$f":"+[2]Séries_Site!W485","v":433},{"$f":"+[2]Séries_Site!X485","v":-39},{"$f":"+[2]Séries_Site!Y485","v":362},{"$f":"+[2]Séries_Site!Z485","v":121},{"$f":"+[2]Séries_Site!AA485","v":0},{"$f":"+[2]Séries_Site!AB485","v":0},{"$f":"+[2]Séries_Site!AC485","v":0},{"$f":"+[2]Séries_Site!AD485","v":0},{"$f":"+[2]Séries_Site!AE485","v":0},{"$f":"+[2]Séries_Site!AF485","v":56},{"$f":"+[2]Séries_Site!AG485","v":50},{"$f":"+[2]Séries_Site!AH485","v":6},{"$f":"+[2]Séries_Site!AI485","v":53},{"$f":"+[2]Séries_Site!AJ485","v":24}]
["2000-01-01",{"$f":"+[2]Séries_Site!B486","v":1202},{"$f":"+[2]Séries_Site!C486","v":1166},{"$f":"+[2]Séries_Site!D486","v":36},{"$f":"+[2]Séries_Site!E486","v":1613},{"$f":"+[2]Séries_Site!F486","v":159},{"$f":"+[2]Séries_Site!G486","v":704},{"$f":"+[2]Séries_Site!H486","v":694},{"$f":"+[2]Séries_Site!I486","v":10},{"$f":"+[2]Séries_Site!J486","v":1072},{"$f":"+[2]Séries_Site!K486","v":78},{"$f":"+[2]Séries_Site!L486","v":20},{"$f":"+[2]Séries_Site!M486","v":20},{"$f":"+[2]Séries_Site!N486","v":0},{"$f":"+[2]Séries_Site!O486","v":91},{"$f":"+[2]Séries_Site!P486","v":55},{"$f":"+[2]Séries_Site!Q486","v":55},{"$f":"+[2]Séries_Site!R486","v":55},{"$f":"+[2]Séries_Site!S486","v":0},{"$f":"+[2]Séries_Site!T486","v":56},{"$f":"+[2]Séries_Site!U486","v":0},{"$f":"+[2]Séries_Site!V486","v":361},{"$f":"+[2]Séries_Site!W486","v":343},{"$f":"+[2]Séries_Site!X486","v":18},{"$f":"+[2]Séries_Site!Y486","v":354},{"$f":"+[2]Séries_Site!Z486","v":17},{"$f":"+[2]Séries_Site!AA486","v":0},{"$f":"+[2]Séries_Site!AB486","v":0},{"$f":"+[2]Séries_Site!AC486","v":0},{"$f":"+[2]Séries_Site!AD486","v":0},{"$f":"+[2]Séries_Site!AE486","v":0},{"$f":"+[2]Séries_Site!AF486","v":62},{"$f":"+[2]Séries_Site!AG486","v":54},{"$f":"+[2]Séries_Site!AH486","v":8},{"$f":"+[2]Séries_Site!AI486","v":40},{"$f":"+[2]Séries_Site!AJ486","v":9}]
["2000-02-01",{"$f":"+[2]Séries_Site!B487","v":1868},{"$f":"+[2]Séries_Site!C487","v":1823},{"$f":"+[2]Séries_Site!D487","v":45},{"$f":"+[2]Séries_Site!E487","v":2174},{"$f":"+[2]Séries_Site!F487","v":440},{"$f":"+[2]Séries_Site!G487","v":1185},{"$f":"+[2]Séries_Site!H487","v":1163},{"$f":"+[2]Séries_Site!I487","v":22},{"$f":"+[2]Séries_Site!J487","v":1431},{"$f":"+[2]Séries_Site!K487","v":283},{"$f":"+[2]Séries_Site!L487","v":33},{"$f":"+[2]Séries_Site!M487","v":33},{"$f":"+[2]Séries_Site!N487","v":0},{"$f":"+[2]Séries_Site!O487","v":112},{"$f":"+[2]Séries_Site!P487","v":89},{"$f":"+[2]Séries_Site!Q487","v":49},{"$f":"+[2]Séries_Site!R487","v":49},{"$f":"+[2]Séries_Site!S487","v":0},{"$f":"+[2]Séries_Site!T487","v":56},{"$f":"+[2]Séries_Site!U487","v":6},{"$f":"+[2]Séries_Site!V487","v":512},{"$f":"+[2]Séries_Site!W487","v":496},{"$f":"+[2]Séries_Site!X487","v":16},{"$f":"+[2]Séries_Site!Y487","v":482},{"$f":"+[2]Séries_Site!Z487","v":38},{"$f":"+[2]Séries_Site!AA487","v":0},{"$f":"+[2]Séries_Site!AB487","v":0},{"$f":"+[2]Séries_Site!AC487","v":0},{"$f":"+[2]Séries_Site!AD487","v":0},{"$f":"+[2]Séries_Site!AE487","v":0},{"$f":"+[2]Séries_Site!AF487","v":89},{"$f":"+[2]Séries_Site!AG487","v":82},{"$f":"+[2]Séries_Site!AH487","v":7},{"$f":"+[2]Séries_Site!AI487","v":93},{"$f":"+[2]Séries_Site!AJ487","v":24}]
["2000-03-01",{"$f":"+[2]Séries_Site!B488","v":2211},{"$f":"+[2]Séries_Site!C488","v":2151},{"$f":"+[2]Séries_Site!D488","v":60},{"$f":"+[2]Séries_Site!E488","v":2685},{"$f":"+[2]Séries_Site!F488","v":347},{"$f":"+[2]Séries_Site!G488","v":1475},{"$f":"+[2]Séries_Site!H488","v":1446},{"$f":"+[2]Séries_Site!I488","v":29},{"$f":"+[2]Séries_Site!J488","v":1860},{"$f":"+[2]Séries_Site!K488","v":206},{"$f":"+[2]Séries_Site!L488","v":41},{"$f":"+[2]Séries_Site!M488","v":41},{"$f":"+[2]Séries_Site!N488","v":0},{"$f":"+[2]Séries_Site!O488","v":124},{"$f":"+[2]Séries_Site!P488","v":57},{"$f":"+[2]Séries_Site!Q488","v":69},{"$f":"+[2]Séries_Site!R488","v":69},{"$f":"+[2]Séries_Site!S488","v":0},{"$f":"+[2]Séries_Site!T488","v":80},{"$f":"+[2]Séries_Site!U488","v":0},{"$f":"+[2]Séries_Site!V488","v":461},{"$f":"+[2]Séries_Site!W488","v":439},{"$f":"+[2]Séries_Site!X488","v":22},{"$f":"+[2]Séries_Site!Y488","v":514},{"$f":"+[2]Séries_Site!Z488","v":75},{"$f":"+[2]Séries_Site!AA488","v":0},{"$f":"+[2]Séries_Site!AB488","v":0},{"$f":"+[2]Séries_Site!AC488","v":0},{"$f":"+[2]Séries_Site!AD488","v":0},{"$f":"+[2]Séries_Site!AE488","v":0},{"$f":"+[2]Séries_Site!AF488","v":165},{"$f":"+[2]Séries_Site!AG488","v":156},{"$f":"+[2]Séries_Site!AH488","v":9},{"$f":"+[2]Séries_Site!AI488","v":107},{"$f":"+[2]Séries_Site!AJ488","v":9}]
["2000-04-01",{"$f":"+[2]Séries_Site!B489","v":2040},{"$f":"+[2]Séries_Site!C489","v":2011},{"$f":"+[2]Séries_Site!D489","v":29},{"$f":"+[2]Séries_Site!E489","v":2495},{"$f":"+[2]Séries_Site!F489","v":396},{"$f":"+[2]Séries_Site!G489","v":1562},{"$f":"+[2]Séries_Site!H489","v":1544},{"$f":"+[2]Séries_Site!I489","v":18},{"$f":"+[2]Séries_Site!J489","v":1873},{"$f":"+[2]Séries_Site!K489","v":206},{"$f":"+[2]Séries_Site!L489","v":62},{"$f":"+[2]Séries_Site!M489","v":62},{"$f":"+[2]Séries_Site!N489","v":0},{"$f":"+[2]Séries_Site!O489","v":149},{"$f":"+[2]Séries_Site!P489","v":78},{"$f":"+[2]Séries_Site!Q489","v":93},{"$f":"+[2]Séries_Site!R489","v":93},{"$f":"+[2]Séries_Site!S489","v":0},{"$f":"+[2]Séries_Site!T489","v":100},{"$f":"+[2]Séries_Site!U489","v":2},{"$f":"+[2]Séries_Site!V489","v":206},{"$f":"+[2]Séries_Site!W489","v":197},{"$f":"+[2]Séries_Site!X489","v":9},{"$f":"+[2]Séries_Site!Y489","v":233},{"$f":"+[2]Séries_Site!Z489","v":98},{"$f":"+[2]Séries_Site!AA489","v":0},{"$f":"+[2]Séries_Site!AB489","v":0},{"$f":"+[2]Séries_Site!AC489","v":0},{"$f":"+[2]Séries_Site!AD489","v":0},{"$f":"+[2]Séries_Site!AE489","v":0},{"$f":"+[2]Séries_Site!AF489","v":117},{"$f":"+[2]Séries_Site!AG489","v":115},{"$f":"+[2]Séries_Site!AH489","v":2},{"$f":"+[2]Séries_Site!AI489","v":140},{"$f":"+[2]Séries_Site!AJ489","v":12}]
["2000-05-01",{"$f":"+[2]Séries_Site!B490","v":2713},{"$f":"+[2]Séries_Site!C490","v":2668},{"$f":"+[2]Séries_Site!D490","v":45},{"$f":"+[2]Séries_Site!E490","v":3077},{"$f":"+[2]Séries_Site!F490","v":541},{"$f":"+[2]Séries_Site!G490","v":2290},{"$f":"+[2]Séries_Site!H490","v":2252},{"$f":"+[2]Séries_Site!I490","v":38},{"$f":"+[2]Séries_Site!J490","v":2420},{"$f":"+[2]Séries_Site!K490","v":384},{"$f":"+[2]Séries_Site!L490","v":52},{"$f":"+[2]Séries_Site!M490","v":52},{"$f":"+[2]Séries_Site!N490","v":0},{"$f":"+[2]Séries_Site!O490","v":151},{"$f":"+[2]Séries_Site!P490","v":104},{"$f":"+[2]Séries_Site!Q490","v":106},{"$f":"+[2]Séries_Site!R490","v":106},{"$f":"+[2]Séries_Site!S490","v":0},{"$f":"+[2]Séries_Site!T490","v":110},{"$f":"+[2]Séries_Site!U490","v":9},{"$f":"+[2]Séries_Site!V490","v":138},{"$f":"+[2]Séries_Site!W490","v":135},{"$f":"+[2]Séries_Site!X490","v":3},{"$f":"+[2]Séries_Site!Y490","v":255},{"$f":"+[2]Séries_Site!Z490","v":37},{"$f":"+[2]Séries_Site!AA490","v":0},{"$f":"+[2]Séries_Site!AB490","v":0},{"$f":"+[2]Séries_Site!AC490","v":0},{"$f":"+[2]Séries_Site!AD490","v":0},{"$f":"+[2]Séries_Site!AE490","v":0},{"$f":"+[2]Séries_Site!AF490","v":127},{"$f":"+[2]Séries_Site!AG490","v":123},{"$f":"+[2]Séries_Site!AH490","v":4},{"$f":"+[2]Séries_Site!AI490","v":141},{"$f":"+[2]Séries_Site!AJ490","v":7}]
["2000-06-01",{"$f":"+[2]Séries_Site!B491","v":2983},{"$f":"+[2]Séries_Site!C491","v":2914},{"$f":"+[2]Séries_Site!D491","v":69},{"$f":"+[2]Séries_Site!E491","v":3384},{"$f":"+[2]Séries_Site!F491","v":575},{"$f":"+[2]Séries_Site!G491","v":2553},{"$f":"+[2]Séries_Site!H491","v":2520},{"$f":"+[2]Séries_Site!I491","v":33},{"$f":"+[2]Séries_Site!J491","v":2723},{"$f":"+[2]Séries_Site!K491","v":459},{"$f":"+[2]Séries_Site!L491","v":52},{"$f":"+[2]Séries_Site!M491","v":52},{"$f":"+[2]Séries_Site!N491","v":0},{"$f":"+[2]Séries_Site!O491","v":137},{"$f":"+[2]Séries_Site!P491","v":77},{"$f":"+[2]Séries_Site!Q491","v":76},{"$f":"+[2]Séries_Site!R491","v":76},{"$f":"+[2]Séries_Site!S491","v":0},{"$f":"+[2]Séries_Site!T491","v":100},{"$f":"+[2]Séries_Site!U491","v":1},{"$f":"+[2]Séries_Site!V491","v":159},{"$f":"+[2]Séries_Site!W491","v":129},{"$f":"+[2]Séries_Site!X491","v":30},{"$f":"+[2]Séries_Site!Y491","v":248},{"$f":"+[2]Séries_Site!Z491","v":29},{"$f":"+[2]Séries_Site!AA491","v":0},{"$f":"+[2]Séries_Site!AB491","v":0},{"$f":"+[2]Séries_Site!AC491","v":0},{"$f":"+[2]Séries_Site!AD491","v":0},{"$f":"+[2]Séries_Site!AE491","v":0},{"$f":"+[2]Séries_Site!AF491","v":143},{"$f":"+[2]Séries_Site!AG491","v":137},{"$f":"+[2]Séries_Site!AH491","v":6},{"$f":"+[2]Séries_Site!AI491","v":176},{"$f":"+[2]Séries_Site!AJ491","v":9}]
["2000-07-01",{"$f":"+[2]Séries_Site!B492","v":3184},{"$f":"+[2]Séries_Site!C492","v":3147},{"$f":"+[2]Séries_Site!D492","v":37},{"$f":"+[2]Séries_Site!E492","v":3525},{"$f":"+[2]Séries_Site!F492","v":494},{"$f":"+[2]Séries_Site!G492","v":2826},{"$f":"+[2]Séries_Site!H492","v":2801},{"$f":"+[2]Séries_Site!I492","v":25},{"$f":"+[2]Séries_Site!J492","v":3054},{"$f":"+[2]Séries_Site!K492","v":350},{"$f":"+[2]Séries_Site!L492","v":59},{"$f":"+[2]Séries_Site!M492","v":59},{"$f":"+[2]Séries_Site!N492","v":0},{"$f":"+[2]Séries_Site!O492","v":109},{"$f":"+[2]Séries_Site!P492","v":74},{"$f":"+[2]Séries_Site!Q492","v":40},{"$f":"+[2]Séries_Site!R492","v":40},{"$f":"+[2]Séries_Site!S492","v":0},{"$f":"+[2]Séries_Site!T492","v":49},{"$f":"+[2]Séries_Site!U492","v":0},{"$f":"+[2]Séries_Site!V492","v":166},{"$f":"+[2]Séries_Site!W492","v":158},{"$f":"+[2]Séries_Site!X492","v":8},{"$f":"+[2]Séries_Site!Y492","v":145},{"$f":"+[2]Séries_Site!Z492","v":51},{"$f":"+[2]Séries_Site!AA492","v":0},{"$f":"+[2]Séries_Site!AB492","v":0},{"$f":"+[2]Séries_Site!AC492","v":0},{"$f":"+[2]Séries_Site!AD492","v":0},{"$f":"+[2]Séries_Site!AE492","v":0},{"$f":"+[2]Séries_Site!AF492","v":93},{"$f":"+[2]Séries_Site!AG492","v":89},{"$f":"+[2]Séries_Site!AH492","v":4},{"$f":"+[2]Séries_Site!AI492","v":168},{"$f":"+[2]Séries_Site!AJ492","v":19}]
["2000-08-01",{"$f":"+[2]Séries_Site!B493","v":3562},{"$f":"+[2]Séries_Site!C493","v":3511},{"$f":"+[2]Séries_Site!D493","v":51},{"$f":"+[2]Séries_Site!E493","v":3825},{"$f":"+[2]Séries_Site!F493","v":538},{"$f":"+[2]Séries_Site!G493","v":3065},{"$f":"+[2]Séries_Site!H493","v":3024},{"$f":"+[2]Séries_Site!I493","v":41},{"$f":"+[2]Séries_Site!J493","v":3203},{"$f":"+[2]Séries_Site!K493","v":351},{"$f":"+[2]Séries_Site!L493","v":34},{"$f":"+[2]Séries_Site!M493","v":34},{"$f":"+[2]Séries_Site!N493","v":0},{"$f":"+[2]Séries_Site!O493","v":118},{"$f":"+[2]Séries_Site!P493","v":86},{"$f":"+[2]Séries_Site!Q493","v":37},{"$f":"+[2]Séries_Site!R493","v":37},{"$f":"+[2]Séries_Site!S493","v":0},{"$f":"+[2]Séries_Site!T493","v":55},{"$f":"+[2]Séries_Site!U493","v":50},{"$f":"+[2]Séries_Site!V493","v":286},{"$f":"+[2]Séries_Site!W493","v":284},{"$f":"+[2]Séries_Site!X493","v":2},{"$f":"+[2]Séries_Site!Y493","v":294},{"$f":"+[2]Séries_Site!Z493","v":35},{"$f":"+[2]Séries_Site!AA493","v":0},{"$f":"+[2]Séries_Site!AB493","v":0},{"$f":"+[2]Séries_Site!AC493","v":0},{"$f":"+[2]Séries_Site!AD493","v":0},{"$f":"+[2]Séries_Site!AE493","v":0},{"$f":"+[2]Séries_Site!AF493","v":140},{"$f":"+[2]Séries_Site!AG493","v":132},{"$f":"+[2]Séries_Site!AH493","v":8},{"$f":"+[2]Séries_Site!AI493","v":155},{"$f":"+[2]Séries_Site!AJ493","v":16}]
["2000-09-01",{"$f":"+[2]Séries_Site!B494","v":3188},{"$f":"+[2]Séries_Site!C494","v":3126},{"$f":"+[2]Séries_Site!D494","v":62},{"$f":"+[2]Séries_Site!E494","v":3445},{"$f":"+[2]Séries_Site!F494","v":518},{"$f":"+[2]Séries_Site!G494","v":2740},{"$f":"+[2]Séries_Site!H494","v":2696},{"$f":"+[2]Séries_Site!I494","v":44},{"$f":"+[2]Séries_Site!J494","v":2950},{"$f":"+[2]Séries_Site!K494","v":385},{"$f":"+[2]Séries_Site!L494","v":67},{"$f":"+[2]Séries_Site!M494","v":62},{"$f":"+[2]Séries_Site!N494","v":5},{"$f":"+[2]Séries_Site!O494","v":109},{"$f":"+[2]Séries_Site!P494","v":45},{"$f":"+[2]Séries_Site!Q494","v":44},{"$f":"+[2]Séries_Site!R494","v":44},{"$f":"+[2]Séries_Site!S494","v":0},{"$f":"+[2]Séries_Site!T494","v":54},{"$f":"+[2]Séries_Site!U494","v":23},{"$f":"+[2]Séries_Site!V494","v":238},{"$f":"+[2]Séries_Site!W494","v":226},{"$f":"+[2]Séries_Site!X494","v":12},{"$f":"+[2]Séries_Site!Y494","v":241},{"$f":"+[2]Séries_Site!Z494","v":50},{"$f":"+[2]Séries_Site!AA494","v":0},{"$f":"+[2]Séries_Site!AB494","v":0},{"$f":"+[2]Séries_Site!AC494","v":0},{"$f":"+[2]Séries_Site!AD494","v":0},{"$f":"+[2]Séries_Site!AE494","v":0},{"$f":"+[2]Séries_Site!AF494","v":99},{"$f":"+[2]Séries_Site!AG494","v":98},{"$f":"+[2]Séries_Site!AH494","v":1},{"$f":"+[2]Séries_Site!AI494","v":91},{"$f":"+[2]Séries_Site!AJ494","v":15}]
["2000-10-01",{"$f":"+[2]Séries_Site!B495","v":3141},{"$f":"+[2]Séries_Site!C495","v":3095},{"$f":"+[2]Séries_Site!D495","v":46},{"$f":"+[2]Séries_Site!E495","v":3397},{"$f":"+[2]Séries_Site!F495","v":367},{"$f":"+[2]Séries_Site!G495","v":2554},{"$f":"+[2]Séries_Site!H495","v":2537},{"$f":"+[2]Séries_Site!I495","v":17},{"$f":"+[2]Séries_Site!J495","v":2736},{"$f":"+[2]Séries_Site!K495","v":248},{"$f":"+[2]Séries_Site!L495","v":64},{"$f":"+[2]Séries_Site!M495","v":64},{"$f":"+[2]Séries_Site!N495","v":0},{"$f":"+[2]Séries_Site!O495","v":107},{"$f":"+[2]Séries_Site!P495","v":55},{"$f":"+[2]Séries_Site!Q495","v":63},{"$f":"+[2]Séries_Site!R495","v":63},{"$f":"+[2]Séries_Site!S495","v":0},{"$f":"+[2]Séries_Site!T495","v":62},{"$f":"+[2]Séries_Site!U495","v":-1},{"$f":"+[2]Séries_Site!V495","v":325},{"$f":"+[2]Séries_Site!W495","v":305},{"$f":"+[2]Séries_Site!X495","v":20},{"$f":"+[2]Séries_Site!Y495","v":379},{"$f":"+[2]Séries_Site!Z495","v":50},{"$f":"+[2]Séries_Site!AA495","v":0},{"$f":"+[2]Séries_Site!AB495","v":0},{"$f":"+[2]Séries_Site!AC495","v":0},{"$f":"+[2]Séries_Site!AD495","v":0},{"$f":"+[2]Séries_Site!AE495","v":0},{"$f":"+[2]Séries_Site!AF495","v":135},{"$f":"+[2]Séries_Site!AG495","v":126},{"$f":"+[2]Séries_Site!AH495","v":9},{"$f":"+[2]Séries_Site!AI495","v":113},{"$f":"+[2]Séries_Site!AJ495","v":15}]
["2000-11-01",{"$f":"+[2]Séries_Site!B496","v":2941},{"$f":"+[2]Séries_Site!C496","v":2914},{"$f":"+[2]Séries_Site!D496","v":27},{"$f":"+[2]Séries_Site!E496","v":3524},{"$f":"+[2]Séries_Site!F496","v":507},{"$f":"+[2]Séries_Site!G496","v":2338},{"$f":"+[2]Séries_Site!H496","v":2323},{"$f":"+[2]Séries_Site!I496","v":15},{"$f":"+[2]Séries_Site!J496","v":2748},{"$f":"+[2]Séries_Site!K496","v":298},{"$f":"+[2]Séries_Site!L496","v":52},{"$f":"+[2]Séries_Site!M496","v":51},{"$f":"+[2]Séries_Site!N496","v":1},{"$f":"+[2]Séries_Site!O496","v":112},{"$f":"+[2]Séries_Site!P496","v":76},{"$f":"+[2]Séries_Site!Q496","v":50},{"$f":"+[2]Séries_Site!R496","v":50},{"$f":"+[2]Séries_Site!S496","v":0},{"$f":"+[2]Séries_Site!T496","v":51},{"$f":"+[2]Séries_Site!U496","v":0},{"$f":"+[2]Séries_Site!V496","v":366},{"$f":"+[2]Séries_Site!W496","v":360},{"$f":"+[2]Séries_Site!X496","v":6},{"$f":"+[2]Séries_Site!Y496","v":508},{"$f":"+[2]Séries_Site!Z496","v":111},{"$f":"+[2]Séries_Site!AA496","v":0},{"$f":"+[2]Séries_Site!AB496","v":0},{"$f":"+[2]Séries_Site!AC496","v":0},{"$f":"+[2]Séries_Site!AD496","v":0},{"$f":"+[2]Séries_Site!AE496","v":0},{"$f":"+[2]Séries_Site!AF496","v":135},{"$f":"+[2]Séries_Site!AG496","v":130},{"$f":"+[2]Séries_Site!AH496","v":5},{"$f":"+[2]Séries_Site!AI496","v":105},{"$f":"+[2]Séries_Site!AJ496","v":22}]
["2000-12-01",{"$f":"+[2]Séries_Site!B497","v":2029},{"$f":"+[2]Séries_Site!C497","v":2010},{"$f":"+[2]Séries_Site!D497","v":19},{"$f":"+[2]Séries_Site!E497","v":2357},{"$f":"+[2]Séries_Site!F497","v":388},{"$f":"+[2]Séries_Site!G497","v":1299},{"$f":"+[2]Séries_Site!H497","v":1291},{"$f":"+[2]Séries_Site!I497","v":8},{"$f":"+[2]Séries_Site!J497","v":1476},{"$f":"+[2]Séries_Site!K497","v":207},{"$f":"+[2]Séries_Site!L497","v":56},{"$f":"+[2]Séries_Site!M497","v":53},{"$f":"+[2]Séries_Site!N497","v":3},{"$f":"+[2]Séries_Site!O497","v":110},{"$f":"+[2]Séries_Site!P497","v":82},{"$f":"+[2]Séries_Site!Q497","v":40},{"$f":"+[2]Séries_Site!R497","v":40},{"$f":"+[2]Séries_Site!S497","v":0},{"$f":"+[2]Séries_Site!T497","v":40},{"$f":"+[2]Séries_Site!U497","v":0},{"$f":"+[2]Séries_Site!V497","v":562},{"$f":"+[2]Séries_Site!W497","v":556},{"$f":"+[2]Séries_Site!X497","v":6},{"$f":"+[2]Séries_Site!Y497","v":643},{"$f":"+[2]Séries_Site!Z497","v":92},{"$f":"+[2]Séries_Site!AA497","v":0},{"$f":"+[2]Séries_Site!AB497","v":0},{"$f":"+[2]Séries_Site!AC497","v":0},{"$f":"+[2]Séries_Site!AD497","v":0},{"$f":"+[2]Séries_Site!AE497","v":0},{"$f":"+[2]Séries_Site!AF497","v":72},{"$f":"+[2]Séries_Site!AG497","v":70},{"$f":"+[2]Séries_Site!AH497","v":2},{"$f":"+[2]Séries_Site!AI497","v":88},{"$f":"+[2]Séries_Site!AJ497","v":7}]
["2001-01-01",{"$f":"+[2]Séries_Site!B498","v":1644},{"$f":"+[2]Séries_Site!C498","v":1630},{"$f":"+[2]Séries_Site!D498","v":14},{"$f":"+[2]Séries_Site!E498","v":2202},{"$f":"+[2]Séries_Site!F498","v":451},{"$f":"+[2]Séries_Site!G498","v":1018},{"$f":"+[2]Séries_Site!H498","v":1012},{"$f":"+[2]Séries_Site!I498","v":6},{"$f":"+[2]Séries_Site!J498","v":1459},{"$f":"+[2]Séries_Site!K498","v":383},{"$f":"+[2]Séries_Site!L498","v":22},{"$f":"+[2]Séries_Site!M498","v":22},{"$f":"+[2]Séries_Site!N498","v":0},{"$f":"+[2]Séries_Site!O498","v":95},{"$f":"+[2]Séries_Site!P498","v":36},{"$f":"+[2]Séries_Site!Q498","v":42},{"$f":"+[2]Séries_Site!R498","v":42},{"$f":"+[2]Séries_Site!S498","v":0},{"$f":"+[2]Séries_Site!T498","v":40},{"$f":"+[2]Séries_Site!U498","v":0},{"$f":"+[2]Séries_Site!V498","v":450},{"$f":"+[2]Séries_Site!W498","v":446},{"$f":"+[2]Séries_Site!X498","v":4},{"$f":"+[2]Séries_Site!Y498","v":501},{"$f":"+[2]Séries_Site!Z498","v":28},{"$f":"+[2]Séries_Site!AA498","v":0},{"$f":"+[2]Séries_Site!AB498","v":0},{"$f":"+[2]Séries_Site!AC498","v":0},{"$f":"+[2]Séries_Site!AD498","v":0},{"$f":"+[2]Séries_Site!AE498","v":0},{"$f":"+[2]Séries_Site!AF498","v":112},{"$f":"+[2]Séries_Site!AG498","v":108},{"$f":"+[2]Séries_Site!AH498","v":4},{"$f":"+[2]Séries_Site!AI498","v":107},{"$f":"+[2]Séries_Site!AJ498","v":4}]
["2001-02-01",{"$f":"+[2]Séries_Site!B499","v":2381},{"$f":"+[2]Séries_Site!C499","v":2343},{"$f":"+[2]Séries_Site!D499","v":38},{"$f":"+[2]Séries_Site!E499","v":3208},{"$f":"+[2]Séries_Site!F499","v":567},{"$f":"+[2]Séries_Site!G499","v":1701},{"$f":"+[2]Séries_Site!H499","v":1698},{"$f":"+[2]Séries_Site!I499","v":3},{"$f":"+[2]Séries_Site!J499","v":2290},{"$f":"+[2]Séries_Site!K499","v":298},{"$f":"+[2]Séries_Site!L499","v":41},{"$f":"+[2]Séries_Site!M499","v":41},{"$f":"+[2]Séries_Site!N499","v":0},{"$f":"+[2]Séries_Site!O499","v":115},{"$f":"+[2]Séries_Site!P499","v":78},{"$f":"+[2]Séries_Site!Q499","v":49},{"$f":"+[2]Séries_Site!R499","v":49},{"$f":"+[2]Séries_Site!S499","v":0},{"$f":"+[2]Séries_Site!T499","v":100},{"$f":"+[2]Séries_Site!U499","v":51},{"$f":"+[2]Séries_Site!V499","v":472},{"$f":"+[2]Séries_Site!W499","v":459},{"$f":"+[2]Séries_Site!X499","v":13},{"$f":"+[2]Séries_Site!Y499","v":557},{"$f":"+[2]Séries_Site!Z499","v":112},{"$f":"+[2]Séries_Site!AA499","v":0},{"$f":"+[2]Séries_Site!AB499","v":0},{"$f":"+[2]Séries_Site!AC499","v":0},{"$f":"+[2]Séries_Site!AD499","v":0},{"$f":"+[2]Séries_Site!AE499","v":0},{"$f":"+[2]Séries_Site!AF499","v":118},{"$f":"+[2]Séries_Site!AG499","v":96},{"$f":"+[2]Séries_Site!AH499","v":22},{"$f":"+[2]Séries_Site!AI499","v":146},{"$f":"+[2]Séries_Site!AJ499","v":28}]
["2001-03-01",{"$f":"+[2]Séries_Site!B500","v":2704},{"$f":"+[2]Séries_Site!C500","v":2661},{"$f":"+[2]Séries_Site!D500","v":43},{"$f":"+[2]Séries_Site!E500","v":3815},{"$f":"+[2]Séries_Site!F500","v":879},{"$f":"+[2]Séries_Site!G500","v":1979},{"$f":"+[2]Séries_Site!H500","v":1972},{"$f":"+[2]Séries_Site!I500","v":7},{"$f":"+[2]Séries_Site!J500","v":2798},{"$f":"+[2]Séries_Site!K500","v":576},{"$f":"+[2]Séries_Site!L500","v":33},{"$f":"+[2]Séries_Site!M500","v":33},{"$f":"+[2]Séries_Site!N500","v":0},{"$f":"+[2]Séries_Site!O500","v":127},{"$f":"+[2]Séries_Site!P500","v":88},{"$f":"+[2]Séries_Site!Q500","v":99},{"$f":"+[2]Séries_Site!R500","v":99},{"$f":"+[2]Séries_Site!S500","v":0},{"$f":"+[2]Séries_Site!T500","v":105},{"$f":"+[2]Séries_Site!U500","v":3},{"$f":"+[2]Séries_Site!V500","v":418},{"$f":"+[2]Séries_Site!W500","v":414},{"$f":"+[2]Séries_Site!X500","v":4},{"$f":"+[2]Séries_Site!Y500","v":630},{"$f":"+[2]Séries_Site!Z500","v":197},{"$f":"+[2]Séries_Site!AA500","v":0},{"$f":"+[2]Séries_Site!AB500","v":0},{"$f":"+[2]Séries_Site!AC500","v":0},{"$f":"+[2]Séries_Site!AD500","v":0},{"$f":"+[2]Séries_Site!AE500","v":0},{"$f":"+[2]Séries_Site!AF500","v":175},{"$f":"+[2]Séries_Site!AG500","v":143},{"$f":"+[2]Séries_Site!AH500","v":32},{"$f":"+[2]Séries_Site!AI500","v":155},{"$f":"+[2]Séries_Site!AJ500","v":15}]
["2001-04-01",{"$f":"+[2]Séries_Site!B501","v":2400},{"$f":"+[2]Séries_Site!C501","v":2383},{"$f":"+[2]Séries_Site!D501","v":17},{"$f":"+[2]Séries_Site!E501","v":3350},{"$f":"+[2]Séries_Site!F501","v":834},{"$f":"+[2]Séries_Site!G501","v":2002},{"$f":"+[2]Séries_Site!H501","v":1993},{"$f":"+[2]Séries_Site!I501","v":9},{"$f":"+[2]Séries_Site!J501","v":2565},{"$f":"+[2]Séries_Site!K501","v":524},{"$f":"+[2]Séries_Site!L501","v":47},{"$f":"+[2]Séries_Site!M501","v":47},{"$f":"+[2]Séries_Site!N501","v":0},{"$f":"+[2]Séries_Site!O501","v":149},{"$f":"+[2]Séries_Site!P501","v":75},{"$f":"+[2]Séries_Site!Q501","v":92},{"$f":"+[2]Séries_Site!R501","v":92},{"$f":"+[2]Séries_Site!S501","v":0},{"$f":"+[2]Séries_Site!T501","v":101},{"$f":"+[2]Séries_Site!U501","v":0},{"$f":"+[2]Séries_Site!V501","v":101},{"$f":"+[2]Séries_Site!W501","v":100},{"$f":"+[2]Séries_Site!X501","v":1},{"$f":"+[2]Séries_Site!Y501","v":352},{"$f":"+[2]Séries_Site!Z501","v":224},{"$f":"+[2]Séries_Site!AA501","v":0},{"$f":"+[2]Séries_Site!AB501","v":0},{"$f":"+[2]Séries_Site!AC501","v":0},{"$f":"+[2]Séries_Site!AD501","v":0},{"$f":"+[2]Séries_Site!AE501","v":0},{"$f":"+[2]Séries_Site!AF501","v":158},{"$f":"+[2]Séries_Site!AG501","v":151},{"$f":"+[2]Séries_Site!AH501","v":7},{"$f":"+[2]Séries_Site!AI501","v":183},{"$f":"+[2]Séries_Site!AJ501","v":11}]
["2001-05-01",{"$f":"+[2]Séries_Site!B502","v":3045},{"$f":"+[2]Séries_Site!C502","v":3014},{"$f":"+[2]Séries_Site!D502","v":31},{"$f":"+[2]Séries_Site!E502","v":4004},{"$f":"+[2]Séries_Site!F502","v":753},{"$f":"+[2]Séries_Site!G502","v":2581},{"$f":"+[2]Séries_Site!H502","v":2560},{"$f":"+[2]Séries_Site!I502","v":21},{"$f":"+[2]Séries_Site!J502","v":3400},{"$f":"+[2]Séries_Site!K502","v":612},{"$f":"+[2]Séries_Site!L502","v":62},{"$f":"+[2]Séries_Site!M502","v":62},{"$f":"+[2]Séries_Site!N502","v":0},{"$f":"+[2]Séries_Site!O502","v":106},{"$f":"+[2]Séries_Site!P502","v":53},{"$f":"+[2]Séries_Site!Q502","v":109},{"$f":"+[2]Séries_Site!R502","v":109},{"$f":"+[2]Séries_Site!S502","v":0},{"$f":"+[2]Séries_Site!T502","v":110},{"$f":"+[2]Séries_Site!U502","v":4},{"$f":"+[2]Séries_Site!V502","v":149},{"$f":"+[2]Séries_Site!W502","v":145},{"$f":"+[2]Séries_Site!X502","v":4},{"$f":"+[2]Séries_Site!Y502","v":174},{"$f":"+[2]Séries_Site!Z502","v":76},{"$f":"+[2]Séries_Site!AA502","v":0},{"$f":"+[2]Séries_Site!AB502","v":0},{"$f":"+[2]Séries_Site!AC502","v":0},{"$f":"+[2]Séries_Site!AD502","v":0},{"$f":"+[2]Séries_Site!AE502","v":0},{"$f":"+[2]Séries_Site!AF502","v":144},{"$f":"+[2]Séries_Site!AG502","v":138},{"$f":"+[2]Séries_Site!AH502","v":6},{"$f":"+[2]Séries_Site!AI502","v":214},{"$f":"+[2]Séries_Site!AJ502","v":8}]
["2001-06-01",{"$f":"+[2]Séries_Site!B503","v":3214},{"$f":"+[2]Séries_Site!C503","v":3173},{"$f":"+[2]Séries_Site!D503","v":41},{"$f":"+[2]Séries_Site!E503","v":3783},{"$f":"+[2]Séries_Site!F503","v":721},{"$f":"+[2]Séries_Site!G503","v":2726},{"$f":"+[2]Séries_Site!H503","v":2708},{"$f":"+[2]Séries_Site!I503","v":18},{"$f":"+[2]Séries_Site!J503","v":3116},{"$f":"+[2]Séries_Site!K503","v":551},{"$f":"+[2]Séries_Site!L503","v":55},{"$f":"+[2]Séries_Site!M503","v":52},{"$f":"+[2]Séries_Site!N503","v":3},{"$f":"+[2]Séries_Site!O503","v":117},{"$f":"+[2]Séries_Site!P503","v":93},{"$f":"+[2]Séries_Site!Q503","v":95},{"$f":"+[2]Séries_Site!R503","v":95},{"$f":"+[2]Séries_Site!S503","v":0},{"$f":"+[2]Séries_Site!T503","v":100},{"$f":"+[2]Séries_Site!U503","v":5},{"$f":"+[2]Séries_Site!V503","v":160},{"$f":"+[2]Séries_Site!W503","v":158},{"$f":"+[2]Séries_Site!X503","v":2},{"$f":"+[2]Séries_Site!Y503","v":272},{"$f":"+[2]Séries_Site!Z503","v":46},{"$f":"+[2]Séries_Site!AA503","v":0},{"$f":"+[2]Séries_Site!AB503","v":0},{"$f":"+[2]Séries_Site!AC503","v":0},{"$f":"+[2]Séries_Site!AD503","v":0},{"$f":"+[2]Séries_Site!AE503","v":0},{"$f":"+[2]Séries_Site!AF503","v":178},{"$f":"+[2]Séries_Site!AG503","v":160},{"$f":"+[2]Séries_Site!AH503","v":18},{"$f":"+[2]Séries_Site!AI503","v":178},{"$f":"+[2]Séries_Site!AJ503","v":26}]
["2001-07-01",{"$f":"+[2]Séries_Site!B504","v":3437},{"$f":"+[2]Séries_Site!C504","v":3411},{"$f":"+[2]Séries_Site!D504","v":26},{"$f":"+[2]Séries_Site!E504","v":4266},{"$f":"+[2]Séries_Site!F504","v":840},{"$f":"+[2]Séries_Site!G504","v":2885},{"$f":"+[2]Séries_Site!H504","v":2870},{"$f":"+[2]Séries_Site!I504","v":15},{"$f":"+[2]Séries_Site!J504","v":3544},{"$f":"+[2]Séries_Site!K504","v":667},{"$f":"+[2]Séries_Site!L504","v":56},{"$f":"+[2]Séries_Site!M504","v":55},{"$f":"+[2]Séries_Site!N504","v":1},{"$f":"+[2]Séries_Site!O504","v":115},{"$f":"+[2]Séries_Site!P504","v":74},{"$f":"+[2]Séries_Site!Q504","v":105},{"$f":"+[2]Séries_Site!R504","v":105},{"$f":"+[2]Séries_Site!S504","v":0},{"$f":"+[2]Séries_Site!T504","v":100},{"$f":"+[2]Séries_Site!U504","v":0},{"$f":"+[2]Séries_Site!V504","v":252},{"$f":"+[2]Séries_Site!W504","v":251},{"$f":"+[2]Séries_Site!X504","v":1},{"$f":"+[2]Séries_Site!Y504","v":278},{"$f":"+[2]Séries_Site!Z504","v":67},{"$f":"+[2]Séries_Site!AA504","v":0},{"$f":"+[2]Séries_Site!AB504","v":0},{"$f":"+[2]Séries_Site!AC504","v":0},{"$f":"+[2]Séries_Site!AD504","v":0},{"$f":"+[2]Séries_Site!AE504","v":0},{"$f":"+[2]Séries_Site!AF504","v":139},{"$f":"+[2]Séries_Site!AG504","v":130},{"$f":"+[2]Séries_Site!AH504","v":9},{"$f":"+[2]Séries_Site!AI504","v":229},{"$f":"+[2]Séries_Site!AJ504","v":32}]
["2001-08-01",{"$f":"+[2]Séries_Site!B505","v":3796},{"$f":"+[2]Séries_Site!C505","v":3779},{"$f":"+[2]Séries_Site!D505","v":17},{"$f":"+[2]Séries_Site!E505","v":4198},{"$f":"+[2]Séries_Site!F505","v":702},{"$f":"+[2]Séries_Site!G505","v":3204},{"$f":"+[2]Séries_Site!H505","v":3195},{"$f":"+[2]Séries_Site!I505","v":9},{"$f":"+[2]Séries_Site!J505","v":3420},{"$f":"+[2]Séries_Site!K505","v":555},{"$f":"+[2]Séries_Site!L505","v":48},{"$f":"+[2]Séries_Site!M505","v":47},{"$f":"+[2]Séries_Site!N505","v":1},{"$f":"+[2]Séries_Site!O505","v":116},{"$f":"+[2]Séries_Site!P505","v":62},{"$f":"+[2]Séries_Site!Q505","v":62},{"$f":"+[2]Séries_Site!R505","v":62},{"$f":"+[2]Séries_Site!S505","v":0},{"$f":"+[2]Séries_Site!T505","v":100},{"$f":"+[2]Séries_Site!U505","v":5},{"$f":"+[2]Séries_Site!V505","v":312},{"$f":"+[2]Séries_Site!W505","v":311},{"$f":"+[2]Séries_Site!X505","v":1},{"$f":"+[2]Séries_Site!Y505","v":293},{"$f":"+[2]Séries_Site!Z505","v":46},{"$f":"+[2]Séries_Site!AA505","v":0},{"$f":"+[2]Séries_Site!AB505","v":0},{"$f":"+[2]Séries_Site!AC505","v":0},{"$f":"+[2]Séries_Site!AD505","v":0},{"$f":"+[2]Séries_Site!AE505","v":0},{"$f":"+[2]Séries_Site!AF505","v":170},{"$f":"+[2]Séries_Site!AG505","v":164},{"$f":"+[2]Séries_Site!AH505","v":6},{"$f":"+[2]Séries_Site!AI505","v":269},{"$f":"+[2]Séries_Site!AJ505","v":34}]
["2001-09-01",{"$f":"+[2]Séries_Site!B506","v":3470},{"$f":"+[2]Séries_Site!C506","v":3463},{"$f":"+[2]Séries_Site!D506","v":7},{"$f":"+[2]Séries_Site!E506","v":4100},{"$f":"+[2]Séries_Site!F506","v":786},{"$f":"+[2]Séries_Site!G506","v":2936},{"$f":"+[2]Séries_Site!H506","v":2933},{"$f":"+[2]Séries_Site!I506","v":3},{"$f":"+[2]Séries_Site!J506","v":3414},{"$f":"+[2]Séries_Site!K506","v":597},{"$f":"+[2]Séries_Site!L506","v":36},{"$f":"+[2]Séries_Site!M506","v":36},{"$f":"+[2]Séries_Site!N506","v":0},{"$f":"+[2]Séries_Site!O506","v":101},{"$f":"+[2]Séries_Site!P506","v":69},{"$f":"+[2]Séries_Site!Q506","v":62},{"$f":"+[2]Séries_Site!R506","v":62},{"$f":"+[2]Séries_Site!S506","v":0},{"$f":"+[2]Séries_Site!T506","v":70},{"$f":"+[2]Séries_Site!U506","v":6},{"$f":"+[2]Séries_Site!V506","v":280},{"$f":"+[2]Séries_Site!W506","v":278},{"$f":"+[2]Séries_Site!X506","v":2},{"$f":"+[2]Séries_Site!Y506","v":352},{"$f":"+[2]Séries_Site!Z506","v":101},{"$f":"+[2]Séries_Site!AA506","v":0},{"$f":"+[2]Séries_Site!AB506","v":0},{"$f":"+[2]Séries_Site!AC506","v":0},{"$f":"+[2]Séries_Site!AD506","v":0},{"$f":"+[2]Séries_Site!AE506","v":0},{"$f":"+[2]Séries_Site!AF506","v":156},{"$f":"+[2]Séries_Site!AG506","v":154},{"$f":"+[2]Séries_Site!AH506","v":2},{"$f":"+[2]Séries_Site!AI506","v":163},{"$f":"+[2]Séries_Site!AJ506","v":13}]
["2001-10-01",{"$f":"+[2]Séries_Site!B507","v":3701},{"$f":"+[2]Séries_Site!C507","v":3689},{"$f":"+[2]Séries_Site!D507","v":12},{"$f":"+[2]Séries_Site!E507","v":4448},{"$f":"+[2]Séries_Site!F507","v":703},{"$f":"+[2]Séries_Site!G507","v":2946},{"$f":"+[2]Séries_Site!H507","v":2937},{"$f":"+[2]Séries_Site!I507","v":9},{"$f":"+[2]Séries_Site!J507","v":3448},{"$f":"+[2]Séries_Site!K507","v":493},{"$f":"+[2]Séries_Site!L507","v":30},{"$f":"+[2]Séries_Site!M507","v":29},{"$f":"+[2]Séries_Site!N507","v":1},{"$f":"+[2]Séries_Site!O507","v":132},{"$f":"+[2]Séries_Site!P507","v":86},{"$f":"+[2]Séries_Site!Q507","v":42},{"$f":"+[2]Séries_Site!R507","v":42},{"$f":"+[2]Séries_Site!S507","v":0},{"$f":"+[2]Séries_Site!T507","v":65},{"$f":"+[2]Séries_Site!U507","v":0},{"$f":"+[2]Séries_Site!V507","v":487},{"$f":"+[2]Séries_Site!W507","v":486},{"$f":"+[2]Séries_Site!X507","v":1},{"$f":"+[2]Séries_Site!Y507","v":554},{"$f":"+[2]Séries_Site!Z507","v":110},{"$f":"+[2]Séries_Site!AA507","v":0},{"$f":"+[2]Séries_Site!AB507","v":0},{"$f":"+[2]Séries_Site!AC507","v":0},{"$f":"+[2]Séries_Site!AD507","v":0},{"$f":"+[2]Séries_Site!AE507","v":0},{"$f":"+[2]Séries_Site!AF507","v":196},{"$f":"+[2]Séries_Site!AG507","v":195},{"$f":"+[2]Séries_Site!AH507","v":1},{"$f":"+[2]Séries_Site!AI507","v":249},{"$f":"+[2]Séries_Site!AJ507","v":14}]
["2001-11-01",{"$f":"+[2]Séries_Site!B508","v":3124},{"$f":"+[2]Séries_Site!C508","v":3115},{"$f":"+[2]Séries_Site!D508","v":9},{"$f":"+[2]Séries_Site!E508","v":3958},{"$f":"+[2]Séries_Site!F508","v":546},{"$f":"+[2]Séries_Site!G508","v":2497},{"$f":"+[2]Séries_Site!H508","v":2488},{"$f":"+[2]Séries_Site!I508","v":9},{"$f":"+[2]Séries_Site!J508","v":3117},{"$f":"+[2]Séries_Site!K508","v":268},{"$f":"+[2]Séries_Site!L508","v":41},{"$f":"+[2]Séries_Site!M508","v":41},{"$f":"+[2]Séries_Site!N508","v":0},{"$f":"+[2]Séries_Site!O508","v":104},{"$f":"+[2]Séries_Site!P508","v":106},{"$f":"+[2]Séries_Site!Q508","v":35},{"$f":"+[2]Séries_Site!R508","v":35},{"$f":"+[2]Séries_Site!S508","v":0},{"$f":"+[2]Séries_Site!T508","v":26},{"$f":"+[2]Séries_Site!U508","v":0},{"$f":"+[2]Séries_Site!V508","v":452},{"$f":"+[2]Séries_Site!W508","v":452},{"$f":"+[2]Séries_Site!X508","v":0},{"$f":"+[2]Séries_Site!Y508","v":600},{"$f":"+[2]Séries_Site!Z508","v":114},{"$f":"+[2]Séries_Site!AA508","v":0},{"$f":"+[2]Séries_Site!AB508","v":0},{"$f":"+[2]Séries_Site!AC508","v":0},{"$f":"+[2]Séries_Site!AD508","v":0},{"$f":"+[2]Séries_Site!AE508","v":0},{"$f":"+[2]Séries_Site!AF508","v":99},{"$f":"+[2]Séries_Site!AG508","v":99},{"$f":"+[2]Séries_Site!AH508","v":0},{"$f":"+[2]Séries_Site!AI508","v":111},{"$f":"+[2]Séries_Site!AJ508","v":58}]
["2001-12-01",{"$f":"+[2]Séries_Site!B509","v":2607},{"$f":"+[2]Séries_Site!C509","v":2591},{"$f":"+[2]Séries_Site!D509","v":16},{"$f":"+[2]Séries_Site!E509","v":3007},{"$f":"+[2]Séries_Site!F509","v":464},{"$f":"+[2]Séries_Site!G509","v":1728},{"$f":"+[2]Séries_Site!H509","v":1724},{"$f":"+[2]Séries_Site!I509","v":4},{"$f":"+[2]Séries_Site!J509","v":2210},{"$f":"+[2]Séries_Site!K509","v":290},{"$f":"+[2]Séries_Site!L509","v":25},{"$f":"+[2]Séries_Site!M509","v":25},{"$f":"+[2]Séries_Site!N509","v":0},{"$f":"+[2]Séries_Site!O509","v":74},{"$f":"+[2]Séries_Site!P509","v":68},{"$f":"+[2]Séries_Site!Q509","v":64},{"$f":"+[2]Séries_Site!R509","v":64},{"$f":"+[2]Séries_Site!S509","v":0},{"$f":"+[2]Séries_Site!T509","v":30},{"$f":"+[2]Séries_Site!U509","v":0},{"$f":"+[2]Séries_Site!V509","v":565},{"$f":"+[2]Séries_Site!W509","v":554},{"$f":"+[2]Séries_Site!X509","v":11},{"$f":"+[2]Séries_Site!Y509","v":633},{"$f":"+[2]Séries_Site!Z509","v":81},{"$f":"+[2]Séries_Site!AA509","v":0},{"$f":"+[2]Séries_Site!AB509","v":0},{"$f":"+[2]Séries_Site!AC509","v":0},{"$f":"+[2]Séries_Site!AD509","v":0},{"$f":"+[2]Séries_Site!AE509","v":0},{"$f":"+[2]Séries_Site!AF509","v":225},{"$f":"+[2]Séries_Site!AG509","v":224},{"$f":"+[2]Séries_Site!AH509","v":1},{"$f":"+[2]Séries_Site!AI509","v":60},{"$f":"+[2]Séries_Site!AJ509","v":25}]
["2002-01-01",{"$f":"+[2]Séries_Site!B510","v":2289},{"$f":"+[2]Séries_Site!C510","v":2278},{"$f":"+[2]Séries_Site!D510","v":11},{"$f":"+[2]Séries_Site!E510","v":2676},{"$f":"+[2]Séries_Site!F510","v":639},{"$f":"+[2]Séries_Site!G510","v":1506},{"$f":"+[2]Séries_Site!H510","v":1505},{"$f":"+[2]Séries_Site!I510","v":1},{"$f":"+[2]Séries_Site!J510","v":1781},{"$f":"+[2]Séries_Site!K510","v":405},{"$f":"+[2]Séries_Site!L510","v":28},{"$f":"+[2]Séries_Site!M510","v":28},{"$f":"+[2]Séries_Site!N510","v":0},{"$f":"+[2]Séries_Site!O510","v":120},{"$f":"+[2]Séries_Site!P510","v":85},{"$f":"+[2]Séries_Site!Q510","v":53},{"$f":"+[2]Séries_Site!R510","v":53},{"$f":"+[2]Séries_Site!S510","v":0},{"$f":"+[2]Séries_Site!T510","v":42},{"$f":"+[2]Séries_Site!U510","v":0},{"$f":"+[2]Séries_Site!V510","v":598},{"$f":"+[2]Séries_Site!W510","v":588},{"$f":"+[2]Séries_Site!X510","v":10},{"$f":"+[2]Séries_Site!Y510","v":635},{"$f":"+[2]Séries_Site!Z510","v":140},{"$f":"+[2]Séries_Site!AA510","v":0},{"$f":"+[2]Séries_Site!AB510","v":0},{"$f":"+[2]Séries_Site!AC510","v":0},{"$f":"+[2]Séries_Site!AD510","v":0},{"$f":"+[2]Séries_Site!AE510","v":0},{"$f":"+[2]Séries_Site!AF510","v":104},{"$f":"+[2]Séries_Site!AG510","v":104},{"$f":"+[2]Séries_Site!AH510","v":0},{"$f":"+[2]Séries_Site!AI510","v":98},{"$f":"+[2]Séries_Site!AJ510","v":9}]
["2002-02-01",{"$f":"+[2]Séries_Site!B511","v":2662},{"$f":"+[2]Séries_Site!C511","v":2655},{"$f":"+[2]Séries_Site!D511","v":7},{"$f":"+[2]Séries_Site!E511","v":3580},{"$f":"+[2]Séries_Site!F511","v":730},{"$f":"+[2]Séries_Site!G511","v":1855},{"$f":"+[2]Séries_Site!H511","v":1855},{"$f":"+[2]Séries_Site!I511","v":0},{"$f":"+[2]Séries_Site!J511","v":2531},{"$f":"+[2]Séries_Site!K511","v":495},{"$f":"+[2]Séries_Site!L511","v":31},{"$f":"+[2]Séries_Site!M511","v":31},{"$f":"+[2]Séries_Site!N511","v":0},{"$f":"+[2]Séries_Site!O511","v":146},{"$f":"+[2]Séries_Site!P511","v":133},{"$f":"+[2]Séries_Site!Q511","v":54},{"$f":"+[2]Séries_Site!R511","v":54},{"$f":"+[2]Séries_Site!S511","v":0},{"$f":"+[2]Séries_Site!T511","v":75},{"$f":"+[2]Séries_Site!U511","v":4},{"$f":"+[2]Séries_Site!V511","v":615},{"$f":"+[2]Séries_Site!W511","v":608},{"$f":"+[2]Séries_Site!X511","v":7},{"$f":"+[2]Séries_Site!Y511","v":681},{"$f":"+[2]Séries_Site!Z511","v":79},{"$f":"+[2]Séries_Site!AA511","v":0},{"$f":"+[2]Séries_Site!AB511","v":0},{"$f":"+[2]Séries_Site!AC511","v":0},{"$f":"+[2]Séries_Site!AD511","v":0},{"$f":"+[2]Séries_Site!AE511","v":0},{"$f":"+[2]Séries_Site!AF511","v":107},{"$f":"+[2]Séries_Site!AG511","v":107},{"$f":"+[2]Séries_Site!AH511","v":0},{"$f":"+[2]Séries_Site!AI511","v":147},{"$f":"+[2]Séries_Site!AJ511","v":19}]
["2002-03-01",{"$f":"+[2]Séries_Site!B512","v":3182},{"$f":"+[2]Séries_Site!C512","v":3176},{"$f":"+[2]Séries_Site!D512","v":6},{"$f":"+[2]Séries_Site!E512","v":3990},{"$f":"+[2]Séries_Site!F512","v":577},{"$f":"+[2]Séries_Site!G512","v":2329},{"$f":"+[2]Séries_Site!H512","v":2328},{"$f":"+[2]Séries_Site!I512","v":1},{"$f":"+[2]Séries_Site!J512","v":2900},{"$f":"+[2]Séries_Site!K512","v":376},{"$f":"+[2]Séries_Site!L512","v":51},{"$f":"+[2]Séries_Site!M512","v":49},{"$f":"+[2]Séries_Site!N512","v":2},{"$f":"+[2]Séries_Site!O512","v":162},{"$f":"+[2]Séries_Site!P512","v":94},{"$f":"+[2]Séries_Site!Q512","v":63},{"$f":"+[2]Séries_Site!R512","v":63},{"$f":"+[2]Séries_Site!S512","v":0},{"$f":"+[2]Séries_Site!T512","v":68},{"$f":"+[2]Séries_Site!U512","v":20},{"$f":"+[2]Séries_Site!V512","v":545},{"$f":"+[2]Séries_Site!W512","v":543},{"$f":"+[2]Séries_Site!X512","v":2},{"$f":"+[2]Séries_Site!Y512","v":679},{"$f":"+[2]Séries_Site!Z512","v":68},{"$f":"+[2]Séries_Site!AA512","v":0},{"$f":"+[2]Séries_Site!AB512","v":0},{"$f":"+[2]Séries_Site!AC512","v":0},{"$f":"+[2]Séries_Site!AD512","v":0},{"$f":"+[2]Séries_Site!AE512","v":0},{"$f":"+[2]Séries_Site!AF512","v":194},{"$f":"+[2]Séries_Site!AG512","v":193},{"$f":"+[2]Séries_Site!AH512","v":1},{"$f":"+[2]Séries_Site!AI512","v":181},{"$f":"+[2]Séries_Site!AJ512","v":19}]
["2002-04-01",{"$f":"+[2]Séries_Site!B513","v":3162},{"$f":"+[2]Séries_Site!C513","v":3154},{"$f":"+[2]Séries_Site!D513","v":8},{"$f":"+[2]Séries_Site!E513","v":4616},{"$f":"+[2]Séries_Site!F513","v":1059},{"$f":"+[2]Séries_Site!G513","v":2564},{"$f":"+[2]Séries_Site!H513","v":2561},{"$f":"+[2]Séries_Site!I513","v":3},{"$f":"+[2]Séries_Site!J513","v":3712},{"$f":"+[2]Séries_Site!K513","v":759},{"$f":"+[2]Séries_Site!L513","v":78},{"$f":"+[2]Séries_Site!M513","v":76},{"$f":"+[2]Séries_Site!N513","v":2},{"$f":"+[2]Séries_Site!O513","v":201},{"$f":"+[2]Séries_Site!P513","v":146},{"$f":"+[2]Séries_Site!Q513","v":80},{"$f":"+[2]Séries_Site!R513","v":80},{"$f":"+[2]Séries_Site!S513","v":0},{"$f":"+[2]Séries_Site!T513","v":75},{"$f":"+[2]Séries_Site!U513","v":0},{"$f":"+[2]Séries_Site!V513","v":206},{"$f":"+[2]Séries_Site!W513","v":203},{"$f":"+[2]Séries_Site!X513","v":3},{"$f":"+[2]Séries_Site!Y513","v":422},{"$f":"+[2]Séries_Site!Z513","v":135},{"$f":"+[2]Séries_Site!AA513","v":0},{"$f":"+[2]Séries_Site!AB513","v":0},{"$f":"+[2]Séries_Site!AC513","v":0},{"$f":"+[2]Séries_Site!AD513","v":0},{"$f":"+[2]Séries_Site!AE513","v":0},{"$f":"+[2]Séries_Site!AF513","v":234},{"$f":"+[2]Séries_Site!AG513","v":234},{"$f":"+[2]Séries_Site!AH513","v":0},{"$f":"+[2]Séries_Site!AI513","v":206},{"$f":"+[2]Séries_Site!AJ513","v":19}]
["2002-05-01",{"$f":"+[2]Séries_Site!B514","v":3421},{"$f":"+[2]Séries_Site!C514","v":3413},{"$f":"+[2]Séries_Site!D514","v":8},{"$f":"+[2]Séries_Site!E514","v":4397},{"$f":"+[2]Séries_Site!F514","v":1097},{"$f":"+[2]Séries_Site!G514","v":2876},{"$f":"+[2]Séries_Site!H514","v":2874},{"$f":"+[2]Séries_Site!I514","v":2},{"$f":"+[2]Séries_Site!J514","v":3515},{"$f":"+[2]Séries_Site!K514","v":820},{"$f":"+[2]Séries_Site!L514","v":53},{"$f":"+[2]Séries_Site!M514","v":51},{"$f":"+[2]Séries_Site!N514","v":2},{"$f":"+[2]Séries_Site!O514","v":168},{"$f":"+[2]Séries_Site!P514","v":105},{"$f":"+[2]Séries_Site!Q514","v":111},{"$f":"+[2]Séries_Site!R514","v":111},{"$f":"+[2]Séries_Site!S514","v":0},{"$f":"+[2]Séries_Site!T514","v":115},{"$f":"+[2]Séries_Site!U514","v":2},{"$f":"+[2]Séries_Site!V514","v":203},{"$f":"+[2]Séries_Site!W514","v":202},{"$f":"+[2]Séries_Site!X514","v":1},{"$f":"+[2]Séries_Site!Y514","v":391},{"$f":"+[2]Séries_Site!Z514","v":155},{"$f":"+[2]Séries_Site!AA514","v":0},{"$f":"+[2]Séries_Site!AB514","v":0},{"$f":"+[2]Séries_Site!AC514","v":0},{"$f":"+[2]Séries_Site!AD514","v":0},{"$f":"+[2]Séries_Site!AE514","v":0},{"$f":"+[2]Séries_Site!AF514","v":178},{"$f":"+[2]Séries_Site!AG514","v":175},{"$f":"+[2]Séries_Site!AH514","v":3},{"$f":"+[2]Séries_Site!AI514","v":208},{"$f":"+[2]Séries_Site!AJ514","v":15}]
["2002-06-01",{"$f":"+[2]Séries_Site!B515","v":3927},{"$f":"+[2]Séries_Site!C515","v":3920},{"$f":"+[2]Séries_Site!D515","v":7},{"$f":"+[2]Séries_Site!E515","v":4305},{"$f":"+[2]Séries_Site!F515","v":924},{"$f":"+[2]Séries_Site!G515","v":3250},{"$f":"+[2]Séries_Site!H515","v":3244},{"$f":"+[2]Séries_Site!I515","v":6},{"$f":"+[2]Séries_Site!J515","v":3406},{"$f":"+[2]Séries_Site!K515","v":779},{"$f":"+[2]Séries_Site!L515","v":62},{"$f":"+[2]Séries_Site!M515","v":61},{"$f":"+[2]Séries_Site!N515","v":1},{"$f":"+[2]Séries_Site!O515","v":165},{"$f":"+[2]Séries_Site!P515","v":99},{"$f":"+[2]Séries_Site!Q515","v":109},{"$f":"+[2]Séries_Site!R515","v":109},{"$f":"+[2]Séries_Site!S515","v":0},{"$f":"+[2]Séries_Site!T515","v":127},{"$f":"+[2]Séries_Site!U515","v":0},{"$f":"+[2]Séries_Site!V515","v":298},{"$f":"+[2]Séries_Site!W515","v":298},{"$f":"+[2]Séries_Site!X515","v":0},{"$f":"+[2]Séries_Site!Y515","v":381},{"$f":"+[2]Séries_Site!Z515","v":35},{"$f":"+[2]Séries_Site!AA515","v":0},{"$f":"+[2]Séries_Site!AB515","v":0},{"$f":"+[2]Séries_Site!AC515","v":0},{"$f":"+[2]Séries_Site!AD515","v":0},{"$f":"+[2]Séries_Site!AE515","v":0},{"$f":"+[2]Séries_Site!AF515","v":208},{"$f":"+[2]Séries_Site!AG515","v":208},{"$f":"+[2]Séries_Site!AH515","v":0},{"$f":"+[2]Séries_Site!AI515","v":226},{"$f":"+[2]Séries_Site!AJ515","v":11}]
["2002-07-01",{"$f":"+[2]Séries_Site!B516","v":4089},{"$f":"+[2]Séries_Site!C516","v":4087},{"$f":"+[2]Séries_Site!D516","v":2},{"$f":"+[2]Séries_Site!E516","v":5128},{"$f":"+[2]Séries_Site!F516","v":1103},{"$f":"+[2]Séries_Site!G516","v":3400},{"$f":"+[2]Séries_Site!H516","v":3399},{"$f":"+[2]Séries_Site!I516","v":1},{"$f":"+[2]Séries_Site!J516","v":4283},{"$f":"+[2]Séries_Site!K516","v":983},{"$f":"+[2]Séries_Site!L516","v":50},{"$f":"+[2]Séries_Site!M516","v":49},{"$f":"+[2]Séries_Site!N516","v":1},{"$f":"+[2]Séries_Site!O516","v":159},{"$f":"+[2]Séries_Site!P516","v":79},{"$f":"+[2]Séries_Site!Q516","v":116},{"$f":"+[2]Séries_Site!R516","v":116},{"$f":"+[2]Séries_Site!S516","v":0},{"$f":"+[2]Séries_Site!T516","v":123},{"$f":"+[2]Séries_Site!U516","v":10},{"$f":"+[2]Séries_Site!V516","v":306},{"$f":"+[2]Séries_Site!W516","v":306},{"$f":"+[2]Séries_Site!X516","v":0},{"$f":"+[2]Séries_Site!Y516","v":319},{"$f":"+[2]Séries_Site!Z516","v":28},{"$f":"+[2]Séries_Site!AA516","v":0},{"$f":"+[2]Séries_Site!AB516","v":0},{"$f":"+[2]Séries_Site!AC516","v":0},{"$f":"+[2]Séries_Site!AD516","v":0},{"$f":"+[2]Séries_Site!AE516","v":0},{"$f":"+[2]Séries_Site!AF516","v":217},{"$f":"+[2]Séries_Site!AG516","v":217},{"$f":"+[2]Séries_Site!AH516","v":0},{"$f":"+[2]Séries_Site!AI516","v":244},{"$f":"+[2]Séries_Site!AJ516","v":3}]
["2002-08-01",{"$f":"+[2]Séries_Site!B517","v":4238},{"$f":"+[2]Séries_Site!C517","v":4223},{"$f":"+[2]Séries_Site!D517","v":15},{"$f":"+[2]Séries_Site!E517","v":4970},{"$f":"+[2]Séries_Site!F517","v":892},{"$f":"+[2]Séries_Site!G517","v":3407},{"$f":"+[2]Séries_Site!H517","v":3405},{"$f":"+[2]Séries_Site!I517","v":2},{"$f":"+[2]Séries_Site!J517","v":4044},{"$f":"+[2]Séries_Site!K517","v":684},{"$f":"+[2]Séries_Site!L517","v":47},{"$f":"+[2]Séries_Site!M517","v":47},{"$f":"+[2]Séries_Site!N517","v":0},{"$f":"+[2]Séries_Site!O517","v":137},{"$f":"+[2]Séries_Site!P517","v":75},{"$f":"+[2]Séries_Site!Q517","v":79},{"$f":"+[2]Séries_Site!R517","v":79},{"$f":"+[2]Séries_Site!S517","v":0},{"$f":"+[2]Séries_Site!T517","v":104},{"$f":"+[2]Séries_Site!U517","v":0},{"$f":"+[2]Séries_Site!V517","v":496},{"$f":"+[2]Séries_Site!W517","v":496},{"$f":"+[2]Séries_Site!X517","v":0},{"$f":"+[2]Séries_Site!Y517","v":478},{"$f":"+[2]Séries_Site!Z517","v":130},{"$f":"+[2]Séries_Site!AA517","v":0},{"$f":"+[2]Séries_Site!AB517","v":0},{"$f":"+[2]Séries_Site!AC517","v":0},{"$f":"+[2]Séries_Site!AD517","v":0},{"$f":"+[2]Séries_Site!AE517","v":0},{"$f":"+[2]Séries_Site!AF517","v":209},{"$f":"+[2]Séries_Site!AG517","v":196},{"$f":"+[2]Séries_Site!AH517","v":13},{"$f":"+[2]Séries_Site!AI517","v":207},{"$f":"+[2]Séries_Site!AJ517","v":3}]
["2002-09-01",{"$f":"+[2]Séries_Site!B518","v":4988},{"$f":"+[2]Séries_Site!C518","v":4982},{"$f":"+[2]Séries_Site!D518","v":6},{"$f":"+[2]Séries_Site!E518","v":5163},{"$f":"+[2]Séries_Site!F518","v":946},{"$f":"+[2]Séries_Site!G518","v":4041},{"$f":"+[2]Séries_Site!H518","v":4041},{"$f":"+[2]Séries_Site!I518","v":0},{"$f":"+[2]Séries_Site!J518","v":4209},{"$f":"+[2]Séries_Site!K518","v":781},{"$f":"+[2]Séries_Site!L518","v":42},{"$f":"+[2]Séries_Site!M518","v":42},{"$f":"+[2]Séries_Site!N518","v":0},{"$f":"+[2]Séries_Site!O518","v":96},{"$f":"+[2]Séries_Site!P518","v":64},{"$f":"+[2]Séries_Site!Q518","v":120},{"$f":"+[2]Séries_Site!R518","v":120},{"$f":"+[2]Séries_Site!S518","v":0},{"$f":"+[2]Séries_Site!T518","v":100},{"$f":"+[2]Séries_Site!U518","v":2},{"$f":"+[2]Séries_Site!V518","v":611},{"$f":"+[2]Séries_Site!W518","v":611},{"$f":"+[2]Séries_Site!X518","v":0},{"$f":"+[2]Séries_Site!Y518","v":613},{"$f":"+[2]Séries_Site!Z518","v":95},{"$f":"+[2]Séries_Site!AA518","v":0},{"$f":"+[2]Séries_Site!AB518","v":0},{"$f":"+[2]Séries_Site!AC518","v":0},{"$f":"+[2]Séries_Site!AD518","v":0},{"$f":"+[2]Séries_Site!AE518","v":0},{"$f":"+[2]Séries_Site!AF518","v":174},{"$f":"+[2]Séries_Site!AG518","v":168},{"$f":"+[2]Séries_Site!AH518","v":6},{"$f":"+[2]Séries_Site!AI518","v":145},{"$f":"+[2]Séries_Site!AJ518","v":4}]
["2002-10-01",{"$f":"+[2]Séries_Site!B519","v":4812},{"$f":"+[2]Séries_Site!C519","v":4798},{"$f":"+[2]Séries_Site!D519","v":14},{"$f":"+[2]Séries_Site!E519","v":5459},{"$f":"+[2]Séries_Site!F519","v":820},{"$f":"+[2]Séries_Site!G519","v":3801},{"$f":"+[2]Séries_Site!H519","v":3796},{"$f":"+[2]Séries_Site!I519","v":5},{"$f":"+[2]Séries_Site!J519","v":4299},{"$f":"+[2]Séries_Site!K519","v":579},{"$f":"+[2]Séries_Site!L519","v":23},{"$f":"+[2]Séries_Site!M519","v":23},{"$f":"+[2]Séries_Site!N519","v":0},{"$f":"+[2]Séries_Site!O519","v":130},{"$f":"+[2]Séries_Site!P519","v":123},{"$f":"+[2]Séries_Site!Q519","v":72},{"$f":"+[2]Séries_Site!R519","v":72},{"$f":"+[2]Séries_Site!S519","v":0},{"$f":"+[2]Séries_Site!T519","v":85},{"$f":"+[2]Séries_Site!U519","v":6},{"$f":"+[2]Séries_Site!V519","v":703},{"$f":"+[2]Séries_Site!W519","v":694},{"$f":"+[2]Séries_Site!X519","v":9},{"$f":"+[2]Séries_Site!Y519","v":792},{"$f":"+[2]Séries_Site!Z519","v":102},{"$f":"+[2]Séries_Site!AA519","v":0},{"$f":"+[2]Séries_Site!AB519","v":0},{"$f":"+[2]Séries_Site!AC519","v":0},{"$f":"+[2]Séries_Site!AD519","v":0},{"$f":"+[2]Séries_Site!AE519","v":0},{"$f":"+[2]Séries_Site!AF519","v":213},{"$f":"+[2]Séries_Site!AG519","v":213},{"$f":"+[2]Séries_Site!AH519","v":0},{"$f":"+[2]Séries_Site!AI519","v":153},{"$f":"+[2]Séries_Site!AJ519","v":10}]
["2002-11-01",{"$f":"+[2]Séries_Site!B520","v":3196},{"$f":"+[2]Séries_Site!C520","v":3195},{"$f":"+[2]Séries_Site!D520","v":1},{"$f":"+[2]Séries_Site!E520","v":4537},{"$f":"+[2]Séries_Site!F520","v":714},{"$f":"+[2]Séries_Site!G520","v":2377},{"$f":"+[2]Séries_Site!H520","v":2376},{"$f":"+[2]Séries_Site!I520","v":1},{"$f":"+[2]Séries_Site!J520","v":3453},{"$f":"+[2]Séries_Site!K520","v":530},{"$f":"+[2]Séries_Site!L520","v":40},{"$f":"+[2]Séries_Site!M520","v":40},{"$f":"+[2]Séries_Site!N520","v":0},{"$f":"+[2]Séries_Site!O520","v":98},{"$f":"+[2]Séries_Site!P520","v":67},{"$f":"+[2]Séries_Site!Q520","v":117},{"$f":"+[2]Séries_Site!R520","v":117},{"$f":"+[2]Séries_Site!S520","v":0},{"$f":"+[2]Séries_Site!T520","v":93},{"$f":"+[2]Séries_Site!U520","v":2},{"$f":"+[2]Séries_Site!V520","v":519},{"$f":"+[2]Séries_Site!W520","v":519},{"$f":"+[2]Séries_Site!X520","v":0},{"$f":"+[2]Séries_Site!Y520","v":737},{"$f":"+[2]Séries_Site!Z520","v":101},{"$f":"+[2]Séries_Site!AA520","v":0},{"$f":"+[2]Séries_Site!AB520","v":0},{"$f":"+[2]Séries_Site!AC520","v":0},{"$f":"+[2]Séries_Site!AD520","v":0},{"$f":"+[2]Séries_Site!AE520","v":0},{"$f":"+[2]Séries_Site!AF520","v":143},{"$f":"+[2]Séries_Site!AG520","v":143},{"$f":"+[2]Séries_Site!AH520","v":0},{"$f":"+[2]Séries_Site!AI520","v":156},{"$f":"+[2]Séries_Site!AJ520","v":14}]
["2002-12-01",{"$f":"+[2]Séries_Site!B521","v":2602},{"$f":"+[2]Séries_Site!C521","v":2593},{"$f":"+[2]Séries_Site!D521","v":9},{"$f":"+[2]Séries_Site!E521","v":3189},{"$f":"+[2]Séries_Site!F521","v":942},{"$f":"+[2]Séries_Site!G521","v":1811},{"$f":"+[2]Séries_Site!H521","v":1802},{"$f":"+[2]Séries_Site!I521","v":9},{"$f":"+[2]Séries_Site!J521","v":2219},{"$f":"+[2]Séries_Site!K521","v":754},{"$f":"+[2]Séries_Site!L521","v":46},{"$f":"+[2]Séries_Site!M521","v":46},{"$f":"+[2]Séries_Site!N521","v":0},{"$f":"+[2]Séries_Site!O521","v":83},{"$f":"+[2]Séries_Site!P521","v":47},{"$f":"+[2]Séries_Site!Q521","v":76},{"$f":"+[2]Séries_Site!R521","v":76},{"$f":"+[2]Séries_Site!S521","v":0},{"$f":"+[2]Séries_Site!T521","v":72},{"$f":"+[2]Séries_Site!U521","v":0},{"$f":"+[2]Séries_Site!V521","v":548},{"$f":"+[2]Séries_Site!W521","v":548},{"$f":"+[2]Séries_Site!X521","v":0},{"$f":"+[2]Séries_Site!Y521","v":723},{"$f":"+[2]Séries_Site!Z521","v":131},{"$f":"+[2]Séries_Site!AA521","v":0},{"$f":"+[2]Séries_Site!AB521","v":0},{"$f":"+[2]Séries_Site!AC521","v":0},{"$f":"+[2]Séries_Site!AD521","v":0},{"$f":"+[2]Séries_Site!AE521","v":0},{"$f":"+[2]Séries_Site!AF521","v":121},{"$f":"+[2]Séries_Site!AG521","v":121},{"$f":"+[2]Séries_Site!AH521","v":0},{"$f":"+[2]Séries_Site!AI521","v":92},{"$f":"+[2]Séries_Site!AJ521","v":10}]
["2003-01-01",{"$f":"+[2]Séries_Site!B522","v":1498},{"$f":"+[2]Séries_Site!C522","v":1489},{"$f":"+[2]Séries_Site!D522","v":9},{"$f":"+[2]Séries_Site!E522","v":2890},{"$f":"+[2]Séries_Site!F522","v":856},{"$f":"+[2]Séries_Site!G522","v":899},{"$f":"+[2]Séries_Site!H522","v":891},{"$f":"+[2]Séries_Site!I522","v":8},{"$f":"+[2]Séries_Site!J522","v":1901},{"$f":"+[2]Séries_Site!K522","v":580},{"$f":"+[2]Séries_Site!L522","v":40},{"$f":"+[2]Séries_Site!M522","v":40},{"$f":"+[2]Séries_Site!N522","v":0},{"$f":"+[2]Séries_Site!O522","v":131},{"$f":"+[2]Séries_Site!P522","v":86},{"$f":"+[2]Séries_Site!Q522","v":86},{"$f":"+[2]Séries_Site!R522","v":86},{"$f":"+[2]Séries_Site!S522","v":0},{"$f":"+[2]Séries_Site!T522","v":85},{"$f":"+[2]Séries_Site!U522","v":0},{"$f":"+[2]Séries_Site!V522","v":332},{"$f":"+[2]Séries_Site!W522","v":331},{"$f":"+[2]Séries_Site!X522","v":1},{"$f":"+[2]Séries_Site!Y522","v":633},{"$f":"+[2]Séries_Site!Z522","v":179},{"$f":"+[2]Séries_Site!AA522","v":0},{"$f":"+[2]Séries_Site!AB522","v":0},{"$f":"+[2]Séries_Site!AC522","v":0},{"$f":"+[2]Séries_Site!AD522","v":0},{"$f":"+[2]Séries_Site!AE522","v":0},{"$f":"+[2]Séries_Site!AF522","v":141},{"$f":"+[2]Séries_Site!AG522","v":141},{"$f":"+[2]Séries_Site!AH522","v":0},{"$f":"+[2]Séries_Site!AI522","v":140},{"$f":"+[2]Séries_Site!AJ522","v":11}]
["2003-02-01",{"$f":"+[2]Séries_Site!B523","v":2575},{"$f":"+[2]Séries_Site!C523","v":2574},{"$f":"+[2]Séries_Site!D523","v":1},{"$f":"+[2]Séries_Site!E523","v":4044},{"$f":"+[2]Séries_Site!F523","v":1415},{"$f":"+[2]Séries_Site!G523","v":1824},{"$f":"+[2]Séries_Site!H523","v":1823},{"$f":"+[2]Séries_Site!I523","v":1},{"$f":"+[2]Séries_Site!J523","v":2913},{"$f":"+[2]Séries_Site!K523","v":892},{"$f":"+[2]Séries_Site!L523","v":35},{"$f":"+[2]Séries_Site!M523","v":35},{"$f":"+[2]Séries_Site!N523","v":0},{"$f":"+[2]Séries_Site!O523","v":149},{"$f":"+[2]Séries_Site!P523","v":89},{"$f":"+[2]Séries_Site!Q523","v":100},{"$f":"+[2]Séries_Site!R523","v":100},{"$f":"+[2]Séries_Site!S523","v":0},{"$f":"+[2]Séries_Site!T523","v":104},{"$f":"+[2]Séries_Site!U523","v":0},{"$f":"+[2]Séries_Site!V523","v":502},{"$f":"+[2]Séries_Site!W523","v":502},{"$f":"+[2]Séries_Site!X523","v":0},{"$f":"+[2]Séries_Site!Y523","v":723},{"$f":"+[2]Séries_Site!Z523","v":427},{"$f":"+[2]Séries_Site!AA523","v":0},{"$f":"+[2]Séries_Site!AB523","v":0},{"$f":"+[2]Séries_Site!AC523","v":0},{"$f":"+[2]Séries_Site!AD523","v":0},{"$f":"+[2]Séries_Site!AE523","v":0},{"$f":"+[2]Séries_Site!AF523","v":114},{"$f":"+[2]Séries_Site!AG523","v":114},{"$f":"+[2]Séries_Site!AH523","v":0},{"$f":"+[2]Séries_Site!AI523","v":155},{"$f":"+[2]Séries_Site!AJ523","v":7}]
["2003-03-01",{"$f":"+[2]Séries_Site!B524","v":3218},{"$f":"+[2]Séries_Site!C524","v":3214},{"$f":"+[2]Séries_Site!D524","v":4},{"$f":"+[2]Séries_Site!E524","v":4516},{"$f":"+[2]Séries_Site!F524","v":1511},{"$f":"+[2]Séries_Site!G524","v":2548},{"$f":"+[2]Séries_Site!H524","v":2547},{"$f":"+[2]Séries_Site!I524","v":1},{"$f":"+[2]Séries_Site!J524","v":3405},{"$f":"+[2]Séries_Site!K524","v":1114},{"$f":"+[2]Séries_Site!L524","v":29},{"$f":"+[2]Séries_Site!M524","v":29},{"$f":"+[2]Séries_Site!N524","v":0},{"$f":"+[2]Séries_Site!O524","v":134},{"$f":"+[2]Séries_Site!P524","v":85},{"$f":"+[2]Séries_Site!Q524","v":106},{"$f":"+[2]Séries_Site!R524","v":106},{"$f":"+[2]Séries_Site!S524","v":0},{"$f":"+[2]Séries_Site!T524","v":120},{"$f":"+[2]Séries_Site!U524","v":0},{"$f":"+[2]Séries_Site!V524","v":435},{"$f":"+[2]Séries_Site!W524","v":432},{"$f":"+[2]Séries_Site!X524","v":3},{"$f":"+[2]Séries_Site!Y524","v":695},{"$f":"+[2]Séries_Site!Z524","v":301},{"$f":"+[2]Séries_Site!AA524","v":0},{"$f":"+[2]Séries_Site!AB524","v":0},{"$f":"+[2]Séries_Site!AC524","v":0},{"$f":"+[2]Séries_Site!AD524","v":0},{"$f":"+[2]Séries_Site!AE524","v":0},{"$f":"+[2]Séries_Site!AF524","v":100},{"$f":"+[2]Séries_Site!AG524","v":100},{"$f":"+[2]Séries_Site!AH524","v":0},{"$f":"+[2]Séries_Site!AI524","v":162},{"$f":"+[2]Séries_Site!AJ524","v":11}]
["2003-04-01",{"$f":"+[2]Séries_Site!B525","v":3242},{"$f":"+[2]Séries_Site!C525","v":3241},{"$f":"+[2]Séries_Site!D525","v":1},{"$f":"+[2]Séries_Site!E525","v":5080},{"$f":"+[2]Séries_Site!F525","v":1762},{"$f":"+[2]Séries_Site!G525","v":2595},{"$f":"+[2]Séries_Site!H525","v":2595},{"$f":"+[2]Séries_Site!I525","v":0},{"$f":"+[2]Séries_Site!J525","v":4008},{"$f":"+[2]Séries_Site!K525","v":1369},{"$f":"+[2]Séries_Site!L525","v":28},{"$f":"+[2]Séries_Site!M525","v":28},{"$f":"+[2]Séries_Site!N525","v":0},{"$f":"+[2]Séries_Site!O525","v":126},{"$f":"+[2]Séries_Site!P525","v":79},{"$f":"+[2]Séries_Site!Q525","v":145},{"$f":"+[2]Séries_Site!R525","v":145},{"$f":"+[2]Séries_Site!S525","v":0},{"$f":"+[2]Séries_Site!T525","v":135},{"$f":"+[2]Séries_Site!U525","v":0},{"$f":"+[2]Séries_Site!V525","v":377},{"$f":"+[2]Séries_Site!W525","v":376},{"$f":"+[2]Séries_Site!X525","v":1},{"$f":"+[2]Séries_Site!Y525","v":640},{"$f":"+[2]Séries_Site!Z525","v":299},{"$f":"+[2]Séries_Site!AA525","v":0},{"$f":"+[2]Séries_Site!AB525","v":0},{"$f":"+[2]Séries_Site!AC525","v":0},{"$f":"+[2]Séries_Site!AD525","v":0},{"$f":"+[2]Séries_Site!AE525","v":0},{"$f":"+[2]Séries_Site!AF525","v":97},{"$f":"+[2]Séries_Site!AG525","v":97},{"$f":"+[2]Séries_Site!AH525","v":0},{"$f":"+[2]Séries_Site!AI525","v":171},{"$f":"+[2]Séries_Site!AJ525","v":15}]
["2003-05-01",{"$f":"+[2]Séries_Site!B526","v":3671},{"$f":"+[2]Séries_Site!C526","v":3671},{"$f":"+[2]Séries_Site!D526","v":0},{"$f":"+[2]Séries_Site!E526","v":5310},{"$f":"+[2]Séries_Site!F526","v":1558},{"$f":"+[2]Séries_Site!G526","v":3007},{"$f":"+[2]Séries_Site!H526","v":3007},{"$f":"+[2]Séries_Site!I526","v":0},{"$f":"+[2]Séries_Site!J526","v":4187},{"$f":"+[2]Séries_Site!K526","v":1247},{"$f":"+[2]Séries_Site!L526","v":40},{"$f":"+[2]Séries_Site!M526","v":40},{"$f":"+[2]Séries_Site!N526","v":0},{"$f":"+[2]Séries_Site!O526","v":117},{"$f":"+[2]Séries_Site!P526","v":83},{"$f":"+[2]Séries_Site!Q526","v":158},{"$f":"+[2]Séries_Site!R526","v":158},{"$f":"+[2]Séries_Site!S526","v":0},{"$f":"+[2]Séries_Site!T526","v":151},{"$f":"+[2]Séries_Site!U526","v":0},{"$f":"+[2]Séries_Site!V526","v":381},{"$f":"+[2]Séries_Site!W526","v":381},{"$f":"+[2]Séries_Site!X526","v":0},{"$f":"+[2]Séries_Site!Y526","v":655},{"$f":"+[2]Séries_Site!Z526","v":192},{"$f":"+[2]Séries_Site!AA526","v":0},{"$f":"+[2]Séries_Site!AB526","v":0},{"$f":"+[2]Séries_Site!AC526","v":0},{"$f":"+[2]Séries_Site!AD526","v":0},{"$f":"+[2]Séries_Site!AE526","v":0},{"$f":"+[2]Séries_Site!AF526","v":85},{"$f":"+[2]Séries_Site!AG526","v":85},{"$f":"+[2]Séries_Site!AH526","v":0},{"$f":"+[2]Séries_Site!AI526","v":200},{"$f":"+[2]Séries_Site!AJ526","v":36}]
["2003-06-01",{"$f":"+[2]Séries_Site!B527","v":4153},{"$f":"+[2]Séries_Site!C527","v":4153},{"$f":"+[2]Séries_Site!D527","v":0},{"$f":"+[2]Séries_Site!E527","v":5519},{"$f":"+[2]Séries_Site!F527","v":1504},{"$f":"+[2]Séries_Site!G527","v":3424},{"$f":"+[2]Séries_Site!H527","v":3424},{"$f":"+[2]Séries_Site!I527","v":0},{"$f":"+[2]Séries_Site!J527","v":4473},{"$f":"+[2]Séries_Site!K527","v":1295},{"$f":"+[2]Séries_Site!L527","v":50},{"$f":"+[2]Séries_Site!M527","v":50},{"$f":"+[2]Séries_Site!N527","v":0},{"$f":"+[2]Séries_Site!O527","v":123},{"$f":"+[2]Séries_Site!P527","v":65},{"$f":"+[2]Séries_Site!Q527","v":139},{"$f":"+[2]Séries_Site!R527","v":139},{"$f":"+[2]Séries_Site!S527","v":0},{"$f":"+[2]Séries_Site!T527","v":150},{"$f":"+[2]Séries_Site!U527","v":0},{"$f":"+[2]Séries_Site!V527","v":444},{"$f":"+[2]Séries_Site!W527","v":444},{"$f":"+[2]Séries_Site!X527","v":0},{"$f":"+[2]Séries_Site!Y527","v":615},{"$f":"+[2]Séries_Site!Z527","v":106},{"$f":"+[2]Séries_Site!AA527","v":0},{"$f":"+[2]Séries_Site!AB527","v":0},{"$f":"+[2]Séries_Site!AC527","v":0},{"$f":"+[2]Séries_Site!AD527","v":0},{"$f":"+[2]Séries_Site!AE527","v":0},{"$f":"+[2]Séries_Site!AF527","v":96},{"$f":"+[2]Séries_Site!AG527","v":96},{"$f":"+[2]Séries_Site!AH527","v":0},{"$f":"+[2]Séries_Site!AI527","v":158},{"$f":"+[2]Séries_Site!AJ527","v":38}]
["2003-07-01",{"$f":"+[2]Séries_Site!B528","v":3927},{"$f":"+[2]Séries_Site!C528","v":3924},{"$f":"+[2]Séries_Site!D528","v":3},{"$f":"+[2]Séries_Site!E528","v":5630},{"$f":"+[2]Séries_Site!F528","v":1675},{"$f":"+[2]Séries_Site!G528","v":3243},{"$f":"+[2]Séries_Site!H528","v":3240},{"$f":"+[2]Séries_Site!I528","v":3},{"$f":"+[2]Séries_Site!J528","v":4526},{"$f":"+[2]Séries_Site!K528","v":1275},{"$f":"+[2]Séries_Site!L528","v":57},{"$f":"+[2]Séries_Site!M528","v":57},{"$f":"+[2]Séries_Site!N528","v":0},{"$f":"+[2]Séries_Site!O528","v":121},{"$f":"+[2]Séries_Site!P528","v":83},{"$f":"+[2]Séries_Site!Q528","v":150},{"$f":"+[2]Séries_Site!R528","v":150},{"$f":"+[2]Séries_Site!S528","v":0},{"$f":"+[2]Séries_Site!T528","v":145},{"$f":"+[2]Séries_Site!U528","v":1},{"$f":"+[2]Séries_Site!V528","v":404},{"$f":"+[2]Séries_Site!W528","v":404},{"$f":"+[2]Séries_Site!X528","v":0},{"$f":"+[2]Séries_Site!Y528","v":721},{"$f":"+[2]Séries_Site!Z528","v":232},{"$f":"+[2]Séries_Site!AA528","v":0},{"$f":"+[2]Séries_Site!AB528","v":0},{"$f":"+[2]Séries_Site!AC528","v":0},{"$f":"+[2]Séries_Site!AD528","v":0},{"$f":"+[2]Séries_Site!AE528","v":0},{"$f":"+[2]Séries_Site!AF528","v":73},{"$f":"+[2]Séries_Site!AG528","v":73},{"$f":"+[2]Séries_Site!AH528","v":0},{"$f":"+[2]Séries_Site!AI528","v":117},{"$f":"+[2]Séries_Site!AJ528","v":84}]
["2003-08-01",{"$f":"+[2]Séries_Site!B529","v":3489},{"$f":"+[2]Séries_Site!C529","v":3485},{"$f":"+[2]Séries_Site!D529","v":4},{"$f":"+[2]Séries_Site!E529","v":6301},{"$f":"+[2]Séries_Site!F529","v":2310},{"$f":"+[2]Séries_Site!G529","v":2803},{"$f":"+[2]Séries_Site!H529","v":2799},{"$f":"+[2]Séries_Site!I529","v":4},{"$f":"+[2]Séries_Site!J529","v":5138},{"$f":"+[2]Séries_Site!K529","v":1884},{"$f":"+[2]Séries_Site!L529","v":50},{"$f":"+[2]Séries_Site!M529","v":50},{"$f":"+[2]Séries_Site!N529","v":0},{"$f":"+[2]Séries_Site!O529","v":116},{"$f":"+[2]Séries_Site!P529","v":103},{"$f":"+[2]Séries_Site!Q529","v":151},{"$f":"+[2]Séries_Site!R529","v":151},{"$f":"+[2]Séries_Site!S529","v":0},{"$f":"+[2]Séries_Site!T529","v":170},{"$f":"+[2]Séries_Site!U529","v":1},{"$f":"+[2]Séries_Site!V529","v":423},{"$f":"+[2]Séries_Site!W529","v":423},{"$f":"+[2]Séries_Site!X529","v":0},{"$f":"+[2]Séries_Site!Y529","v":739},{"$f":"+[2]Séries_Site!Z529","v":263},{"$f":"+[2]Séries_Site!AA529","v":0},{"$f":"+[2]Séries_Site!AB529","v":0},{"$f":"+[2]Séries_Site!AC529","v":0},{"$f":"+[2]Séries_Site!AD529","v":0},{"$f":"+[2]Séries_Site!AE529","v":0},{"$f":"+[2]Séries_Site!AF529","v":62},{"$f":"+[2]Séries_Site!AG529","v":62},{"$f":"+[2]Séries_Site!AH529","v":0},{"$f":"+[2]Séries_Site!AI529","v":138},{"$f":"+[2]Séries_Site!AJ529","v":59}]
["2003-09-01",{"$f":"+[2]Séries_Site!B530","v":4149},{"$f":"+[2]Séries_Site!C530","v":4118},{"$f":"+[2]Séries_Site!D530","v":31},{"$f":"+[2]Séries_Site!E530","v":6080},{"$f":"+[2]Séries_Site!F530","v":2345},{"$f":"+[2]Séries_Site!G530","v":3256},{"$f":"+[2]Séries_Site!H530","v":3225},{"$f":"+[2]Séries_Site!I530","v":31},{"$f":"+[2]Séries_Site!J530","v":4765},{"$f":"+[2]Séries_Site!K530","v":1896},{"$f":"+[2]Séries_Site!L530","v":35},{"$f":"+[2]Séries_Site!M530","v":35},{"$f":"+[2]Séries_Site!N530","v":0},{"$f":"+[2]Séries_Site!O530","v":140},{"$f":"+[2]Séries_Site!P530","v":106},{"$f":"+[2]Séries_Site!Q530","v":164},{"$f":"+[2]Séries_Site!R530","v":164},{"$f":"+[2]Séries_Site!S530","v":0},{"$f":"+[2]Séries_Site!T530","v":182},{"$f":"+[2]Séries_Site!U530","v":0},{"$f":"+[2]Séries_Site!V530","v":624},{"$f":"+[2]Séries_Site!W530","v":624},{"$f":"+[2]Séries_Site!X530","v":0},{"$f":"+[2]Séries_Site!Y530","v":871},{"$f":"+[2]Séries_Site!Z530","v":280},{"$f":"+[2]Séries_Site!AA530","v":0},{"$f":"+[2]Séries_Site!AB530","v":0},{"$f":"+[2]Séries_Site!AC530","v":0},{"$f":"+[2]Séries_Site!AD530","v":0},{"$f":"+[2]Séries_Site!AE530","v":0},{"$f":"+[2]Séries_Site!AF530","v":70},{"$f":"+[2]Séries_Site!AG530","v":70},{"$f":"+[2]Séries_Site!AH530","v":0},{"$f":"+[2]Séries_Site!AI530","v":122},{"$f":"+[2]Séries_Site!AJ530","v":63}]
["2003-10-01",{"$f":"+[2]Séries_Site!B531","v":3552},{"$f":"+[2]Séries_Site!C531","v":3544},{"$f":"+[2]Séries_Site!D531","v":8},{"$f":"+[2]Séries_Site!E531","v":6048},{"$f":"+[2]Séries_Site!F531","v":2281},{"$f":"+[2]Séries_Site!G531","v":2775},{"$f":"+[2]Séries_Site!H531","v":2767},{"$f":"+[2]Séries_Site!I531","v":8},{"$f":"+[2]Séries_Site!J531","v":4656},{"$f":"+[2]Séries_Site!K531","v":1759},{"$f":"+[2]Séries_Site!L531","v":38},{"$f":"+[2]Séries_Site!M531","v":38},{"$f":"+[2]Séries_Site!N531","v":0},{"$f":"+[2]Séries_Site!O531","v":140},{"$f":"+[2]Séries_Site!P531","v":111},{"$f":"+[2]Séries_Site!Q531","v":128},{"$f":"+[2]Séries_Site!R531","v":128},{"$f":"+[2]Séries_Site!S531","v":0},{"$f":"+[2]Séries_Site!T531","v":125},{"$f":"+[2]Séries_Site!U531","v":0},{"$f":"+[2]Séries_Site!V531","v":559},{"$f":"+[2]Séries_Site!W531","v":559},{"$f":"+[2]Séries_Site!X531","v":0},{"$f":"+[2]Séries_Site!Y531","v":1063},{"$f":"+[2]Séries_Site!Z531","v":335},{"$f":"+[2]Séries_Site!AA531","v":0},{"$f":"+[2]Séries_Site!AB531","v":0},{"$f":"+[2]Séries_Site!AC531","v":0},{"$f":"+[2]Séries_Site!AD531","v":0},{"$f":"+[2]Séries_Site!AE531","v":0},{"$f":"+[2]Séries_Site!AF531","v":52},{"$f":"+[2]Séries_Site!AG531","v":52},{"$f":"+[2]Séries_Site!AH531","v":0},{"$f":"+[2]Séries_Site!AI531","v":64},{"$f":"+[2]Séries_Site!AJ531","v":76}]
["2003-11-01",{"$f":"+[2]Séries_Site!B532","v":2549},{"$f":"+[2]Séries_Site!C532","v":2542},{"$f":"+[2]Séries_Site!D532","v":7},{"$f":"+[2]Séries_Site!E532","v":5536},{"$f":"+[2]Séries_Site!F532","v":1896},{"$f":"+[2]Séries_Site!G532","v":1797},{"$f":"+[2]Séries_Site!H532","v":1790},{"$f":"+[2]Séries_Site!I532","v":7},{"$f":"+[2]Séries_Site!J532","v":4140},{"$f":"+[2]Séries_Site!K532","v":1484},{"$f":"+[2]Séries_Site!L532","v":24},{"$f":"+[2]Séries_Site!M532","v":24},{"$f":"+[2]Séries_Site!N532","v":0},{"$f":"+[2]Séries_Site!O532","v":120},{"$f":"+[2]Séries_Site!P532","v":82},{"$f":"+[2]Séries_Site!Q532","v":140},{"$f":"+[2]Séries_Site!R532","v":140},{"$f":"+[2]Séries_Site!S532","v":0},{"$f":"+[2]Séries_Site!T532","v":130},{"$f":"+[2]Séries_Site!U532","v":4},{"$f":"+[2]Séries_Site!V532","v":500},{"$f":"+[2]Séries_Site!W532","v":500},{"$f":"+[2]Séries_Site!X532","v":0},{"$f":"+[2]Séries_Site!Y532","v":1060},{"$f":"+[2]Séries_Site!Z532","v":257},{"$f":"+[2]Séries_Site!AA532","v":0},{"$f":"+[2]Séries_Site!AB532","v":0},{"$f":"+[2]Séries_Site!AC532","v":0},{"$f":"+[2]Séries_Site!AD532","v":0},{"$f":"+[2]Séries_Site!AE532","v":0},{"$f":"+[2]Séries_Site!AF532","v":88},{"$f":"+[2]Séries_Site!AG532","v":88},{"$f":"+[2]Séries_Site!AH532","v":0},{"$f":"+[2]Séries_Site!AI532","v":86},{"$f":"+[2]Séries_Site!AJ532","v":69}]
["2003-12-01",{"$f":"+[2]Séries_Site!B533","v":1972},{"$f":"+[2]Séries_Site!C533","v":1963},{"$f":"+[2]Séries_Site!D533","v":9},{"$f":"+[2]Séries_Site!E533","v":3398},{"$f":"+[2]Séries_Site!F533","v":2309},{"$f":"+[2]Séries_Site!G533","v":1305},{"$f":"+[2]Séries_Site!H533","v":1297},{"$f":"+[2]Séries_Site!I533","v":8},{"$f":"+[2]Séries_Site!J533","v":2323},{"$f":"+[2]Séries_Site!K533","v":1794},{"$f":"+[2]Séries_Site!L533","v":23},{"$f":"+[2]Séries_Site!M533","v":23},{"$f":"+[2]Séries_Site!N533","v":0},{"$f":"+[2]Séries_Site!O533","v":103},{"$f":"+[2]Séries_Site!P533","v":95},{"$f":"+[2]Séries_Site!Q533","v":118},{"$f":"+[2]Séries_Site!R533","v":118},{"$f":"+[2]Séries_Site!S533","v":0},{"$f":"+[2]Séries_Site!T533","v":100},{"$f":"+[2]Séries_Site!U533","v":0},{"$f":"+[2]Séries_Site!V533","v":459},{"$f":"+[2]Séries_Site!W533","v":458},{"$f":"+[2]Séries_Site!X533","v":1},{"$f":"+[2]Séries_Site!Y533","v":780},{"$f":"+[2]Séries_Site!Z533","v":361},{"$f":"+[2]Séries_Site!AA533","v":0},{"$f":"+[2]Séries_Site!AB533","v":0},{"$f":"+[2]Séries_Site!AC533","v":0},{"$f":"+[2]Séries_Site!AD533","v":0},{"$f":"+[2]Séries_Site!AE533","v":0},{"$f":"+[2]Séries_Site!AF533","v":67},{"$f":"+[2]Séries_Site!AG533","v":67},{"$f":"+[2]Séries_Site!AH533","v":0},{"$f":"+[2]Séries_Site!AI533","v":92},{"$f":"+[2]Séries_Site!AJ533","v":59}]
["2004-01-01",{"$f":"+[2]Séries_Site!B534","v":2411},{"$f":"+[2]Séries_Site!C534","v":2408},{"$f":"+[2]Séries_Site!D534","v":3},{"$f":"+[2]Séries_Site!E534","v":4001},{"$f":"+[2]Séries_Site!F534","v":1869},{"$f":"+[2]Séries_Site!G534","v":1479},{"$f":"+[2]Séries_Site!H534","v":1476},{"$f":"+[2]Séries_Site!I534","v":3},{"$f":"+[2]Séries_Site!J534","v":2703},{"$f":"+[2]Séries_Site!K534","v":1157},{"$f":"+[2]Séries_Site!L534","v":29},{"$f":"+[2]Séries_Site!M534","v":29},{"$f":"+[2]Séries_Site!N534","v":0},{"$f":"+[2]Séries_Site!O534","v":158},{"$f":"+[2]Séries_Site!P534","v":127},{"$f":"+[2]Séries_Site!Q534","v":104},{"$f":"+[2]Séries_Site!R534","v":104},{"$f":"+[2]Séries_Site!S534","v":0},{"$f":"+[2]Séries_Site!T534","v":105},{"$f":"+[2]Séries_Site!U534","v":0},{"$f":"+[2]Séries_Site!V534","v":737},{"$f":"+[2]Séries_Site!W534","v":737},{"$f":"+[2]Séries_Site!X534","v":0},{"$f":"+[2]Séries_Site!Y534","v":879},{"$f":"+[2]Séries_Site!Z534","v":501},{"$f":"+[2]Séries_Site!AA534","v":0},{"$f":"+[2]Séries_Site!AB534","v":0},{"$f":"+[2]Séries_Site!AC534","v":0},{"$f":"+[2]Séries_Site!AD534","v":0},{"$f":"+[2]Séries_Site!AE534","v":0},{"$f":"+[2]Séries_Site!AF534","v":62},{"$f":"+[2]Séries_Site!AG534","v":62},{"$f":"+[2]Séries_Site!AH534","v":0},{"$f":"+[2]Séries_Site!AI534","v":156},{"$f":"+[2]Séries_Site!AJ534","v":84}]
["2004-02-01",{"$f":"+[2]Séries_Site!B535","v":2539},{"$f":"+[2]Séries_Site!C535","v":2535},{"$f":"+[2]Séries_Site!D535","v":4},{"$f":"+[2]Séries_Site!E535","v":5476},{"$f":"+[2]Séries_Site!F535","v":2390},{"$f":"+[2]Séries_Site!G535","v":1716},{"$f":"+[2]Séries_Site!H535","v":1715},{"$f":"+[2]Séries_Site!I535","v":1},{"$f":"+[2]Séries_Site!J535","v":3899},{"$f":"+[2]Séries_Site!K535","v":1616},{"$f":"+[2]Séries_Site!L535","v":25},{"$f":"+[2]Séries_Site!M535","v":25},{"$f":"+[2]Séries_Site!N535","v":0},{"$f":"+[2]Séries_Site!O535","v":146},{"$f":"+[2]Séries_Site!P535","v":112},{"$f":"+[2]Séries_Site!Q535","v":139},{"$f":"+[2]Séries_Site!R535","v":139},{"$f":"+[2]Séries_Site!S535","v":0},{"$f":"+[2]Séries_Site!T535","v":140},{"$f":"+[2]Séries_Site!U535","v":0},{"$f":"+[2]Séries_Site!V535","v":573},{"$f":"+[2]Séries_Site!W535","v":570},{"$f":"+[2]Séries_Site!X535","v":3},{"$f":"+[2]Séries_Site!Y535","v":1131},{"$f":"+[2]Séries_Site!Z535","v":573},{"$f":"+[2]Séries_Site!AA535","v":0},{"$f":"+[2]Séries_Site!AB535","v":0},{"$f":"+[2]Séries_Site!AC535","v":0},{"$f":"+[2]Séries_Site!AD535","v":0},{"$f":"+[2]Séries_Site!AE535","v":0},{"$f":"+[2]Séries_Site!AF535","v":86},{"$f":"+[2]Séries_Site!AG535","v":86},{"$f":"+[2]Séries_Site!AH535","v":0},{"$f":"+[2]Séries_Site!AI535","v":160},{"$f":"+[2]Séries_Site!AJ535","v":89}]
["2004-03-01",{"$f":"+[2]Séries_Site!B536","v":3195},{"$f":"+[2]Séries_Site!C536","v":3194},{"$f":"+[2]Séries_Site!D536","v":1},{"$f":"+[2]Séries_Site!E536","v":6153},{"$f":"+[2]Séries_Site!F536","v":2723},{"$f":"+[2]Séries_Site!G536","v":2355},{"$f":"+[2]Séries_Site!H536","v":2354},{"$f":"+[2]Séries_Site!I536","v":1},{"$f":"+[2]Séries_Site!J536","v":4486},{"$f":"+[2]Séries_Site!K536","v":1893},{"$f":"+[2]Séries_Site!L536","v":32},{"$f":"+[2]Séries_Site!M536","v":32},{"$f":"+[2]Séries_Site!N536","v":0},{"$f":"+[2]Séries_Site!O536","v":196},{"$f":"+[2]Séries_Site!P536","v":170},{"$f":"+[2]Séries_Site!Q536","v":118},{"$f":"+[2]Séries_Site!R536","v":118},{"$f":"+[2]Séries_Site!S536","v":0},{"$f":"+[2]Séries_Site!T536","v":157},{"$f":"+[2]Séries_Site!U536","v":5},{"$f":"+[2]Séries_Site!V536","v":610},{"$f":"+[2]Séries_Site!W536","v":610},{"$f":"+[2]Séries_Site!X536","v":0},{"$f":"+[2]Séries_Site!Y536","v":1114},{"$f":"+[2]Séries_Site!Z536","v":589},{"$f":"+[2]Séries_Site!AA536","v":0},{"$f":"+[2]Séries_Site!AB536","v":0},{"$f":"+[2]Séries_Site!AC536","v":0},{"$f":"+[2]Séries_Site!AD536","v":0},{"$f":"+[2]Séries_Site!AE536","v":0},{"$f":"+[2]Séries_Site!AF536","v":80},{"$f":"+[2]Séries_Site!AG536","v":80},{"$f":"+[2]Séries_Site!AH536","v":0},{"$f":"+[2]Séries_Site!AI536","v":200},{"$f":"+[2]Séries_Site!AJ536","v":66}]
["2004-04-01",{"$f":"+[2]Séries_Site!B537","v":3532},{"$f":"+[2]Séries_Site!C537","v":3527},{"$f":"+[2]Séries_Site!D537","v":5},{"$f":"+[2]Séries_Site!E537","v":5956},{"$f":"+[2]Séries_Site!F537","v":2903},{"$f":"+[2]Séries_Site!G537","v":2870},{"$f":"+[2]Séries_Site!H537","v":2865},{"$f":"+[2]Séries_Site!I537","v":5},{"$f":"+[2]Séries_Site!J537","v":4687},{"$f":"+[2]Séries_Site!K537","v":2335},{"$f":"+[2]Séries_Site!L537","v":45},{"$f":"+[2]Séries_Site!M537","v":45},{"$f":"+[2]Séries_Site!N537","v":0},{"$f":"+[2]Séries_Site!O537","v":181},{"$f":"+[2]Séries_Site!P537","v":151},{"$f":"+[2]Séries_Site!Q537","v":120},{"$f":"+[2]Séries_Site!R537","v":120},{"$f":"+[2]Séries_Site!S537","v":0},{"$f":"+[2]Séries_Site!T537","v":118},{"$f":"+[2]Séries_Site!U537","v":2},{"$f":"+[2]Séries_Site!V537","v":412},{"$f":"+[2]Séries_Site!W537","v":412},{"$f":"+[2]Séries_Site!X537","v":0},{"$f":"+[2]Séries_Site!Y537","v":803},{"$f":"+[2]Séries_Site!Z537","v":322},{"$f":"+[2]Séries_Site!AA537","v":0},{"$f":"+[2]Séries_Site!AB537","v":0},{"$f":"+[2]Séries_Site!AC537","v":0},{"$f":"+[2]Séries_Site!AD537","v":0},{"$f":"+[2]Séries_Site!AE537","v":0},{"$f":"+[2]Séries_Site!AF537","v":85},{"$f":"+[2]Séries_Site!AG537","v":85},{"$f":"+[2]Séries_Site!AH537","v":0},{"$f":"+[2]Séries_Site!AI537","v":167},{"$f":"+[2]Séries_Site!AJ537","v":93}]
["2004-05-01",{"$f":"+[2]Séries_Site!B538","v":3619},{"$f":"+[2]Séries_Site!C538","v":3615},{"$f":"+[2]Séries_Site!D538","v":4},{"$f":"+[2]Séries_Site!E538","v":5860},{"$f":"+[2]Séries_Site!F538","v":2541},{"$f":"+[2]Séries_Site!G538","v":2864},{"$f":"+[2]Séries_Site!H538","v":2860},{"$f":"+[2]Séries_Site!I538","v":4},{"$f":"+[2]Séries_Site!J538","v":4501},{"$f":"+[2]Séries_Site!K538","v":2123},{"$f":"+[2]Séries_Site!L538","v":54},{"$f":"+[2]Séries_Site!M538","v":54},{"$f":"+[2]Séries_Site!N538","v":0},{"$f":"+[2]Séries_Site!O538","v":185},{"$f":"+[2]Séries_Site!P538","v":126},{"$f":"+[2]Séries_Site!Q538","v":144},{"$f":"+[2]Séries_Site!R538","v":144},{"$f":"+[2]Séries_Site!S538","v":0},{"$f":"+[2]Séries_Site!T538","v":158},{"$f":"+[2]Séries_Site!U538","v":0},{"$f":"+[2]Séries_Site!V538","v":414},{"$f":"+[2]Séries_Site!W538","v":414},{"$f":"+[2]Séries_Site!X538","v":0},{"$f":"+[2]Séries_Site!Y538","v":786},{"$f":"+[2]Séries_Site!Z538","v":197},{"$f":"+[2]Séries_Site!AA538","v":0},{"$f":"+[2]Séries_Site!AB538","v":0},{"$f":"+[2]Séries_Site!AC538","v":0},{"$f":"+[2]Séries_Site!AD538","v":0},{"$f":"+[2]Séries_Site!AE538","v":0},{"$f":"+[2]Séries_Site!AF538","v":143},{"$f":"+[2]Séries_Site!AG538","v":143},{"$f":"+[2]Séries_Site!AH538","v":0},{"$f":"+[2]Séries_Site!AI538","v":230},{"$f":"+[2]Séries_Site!AJ538","v":95}]
["2004-06-01",{"$f":"+[2]Séries_Site!B539","v":3498},{"$f":"+[2]Séries_Site!C539","v":3493},{"$f":"+[2]Séries_Site!D539","v":5},{"$f":"+[2]Séries_Site!E539","v":6035},{"$f":"+[2]Séries_Site!F539","v":2360},{"$f":"+[2]Séries_Site!G539","v":2709},{"$f":"+[2]Séries_Site!H539","v":2704},{"$f":"+[2]Séries_Site!I539","v":5},{"$f":"+[2]Séries_Site!J539","v":4763},{"$f":"+[2]Séries_Site!K539","v":1949},{"$f":"+[2]Séries_Site!L539","v":41},{"$f":"+[2]Séries_Site!M539","v":41},{"$f":"+[2]Séries_Site!N539","v":0},{"$f":"+[2]Séries_Site!O539","v":181},{"$f":"+[2]Séries_Site!P539","v":136},{"$f":"+[2]Séries_Site!Q539","v":140},{"$f":"+[2]Séries_Site!R539","v":140},{"$f":"+[2]Séries_Site!S539","v":0},{"$f":"+[2]Séries_Site!T539","v":140},{"$f":"+[2]Séries_Site!U539","v":9},{"$f":"+[2]Séries_Site!V539","v":497},{"$f":"+[2]Séries_Site!W539","v":497},{"$f":"+[2]Séries_Site!X539","v":0},{"$f":"+[2]Séries_Site!Y539","v":729},{"$f":"+[2]Séries_Site!Z539","v":160},{"$f":"+[2]Séries_Site!AA539","v":0},{"$f":"+[2]Séries_Site!AB539","v":0},{"$f":"+[2]Séries_Site!AC539","v":0},{"$f":"+[2]Séries_Site!AD539","v":0},{"$f":"+[2]Séries_Site!AE539","v":0},{"$f":"+[2]Séries_Site!AF539","v":111},{"$f":"+[2]Séries_Site!AG539","v":111},{"$f":"+[2]Séries_Site!AH539","v":0},{"$f":"+[2]Séries_Site!AI539","v":222},{"$f":"+[2]Séries_Site!AJ539","v":106}]
["2004-07-01",{"$f":"+[2]Séries_Site!B540","v":3686},{"$f":"+[2]Séries_Site!C540","v":3678},{"$f":"+[2]Séries_Site!D540","v":8},{"$f":"+[2]Séries_Site!E540","v":6385},{"$f":"+[2]Séries_Site!F540","v":2726},{"$f":"+[2]Séries_Site!G540","v":2936},{"$f":"+[2]Séries_Site!H540","v":2928},{"$f":"+[2]Séries_Site!I540","v":8},{"$f":"+[2]Séries_Site!J540","v":5285},{"$f":"+[2]Séries_Site!K540","v":2234},{"$f":"+[2]Séries_Site!L540","v":54},{"$f":"+[2]Séries_Site!M540","v":54},{"$f":"+[2]Séries_Site!N540","v":0},{"$f":"+[2]Séries_Site!O540","v":195},{"$f":"+[2]Séries_Site!P540","v":108},{"$f":"+[2]Séries_Site!Q540","v":155},{"$f":"+[2]Séries_Site!R540","v":155},{"$f":"+[2]Séries_Site!S540","v":0},{"$f":"+[2]Séries_Site!T540","v":148},{"$f":"+[2]Séries_Site!U540","v":0},{"$f":"+[2]Séries_Site!V540","v":401},{"$f":"+[2]Séries_Site!W540","v":401},{"$f":"+[2]Séries_Site!X540","v":0},{"$f":"+[2]Séries_Site!Y540","v":543},{"$f":"+[2]Séries_Site!Z540","v":266},{"$f":"+[2]Séries_Site!AA540","v":0},{"$f":"+[2]Séries_Site!AB540","v":0},{"$f":"+[2]Séries_Site!AC540","v":0},{"$f":"+[2]Séries_Site!AD540","v":0},{"$f":"+[2]Séries_Site!AE540","v":0},{"$f":"+[2]Séries_Site!AF540","v":140},{"$f":"+[2]Séries_Site!AG540","v":140},{"$f":"+[2]Séries_Site!AH540","v":0},{"$f":"+[2]Séries_Site!AI540","v":214},{"$f":"+[2]Séries_Site!AJ540","v":118}]
["2004-08-01",{"$f":"+[2]Séries_Site!B541","v":3884},{"$f":"+[2]Séries_Site!C541","v":3844},{"$f":"+[2]Séries_Site!D541","v":40},{"$f":"+[2]Séries_Site!E541","v":6798},{"$f":"+[2]Séries_Site!F541","v":2962},{"$f":"+[2]Séries_Site!G541","v":3118},{"$f":"+[2]Séries_Site!H541","v":3078},{"$f":"+[2]Séries_Site!I541","v":40},{"$f":"+[2]Séries_Site!J541","v":5346},{"$f":"+[2]Séries_Site!K541","v":2303},{"$f":"+[2]Séries_Site!L541","v":65},{"$f":"+[2]Séries_Site!M541","v":65},{"$f":"+[2]Séries_Site!N541","v":0},{"$f":"+[2]Séries_Site!O541","v":213},{"$f":"+[2]Séries_Site!P541","v":192},{"$f":"+[2]Séries_Site!Q541","v":171},{"$f":"+[2]Séries_Site!R541","v":171},{"$f":"+[2]Séries_Site!S541","v":0},{"$f":"+[2]Séries_Site!T541","v":162},{"$f":"+[2]Séries_Site!U541","v":3},{"$f":"+[2]Séries_Site!V541","v":434},{"$f":"+[2]Séries_Site!W541","v":434},{"$f":"+[2]Séries_Site!X541","v":0},{"$f":"+[2]Séries_Site!Y541","v":895},{"$f":"+[2]Séries_Site!Z541","v":344},{"$f":"+[2]Séries_Site!AA541","v":0},{"$f":"+[2]Séries_Site!AB541","v":0},{"$f":"+[2]Séries_Site!AC541","v":0},{"$f":"+[2]Séries_Site!AD541","v":0},{"$f":"+[2]Séries_Site!AE541","v":0},{"$f":"+[2]Séries_Site!AF541","v":96},{"$f":"+[2]Séries_Site!AG541","v":96},{"$f":"+[2]Séries_Site!AH541","v":0},{"$f":"+[2]Séries_Site!AI541","v":182},{"$f":"+[2]Séries_Site!AJ541","v":120}]
["2004-09-01",{"$f":"+[2]Séries_Site!B542","v":3787},{"$f":"+[2]Séries_Site!C542","v":3767},{"$f":"+[2]Séries_Site!D542","v":20},{"$f":"+[2]Séries_Site!E542","v":6363},{"$f":"+[2]Séries_Site!F542","v":2770},{"$f":"+[2]Séries_Site!G542","v":3017},{"$f":"+[2]Séries_Site!H542","v":2997},{"$f":"+[2]Séries_Site!I542","v":20},{"$f":"+[2]Séries_Site!J542","v":4962},{"$f":"+[2]Séries_Site!K542","v":2114},{"$f":"+[2]Séries_Site!L542","v":53},{"$f":"+[2]Séries_Site!M542","v":53},{"$f":"+[2]Séries_Site!N542","v":0},{"$f":"+[2]Séries_Site!O542","v":199},{"$f":"+[2]Séries_Site!P542","v":144},{"$f":"+[2]Séries_Site!Q542","v":145},{"$f":"+[2]Séries_Site!R542","v":145},{"$f":"+[2]Séries_Site!S542","v":0},{"$f":"+[2]Séries_Site!T542","v":170},{"$f":"+[2]Séries_Site!U542","v":0},{"$f":"+[2]Séries_Site!V542","v":457},{"$f":"+[2]Séries_Site!W542","v":457},{"$f":"+[2]Séries_Site!X542","v":0},{"$f":"+[2]Séries_Site!Y542","v":831},{"$f":"+[2]Séries_Site!Z542","v":393},{"$f":"+[2]Séries_Site!AA542","v":0},{"$f":"+[2]Séries_Site!AB542","v":0},{"$f":"+[2]Séries_Site!AC542","v":0},{"$f":"+[2]Séries_Site!AD542","v":0},{"$f":"+[2]Séries_Site!AE542","v":0},{"$f":"+[2]Séries_Site!AF542","v":115},{"$f":"+[2]Séries_Site!AG542","v":115},{"$f":"+[2]Séries_Site!AH542","v":0},{"$f":"+[2]Séries_Site!AI542","v":201},{"$f":"+[2]Séries_Site!AJ542","v":119}]
["2004-10-01",{"$f":"+[2]Séries_Site!B543","v":3571},{"$f":"+[2]Séries_Site!C543","v":3536},{"$f":"+[2]Séries_Site!D543","v":35},{"$f":"+[2]Séries_Site!E543","v":6721},{"$f":"+[2]Séries_Site!F543","v":2504},{"$f":"+[2]Séries_Site!G543","v":2784},{"$f":"+[2]Séries_Site!H543","v":2749},{"$f":"+[2]Séries_Site!I543","v":35},{"$f":"+[2]Séries_Site!J543","v":5140},{"$f":"+[2]Séries_Site!K543","v":1826},{"$f":"+[2]Séries_Site!L543","v":33},{"$f":"+[2]Séries_Site!M543","v":33},{"$f":"+[2]Séries_Site!N543","v":0},{"$f":"+[2]Séries_Site!O543","v":210},{"$f":"+[2]Séries_Site!P543","v":151},{"$f":"+[2]Séries_Site!Q543","v":134},{"$f":"+[2]Séries_Site!R543","v":134},{"$f":"+[2]Séries_Site!S543","v":0},{"$f":"+[2]Séries_Site!T543","v":150},{"$f":"+[2]Séries_Site!U543","v":4},{"$f":"+[2]Séries_Site!V543","v":543},{"$f":"+[2]Séries_Site!W543","v":543},{"$f":"+[2]Séries_Site!X543","v":0},{"$f":"+[2]Séries_Site!Y543","v":1061},{"$f":"+[2]Séries_Site!Z543","v":460},{"$f":"+[2]Séries_Site!AA543","v":0},{"$f":"+[2]Séries_Site!AB543","v":0},{"$f":"+[2]Séries_Site!AC543","v":0},{"$f":"+[2]Séries_Site!AD543","v":0},{"$f":"+[2]Séries_Site!AE543","v":0},{"$f":"+[2]Séries_Site!AF543","v":77},{"$f":"+[2]Séries_Site!AG543","v":77},{"$f":"+[2]Séries_Site!AH543","v":0},{"$f":"+[2]Séries_Site!AI543","v":160},{"$f":"+[2]Séries_Site!AJ543","v":63}]
["2004-11-01",{"$f":"+[2]Séries_Site!B544","v":2355},{"$f":"+[2]Séries_Site!C544","v":2346},{"$f":"+[2]Séries_Site!D544","v":9},{"$f":"+[2]Séries_Site!E544","v":5796},{"$f":"+[2]Séries_Site!F544","v":2385},{"$f":"+[2]Séries_Site!G544","v":1840},{"$f":"+[2]Séries_Site!H544","v":1833},{"$f":"+[2]Séries_Site!I544","v":7},{"$f":"+[2]Séries_Site!J544","v":4351},{"$f":"+[2]Séries_Site!K544","v":1790},{"$f":"+[2]Séries_Site!L544","v":37},{"$f":"+[2]Séries_Site!M544","v":37},{"$f":"+[2]Séries_Site!N544","v":0},{"$f":"+[2]Séries_Site!O544","v":184},{"$f":"+[2]Séries_Site!P544","v":160},{"$f":"+[2]Séries_Site!Q544","v":155},{"$f":"+[2]Séries_Site!R544","v":155},{"$f":"+[2]Séries_Site!S544","v":0},{"$f":"+[2]Séries_Site!T544","v":155},{"$f":"+[2]Séries_Site!U544","v":0},{"$f":"+[2]Séries_Site!V544","v":257},{"$f":"+[2]Séries_Site!W544","v":255},{"$f":"+[2]Séries_Site!X544","v":2},{"$f":"+[2]Séries_Site!Y544","v":890},{"$f":"+[2]Séries_Site!Z544","v":316},{"$f":"+[2]Séries_Site!AA544","v":0},{"$f":"+[2]Séries_Site!AB544","v":0},{"$f":"+[2]Séries_Site!AC544","v":0},{"$f":"+[2]Séries_Site!AD544","v":0},{"$f":"+[2]Séries_Site!AE544","v":0},{"$f":"+[2]Séries_Site!AF544","v":66},{"$f":"+[2]Séries_Site!AG544","v":66},{"$f":"+[2]Séries_Site!AH544","v":0},{"$f":"+[2]Séries_Site!AI544","v":216},{"$f":"+[2]Séries_Site!AJ544","v":119}]
["2004-12-01",{"$f":"+[2]Séries_Site!B545","v":1713},{"$f":"+[2]Séries_Site!C545","v":1673},{"$f":"+[2]Séries_Site!D545","v":40},{"$f":"+[2]Séries_Site!E545","v":3874},{"$f":"+[2]Séries_Site!F545","v":2889},{"$f":"+[2]Séries_Site!G545","v":1115},{"$f":"+[2]Séries_Site!H545","v":1077},{"$f":"+[2]Séries_Site!I545","v":38},{"$f":"+[2]Séries_Site!J545","v":2645},{"$f":"+[2]Séries_Site!K545","v":2213},{"$f":"+[2]Séries_Site!L545","v":58},{"$f":"+[2]Séries_Site!M545","v":58},{"$f":"+[2]Séries_Site!N545","v":0},{"$f":"+[2]Séries_Site!O545","v":181},{"$f":"+[2]Séries_Site!P545","v":141},{"$f":"+[2]Séries_Site!Q545","v":157},{"$f":"+[2]Séries_Site!R545","v":157},{"$f":"+[2]Séries_Site!S545","v":0},{"$f":"+[2]Séries_Site!T545","v":100},{"$f":"+[2]Séries_Site!U545","v":0},{"$f":"+[2]Séries_Site!V545","v":270},{"$f":"+[2]Séries_Site!W545","v":268},{"$f":"+[2]Séries_Site!X545","v":2},{"$f":"+[2]Séries_Site!Y545","v":781},{"$f":"+[2]Séries_Site!Z545","v":412},{"$f":"+[2]Séries_Site!AA545","v":0},{"$f":"+[2]Séries_Site!AB545","v":0},{"$f":"+[2]Séries_Site!AC545","v":0},{"$f":"+[2]Séries_Site!AD545","v":0},{"$f":"+[2]Séries_Site!AE545","v":0},{"$f":"+[2]Séries_Site!AF545","v":113},{"$f":"+[2]Séries_Site!AG545","v":113},{"$f":"+[2]Séries_Site!AH545","v":0},{"$f":"+[2]Séries_Site!AI545","v":167},{"$f":"+[2]Séries_Site!AJ545","v":123}]
["2005-01-01",{"$f":"+[2]Séries_Site!B546","v":1709},{"$f":"+[2]Séries_Site!C546","v":1697},{"$f":"+[2]Séries_Site!D546","v":12},{"$f":"+[2]Séries_Site!E546","v":4071},{"$f":"+[2]Séries_Site!F546","v":1880},{"$f":"+[2]Séries_Site!G546","v":1190},{"$f":"+[2]Séries_Site!H546","v":1179},{"$f":"+[2]Séries_Site!I546","v":11},{"$f":"+[2]Séries_Site!J546","v":2975},{"$f":"+[2]Séries_Site!K546","v":1248},{"$f":"+[2]Séries_Site!L546","v":19},{"$f":"+[2]Séries_Site!M546","v":19},{"$f":"+[2]Séries_Site!N546","v":0},{"$f":"+[2]Séries_Site!O546","v":187},{"$f":"+[2]Séries_Site!P546","v":169},{"$f":"+[2]Séries_Site!Q546","v":128},{"$f":"+[2]Séries_Site!R546","v":128},{"$f":"+[2]Séries_Site!S546","v":0},{"$f":"+[2]Séries_Site!T546","v":135},{"$f":"+[2]Séries_Site!U546","v":5},{"$f":"+[2]Séries_Site!V546","v":272},{"$f":"+[2]Séries_Site!W546","v":271},{"$f":"+[2]Séries_Site!X546","v":1},{"$f":"+[2]Séries_Site!Y546","v":528},{"$f":"+[2]Séries_Site!Z546","v":359},{"$f":"+[2]Séries_Site!AA546","v":0},{"$f":"+[2]Séries_Site!AB546","v":0},{"$f":"+[2]Séries_Site!AC546","v":0},{"$f":"+[2]Séries_Site!AD546","v":0},{"$f":"+[2]Séries_Site!AE546","v":0},{"$f":"+[2]Séries_Site!AF546","v":100},{"$f":"+[2]Séries_Site!AG546","v":100},{"$f":"+[2]Séries_Site!AH546","v":0},{"$f":"+[2]Séries_Site!AI546","v":246},{"$f":"+[2]Séries_Site!AJ546","v":99}]
["2005-02-01",{"$f":"+[2]Séries_Site!B547","v":1827},{"$f":"+[2]Séries_Site!C547","v":1813},{"$f":"+[2]Séries_Site!D547","v":14},{"$f":"+[2]Séries_Site!E547","v":4603},{"$f":"+[2]Séries_Site!F547","v":3210},{"$f":"+[2]Séries_Site!G547","v":1353},{"$f":"+[2]Séries_Site!H547","v":1339},{"$f":"+[2]Séries_Site!I547","v":14},{"$f":"+[2]Séries_Site!J547","v":3653},{"$f":"+[2]Séries_Site!K547","v":2473},{"$f":"+[2]Séries_Site!L547","v":33},{"$f":"+[2]Séries_Site!M547","v":33},{"$f":"+[2]Séries_Site!N547","v":0},{"$f":"+[2]Séries_Site!O547","v":205},{"$f":"+[2]Séries_Site!P547","v":142},{"$f":"+[2]Séries_Site!Q547","v":153},{"$f":"+[2]Séries_Site!R547","v":153},{"$f":"+[2]Séries_Site!S547","v":0},{"$f":"+[2]Séries_Site!T547","v":160},{"$f":"+[2]Séries_Site!U547","v":5},{"$f":"+[2]Séries_Site!V547","v":209},{"$f":"+[2]Séries_Site!W547","v":209},{"$f":"+[2]Séries_Site!X547","v":0},{"$f":"+[2]Séries_Site!Y547","v":354},{"$f":"+[2]Séries_Site!Z547","v":463},{"$f":"+[2]Séries_Site!AA547","v":0},{"$f":"+[2]Séries_Site!AB547","v":0},{"$f":"+[2]Séries_Site!AC547","v":0},{"$f":"+[2]Séries_Site!AD547","v":0},{"$f":"+[2]Séries_Site!AE547","v":0},{"$f":"+[2]Séries_Site!AF547","v":79},{"$f":"+[2]Séries_Site!AG547","v":79},{"$f":"+[2]Séries_Site!AH547","v":0},{"$f":"+[2]Séries_Site!AI547","v":231},{"$f":"+[2]Séries_Site!AJ547","v":127}]
["2005-03-01",{"$f":"+[2]Séries_Site!B548","v":2346},{"$f":"+[2]Séries_Site!C548","v":2338},{"$f":"+[2]Séries_Site!D548","v":8},{"$f":"+[2]Séries_Site!E548","v":5148},{"$f":"+[2]Séries_Site!F548","v":3324},{"$f":"+[2]Séries_Site!G548","v":1844},{"$f":"+[2]Séries_Site!H548","v":1836},{"$f":"+[2]Séries_Site!I548","v":8},{"$f":"+[2]Séries_Site!J548","v":4087},{"$f":"+[2]Séries_Site!K548","v":2579},{"$f":"+[2]Séries_Site!L548","v":31},{"$f":"+[2]Séries_Site!M548","v":31},{"$f":"+[2]Séries_Site!N548","v":0},{"$f":"+[2]Séries_Site!O548","v":224},{"$f":"+[2]Séries_Site!P548","v":191},{"$f":"+[2]Séries_Site!Q548","v":167},{"$f":"+[2]Séries_Site!R548","v":167},{"$f":"+[2]Séries_Site!S548","v":0},{"$f":"+[2]Séries_Site!T548","v":170},{"$f":"+[2]Séries_Site!U548","v":0},{"$f":"+[2]Séries_Site!V548","v":178},{"$f":"+[2]Séries_Site!W548","v":178},{"$f":"+[2]Séries_Site!X548","v":0},{"$f":"+[2]Séries_Site!Y548","v":377},{"$f":"+[2]Séries_Site!Z548","v":383},{"$f":"+[2]Séries_Site!AA548","v":0},{"$f":"+[2]Séries_Site!AB548","v":0},{"$f":"+[2]Séries_Site!AC548","v":0},{"$f":"+[2]Séries_Site!AD548","v":0},{"$f":"+[2]Séries_Site!AE548","v":0},{"$f":"+[2]Séries_Site!AF548","v":126},{"$f":"+[2]Séries_Site!AG548","v":126},{"$f":"+[2]Séries_Site!AH548","v":0},{"$f":"+[2]Séries_Site!AI548","v":290},{"$f":"+[2]Séries_Site!AJ548","v":171}]
["2005-04-01",{"$f":"+[2]Séries_Site!B549","v":2230},{"$f":"+[2]Séries_Site!C549","v":2228},{"$f":"+[2]Séries_Site!D549","v":2},{"$f":"+[2]Séries_Site!E549","v":4936},{"$f":"+[2]Séries_Site!F549","v":2982},{"$f":"+[2]Séries_Site!G549","v":1814},{"$f":"+[2]Séries_Site!H549","v":1812},{"$f":"+[2]Séries_Site!I549","v":2},{"$f":"+[2]Séries_Site!J549","v":3891},{"$f":"+[2]Séries_Site!K549","v":2319},{"$f":"+[2]Séries_Site!L549","v":45},{"$f":"+[2]Séries_Site!M549","v":45},{"$f":"+[2]Séries_Site!N549","v":0},{"$f":"+[2]Séries_Site!O549","v":204},{"$f":"+[2]Séries_Site!P549","v":157},{"$f":"+[2]Séries_Site!Q549","v":158},{"$f":"+[2]Séries_Site!R549","v":158},{"$f":"+[2]Séries_Site!S549","v":0},{"$f":"+[2]Séries_Site!T549","v":170},{"$f":"+[2]Séries_Site!U549","v":12},{"$f":"+[2]Séries_Site!V549","v":97},{"$f":"+[2]Séries_Site!W549","v":97},{"$f":"+[2]Séries_Site!X549","v":0},{"$f":"+[2]Séries_Site!Y549","v":356},{"$f":"+[2]Séries_Site!Z549","v":308},{"$f":"+[2]Séries_Site!AA549","v":0},{"$f":"+[2]Séries_Site!AB549","v":0},{"$f":"+[2]Séries_Site!AC549","v":0},{"$f":"+[2]Séries_Site!AD549","v":0},{"$f":"+[2]Séries_Site!AE549","v":0},{"$f":"+[2]Séries_Site!AF549","v":116},{"$f":"+[2]Séries_Site!AG549","v":116},{"$f":"+[2]Séries_Site!AH549","v":0},{"$f":"+[2]Séries_Site!AI549","v":315},{"$f":"+[2]Séries_Site!AJ549","v":186}]
["2005-05-01",{"$f":"+[2]Séries_Site!B550","v":1998},{"$f":"+[2]Séries_Site!C550","v":1991},{"$f":"+[2]Séries_Site!D550","v":7},{"$f":"+[2]Séries_Site!E550","v":4995},{"$f":"+[2]Séries_Site!F550","v":2326},{"$f":"+[2]Séries_Site!G550","v":1549},{"$f":"+[2]Séries_Site!H550","v":1542},{"$f":"+[2]Séries_Site!I550","v":7},{"$f":"+[2]Séries_Site!J550","v":4168},{"$f":"+[2]Séries_Site!K550","v":1912},{"$f":"+[2]Séries_Site!L550","v":47},{"$f":"+[2]Séries_Site!M550","v":47},{"$f":"+[2]Séries_Site!N550","v":0},{"$f":"+[2]Séries_Site!O550","v":228},{"$f":"+[2]Séries_Site!P550","v":165},{"$f":"+[2]Séries_Site!Q550","v":202},{"$f":"+[2]Séries_Site!R550","v":202},{"$f":"+[2]Séries_Site!S550","v":0},{"$f":"+[2]Séries_Site!T550","v":200},{"$f":"+[2]Séries_Site!U550","v":0},{"$f":"+[2]Séries_Site!V550","v":60},{"$f":"+[2]Séries_Site!W550","v":60},{"$f":"+[2]Séries_Site!X550","v":0},{"$f":"+[2]Séries_Site!Y550","v":132},{"$f":"+[2]Séries_Site!Z550","v":92},{"$f":"+[2]Séries_Site!AA550","v":0},{"$f":"+[2]Séries_Site!AB550","v":0},{"$f":"+[2]Séries_Site!AC550","v":0},{"$f":"+[2]Séries_Site!AD550","v":0},{"$f":"+[2]Séries_Site!AE550","v":0},{"$f":"+[2]Séries_Site!AF550","v":140},{"$f":"+[2]Séries_Site!AG550","v":140},{"$f":"+[2]Séries_Site!AH550","v":0},{"$f":"+[2]Séries_Site!AI550","v":267},{"$f":"+[2]Séries_Site!AJ550","v":157}]
["2005-06-01",{"$f":"+[2]Séries_Site!B551","v":2202},{"$f":"+[2]Séries_Site!C551","v":2188},{"$f":"+[2]Séries_Site!D551","v":14},{"$f":"+[2]Séries_Site!E551","v":5484},{"$f":"+[2]Séries_Site!F551","v":3356},{"$f":"+[2]Séries_Site!G551","v":1756},{"$f":"+[2]Séries_Site!H551","v":1742},{"$f":"+[2]Séries_Site!I551","v":14},{"$f":"+[2]Séries_Site!J551","v":4463},{"$f":"+[2]Séries_Site!K551","v":2880},{"$f":"+[2]Séries_Site!L551","v":44},{"$f":"+[2]Séries_Site!M551","v":44},{"$f":"+[2]Séries_Site!N551","v":0},{"$f":"+[2]Séries_Site!O551","v":242},{"$f":"+[2]Séries_Site!P551","v":194},{"$f":"+[2]Séries_Site!Q551","v":204},{"$f":"+[2]Séries_Site!R551","v":204},{"$f":"+[2]Séries_Site!S551","v":0},{"$f":"+[2]Séries_Site!T551","v":207},{"$f":"+[2]Séries_Site!U551","v":0},{"$f":"+[2]Séries_Site!V551","v":94},{"$f":"+[2]Séries_Site!W551","v":94},{"$f":"+[2]Séries_Site!X551","v":0},{"$f":"+[2]Séries_Site!Y551","v":291},{"$f":"+[2]Séries_Site!Z551","v":144},{"$f":"+[2]Séries_Site!AA551","v":0},{"$f":"+[2]Séries_Site!AB551","v":0},{"$f":"+[2]Séries_Site!AC551","v":0},{"$f":"+[2]Séries_Site!AD551","v":0},{"$f":"+[2]Séries_Site!AE551","v":0},{"$f":"+[2]Séries_Site!AF551","v":104},{"$f":"+[2]Séries_Site!AG551","v":104},{"$f":"+[2]Séries_Site!AH551","v":0},{"$f":"+[2]Séries_Site!AI551","v":281},{"$f":"+[2]Séries_Site!AJ551","v":138}]
["2005-07-01",{"$f":"+[2]Séries_Site!B552","v":2012},{"$f":"+[2]Séries_Site!C552","v":1991},{"$f":"+[2]Séries_Site!D552","v":21},{"$f":"+[2]Séries_Site!E552","v":5113},{"$f":"+[2]Séries_Site!F552","v":2720},{"$f":"+[2]Séries_Site!G552","v":1512},{"$f":"+[2]Séries_Site!H552","v":1491},{"$f":"+[2]Séries_Site!I552","v":21},{"$f":"+[2]Séries_Site!J552","v":4106},{"$f":"+[2]Séries_Site!K552","v":2262},{"$f":"+[2]Séries_Site!L552","v":49},{"$f":"+[2]Séries_Site!M552","v":49},{"$f":"+[2]Séries_Site!N552","v":0},{"$f":"+[2]Séries_Site!O552","v":240},{"$f":"+[2]Séries_Site!P552","v":188},{"$f":"+[2]Séries_Site!Q552","v":203},{"$f":"+[2]Séries_Site!R552","v":203},{"$f":"+[2]Séries_Site!S552","v":0},{"$f":"+[2]Séries_Site!T552","v":205},{"$f":"+[2]Séries_Site!U552","v":3},{"$f":"+[2]Séries_Site!V552","v":96},{"$f":"+[2]Séries_Site!W552","v":96},{"$f":"+[2]Séries_Site!X552","v":0},{"$f":"+[2]Séries_Site!Y552","v":307},{"$f":"+[2]Séries_Site!Z552","v":169},{"$f":"+[2]Séries_Site!AA552","v":0},{"$f":"+[2]Séries_Site!AB552","v":0},{"$f":"+[2]Séries_Site!AC552","v":0},{"$f":"+[2]Séries_Site!AD552","v":0},{"$f":"+[2]Séries_Site!AE552","v":0},{"$f":"+[2]Séries_Site!AF552","v":152},{"$f":"+[2]Séries_Site!AG552","v":152},{"$f":"+[2]Séries_Site!AH552","v":0},{"$f":"+[2]Séries_Site!AI552","v":255},{"$f":"+[2]Séries_Site!AJ552","v":98}]
["2005-08-01",{"$f":"+[2]Séries_Site!B553","v":2101},{"$f":"+[2]Séries_Site!C553","v":2100},{"$f":"+[2]Séries_Site!D553","v":1},{"$f":"+[2]Séries_Site!E553","v":5232},{"$f":"+[2]Séries_Site!F553","v":2556},{"$f":"+[2]Séries_Site!G553","v":1649},{"$f":"+[2]Séries_Site!H553","v":1648},{"$f":"+[2]Séries_Site!I553","v":1},{"$f":"+[2]Séries_Site!J553","v":4287},{"$f":"+[2]Séries_Site!K553","v":2084},{"$f":"+[2]Séries_Site!L553","v":39},{"$f":"+[2]Séries_Site!M553","v":39},{"$f":"+[2]Séries_Site!N553","v":0},{"$f":"+[2]Séries_Site!O553","v":246},{"$f":"+[2]Séries_Site!P553","v":209},{"$f":"+[2]Séries_Site!Q553","v":198},{"$f":"+[2]Séries_Site!R553","v":198},{"$f":"+[2]Séries_Site!S553","v":0},{"$f":"+[2]Séries_Site!T553","v":200},{"$f":"+[2]Séries_Site!U553","v":2},{"$f":"+[2]Séries_Site!V553","v":74},{"$f":"+[2]Séries_Site!W553","v":74},{"$f":"+[2]Séries_Site!X553","v":0},{"$f":"+[2]Séries_Site!Y553","v":272},{"$f":"+[2]Séries_Site!Z553","v":176},{"$f":"+[2]Séries_Site!AA553","v":0},{"$f":"+[2]Séries_Site!AB553","v":0},{"$f":"+[2]Séries_Site!AC553","v":0},{"$f":"+[2]Séries_Site!AD553","v":0},{"$f":"+[2]Séries_Site!AE553","v":0},{"$f":"+[2]Séries_Site!AF553","v":141},{"$f":"+[2]Séries_Site!AG553","v":141},{"$f":"+[2]Séries_Site!AH553","v":0},{"$f":"+[2]Séries_Site!AI553","v":227},{"$f":"+[2]Séries_Site!AJ553","v":85}]
["2005-09-01",{"$f":"+[2]Séries_Site!B554","v":2048},{"$f":"+[2]Séries_Site!C554","v":2033},{"$f":"+[2]Séries_Site!D554","v":15},{"$f":"+[2]Séries_Site!E554","v":3862},{"$f":"+[2]Séries_Site!F554","v":2287},{"$f":"+[2]Séries_Site!G554","v":1656},{"$f":"+[2]Séries_Site!H554","v":1641},{"$f":"+[2]Séries_Site!I554","v":15},{"$f":"+[2]Séries_Site!J554","v":2943},{"$f":"+[2]Séries_Site!K554","v":1853},{"$f":"+[2]Séries_Site!L554","v":29},{"$f":"+[2]Séries_Site!M554","v":29},{"$f":"+[2]Séries_Site!N554","v":0},{"$f":"+[2]Séries_Site!O554","v":227},{"$f":"+[2]Séries_Site!P554","v":184},{"$f":"+[2]Séries_Site!Q554","v":196},{"$f":"+[2]Séries_Site!R554","v":196},{"$f":"+[2]Séries_Site!S554","v":0},{"$f":"+[2]Séries_Site!T554","v":200},{"$f":"+[2]Séries_Site!U554","v":0},{"$f":"+[2]Séries_Site!V554","v":75},{"$f":"+[2]Séries_Site!W554","v":75},{"$f":"+[2]Séries_Site!X554","v":0},{"$f":"+[2]Séries_Site!Y554","v":313},{"$f":"+[2]Séries_Site!Z554","v":195},{"$f":"+[2]Séries_Site!AA554","v":0},{"$f":"+[2]Séries_Site!AB554","v":0},{"$f":"+[2]Séries_Site!AC554","v":0},{"$f":"+[2]Séries_Site!AD554","v":0},{"$f":"+[2]Séries_Site!AE554","v":0},{"$f":"+[2]Séries_Site!AF554","v":92},{"$f":"+[2]Séries_Site!AG554","v":92},{"$f":"+[2]Séries_Site!AH554","v":0},{"$f":"+[2]Séries_Site!AI554","v":179},{"$f":"+[2]Séries_Site!AJ554","v":55}]
["2005-10-01",{"$f":"+[2]Séries_Site!B555","v":2036},{"$f":"+[2]Séries_Site!C555","v":1996},{"$f":"+[2]Séries_Site!D555","v":40},{"$f":"+[2]Séries_Site!E555","v":4060},{"$f":"+[2]Séries_Site!F555","v":2574},{"$f":"+[2]Séries_Site!G555","v":1542},{"$f":"+[2]Séries_Site!H555","v":1502},{"$f":"+[2]Séries_Site!I555","v":40},{"$f":"+[2]Séries_Site!J555","v":2895},{"$f":"+[2]Séries_Site!K555","v":1937},{"$f":"+[2]Séries_Site!L555","v":25},{"$f":"+[2]Séries_Site!M555","v":25},{"$f":"+[2]Séries_Site!N555","v":0},{"$f":"+[2]Séries_Site!O555","v":214},{"$f":"+[2]Séries_Site!P555","v":167},{"$f":"+[2]Séries_Site!Q555","v":181},{"$f":"+[2]Séries_Site!R555","v":181},{"$f":"+[2]Séries_Site!S555","v":0},{"$f":"+[2]Séries_Site!T555","v":220},{"$f":"+[2]Séries_Site!U555","v":3},{"$f":"+[2]Séries_Site!V555","v":146},{"$f":"+[2]Séries_Site!W555","v":146},{"$f":"+[2]Séries_Site!X555","v":0},{"$f":"+[2]Séries_Site!Y555","v":516},{"$f":"+[2]Séries_Site!Z555","v":355},{"$f":"+[2]Séries_Site!AA555","v":0},{"$f":"+[2]Séries_Site!AB555","v":0},{"$f":"+[2]Séries_Site!AC555","v":0},{"$f":"+[2]Séries_Site!AD555","v":0},{"$f":"+[2]Séries_Site!AE555","v":0},{"$f":"+[2]Séries_Site!AF555","v":142},{"$f":"+[2]Séries_Site!AG555","v":142},{"$f":"+[2]Séries_Site!AH555","v":0},{"$f":"+[2]Séries_Site!AI555","v":215},{"$f":"+[2]Séries_Site!AJ555","v":112}]
["2005-11-01",{"$f":"+[2]Séries_Site!B556","v":1484},{"$f":"+[2]Séries_Site!C556","v":1444},{"$f":"+[2]Séries_Site!D556","v":40},{"$f":"+[2]Séries_Site!E556","v":3686},{"$f":"+[2]Séries_Site!F556","v":2216},{"$f":"+[2]Séries_Site!G556","v":1133},{"$f":"+[2]Séries_Site!H556","v":1093},{"$f":"+[2]Séries_Site!I556","v":40},{"$f":"+[2]Séries_Site!J556","v":2621},{"$f":"+[2]Séries_Site!K556","v":1685},{"$f":"+[2]Séries_Site!L556","v":12},{"$f":"+[2]Séries_Site!M556","v":12},{"$f":"+[2]Séries_Site!N556","v":0},{"$f":"+[2]Séries_Site!O556","v":244},{"$f":"+[2]Séries_Site!P556","v":214},{"$f":"+[2]Séries_Site!Q556","v":184},{"$f":"+[2]Séries_Site!R556","v":184},{"$f":"+[2]Séries_Site!S556","v":0},{"$f":"+[2]Séries_Site!T556","v":204},{"$f":"+[2]Séries_Site!U556","v":4},{"$f":"+[2]Séries_Site!V556","v":70},{"$f":"+[2]Séries_Site!W556","v":70},{"$f":"+[2]Séries_Site!X556","v":0},{"$f":"+[2]Séries_Site!Y556","v":396},{"$f":"+[2]Séries_Site!Z556","v":178},{"$f":"+[2]Séries_Site!AA556","v":0},{"$f":"+[2]Séries_Site!AB556","v":0},{"$f":"+[2]Séries_Site!AC556","v":0},{"$f":"+[2]Séries_Site!AD556","v":0},{"$f":"+[2]Séries_Site!AE556","v":0},{"$f":"+[2]Séries_Site!AF556","v":85},{"$f":"+[2]Séries_Site!AG556","v":85},{"$f":"+[2]Séries_Site!AH556","v":0},{"$f":"+[2]Séries_Site!AI556","v":221},{"$f":"+[2]Séries_Site!AJ556","v":135}]
["2005-12-01",{"$f":"+[2]Séries_Site!B557","v":1229},{"$f":"+[2]Séries_Site!C557","v":1216},{"$f":"+[2]Séries_Site!D557","v":13},{"$f":"+[2]Séries_Site!E557","v":1681},{"$f":"+[2]Séries_Site!F557","v":1247},{"$f":"+[2]Séries_Site!G557","v":731},{"$f":"+[2]Séries_Site!H557","v":718},{"$f":"+[2]Séries_Site!I557","v":13},{"$f":"+[2]Séries_Site!J557","v":782},{"$f":"+[2]Séries_Site!K557","v":736},{"$f":"+[2]Séries_Site!L557","v":35},{"$f":"+[2]Séries_Site!M557","v":35},{"$f":"+[2]Séries_Site!N557","v":0},{"$f":"+[2]Séries_Site!O557","v":220},{"$f":"+[2]Séries_Site!P557","v":222},{"$f":"+[2]Séries_Site!Q557","v":167},{"$f":"+[2]Séries_Site!R557","v":167},{"$f":"+[2]Séries_Site!S557","v":0},{"$f":"+[2]Séries_Site!T557","v":112},{"$f":"+[2]Séries_Site!U557","v":0},{"$f":"+[2]Séries_Site!V557","v":163},{"$f":"+[2]Séries_Site!W557","v":163},{"$f":"+[2]Séries_Site!X557","v":0},{"$f":"+[2]Séries_Site!Y557","v":387},{"$f":"+[2]Séries_Site!Z557","v":179},{"$f":"+[2]Séries_Site!AA557","v":0},{"$f":"+[2]Séries_Site!AB557","v":0},{"$f":"+[2]Séries_Site!AC557","v":0},{"$f":"+[2]Séries_Site!AD557","v":0},{"$f":"+[2]Séries_Site!AE557","v":0},{"$f":"+[2]Séries_Site!AF557","v":133},{"$f":"+[2]Séries_Site!AG557","v":133},{"$f":"+[2]Séries_Site!AH557","v":0},{"$f":"+[2]Séries_Site!AI557","v":180},{"$f":"+[2]Séries_Site!AJ557","v":110}]
["2006-01-01",{"$f":"+[2]Séries_Site!B558","v":1686},{"$f":"+[2]Séries_Site!C558","v":1679},{"$f":"+[2]Séries_Site!D558","v":7},{"$f":"+[2]Séries_Site!E558","v":2929},{"$f":"+[2]Séries_Site!F558","v":1402},{"$f":"+[2]Séries_Site!G558","v":1240},{"$f":"+[2]Séries_Site!H558","v":1233},{"$f":"+[2]Séries_Site!I558","v":7},{"$f":"+[2]Séries_Site!J558","v":2071},{"$f":"+[2]Séries_Site!K558","v":895},{"$f":"+[2]Séries_Site!L558","v":15},{"$f":"+[2]Séries_Site!M558","v":15},{"$f":"+[2]Séries_Site!N558","v":0},{"$f":"+[2]Séries_Site!O558","v":202},{"$f":"+[2]Séries_Site!P558","v":180},{"$f":"+[2]Séries_Site!Q558","v":141},{"$f":"+[2]Séries_Site!R558","v":141},{"$f":"+[2]Séries_Site!S558","v":0},{"$f":"+[2]Séries_Site!T558","v":140},{"$f":"+[2]Séries_Site!U558","v":0},{"$f":"+[2]Séries_Site!V558","v":156},{"$f":"+[2]Séries_Site!W558","v":156},{"$f":"+[2]Séries_Site!X558","v":0},{"$f":"+[2]Séries_Site!Y558","v":281},{"$f":"+[2]Séries_Site!Z558","v":242},{"$f":"+[2]Séries_Site!AA558","v":0},{"$f":"+[2]Séries_Site!AB558","v":0},{"$f":"+[2]Séries_Site!AC558","v":0},{"$f":"+[2]Séries_Site!AD558","v":0},{"$f":"+[2]Séries_Site!AE558","v":0},{"$f":"+[2]Séries_Site!AF558","v":134},{"$f":"+[2]Séries_Site!AG558","v":134},{"$f":"+[2]Séries_Site!AH558","v":0},{"$f":"+[2]Séries_Site!AI558","v":235},{"$f":"+[2]Séries_Site!AJ558","v":85}]
["2006-02-01",{"$f":"+[2]Séries_Site!B559","v":1885},{"$f":"+[2]Séries_Site!C559","v":1846},{"$f":"+[2]Séries_Site!D559","v":39},{"$f":"+[2]Séries_Site!E559","v":3833},{"$f":"+[2]Séries_Site!F559","v":1835},{"$f":"+[2]Séries_Site!G559","v":1408},{"$f":"+[2]Séries_Site!H559","v":1369},{"$f":"+[2]Séries_Site!I559","v":39},{"$f":"+[2]Séries_Site!J559","v":2645},{"$f":"+[2]Séries_Site!K559","v":1173},{"$f":"+[2]Séries_Site!L559","v":13},{"$f":"+[2]Séries_Site!M559","v":13},{"$f":"+[2]Séries_Site!N559","v":0},{"$f":"+[2]Séries_Site!O559","v":210},{"$f":"+[2]Séries_Site!P559","v":193},{"$f":"+[2]Séries_Site!Q559","v":189},{"$f":"+[2]Séries_Site!R559","v":189},{"$f":"+[2]Séries_Site!S559","v":0},{"$f":"+[2]Séries_Site!T559","v":193},{"$f":"+[2]Séries_Site!U559","v":0},{"$f":"+[2]Séries_Site!V559","v":144},{"$f":"+[2]Séries_Site!W559","v":144},{"$f":"+[2]Séries_Site!X559","v":0},{"$f":"+[2]Séries_Site!Y559","v":447},{"$f":"+[2]Séries_Site!Z559","v":322},{"$f":"+[2]Séries_Site!AA559","v":0},{"$f":"+[2]Séries_Site!AB559","v":0},{"$f":"+[2]Séries_Site!AC559","v":0},{"$f":"+[2]Séries_Site!AD559","v":0},{"$f":"+[2]Séries_Site!AE559","v":0},{"$f":"+[2]Séries_Site!AF559","v":131},{"$f":"+[2]Séries_Site!AG559","v":131},{"$f":"+[2]Séries_Site!AH559","v":0},{"$f":"+[2]Séries_Site!AI559","v":338},{"$f":"+[2]Séries_Site!AJ559","v":147}]
["2006-03-01",{"$f":"+[2]Séries_Site!B560","v":2244},{"$f":"+[2]Séries_Site!C560","v":2236},{"$f":"+[2]Séries_Site!D560","v":8},{"$f":"+[2]Séries_Site!E560","v":4505},{"$f":"+[2]Séries_Site!F560","v":2240},{"$f":"+[2]Séries_Site!G560","v":1702},{"$f":"+[2]Séries_Site!H560","v":1694},{"$f":"+[2]Séries_Site!I560","v":8},{"$f":"+[2]Séries_Site!J560","v":3277},{"$f":"+[2]Séries_Site!K560","v":1614},{"$f":"+[2]Séries_Site!L560","v":22},{"$f":"+[2]Séries_Site!M560","v":22},{"$f":"+[2]Séries_Site!N560","v":0},{"$f":"+[2]Séries_Site!O560","v":249},{"$f":"+[2]Séries_Site!P560","v":206},{"$f":"+[2]Séries_Site!Q560","v":203},{"$f":"+[2]Séries_Site!R560","v":203},{"$f":"+[2]Séries_Site!S560","v":0},{"$f":"+[2]Séries_Site!T560","v":229},{"$f":"+[2]Séries_Site!U560","v":7},{"$f":"+[2]Séries_Site!V560","v":95},{"$f":"+[2]Séries_Site!W560","v":95},{"$f":"+[2]Séries_Site!X560","v":0},{"$f":"+[2]Séries_Site!Y560","v":380},{"$f":"+[2]Séries_Site!Z560","v":278},{"$f":"+[2]Séries_Site!AA560","v":0},{"$f":"+[2]Séries_Site!AB560","v":0},{"$f":"+[2]Séries_Site!AC560","v":0},{"$f":"+[2]Séries_Site!AD560","v":0},{"$f":"+[2]Séries_Site!AE560","v":0},{"$f":"+[2]Séries_Site!AF560","v":222},{"$f":"+[2]Séries_Site!AG560","v":222},{"$f":"+[2]Séries_Site!AH560","v":0},{"$f":"+[2]Séries_Site!AI560","v":370},{"$f":"+[2]Séries_Site!AJ560","v":135}]
["2006-04-01",{"$f":"+[2]Séries_Site!B561","v":2060},{"$f":"+[2]Séries_Site!C561","v":2039},{"$f":"+[2]Séries_Site!D561","v":21},{"$f":"+[2]Séries_Site!E561","v":3931},{"$f":"+[2]Séries_Site!F561","v":1960},{"$f":"+[2]Séries_Site!G561","v":1586},{"$f":"+[2]Séries_Site!H561","v":1565},{"$f":"+[2]Séries_Site!I561","v":21},{"$f":"+[2]Séries_Site!J561","v":2920},{"$f":"+[2]Séries_Site!K561","v":1337},{"$f":"+[2]Séries_Site!L561","v":21},{"$f":"+[2]Séries_Site!M561","v":21},{"$f":"+[2]Séries_Site!N561","v":0},{"$f":"+[2]Séries_Site!O561","v":199},{"$f":"+[2]Séries_Site!P561","v":176},{"$f":"+[2]Séries_Site!Q561","v":192},{"$f":"+[2]Séries_Site!R561","v":192},{"$f":"+[2]Séries_Site!S561","v":0},{"$f":"+[2]Séries_Site!T561","v":212},{"$f":"+[2]Séries_Site!U561","v":8},{"$f":"+[2]Séries_Site!V561","v":41},{"$f":"+[2]Séries_Site!W561","v":41},{"$f":"+[2]Séries_Site!X561","v":0},{"$f":"+[2]Séries_Site!Y561","v":293},{"$f":"+[2]Séries_Site!Z561","v":334},{"$f":"+[2]Séries_Site!AA561","v":0},{"$f":"+[2]Séries_Site!AB561","v":0},{"$f":"+[2]Séries_Site!AC561","v":0},{"$f":"+[2]Séries_Site!AD561","v":0},{"$f":"+[2]Séries_Site!AE561","v":0},{"$f":"+[2]Séries_Site!AF561","v":220},{"$f":"+[2]Séries_Site!AG561","v":220},{"$f":"+[2]Séries_Site!AH561","v":0},{"$f":"+[2]Séries_Site!AI561","v":307},{"$f":"+[2]Séries_Site!AJ561","v":105}]
["2006-05-01",{"$f":"+[2]Séries_Site!B562","v":2244},{"$f":"+[2]Séries_Site!C562","v":2223},{"$f":"+[2]Séries_Site!D562","v":21},{"$f":"+[2]Séries_Site!E562","v":4455},{"$f":"+[2]Séries_Site!F562","v":1857},{"$f":"+[2]Séries_Site!G562","v":1781},{"$f":"+[2]Séries_Site!H562","v":1760},{"$f":"+[2]Séries_Site!I562","v":21},{"$f":"+[2]Séries_Site!J562","v":3543},{"$f":"+[2]Séries_Site!K562","v":1432},{"$f":"+[2]Séries_Site!L562","v":37},{"$f":"+[2]Séries_Site!M562","v":37},{"$f":"+[2]Séries_Site!N562","v":0},{"$f":"+[2]Séries_Site!O562","v":293},{"$f":"+[2]Séries_Site!P562","v":255},{"$f":"+[2]Séries_Site!Q562","v":207},{"$f":"+[2]Séries_Site!R562","v":207},{"$f":"+[2]Séries_Site!S562","v":0},{"$f":"+[2]Séries_Site!T562","v":200},{"$f":"+[2]Séries_Site!U562","v":0},{"$f":"+[2]Séries_Site!V562","v":14},{"$f":"+[2]Séries_Site!W562","v":14},{"$f":"+[2]Séries_Site!X562","v":0},{"$f":"+[2]Séries_Site!Y562","v":66},{"$f":"+[2]Séries_Site!Z562","v":67},{"$f":"+[2]Séries_Site!AA562","v":0},{"$f":"+[2]Séries_Site!AB562","v":0},{"$f":"+[2]Séries_Site!AC562","v":0},{"$f":"+[2]Séries_Site!AD562","v":0},{"$f":"+[2]Séries_Site!AE562","v":0},{"$f":"+[2]Séries_Site!AF562","v":205},{"$f":"+[2]Séries_Site!AG562","v":205},{"$f":"+[2]Séries_Site!AH562","v":0},{"$f":"+[2]Séries_Site!AI562","v":353},{"$f":"+[2]Séries_Site!AJ562","v":103}]
["2006-06-01",{"$f":"+[2]Séries_Site!B563","v":2328},{"$f":"+[2]Séries_Site!C563","v":2298},{"$f":"+[2]Séries_Site!D563","v":30},{"$f":"+[2]Séries_Site!E563","v":4184},{"$f":"+[2]Séries_Site!F563","v":2088},{"$f":"+[2]Séries_Site!G563","v":1805},{"$f":"+[2]Séries_Site!H563","v":1775},{"$f":"+[2]Séries_Site!I563","v":30},{"$f":"+[2]Séries_Site!J563","v":3364},{"$f":"+[2]Séries_Site!K563","v":1711},{"$f":"+[2]Séries_Site!L563","v":24},{"$f":"+[2]Séries_Site!M563","v":24},{"$f":"+[2]Séries_Site!N563","v":0},{"$f":"+[2]Séries_Site!O563","v":239},{"$f":"+[2]Séries_Site!P563","v":214},{"$f":"+[2]Séries_Site!Q563","v":185},{"$f":"+[2]Séries_Site!R563","v":185},{"$f":"+[2]Séries_Site!S563","v":0},{"$f":"+[2]Séries_Site!T563","v":206},{"$f":"+[2]Séries_Site!U563","v":13},{"$f":"+[2]Séries_Site!V563","v":28},{"$f":"+[2]Séries_Site!W563","v":28},{"$f":"+[2]Séries_Site!X563","v":0},{"$f":"+[2]Séries_Site!Y563","v":31},{"$f":"+[2]Séries_Site!Z563","v":33},{"$f":"+[2]Séries_Site!AA563","v":0},{"$f":"+[2]Séries_Site!AB563","v":0},{"$f":"+[2]Séries_Site!AC563","v":0},{"$f":"+[2]Séries_Site!AD563","v":0},{"$f":"+[2]Séries_Site!AE563","v":0},{"$f":"+[2]Séries_Site!AF563","v":286},{"$f":"+[2]Séries_Site!AG563","v":286},{"$f":"+[2]Séries_Site!AH563","v":0},{"$f":"+[2]Séries_Site!AI563","v":344},{"$f":"+[2]Séries_Site!AJ563","v":117}]
["2006-07-01",{"$f":"+[2]Séries_Site!B564","v":2168},{"$f":"+[2]Séries_Site!C564","v":2155},{"$f":"+[2]Séries_Site!D564","v":13},{"$f":"+[2]Séries_Site!E564","v":3932},{"$f":"+[2]Séries_Site!F564","v":1760},{"$f":"+[2]Séries_Site!G564","v":1824},{"$f":"+[2]Séries_Site!H564","v":1811},{"$f":"+[2]Séries_Site!I564","v":13},{"$f":"+[2]Séries_Site!J564","v":3151},{"$f":"+[2]Séries_Site!K564","v":1388},{"$f":"+[2]Séries_Site!L564","v":40},{"$f":"+[2]Séries_Site!M564","v":40},{"$f":"+[2]Séries_Site!N564","v":0},{"$f":"+[2]Séries_Site!O564","v":230},{"$f":"+[2]Séries_Site!P564","v":211},{"$f":"+[2]Séries_Site!Q564","v":98},{"$f":"+[2]Séries_Site!R564","v":98},{"$f":"+[2]Séries_Site!S564","v":0},{"$f":"+[2]Séries_Site!T564","v":170},{"$f":"+[2]Séries_Site!U564","v":2},{"$f":"+[2]Séries_Site!V564","v":25},{"$f":"+[2]Séries_Site!W564","v":25},{"$f":"+[2]Séries_Site!X564","v":0},{"$f":"+[2]Séries_Site!Y564","v":64},{"$f":"+[2]Séries_Site!Z564","v":74},{"$f":"+[2]Séries_Site!AA564","v":0},{"$f":"+[2]Séries_Site!AB564","v":0},{"$f":"+[2]Séries_Site!AC564","v":0},{"$f":"+[2]Séries_Site!AD564","v":0},{"$f":"+[2]Séries_Site!AE564","v":0},{"$f":"+[2]Séries_Site!AF564","v":181},{"$f":"+[2]Séries_Site!AG564","v":181},{"$f":"+[2]Séries_Site!AH564","v":0},{"$f":"+[2]Séries_Site!AI564","v":317},{"$f":"+[2]Séries_Site!AJ564","v":85}]
["2006-08-01",{"$f":"+[2]Séries_Site!B565","v":2370},{"$f":"+[2]Séries_Site!C565","v":2336},{"$f":"+[2]Séries_Site!D565","v":34},{"$f":"+[2]Séries_Site!E565","v":3939},{"$f":"+[2]Séries_Site!F565","v":2008},{"$f":"+[2]Séries_Site!G565","v":1949},{"$f":"+[2]Séries_Site!H565","v":1915},{"$f":"+[2]Séries_Site!I565","v":34},{"$f":"+[2]Séries_Site!J565","v":3257},{"$f":"+[2]Séries_Site!K565","v":1552},{"$f":"+[2]Séries_Site!L565","v":39},{"$f":"+[2]Séries_Site!M565","v":39},{"$f":"+[2]Séries_Site!N565","v":0},{"$f":"+[2]Séries_Site!O565","v":290},{"$f":"+[2]Séries_Site!P565","v":285},{"$f":"+[2]Séries_Site!Q565","v":164},{"$f":"+[2]Séries_Site!R565","v":164},{"$f":"+[2]Séries_Site!S565","v":0},{"$f":"+[2]Séries_Site!T565","v":100},{"$f":"+[2]Séries_Site!U565","v":4},{"$f":"+[2]Séries_Site!V565","v":42},{"$f":"+[2]Séries_Site!W565","v":42},{"$f":"+[2]Séries_Site!X565","v":0},{"$f":"+[2]Séries_Site!Y565","v":25},{"$f":"+[2]Séries_Site!Z565","v":48},{"$f":"+[2]Séries_Site!AA565","v":0},{"$f":"+[2]Séries_Site!AB565","v":0},{"$f":"+[2]Séries_Site!AC565","v":0},{"$f":"+[2]Séries_Site!AD565","v":0},{"$f":"+[2]Séries_Site!AE565","v":0},{"$f":"+[2]Séries_Site!AF565","v":176},{"$f":"+[2]Séries_Site!AG565","v":176},{"$f":"+[2]Séries_Site!AH565","v":0},{"$f":"+[2]Séries_Site!AI565","v":267},{"$f":"+[2]Séries_Site!AJ565","v":119}]
["2006-09-01",{"$f":"+[2]Séries_Site!B566","v":2323},{"$f":"+[2]Séries_Site!C566","v":2300},{"$f":"+[2]Séries_Site!D566","v":23},{"$f":"+[2]Séries_Site!E566","v":3801},{"$f":"+[2]Séries_Site!F566","v":1841},{"$f":"+[2]Séries_Site!G566","v":1952},{"$f":"+[2]Séries_Site!H566","v":1929},{"$f":"+[2]Séries_Site!I566","v":23},{"$f":"+[2]Séries_Site!J566","v":3026},{"$f":"+[2]Séries_Site!K566","v":1392},{"$f":"+[2]Séries_Site!L566","v":34},{"$f":"+[2]Séries_Site!M566","v":34},{"$f":"+[2]Séries_Site!N566","v":0},{"$f":"+[2]Séries_Site!O566","v":202},{"$f":"+[2]Séries_Site!P566","v":198},{"$f":"+[2]Séries_Site!Q566","v":158},{"$f":"+[2]Séries_Site!R566","v":158},{"$f":"+[2]Séries_Site!S566","v":0},{"$f":"+[2]Séries_Site!T566","v":200},{"$f":"+[2]Séries_Site!U566","v":2},{"$f":"+[2]Séries_Site!V566","v":62},{"$f":"+[2]Séries_Site!W566","v":62},{"$f":"+[2]Séries_Site!X566","v":0},{"$f":"+[2]Séries_Site!Y566","v":145},{"$f":"+[2]Séries_Site!Z566","v":147},{"$f":"+[2]Séries_Site!AA566","v":0},{"$f":"+[2]Séries_Site!AB566","v":0},{"$f":"+[2]Séries_Site!AC566","v":0},{"$f":"+[2]Séries_Site!AD566","v":0},{"$f":"+[2]Séries_Site!AE566","v":0},{"$f":"+[2]Séries_Site!AF566","v":117},{"$f":"+[2]Séries_Site!AG566","v":117},{"$f":"+[2]Séries_Site!AH566","v":0},{"$f":"+[2]Séries_Site!AI566","v":228},{"$f":"+[2]Séries_Site!AJ566","v":102}]
["2006-10-01",{"$f":"+[2]Séries_Site!B567","v":2476},{"$f":"+[2]Séries_Site!C567","v":2443},{"$f":"+[2]Séries_Site!D567","v":33},{"$f":"+[2]Séries_Site!E567","v":4144},{"$f":"+[2]Séries_Site!F567","v":2011},{"$f":"+[2]Séries_Site!G567","v":2086},{"$f":"+[2]Séries_Site!H567","v":2053},{"$f":"+[2]Séries_Site!I567","v":33},{"$f":"+[2]Séries_Site!J567","v":3264},{"$f":"+[2]Séries_Site!K567","v":1483},{"$f":"+[2]Séries_Site!L567","v":17},{"$f":"+[2]Séries_Site!M567","v":17},{"$f":"+[2]Séries_Site!N567","v":0},{"$f":"+[2]Séries_Site!O567","v":245},{"$f":"+[2]Séries_Site!P567","v":229},{"$f":"+[2]Séries_Site!Q567","v":107},{"$f":"+[2]Séries_Site!R567","v":107},{"$f":"+[2]Séries_Site!S567","v":0},{"$f":"+[2]Séries_Site!T567","v":190},{"$f":"+[2]Séries_Site!U567","v":0},{"$f":"+[2]Séries_Site!V567","v":118},{"$f":"+[2]Séries_Site!W567","v":118},{"$f":"+[2]Séries_Site!X567","v":0},{"$f":"+[2]Séries_Site!Y567","v":176},{"$f":"+[2]Séries_Site!Z567","v":120},{"$f":"+[2]Séries_Site!AA567","v":0},{"$f":"+[2]Séries_Site!AB567","v":0},{"$f":"+[2]Séries_Site!AC567","v":0},{"$f":"+[2]Séries_Site!AD567","v":0},{"$f":"+[2]Séries_Site!AE567","v":0},{"$f":"+[2]Séries_Site!AF567","v":148},{"$f":"+[2]Séries_Site!AG567","v":148},{"$f":"+[2]Séries_Site!AH567","v":0},{"$f":"+[2]Séries_Site!AI567","v":269},{"$f":"+[2]Séries_Site!AJ567","v":179}]
["2006-11-01",{"$f":"+[2]Séries_Site!B568","v":2169},{"$f":"+[2]Séries_Site!C568","v":2135},{"$f":"+[2]Séries_Site!D568","v":34},{"$f":"+[2]Séries_Site!E568","v":3707},{"$f":"+[2]Séries_Site!F568","v":1476},{"$f":"+[2]Séries_Site!G568","v":1815},{"$f":"+[2]Séries_Site!H568","v":1781},{"$f":"+[2]Séries_Site!I568","v":34},{"$f":"+[2]Séries_Site!J568","v":3011},{"$f":"+[2]Séries_Site!K568","v":1084},{"$f":"+[2]Séries_Site!L568","v":13},{"$f":"+[2]Séries_Site!M568","v":13},{"$f":"+[2]Séries_Site!N568","v":0},{"$f":"+[2]Séries_Site!O568","v":185},{"$f":"+[2]Séries_Site!P568","v":209},{"$f":"+[2]Séries_Site!Q568","v":138},{"$f":"+[2]Séries_Site!R568","v":138},{"$f":"+[2]Séries_Site!S568","v":0},{"$f":"+[2]Séries_Site!T568","v":100},{"$f":"+[2]Séries_Site!U568","v":6},{"$f":"+[2]Séries_Site!V568","v":89},{"$f":"+[2]Séries_Site!W568","v":89},{"$f":"+[2]Séries_Site!X568","v":0},{"$f":"+[2]Séries_Site!Y568","v":183},{"$f":"+[2]Séries_Site!Z568","v":83},{"$f":"+[2]Séries_Site!AA568","v":0},{"$f":"+[2]Séries_Site!AB568","v":0},{"$f":"+[2]Séries_Site!AC568","v":0},{"$f":"+[2]Séries_Site!AD568","v":0},{"$f":"+[2]Séries_Site!AE568","v":0},{"$f":"+[2]Séries_Site!AF568","v":114},{"$f":"+[2]Séries_Site!AG568","v":114},{"$f":"+[2]Séries_Site!AH568","v":0},{"$f":"+[2]Séries_Site!AI568","v":228},{"$f":"+[2]Séries_Site!AJ568","v":94}]
["2006-12-01",{"$f":"+[2]Séries_Site!B569","v":1719},{"$f":"+[2]Séries_Site!C569","v":1688},{"$f":"+[2]Séries_Site!D569","v":31},{"$f":"+[2]Séries_Site!E569","v":2705},{"$f":"+[2]Séries_Site!F569","v":1959},{"$f":"+[2]Séries_Site!G569","v":1287},{"$f":"+[2]Séries_Site!H569","v":1256},{"$f":"+[2]Séries_Site!I569","v":31},{"$f":"+[2]Séries_Site!J569","v":2057},{"$f":"+[2]Séries_Site!K569","v":1471},{"$f":"+[2]Séries_Site!L569","v":25},{"$f":"+[2]Séries_Site!M569","v":25},{"$f":"+[2]Séries_Site!N569","v":0},{"$f":"+[2]Séries_Site!O569","v":237},{"$f":"+[2]Séries_Site!P569","v":237},{"$f":"+[2]Séries_Site!Q569","v":75},{"$f":"+[2]Séries_Site!R569","v":75},{"$f":"+[2]Séries_Site!S569","v":0},{"$f":"+[2]Séries_Site!T569","v":0},{"$f":"+[2]Séries_Site!U569","v":4},{"$f":"+[2]Séries_Site!V569","v":216},{"$f":"+[2]Séries_Site!W569","v":216},{"$f":"+[2]Séries_Site!X569","v":0},{"$f":"+[2]Séries_Site!Y569","v":223},{"$f":"+[2]Séries_Site!Z569","v":119},{"$f":"+[2]Séries_Site!AA569","v":0},{"$f":"+[2]Séries_Site!AB569","v":0},{"$f":"+[2]Séries_Site!AC569","v":0},{"$f":"+[2]Séries_Site!AD569","v":0},{"$f":"+[2]Séries_Site!AE569","v":0},{"$f":"+[2]Séries_Site!AF569","v":116},{"$f":"+[2]Séries_Site!AG569","v":116},{"$f":"+[2]Séries_Site!AH569","v":0},{"$f":"+[2]Séries_Site!AI569","v":188},{"$f":"+[2]Séries_Site!AJ569","v":128}]
["2007-01-01",{"$f":"+[2]Séries_Site!B570","v":1804},{"$f":"+[2]Séries_Site!C570","v":1778},{"$f":"+[2]Séries_Site!D570","v":26},{"$f":"+[2]Séries_Site!E570","v":3158},{"$f":"+[2]Séries_Site!F570","v":1209},{"$f":"+[2]Séries_Site!G570","v":1383},{"$f":"+[2]Séries_Site!H570","v":1357},{"$f":"+[2]Séries_Site!I570","v":26},{"$f":"+[2]Séries_Site!J570","v":2197},{"$f":"+[2]Séries_Site!K570","v":747},{"$f":"+[2]Séries_Site!L570","v":15},{"$f":"+[2]Séries_Site!M570","v":15},{"$f":"+[2]Séries_Site!N570","v":0},{"$f":"+[2]Séries_Site!O570","v":238},{"$f":"+[2]Séries_Site!P570","v":217},{"$f":"+[2]Séries_Site!Q570","v":103},{"$f":"+[2]Séries_Site!R570","v":103},{"$f":"+[2]Séries_Site!S570","v":0},{"$f":"+[2]Séries_Site!T570","v":140},{"$f":"+[2]Séries_Site!U570","v":0},{"$f":"+[2]Séries_Site!V570","v":191},{"$f":"+[2]Séries_Site!W570","v":191},{"$f":"+[2]Séries_Site!X570","v":0},{"$f":"+[2]Séries_Site!Y570","v":349},{"$f":"+[2]Séries_Site!Z570","v":147},{"$f":"+[2]Séries_Site!AA570","v":0},{"$f":"+[2]Séries_Site!AB570","v":0},{"$f":"+[2]Séries_Site!AC570","v":0},{"$f":"+[2]Séries_Site!AD570","v":0},{"$f":"+[2]Séries_Site!AE570","v":0},{"$f":"+[2]Séries_Site!AF570","v":112},{"$f":"+[2]Séries_Site!AG570","v":112},{"$f":"+[2]Séries_Site!AH570","v":0},{"$f":"+[2]Séries_Site!AI570","v":234},{"$f":"+[2]Séries_Site!AJ570","v":98}]
["2007-02-01",{"$f":"+[2]Séries_Site!B571","v":2403},{"$f":"+[2]Séries_Site!C571","v":2403},{"$f":"+[2]Séries_Site!D571","v":0},{"$f":"+[2]Séries_Site!E571","v":4060},{"$f":"+[2]Séries_Site!F571","v":1662},{"$f":"+[2]Séries_Site!G571","v":1911},{"$f":"+[2]Séries_Site!H571","v":1911},{"$f":"+[2]Séries_Site!I571","v":0},{"$f":"+[2]Séries_Site!J571","v":3105},{"$f":"+[2]Séries_Site!K571","v":1106},{"$f":"+[2]Séries_Site!L571","v":20},{"$f":"+[2]Séries_Site!M571","v":20},{"$f":"+[2]Séries_Site!N571","v":0},{"$f":"+[2]Séries_Site!O571","v":205},{"$f":"+[2]Séries_Site!P571","v":178},{"$f":"+[2]Séries_Site!Q571","v":147},{"$f":"+[2]Séries_Site!R571","v":147},{"$f":"+[2]Séries_Site!S571","v":0},{"$f":"+[2]Séries_Site!T571","v":140},{"$f":"+[2]Séries_Site!U571","v":15},{"$f":"+[2]Séries_Site!V571","v":190},{"$f":"+[2]Séries_Site!W571","v":190},{"$f":"+[2]Séries_Site!X571","v":0},{"$f":"+[2]Séries_Site!Y571","v":386},{"$f":"+[2]Séries_Site!Z571","v":274},{"$f":"+[2]Séries_Site!AA571","v":0},{"$f":"+[2]Séries_Site!AB571","v":0},{"$f":"+[2]Séries_Site!AC571","v":0},{"$f":"+[2]Séries_Site!AD571","v":0},{"$f":"+[2]Séries_Site!AE571","v":0},{"$f":"+[2]Séries_Site!AF571","v":135},{"$f":"+[2]Séries_Site!AG571","v":135},{"$f":"+[2]Séries_Site!AH571","v":0},{"$f":"+[2]Séries_Site!AI571","v":224},{"$f":"+[2]Séries_Site!AJ571","v":89}]
["2007-03-01",{"$f":"+[2]Séries_Site!B572","v":3021},{"$f":"+[2]Séries_Site!C572","v":3015},{"$f":"+[2]Séries_Site!D572","v":6},{"$f":"+[2]Séries_Site!E572","v":4980},{"$f":"+[2]Séries_Site!F572","v":1992},{"$f":"+[2]Séries_Site!G572","v":2410},{"$f":"+[2]Séries_Site!H572","v":2408},{"$f":"+[2]Séries_Site!I572","v":2},{"$f":"+[2]Séries_Site!J572","v":3883},{"$f":"+[2]Séries_Site!K572","v":1460},{"$f":"+[2]Séries_Site!L572","v":28},{"$f":"+[2]Séries_Site!M572","v":28},{"$f":"+[2]Séries_Site!N572","v":0},{"$f":"+[2]Séries_Site!O572","v":212},{"$f":"+[2]Séries_Site!P572","v":171},{"$f":"+[2]Séries_Site!Q572","v":156},{"$f":"+[2]Séries_Site!R572","v":156},{"$f":"+[2]Séries_Site!S572","v":0},{"$f":"+[2]Séries_Site!T572","v":141},{"$f":"+[2]Séries_Site!U572","v":1},{"$f":"+[2]Séries_Site!V572","v":241},{"$f":"+[2]Séries_Site!W572","v":237},{"$f":"+[2]Séries_Site!X572","v":4},{"$f":"+[2]Séries_Site!Y572","v":458},{"$f":"+[2]Séries_Site!Z572","v":240},{"$f":"+[2]Séries_Site!AA572","v":0},{"$f":"+[2]Séries_Site!AB572","v":0},{"$f":"+[2]Séries_Site!AC572","v":0},{"$f":"+[2]Séries_Site!AD572","v":0},{"$f":"+[2]Séries_Site!AE572","v":0},{"$f":"+[2]Séries_Site!AF572","v":186},{"$f":"+[2]Séries_Site!AG572","v":186},{"$f":"+[2]Séries_Site!AH572","v":0},{"$f":"+[2]Séries_Site!AI572","v":286},{"$f":"+[2]Séries_Site!AJ572","v":120}]
["2007-04-01",{"$f":"+[2]Séries_Site!B573","v":2908},{"$f":"+[2]Séries_Site!C573","v":2889},{"$f":"+[2]Séries_Site!D573","v":19},{"$f":"+[2]Séries_Site!E573","v":5204},{"$f":"+[2]Séries_Site!F573","v":2146},{"$f":"+[2]Séries_Site!G573","v":2401},{"$f":"+[2]Séries_Site!H573","v":2386},{"$f":"+[2]Séries_Site!I573","v":15},{"$f":"+[2]Séries_Site!J573","v":4141},{"$f":"+[2]Séries_Site!K573","v":1555},{"$f":"+[2]Séries_Site!L573","v":35},{"$f":"+[2]Séries_Site!M573","v":35},{"$f":"+[2]Séries_Site!N573","v":0},{"$f":"+[2]Séries_Site!O573","v":243},{"$f":"+[2]Séries_Site!P573","v":210},{"$f":"+[2]Séries_Site!Q573","v":153},{"$f":"+[2]Séries_Site!R573","v":153},{"$f":"+[2]Séries_Site!S573","v":0},{"$f":"+[2]Séries_Site!T573","v":165},{"$f":"+[2]Séries_Site!U573","v":6},{"$f":"+[2]Séries_Site!V573","v":141},{"$f":"+[2]Séries_Site!W573","v":137},{"$f":"+[2]Séries_Site!X573","v":4},{"$f":"+[2]Séries_Site!Y573","v":360},{"$f":"+[2]Séries_Site!Z573","v":275},{"$f":"+[2]Séries_Site!AA573","v":0},{"$f":"+[2]Séries_Site!AB573","v":0},{"$f":"+[2]Séries_Site!AC573","v":0},{"$f":"+[2]Séries_Site!AD573","v":0},{"$f":"+[2]Séries_Site!AE573","v":0},{"$f":"+[2]Séries_Site!AF573","v":178},{"$f":"+[2]Séries_Site!AG573","v":178},{"$f":"+[2]Séries_Site!AH573","v":0},{"$f":"+[2]Séries_Site!AI573","v":295},{"$f":"+[2]Séries_Site!AJ573","v":100}]
["2007-05-01",{"$f":"+[2]Séries_Site!B574","v":3151},{"$f":"+[2]Séries_Site!C574","v":3147},{"$f":"+[2]Séries_Site!D574","v":4},{"$f":"+[2]Séries_Site!E574","v":5601},{"$f":"+[2]Séries_Site!F574","v":2248},{"$f":"+[2]Séries_Site!G574","v":2677},{"$f":"+[2]Séries_Site!H574","v":2675},{"$f":"+[2]Séries_Site!I574","v":2},{"$f":"+[2]Séries_Site!J574","v":4479},{"$f":"+[2]Séries_Site!K574","v":1712},{"$f":"+[2]Séries_Site!L574","v":43},{"$f":"+[2]Séries_Site!M574","v":42},{"$f":"+[2]Séries_Site!N574","v":1},{"$f":"+[2]Séries_Site!O574","v":399},{"$f":"+[2]Séries_Site!P574","v":354},{"$f":"+[2]Séries_Site!Q574","v":154},{"$f":"+[2]Séries_Site!R574","v":154},{"$f":"+[2]Séries_Site!S574","v":0},{"$f":"+[2]Séries_Site!T574","v":161},{"$f":"+[2]Séries_Site!U574","v":20},{"$f":"+[2]Séries_Site!V574","v":82},{"$f":"+[2]Séries_Site!W574","v":81},{"$f":"+[2]Séries_Site!X574","v":1},{"$f":"+[2]Séries_Site!Y574","v":246},{"$f":"+[2]Séries_Site!Z574","v":74},{"$f":"+[2]Séries_Site!AA574","v":0},{"$f":"+[2]Séries_Site!AB574","v":0},{"$f":"+[2]Séries_Site!AC574","v":0},{"$f":"+[2]Séries_Site!AD574","v":0},{"$f":"+[2]Séries_Site!AE574","v":0},{"$f":"+[2]Séries_Site!AF574","v":195},{"$f":"+[2]Séries_Site!AG574","v":195},{"$f":"+[2]Séries_Site!AH574","v":0},{"$f":"+[2]Séries_Site!AI574","v":316},{"$f":"+[2]Séries_Site!AJ574","v":88}]
["2007-06-01",{"$f":"+[2]Séries_Site!B575","v":3381},{"$f":"+[2]Séries_Site!C575","v":3355},{"$f":"+[2]Séries_Site!D575","v":26},{"$f":"+[2]Séries_Site!E575","v":5749},{"$f":"+[2]Séries_Site!F575","v":2401},{"$f":"+[2]Séries_Site!G575","v":2831},{"$f":"+[2]Séries_Site!H575","v":2805},{"$f":"+[2]Séries_Site!I575","v":26},{"$f":"+[2]Séries_Site!J575","v":4649},{"$f":"+[2]Séries_Site!K575","v":1878},{"$f":"+[2]Séries_Site!L575","v":43},{"$f":"+[2]Séries_Site!M575","v":43},{"$f":"+[2]Séries_Site!N575","v":0},{"$f":"+[2]Séries_Site!O575","v":252},{"$f":"+[2]Séries_Site!P575","v":229},{"$f":"+[2]Séries_Site!Q575","v":139},{"$f":"+[2]Séries_Site!R575","v":139},{"$f":"+[2]Séries_Site!S575","v":0},{"$f":"+[2]Séries_Site!T575","v":180},{"$f":"+[2]Séries_Site!U575","v":2},{"$f":"+[2]Séries_Site!V575","v":101},{"$f":"+[2]Séries_Site!W575","v":101},{"$f":"+[2]Séries_Site!X575","v":0},{"$f":"+[2]Séries_Site!Y575","v":300},{"$f":"+[2]Séries_Site!Z575","v":126},{"$f":"+[2]Séries_Site!AA575","v":0},{"$f":"+[2]Séries_Site!AB575","v":0},{"$f":"+[2]Séries_Site!AC575","v":0},{"$f":"+[2]Séries_Site!AD575","v":0},{"$f":"+[2]Séries_Site!AE575","v":0},{"$f":"+[2]Séries_Site!AF575","v":267},{"$f":"+[2]Séries_Site!AG575","v":267},{"$f":"+[2]Séries_Site!AH575","v":0},{"$f":"+[2]Séries_Site!AI575","v":368},{"$f":"+[2]Séries_Site!AJ575","v":166}]
["2007-07-01",{"$f":"+[2]Séries_Site!B576","v":3507},{"$f":"+[2]Séries_Site!C576","v":3492},{"$f":"+[2]Séries_Site!D576","v":15},{"$f":"+[2]Séries_Site!E576","v":6458},{"$f":"+[2]Séries_Site!F576","v":2500},{"$f":"+[2]Séries_Site!G576","v":2979},{"$f":"+[2]Séries_Site!H576","v":2968},{"$f":"+[2]Séries_Site!I576","v":11},{"$f":"+[2]Séries_Site!J576","v":5282},{"$f":"+[2]Séries_Site!K576","v":1992},{"$f":"+[2]Séries_Site!L576","v":37},{"$f":"+[2]Séries_Site!M576","v":34},{"$f":"+[2]Séries_Site!N576","v":3},{"$f":"+[2]Séries_Site!O576","v":269},{"$f":"+[2]Séries_Site!P576","v":209},{"$f":"+[2]Séries_Site!Q576","v":159},{"$f":"+[2]Séries_Site!R576","v":159},{"$f":"+[2]Séries_Site!S576","v":0},{"$f":"+[2]Séries_Site!T576","v":130},{"$f":"+[2]Séries_Site!U576","v":1},{"$f":"+[2]Séries_Site!V576","v":98},{"$f":"+[2]Séries_Site!W576","v":97},{"$f":"+[2]Séries_Site!X576","v":1},{"$f":"+[2]Séries_Site!Y576","v":393},{"$f":"+[2]Séries_Site!Z576","v":178},{"$f":"+[2]Séries_Site!AA576","v":0},{"$f":"+[2]Séries_Site!AB576","v":0},{"$f":"+[2]Séries_Site!AC576","v":0},{"$f":"+[2]Séries_Site!AD576","v":0},{"$f":"+[2]Séries_Site!AE576","v":0},{"$f":"+[2]Séries_Site!AF576","v":234},{"$f":"+[2]Séries_Site!AG576","v":234},{"$f":"+[2]Séries_Site!AH576","v":0},{"$f":"+[2]Séries_Site!AI576","v":384},{"$f":"+[2]Séries_Site!AJ576","v":120}]
["2007-08-01",{"$f":"+[2]Séries_Site!B577","v":3863},{"$f":"+[2]Séries_Site!C577","v":3766},{"$f":"+[2]Séries_Site!D577","v":97},{"$f":"+[2]Séries_Site!E577","v":6817},{"$f":"+[2]Séries_Site!F577","v":2783},{"$f":"+[2]Séries_Site!G577","v":3355},{"$f":"+[2]Séries_Site!H577","v":3259},{"$f":"+[2]Séries_Site!I577","v":96},{"$f":"+[2]Séries_Site!J577","v":5447},{"$f":"+[2]Séries_Site!K577","v":2078},{"$f":"+[2]Séries_Site!L577","v":47},{"$f":"+[2]Séries_Site!M577","v":46},{"$f":"+[2]Séries_Site!N577","v":1},{"$f":"+[2]Séries_Site!O577","v":329},{"$f":"+[2]Séries_Site!P577","v":298},{"$f":"+[2]Séries_Site!Q577","v":41},{"$f":"+[2]Séries_Site!R577","v":41},{"$f":"+[2]Séries_Site!S577","v":0},{"$f":"+[2]Séries_Site!T577","v":130},{"$f":"+[2]Séries_Site!U577","v":8},{"$f":"+[2]Séries_Site!V577","v":144},{"$f":"+[2]Séries_Site!W577","v":144},{"$f":"+[2]Séries_Site!X577","v":0},{"$f":"+[2]Séries_Site!Y577","v":492},{"$f":"+[2]Séries_Site!Z577","v":269},{"$f":"+[2]Séries_Site!AA577","v":0},{"$f":"+[2]Séries_Site!AB577","v":0},{"$f":"+[2]Séries_Site!AC577","v":0},{"$f":"+[2]Séries_Site!AD577","v":0},{"$f":"+[2]Séries_Site!AE577","v":0},{"$f":"+[2]Séries_Site!AF577","v":276},{"$f":"+[2]Séries_Site!AG577","v":276},{"$f":"+[2]Séries_Site!AH577","v":0},{"$f":"+[2]Séries_Site!AI577","v":419},{"$f":"+[2]Séries_Site!AJ577","v":130}]
["2007-09-01",{"$f":"+[2]Séries_Site!B578","v":3588},{"$f":"+[2]Séries_Site!C578","v":3491},{"$f":"+[2]Séries_Site!D578","v":97},{"$f":"+[2]Séries_Site!E578","v":5767},{"$f":"+[2]Séries_Site!F578","v":2560},{"$f":"+[2]Séries_Site!G578","v":3003},{"$f":"+[2]Séries_Site!H578","v":2906},{"$f":"+[2]Séries_Site!I578","v":97},{"$f":"+[2]Séries_Site!J578","v":4667},{"$f":"+[2]Séries_Site!K578","v":1856},{"$f":"+[2]Séries_Site!L578","v":45},{"$f":"+[2]Séries_Site!M578","v":45},{"$f":"+[2]Séries_Site!N578","v":0},{"$f":"+[2]Séries_Site!O578","v":286},{"$f":"+[2]Séries_Site!P578","v":268},{"$f":"+[2]Séries_Site!Q578","v":110},{"$f":"+[2]Séries_Site!R578","v":110},{"$f":"+[2]Séries_Site!S578","v":0},{"$f":"+[2]Séries_Site!T578","v":120},{"$f":"+[2]Séries_Site!U578","v":63},{"$f":"+[2]Séries_Site!V578","v":182},{"$f":"+[2]Séries_Site!W578","v":182},{"$f":"+[2]Séries_Site!X578","v":0},{"$f":"+[2]Séries_Site!Y578","v":342},{"$f":"+[2]Séries_Site!Z578","v":270},{"$f":"+[2]Séries_Site!AA578","v":0},{"$f":"+[2]Séries_Site!AB578","v":0},{"$f":"+[2]Séries_Site!AC578","v":0},{"$f":"+[2]Séries_Site!AD578","v":0},{"$f":"+[2]Séries_Site!AE578","v":0},{"$f":"+[2]Séries_Site!AF578","v":248},{"$f":"+[2]Séries_Site!AG578","v":248},{"$f":"+[2]Séries_Site!AH578","v":0},{"$f":"+[2]Séries_Site!AI578","v":352},{"$f":"+[2]Séries_Site!AJ578","v":103}]
["2007-10-01",{"$f":"+[2]Séries_Site!B579","v":4234},{"$f":"+[2]Séries_Site!C579","v":4083},{"$f":"+[2]Séries_Site!D579","v":151},{"$f":"+[2]Séries_Site!E579","v":6841},{"$f":"+[2]Séries_Site!F579","v":2990},{"$f":"+[2]Séries_Site!G579","v":3438},{"$f":"+[2]Séries_Site!H579","v":3291},{"$f":"+[2]Séries_Site!I579","v":147},{"$f":"+[2]Séries_Site!J579","v":5459},{"$f":"+[2]Séries_Site!K579","v":2297},{"$f":"+[2]Séries_Site!L579","v":38},{"$f":"+[2]Séries_Site!M579","v":37},{"$f":"+[2]Séries_Site!N579","v":1},{"$f":"+[2]Séries_Site!O579","v":327},{"$f":"+[2]Séries_Site!P579","v":260},{"$f":"+[2]Séries_Site!Q579","v":163},{"$f":"+[2]Séries_Site!R579","v":163},{"$f":"+[2]Séries_Site!S579","v":0},{"$f":"+[2]Séries_Site!T579","v":170},{"$f":"+[2]Séries_Site!U579","v":0},{"$f":"+[2]Séries_Site!V579","v":318},{"$f":"+[2]Séries_Site!W579","v":315},{"$f":"+[2]Séries_Site!X579","v":3},{"$f":"+[2]Séries_Site!Y579","v":467},{"$f":"+[2]Séries_Site!Z579","v":283},{"$f":"+[2]Séries_Site!AA579","v":0},{"$f":"+[2]Séries_Site!AB579","v":0},{"$f":"+[2]Séries_Site!AC579","v":0},{"$f":"+[2]Séries_Site!AD579","v":0},{"$f":"+[2]Séries_Site!AE579","v":0},{"$f":"+[2]Séries_Site!AF579","v":277},{"$f":"+[2]Séries_Site!AG579","v":277},{"$f":"+[2]Séries_Site!AH579","v":0},{"$f":"+[2]Séries_Site!AI579","v":418},{"$f":"+[2]Séries_Site!AJ579","v":150}]
["2007-11-01",{"$f":"+[2]Séries_Site!B580","v":3689},{"$f":"+[2]Séries_Site!C580","v":3618},{"$f":"+[2]Séries_Site!D580","v":71},{"$f":"+[2]Séries_Site!E580","v":6250},{"$f":"+[2]Séries_Site!F580","v":2456},{"$f":"+[2]Séries_Site!G580","v":2949},{"$f":"+[2]Séries_Site!H580","v":2880},{"$f":"+[2]Séries_Site!I580","v":69},{"$f":"+[2]Séries_Site!J580","v":4698},{"$f":"+[2]Séries_Site!K580","v":1799},{"$f":"+[2]Séries_Site!L580","v":43},{"$f":"+[2]Séries_Site!M580","v":41},{"$f":"+[2]Séries_Site!N580","v":2},{"$f":"+[2]Séries_Site!O580","v":337},{"$f":"+[2]Séries_Site!P580","v":276},{"$f":"+[2]Séries_Site!Q580","v":149},{"$f":"+[2]Séries_Site!R580","v":149},{"$f":"+[2]Séries_Site!S580","v":0},{"$f":"+[2]Séries_Site!T580","v":175},{"$f":"+[2]Séries_Site!U580","v":1},{"$f":"+[2]Séries_Site!V580","v":250},{"$f":"+[2]Séries_Site!W580","v":250},{"$f":"+[2]Séries_Site!X580","v":0},{"$f":"+[2]Séries_Site!Y580","v":618},{"$f":"+[2]Séries_Site!Z580","v":274},{"$f":"+[2]Séries_Site!AA580","v":0},{"$f":"+[2]Séries_Site!AB580","v":0},{"$f":"+[2]Séries_Site!AC580","v":0},{"$f":"+[2]Séries_Site!AD580","v":0},{"$f":"+[2]Séries_Site!AE580","v":0},{"$f":"+[2]Séries_Site!AF580","v":298},{"$f":"+[2]Séries_Site!AG580","v":298},{"$f":"+[2]Séries_Site!AH580","v":0},{"$f":"+[2]Séries_Site!AI580","v":422},{"$f":"+[2]Séries_Site!AJ580","v":106}]
["2007-12-01",{"$f":"+[2]Séries_Site!B581","v":2788},{"$f":"+[2]Séries_Site!C581","v":2651},{"$f":"+[2]Séries_Site!D581","v":137},{"$f":"+[2]Séries_Site!E581","v":4118},{"$f":"+[2]Séries_Site!F581","v":2301},{"$f":"+[2]Séries_Site!G581","v":1963},{"$f":"+[2]Séries_Site!H581","v":1845},{"$f":"+[2]Séries_Site!I581","v":118},{"$f":"+[2]Séries_Site!J581","v":2712},{"$f":"+[2]Séries_Site!K581","v":1588},{"$f":"+[2]Séries_Site!L581","v":43},{"$f":"+[2]Séries_Site!M581","v":41},{"$f":"+[2]Séries_Site!N581","v":2},{"$f":"+[2]Séries_Site!O581","v":250},{"$f":"+[2]Séries_Site!P581","v":259},{"$f":"+[2]Séries_Site!Q581","v":74},{"$f":"+[2]Séries_Site!R581","v":74},{"$f":"+[2]Séries_Site!S581","v":0},{"$f":"+[2]Séries_Site!T581","v":70},{"$f":"+[2]Séries_Site!U581","v":12},{"$f":"+[2]Séries_Site!V581","v":439},{"$f":"+[2]Séries_Site!W581","v":422},{"$f":"+[2]Séries_Site!X581","v":17},{"$f":"+[2]Séries_Site!Y581","v":737},{"$f":"+[2]Séries_Site!Z581","v":373},{"$f":"+[2]Séries_Site!AA581","v":0},{"$f":"+[2]Séries_Site!AB581","v":0},{"$f":"+[2]Séries_Site!AC581","v":0},{"$f":"+[2]Séries_Site!AD581","v":0},{"$f":"+[2]Séries_Site!AE581","v":0},{"$f":"+[2]Séries_Site!AF581","v":269},{"$f":"+[2]Séries_Site!AG581","v":269},{"$f":"+[2]Séries_Site!AH581","v":0},{"$f":"+[2]Séries_Site!AI581","v":349},{"$f":"+[2]Séries_Site!AJ581","v":69}]
["2008-01-01",{"$f":"+[2]Séries_Site!B582","v":2867},{"$f":"+[2]Séries_Site!C582","v":2752},{"$f":"+[2]Séries_Site!D582","v":115},{"$f":"+[2]Séries_Site!E582","v":5858},{"$f":"+[2]Séries_Site!F582","v":1943},{"$f":"+[2]Séries_Site!G582","v":2033},{"$f":"+[2]Séries_Site!H582","v":1926},{"$f":"+[2]Séries_Site!I582","v":107},{"$f":"+[2]Séries_Site!J582","v":4225},{"$f":"+[2]Séries_Site!K582","v":1258},{"$f":"+[2]Séries_Site!L582","v":33},{"$f":"+[2]Séries_Site!M582","v":33},{"$f":"+[2]Séries_Site!N582","v":0},{"$f":"+[2]Séries_Site!O582","v":318},{"$f":"+[2]Séries_Site!P582","v":269},{"$f":"+[2]Séries_Site!Q582","v":134},{"$f":"+[2]Séries_Site!R582","v":134},{"$f":"+[2]Séries_Site!S582","v":0},{"$f":"+[2]Séries_Site!T582","v":130},{"$f":"+[2]Séries_Site!U582","v":0},{"$f":"+[2]Séries_Site!V582","v":431},{"$f":"+[2]Séries_Site!W582","v":423},{"$f":"+[2]Séries_Site!X582","v":8},{"$f":"+[2]Séries_Site!Y582","v":818},{"$f":"+[2]Séries_Site!Z582","v":329},{"$f":"+[2]Séries_Site!AA582","v":0},{"$f":"+[2]Séries_Site!AB582","v":0},{"$f":"+[2]Séries_Site!AC582","v":0},{"$f":"+[2]Séries_Site!AD582","v":0},{"$f":"+[2]Séries_Site!AE582","v":0},{"$f":"+[2]Séries_Site!AF582","v":236},{"$f":"+[2]Séries_Site!AG582","v":236},{"$f":"+[2]Séries_Site!AH582","v":0},{"$f":"+[2]Séries_Site!AI582","v":367},{"$f":"+[2]Séries_Site!AJ582","v":87}]
["2008-02-01",{"$f":"+[2]Séries_Site!B583","v":3972},{"$f":"+[2]Séries_Site!C583","v":3902},{"$f":"+[2]Séries_Site!D583","v":70},{"$f":"+[2]Séries_Site!E583","v":6558},{"$f":"+[2]Séries_Site!F583","v":2272},{"$f":"+[2]Séries_Site!G583","v":2984},{"$f":"+[2]Séries_Site!H583","v":2963},{"$f":"+[2]Séries_Site!I583","v":21},{"$f":"+[2]Séries_Site!J583","v":5012},{"$f":"+[2]Séries_Site!K583","v":1581},{"$f":"+[2]Séries_Site!L583","v":39},{"$f":"+[2]Séries_Site!M583","v":39},{"$f":"+[2]Séries_Site!N583","v":0},{"$f":"+[2]Séries_Site!O583","v":297},{"$f":"+[2]Séries_Site!P583","v":257},{"$f":"+[2]Séries_Site!Q583","v":140},{"$f":"+[2]Séries_Site!R583","v":140},{"$f":"+[2]Séries_Site!S583","v":0},{"$f":"+[2]Séries_Site!T583","v":125},{"$f":"+[2]Séries_Site!U583","v":5},{"$f":"+[2]Séries_Site!V583","v":509},{"$f":"+[2]Séries_Site!W583","v":460},{"$f":"+[2]Séries_Site!X583","v":49},{"$f":"+[2]Séries_Site!Y583","v":736},{"$f":"+[2]Séries_Site!Z583","v":337},{"$f":"+[2]Séries_Site!AA583","v":0},{"$f":"+[2]Séries_Site!AB583","v":0},{"$f":"+[2]Séries_Site!AC583","v":0},{"$f":"+[2]Séries_Site!AD583","v":0},{"$f":"+[2]Séries_Site!AE583","v":0},{"$f":"+[2]Séries_Site!AF583","v":300},{"$f":"+[2]Séries_Site!AG583","v":300},{"$f":"+[2]Séries_Site!AH583","v":0},{"$f":"+[2]Séries_Site!AI583","v":388},{"$f":"+[2]Séries_Site!AJ583","v":92}]
["2008-03-01",{"$f":"+[2]Séries_Site!B584","v":4331},{"$f":"+[2]Séries_Site!C584","v":4259},{"$f":"+[2]Séries_Site!D584","v":72},{"$f":"+[2]Séries_Site!E584","v":6634},{"$f":"+[2]Séries_Site!F584","v":2612},{"$f":"+[2]Séries_Site!G584","v":3389},{"$f":"+[2]Séries_Site!H584","v":3328},{"$f":"+[2]Séries_Site!I584","v":61},{"$f":"+[2]Séries_Site!J584","v":5028},{"$f":"+[2]Séries_Site!K584","v":1930},{"$f":"+[2]Séries_Site!L584","v":42},{"$f":"+[2]Séries_Site!M584","v":42},{"$f":"+[2]Séries_Site!N584","v":0},{"$f":"+[2]Séries_Site!O584","v":250},{"$f":"+[2]Séries_Site!P584","v":190},{"$f":"+[2]Séries_Site!Q584","v":146},{"$f":"+[2]Séries_Site!R584","v":146},{"$f":"+[2]Séries_Site!S584","v":0},{"$f":"+[2]Séries_Site!T584","v":125},{"$f":"+[2]Séries_Site!U584","v":0},{"$f":"+[2]Séries_Site!V584","v":398},{"$f":"+[2]Séries_Site!W584","v":387},{"$f":"+[2]Séries_Site!X584","v":11},{"$f":"+[2]Séries_Site!Y584","v":822},{"$f":"+[2]Séries_Site!Z584","v":400},{"$f":"+[2]Séries_Site!AA584","v":0},{"$f":"+[2]Séries_Site!AB584","v":0},{"$f":"+[2]Séries_Site!AC584","v":0},{"$f":"+[2]Séries_Site!AD584","v":0},{"$f":"+[2]Séries_Site!AE584","v":0},{"$f":"+[2]Séries_Site!AF584","v":356},{"$f":"+[2]Séries_Site!AG584","v":356},{"$f":"+[2]Séries_Site!AH584","v":0},{"$f":"+[2]Séries_Site!AI584","v":409},{"$f":"+[2]Séries_Site!AJ584","v":92}]
["2008-04-01",{"$f":"+[2]Séries_Site!B585","v":4477},{"$f":"+[2]Séries_Site!C585","v":4332},{"$f":"+[2]Séries_Site!D585","v":145},{"$f":"+[2]Séries_Site!E585","v":7025},{"$f":"+[2]Séries_Site!F585","v":2797},{"$f":"+[2]Séries_Site!G585","v":3640},{"$f":"+[2]Séries_Site!H585","v":3502},{"$f":"+[2]Séries_Site!I585","v":138},{"$f":"+[2]Séries_Site!J585","v":5360},{"$f":"+[2]Séries_Site!K585","v":1898},{"$f":"+[2]Séries_Site!L585","v":53},{"$f":"+[2]Séries_Site!M585","v":49},{"$f":"+[2]Séries_Site!N585","v":4},{"$f":"+[2]Séries_Site!O585","v":325},{"$f":"+[2]Séries_Site!P585","v":306},{"$f":"+[2]Séries_Site!Q585","v":152},{"$f":"+[2]Séries_Site!R585","v":152},{"$f":"+[2]Séries_Site!S585","v":0},{"$f":"+[2]Séries_Site!T585","v":150},{"$f":"+[2]Séries_Site!U585","v":2},{"$f":"+[2]Séries_Site!V585","v":287},{"$f":"+[2]Séries_Site!W585","v":284},{"$f":"+[2]Séries_Site!X585","v":3},{"$f":"+[2]Séries_Site!Y585","v":754},{"$f":"+[2]Séries_Site!Z585","v":487},{"$f":"+[2]Séries_Site!AA585","v":0},{"$f":"+[2]Séries_Site!AB585","v":0},{"$f":"+[2]Séries_Site!AC585","v":0},{"$f":"+[2]Séries_Site!AD585","v":0},{"$f":"+[2]Séries_Site!AE585","v":0},{"$f":"+[2]Séries_Site!AF585","v":345},{"$f":"+[2]Séries_Site!AG585","v":345},{"$f":"+[2]Séries_Site!AH585","v":0},{"$f":"+[2]Séries_Site!AI585","v":436},{"$f":"+[2]Séries_Site!AJ585","v":104}]
["2008-05-01",{"$f":"+[2]Séries_Site!B586","v":4658},{"$f":"+[2]Séries_Site!C586","v":4443},{"$f":"+[2]Séries_Site!D586","v":215},{"$f":"+[2]Séries_Site!E586","v":6474},{"$f":"+[2]Séries_Site!F586","v":2701},{"$f":"+[2]Séries_Site!G586","v":3857},{"$f":"+[2]Séries_Site!H586","v":3645},{"$f":"+[2]Séries_Site!I586","v":212},{"$f":"+[2]Séries_Site!J586","v":5317},{"$f":"+[2]Séries_Site!K586","v":2209},{"$f":"+[2]Séries_Site!L586","v":65},{"$f":"+[2]Séries_Site!M586","v":62},{"$f":"+[2]Séries_Site!N586","v":3},{"$f":"+[2]Séries_Site!O586","v":255},{"$f":"+[2]Séries_Site!P586","v":187},{"$f":"+[2]Séries_Site!Q586","v":169},{"$f":"+[2]Séries_Site!R586","v":169},{"$f":"+[2]Séries_Site!S586","v":0},{"$f":"+[2]Séries_Site!T586","v":170},{"$f":"+[2]Séries_Site!U586","v":0},{"$f":"+[2]Séries_Site!V586","v":205},{"$f":"+[2]Séries_Site!W586","v":205},{"$f":"+[2]Séries_Site!X586","v":0},{"$f":"+[2]Séries_Site!Y586","v":312},{"$f":"+[2]Séries_Site!Z586","v":218},{"$f":"+[2]Séries_Site!AA586","v":0},{"$f":"+[2]Séries_Site!AB586","v":0},{"$f":"+[2]Séries_Site!AC586","v":0},{"$f":"+[2]Séries_Site!AD586","v":0},{"$f":"+[2]Séries_Site!AE586","v":0},{"$f":"+[2]Séries_Site!AF586","v":362},{"$f":"+[2]Séries_Site!AG586","v":362},{"$f":"+[2]Séries_Site!AH586","v":0},{"$f":"+[2]Séries_Site!AI586","v":420},{"$f":"+[2]Séries_Site!AJ586","v":87}]
["2008-06-01",{"$f":"+[2]Séries_Site!B587","v":5086},{"$f":"+[2]Séries_Site!C587","v":5020},{"$f":"+[2]Séries_Site!D587","v":66},{"$f":"+[2]Séries_Site!E587","v":7342},{"$f":"+[2]Séries_Site!F587","v":2433},{"$f":"+[2]Séries_Site!G587","v":4203},{"$f":"+[2]Séries_Site!H587","v":4141},{"$f":"+[2]Séries_Site!I587","v":62},{"$f":"+[2]Séries_Site!J587","v":5875},{"$f":"+[2]Séries_Site!K587","v":1962},{"$f":"+[2]Séries_Site!L587","v":93},{"$f":"+[2]Séries_Site!M587","v":89},{"$f":"+[2]Séries_Site!N587","v":4},{"$f":"+[2]Séries_Site!O587","v":302},{"$f":"+[2]Séries_Site!P587","v":231},{"$f":"+[2]Séries_Site!Q587","v":186},{"$f":"+[2]Séries_Site!R587","v":186},{"$f":"+[2]Séries_Site!S587","v":0},{"$f":"+[2]Séries_Site!T587","v":170},{"$f":"+[2]Séries_Site!U587","v":5},{"$f":"+[2]Séries_Site!V587","v":263},{"$f":"+[2]Séries_Site!W587","v":263},{"$f":"+[2]Séries_Site!X587","v":0},{"$f":"+[2]Séries_Site!Y587","v":567},{"$f":"+[2]Séries_Site!Z587","v":146},{"$f":"+[2]Séries_Site!AA587","v":0},{"$f":"+[2]Séries_Site!AB587","v":0},{"$f":"+[2]Séries_Site!AC587","v":0},{"$f":"+[2]Séries_Site!AD587","v":0},{"$f":"+[2]Séries_Site!AE587","v":0},{"$f":"+[2]Séries_Site!AF587","v":341},{"$f":"+[2]Séries_Site!AG587","v":341},{"$f":"+[2]Séries_Site!AH587","v":0},{"$f":"+[2]Séries_Site!AI587","v":428},{"$f":"+[2]Séries_Site!AJ587","v":89}]
["2008-07-01",{"$f":"+[2]Séries_Site!B588","v":5053},{"$f":"+[2]Séries_Site!C588","v":4888},{"$f":"+[2]Séries_Site!D588","v":165},{"$f":"+[2]Séries_Site!E588","v":7591},{"$f":"+[2]Séries_Site!F588","v":2624},{"$f":"+[2]Séries_Site!G588","v":4072},{"$f":"+[2]Séries_Site!H588","v":3916},{"$f":"+[2]Séries_Site!I588","v":156},{"$f":"+[2]Séries_Site!J588","v":5958},{"$f":"+[2]Séries_Site!K588","v":2003},{"$f":"+[2]Séries_Site!L588","v":78},{"$f":"+[2]Séries_Site!M588","v":73},{"$f":"+[2]Séries_Site!N588","v":5},{"$f":"+[2]Séries_Site!O588","v":355},{"$f":"+[2]Séries_Site!P588","v":278},{"$f":"+[2]Séries_Site!Q588","v":171},{"$f":"+[2]Séries_Site!R588","v":171},{"$f":"+[2]Séries_Site!S588","v":0},{"$f":"+[2]Séries_Site!T588","v":166},{"$f":"+[2]Séries_Site!U588","v":1},{"$f":"+[2]Séries_Site!V588","v":310},{"$f":"+[2]Séries_Site!W588","v":306},{"$f":"+[2]Séries_Site!X588","v":4},{"$f":"+[2]Séries_Site!Y588","v":641},{"$f":"+[2]Séries_Site!Z588","v":271},{"$f":"+[2]Séries_Site!AA588","v":0},{"$f":"+[2]Séries_Site!AB588","v":0},{"$f":"+[2]Séries_Site!AC588","v":0},{"$f":"+[2]Séries_Site!AD588","v":0},{"$f":"+[2]Séries_Site!AE588","v":0},{"$f":"+[2]Séries_Site!AF588","v":422},{"$f":"+[2]Séries_Site!AG588","v":422},{"$f":"+[2]Séries_Site!AH588","v":0},{"$f":"+[2]Séries_Site!AI588","v":471},{"$f":"+[2]Séries_Site!AJ588","v":71}]
["2008-08-01",{"$f":"+[2]Séries_Site!B589","v":5090},{"$f":"+[2]Séries_Site!C589","v":4909},{"$f":"+[2]Séries_Site!D589","v":181},{"$f":"+[2]Séries_Site!E589","v":7967},{"$f":"+[2]Séries_Site!F589","v":2974},{"$f":"+[2]Séries_Site!G589","v":4214},{"$f":"+[2]Séries_Site!H589","v":4050},{"$f":"+[2]Séries_Site!I589","v":164},{"$f":"+[2]Séries_Site!J589","v":6356},{"$f":"+[2]Séries_Site!K589","v":2245},{"$f":"+[2]Séries_Site!L589","v":82},{"$f":"+[2]Séries_Site!M589","v":75},{"$f":"+[2]Séries_Site!N589","v":7},{"$f":"+[2]Séries_Site!O589","v":306},{"$f":"+[2]Séries_Site!P589","v":234},{"$f":"+[2]Séries_Site!Q589","v":116},{"$f":"+[2]Séries_Site!R589","v":116},{"$f":"+[2]Séries_Site!S589","v":0},{"$f":"+[2]Séries_Site!T589","v":150},{"$f":"+[2]Séries_Site!U589","v":0},{"$f":"+[2]Séries_Site!V589","v":304},{"$f":"+[2]Séries_Site!W589","v":304},{"$f":"+[2]Séries_Site!X589","v":0},{"$f":"+[2]Séries_Site!Y589","v":711},{"$f":"+[2]Séries_Site!Z589","v":401},{"$f":"+[2]Séries_Site!AA589","v":0},{"$f":"+[2]Séries_Site!AB589","v":0},{"$f":"+[2]Séries_Site!AC589","v":0},{"$f":"+[2]Séries_Site!AD589","v":0},{"$f":"+[2]Séries_Site!AE589","v":0},{"$f":"+[2]Séries_Site!AF589","v":374},{"$f":"+[2]Séries_Site!AG589","v":364},{"$f":"+[2]Séries_Site!AH589","v":10},{"$f":"+[2]Séries_Site!AI589","v":444},{"$f":"+[2]Séries_Site!AJ589","v":94}]
["2008-09-01",{"$f":"+[2]Séries_Site!B590","v":5470},{"$f":"+[2]Séries_Site!C590","v":5345},{"$f":"+[2]Séries_Site!D590","v":125},{"$f":"+[2]Séries_Site!E590","v":7952},{"$f":"+[2]Séries_Site!F590","v":2462},{"$f":"+[2]Séries_Site!G590","v":4302},{"$f":"+[2]Séries_Site!H590","v":4209},{"$f":"+[2]Séries_Site!I590","v":93},{"$f":"+[2]Séries_Site!J590","v":6173},{"$f":"+[2]Séries_Site!K590","v":1792},{"$f":"+[2]Séries_Site!L590","v":89},{"$f":"+[2]Séries_Site!M590","v":79},{"$f":"+[2]Séries_Site!N590","v":10},{"$f":"+[2]Séries_Site!O590","v":290},{"$f":"+[2]Séries_Site!P590","v":219},{"$f":"+[2]Séries_Site!Q590","v":168},{"$f":"+[2]Séries_Site!R590","v":168},{"$f":"+[2]Séries_Site!S590","v":0},{"$f":"+[2]Séries_Site!T590","v":150},{"$f":"+[2]Séries_Site!U590","v":0},{"$f":"+[2]Séries_Site!V590","v":497},{"$f":"+[2]Séries_Site!W590","v":497},{"$f":"+[2]Séries_Site!X590","v":0},{"$f":"+[2]Séries_Site!Y590","v":849},{"$f":"+[2]Séries_Site!Z590","v":357},{"$f":"+[2]Séries_Site!AA590","v":0},{"$f":"+[2]Séries_Site!AB590","v":0},{"$f":"+[2]Séries_Site!AC590","v":0},{"$f":"+[2]Séries_Site!AD590","v":0},{"$f":"+[2]Séries_Site!AE590","v":0},{"$f":"+[2]Séries_Site!AF590","v":414},{"$f":"+[2]Séries_Site!AG590","v":392},{"$f":"+[2]Séries_Site!AH590","v":22},{"$f":"+[2]Séries_Site!AI590","v":490},{"$f":"+[2]Séries_Site!AJ590","v":94}]
["2008-10-01",{"$f":"+[2]Séries_Site!B591","v":5457},{"$f":"+[2]Séries_Site!C591","v":5263},{"$f":"+[2]Séries_Site!D591","v":194},{"$f":"+[2]Séries_Site!E591","v":8791},{"$f":"+[2]Séries_Site!F591","v":2138},{"$f":"+[2]Séries_Site!G591","v":4296},{"$f":"+[2]Séries_Site!H591","v":4137},{"$f":"+[2]Séries_Site!I591","v":159},{"$f":"+[2]Séries_Site!J591","v":6916},{"$f":"+[2]Séries_Site!K591","v":1739},{"$f":"+[2]Séries_Site!L591","v":59},{"$f":"+[2]Séries_Site!M591","v":49},{"$f":"+[2]Séries_Site!N591","v":10},{"$f":"+[2]Séries_Site!O591","v":280},{"$f":"+[2]Séries_Site!P591","v":162},{"$f":"+[2]Séries_Site!Q591","v":186},{"$f":"+[2]Séries_Site!R591","v":186},{"$f":"+[2]Séries_Site!S591","v":0},{"$f":"+[2]Séries_Site!T591","v":185},{"$f":"+[2]Séries_Site!U591","v":0},{"$f":"+[2]Séries_Site!V591","v":502},{"$f":"+[2]Séries_Site!W591","v":500},{"$f":"+[2]Séries_Site!X591","v":2},{"$f":"+[2]Séries_Site!Y591","v":896},{"$f":"+[2]Séries_Site!Z591","v":186},{"$f":"+[2]Séries_Site!AA591","v":0},{"$f":"+[2]Séries_Site!AB591","v":0},{"$f":"+[2]Séries_Site!AC591","v":0},{"$f":"+[2]Séries_Site!AD591","v":0},{"$f":"+[2]Séries_Site!AE591","v":0},{"$f":"+[2]Séries_Site!AF591","v":414},{"$f":"+[2]Séries_Site!AG591","v":391},{"$f":"+[2]Séries_Site!AH591","v":23},{"$f":"+[2]Séries_Site!AI591","v":514},{"$f":"+[2]Séries_Site!AJ591","v":51}]
["2008-11-01",{"$f":"+[2]Séries_Site!B592","v":4303},{"$f":"+[2]Séries_Site!C592","v":4099},{"$f":"+[2]Séries_Site!D592","v":204},{"$f":"+[2]Séries_Site!E592","v":7438},{"$f":"+[2]Séries_Site!F592","v":2432},{"$f":"+[2]Séries_Site!G592","v":3530},{"$f":"+[2]Séries_Site!H592","v":3359},{"$f":"+[2]Séries_Site!I592","v":171},{"$f":"+[2]Séries_Site!J592","v":5831},{"$f":"+[2]Séries_Site!K592","v":2015},{"$f":"+[2]Séries_Site!L592","v":51},{"$f":"+[2]Séries_Site!M592","v":40},{"$f":"+[2]Séries_Site!N592","v":11},{"$f":"+[2]Séries_Site!O592","v":266},{"$f":"+[2]Séries_Site!P592","v":211},{"$f":"+[2]Séries_Site!Q592","v":154},{"$f":"+[2]Séries_Site!R592","v":154},{"$f":"+[2]Séries_Site!S592","v":0},{"$f":"+[2]Séries_Site!T592","v":130},{"$f":"+[2]Séries_Site!U592","v":0},{"$f":"+[2]Séries_Site!V592","v":326},{"$f":"+[2]Séries_Site!W592","v":304},{"$f":"+[2]Séries_Site!X592","v":22},{"$f":"+[2]Séries_Site!Y592","v":790},{"$f":"+[2]Séries_Site!Z592","v":181},{"$f":"+[2]Séries_Site!AA592","v":0},{"$f":"+[2]Séries_Site!AB592","v":0},{"$f":"+[2]Séries_Site!AC592","v":0},{"$f":"+[2]Séries_Site!AD592","v":0},{"$f":"+[2]Séries_Site!AE592","v":0},{"$f":"+[2]Séries_Site!AF592","v":242},{"$f":"+[2]Séries_Site!AG592","v":242},{"$f":"+[2]Séries_Site!AH592","v":0},{"$f":"+[2]Séries_Site!AI592","v":421},{"$f":"+[2]Séries_Site!AJ592","v":25}]
["2008-12-01",{"$f":"+[2]Séries_Site!B593","v":3708},{"$f":"+[2]Séries_Site!C593","v":3580},{"$f":"+[2]Séries_Site!D593","v":128},{"$f":"+[2]Séries_Site!E593","v":5362},{"$f":"+[2]Séries_Site!F593","v":2880},{"$f":"+[2]Séries_Site!G593","v":2894},{"$f":"+[2]Séries_Site!H593","v":2790},{"$f":"+[2]Séries_Site!I593","v":104},{"$f":"+[2]Séries_Site!J593","v":4453},{"$f":"+[2]Séries_Site!K593","v":2424},{"$f":"+[2]Séries_Site!L593","v":36},{"$f":"+[2]Séries_Site!M593","v":31},{"$f":"+[2]Séries_Site!N593","v":5},{"$f":"+[2]Séries_Site!O593","v":171},{"$f":"+[2]Séries_Site!P593","v":182},{"$f":"+[2]Séries_Site!Q593","v":130},{"$f":"+[2]Séries_Site!R593","v":130},{"$f":"+[2]Séries_Site!S593","v":0},{"$f":"+[2]Séries_Site!T593","v":100},{"$f":"+[2]Séries_Site!U593","v":0},{"$f":"+[2]Séries_Site!V593","v":426},{"$f":"+[2]Séries_Site!W593","v":407},{"$f":"+[2]Séries_Site!X593","v":19},{"$f":"+[2]Séries_Site!Y593","v":511},{"$f":"+[2]Séries_Site!Z593","v":254},{"$f":"+[2]Séries_Site!AA593","v":0},{"$f":"+[2]Séries_Site!AB593","v":0},{"$f":"+[2]Séries_Site!AC593","v":0},{"$f":"+[2]Séries_Site!AD593","v":0},{"$f":"+[2]Séries_Site!AE593","v":0},{"$f":"+[2]Séries_Site!AF593","v":222},{"$f":"+[2]Séries_Site!AG593","v":222},{"$f":"+[2]Séries_Site!AH593","v":0},{"$f":"+[2]Séries_Site!AI593","v":127},{"$f":"+[2]Séries_Site!AJ593","v":20}]
["2009-01-01",{"$f":"+[2]Séries_Site!B594","v":3079},{"$f":"+[2]Séries_Site!C594","v":2950},{"$f":"+[2]Séries_Site!D594","v":129},{"$f":"+[2]Séries_Site!E594","v":4652},{"$f":"+[2]Séries_Site!F594","v":917.00009999999997},{"$f":"+[2]Séries_Site!G594","v":2398},{"$f":"+[2]Séries_Site!H594","v":2351},{"$f":"+[2]Séries_Site!I594","v":47},{"$f":"+[2]Séries_Site!J594","v":3824},{"$f":"+[2]Séries_Site!K594","v":731},{"$f":"+[2]Séries_Site!L594","v":30},{"$f":"+[2]Séries_Site!M594","v":19},{"$f":"+[2]Séries_Site!N594","v":11},{"$f":"+[2]Séries_Site!O594","v":98},{"$f":"+[2]Séries_Site!P594","v":85},{"$f":"+[2]Séries_Site!Q594","v":121},{"$f":"+[2]Séries_Site!R594","v":121},{"$f":"+[2]Séries_Site!S594","v":0},{"$f":"+[2]Séries_Site!T594","v":132},{"$f":"+[2]Séries_Site!U594","v":1E-4},{"$f":"+[2]Séries_Site!V594","v":315},{"$f":"+[2]Séries_Site!W594","v":308},{"$f":"+[2]Séries_Site!X594","v":7},{"$f":"+[2]Séries_Site!Y594","v":550},{"$f":"+[2]Séries_Site!Z594","v":100},{"$f":"+[2]Séries_Site!AA594","v":0},{"$f":"+[2]Séries_Site!AB594","v":0},{"$f":"+[2]Séries_Site!AC594","v":0},{"$f":"+[2]Séries_Site!AD594","v":0},{"$f":"+[2]Séries_Site!AE594","v":0},{"$f":"+[2]Séries_Site!AF594","v":215},{"$f":"+[2]Séries_Site!AG594","v":151},{"$f":"+[2]Séries_Site!AH594","v":64},{"$f":"+[2]Séries_Site!AI594","v":48},{"$f":"+[2]Séries_Site!AJ594","v":1}]
["2009-02-01",{"$f":"+[2]Séries_Site!B595","v":3640},{"$f":"+[2]Séries_Site!C595","v":3472},{"$f":"+[2]Séries_Site!D595","v":168},{"$f":"+[2]Séries_Site!E595","v":4407},{"$f":"+[2]Séries_Site!F595","v":1385},{"$f":"+[2]Séries_Site!G595","v":2885},{"$f":"+[2]Séries_Site!H595","v":2795},{"$f":"+[2]Séries_Site!I595","v":90},{"$f":"+[2]Séries_Site!J595","v":3612},{"$f":"+[2]Séries_Site!K595","v":1072},{"$f":"+[2]Séries_Site!L595","v":34},{"$f":"+[2]Séries_Site!M595","v":19},{"$f":"+[2]Séries_Site!N595","v":15},{"$f":"+[2]Séries_Site!O595","v":79},{"$f":"+[2]Séries_Site!P595","v":97},{"$f":"+[2]Séries_Site!Q595","v":131},{"$f":"+[2]Séries_Site!R595","v":131},{"$f":"+[2]Séries_Site!S595","v":0},{"$f":"+[2]Séries_Site!T595","v":145},{"$f":"+[2]Séries_Site!U595","v":0},{"$f":"+[2]Séries_Site!V595","v":323},{"$f":"+[2]Séries_Site!W595","v":309},{"$f":"+[2]Séries_Site!X595","v":14},{"$f":"+[2]Séries_Site!Y595","v":432},{"$f":"+[2]Séries_Site!Z595","v":216},{"$f":"+[2]Séries_Site!AA595","v":0},{"$f":"+[2]Séries_Site!AB595","v":0},{"$f":"+[2]Séries_Site!AC595","v":0},{"$f":"+[2]Séries_Site!AD595","v":0},{"$f":"+[2]Séries_Site!AE595","v":0},{"$f":"+[2]Séries_Site!AF595","v":267},{"$f":"+[2]Séries_Site!AG595","v":218},{"$f":"+[2]Séries_Site!AH595","v":49},{"$f":"+[2]Séries_Site!AI595","v":139},{"$f":"+[2]Séries_Site!AJ595","v":0}]
["2009-03-01",{"$f":"+[2]Séries_Site!B596","v":4149},{"$f":"+[2]Séries_Site!C596","v":4033},{"$f":"+[2]Séries_Site!D596","v":116},{"$f":"+[2]Séries_Site!E596","v":5622},{"$f":"+[2]Séries_Site!F596","v":1770},{"$f":"+[2]Séries_Site!G596","v":3408},{"$f":"+[2]Séries_Site!H596","v":3325},{"$f":"+[2]Séries_Site!I596","v":83},{"$f":"+[2]Séries_Site!J596","v":4654},{"$f":"+[2]Séries_Site!K596","v":1493},{"$f":"+[2]Séries_Site!L596","v":51},{"$f":"+[2]Séries_Site!M596","v":43},{"$f":"+[2]Séries_Site!N596","v":8},{"$f":"+[2]Séries_Site!O596","v":74},{"$f":"+[2]Séries_Site!P596","v":43},{"$f":"+[2]Séries_Site!Q596","v":154},{"$f":"+[2]Séries_Site!R596","v":154},{"$f":"+[2]Séries_Site!S596","v":0},{"$f":"+[2]Séries_Site!T596","v":168},{"$f":"+[2]Séries_Site!U596","v":0},{"$f":"+[2]Séries_Site!V596","v":288},{"$f":"+[2]Séries_Site!W596","v":270},{"$f":"+[2]Séries_Site!X596","v":18},{"$f":"+[2]Séries_Site!Y596","v":471},{"$f":"+[2]Séries_Site!Z596","v":217},{"$f":"+[2]Séries_Site!AA596","v":0},{"$f":"+[2]Séries_Site!AB596","v":0},{"$f":"+[2]Séries_Site!AC596","v":0},{"$f":"+[2]Séries_Site!AD596","v":0},{"$f":"+[2]Séries_Site!AE596","v":0},{"$f":"+[2]Séries_Site!AF596","v":248},{"$f":"+[2]Séries_Site!AG596","v":241},{"$f":"+[2]Séries_Site!AH596","v":7},{"$f":"+[2]Séries_Site!AI596","v":255},{"$f":"+[2]Séries_Site!AJ596","v":17}]
["2009-04-01",{"$f":"+[2]Séries_Site!B597","v":3930},{"$f":"+[2]Séries_Site!C597","v":3645},{"$f":"+[2]Séries_Site!D597","v":285},{"$f":"+[2]Séries_Site!E597","v":5214},{"$f":"+[2]Séries_Site!F597","v":772},{"$f":"+[2]Séries_Site!G597","v":3328},{"$f":"+[2]Séries_Site!H597","v":3072},{"$f":"+[2]Séries_Site!I597","v":256},{"$f":"+[2]Séries_Site!J597","v":4618},{"$f":"+[2]Séries_Site!K597","v":546},{"$f":"+[2]Séries_Site!L597","v":54},{"$f":"+[2]Séries_Site!M597","v":35},{"$f":"+[2]Séries_Site!N597","v":19},{"$f":"+[2]Séries_Site!O597","v":49},{"$f":"+[2]Séries_Site!P597","v":36},{"$f":"+[2]Séries_Site!Q597","v":127},{"$f":"+[2]Séries_Site!R597","v":127},{"$f":"+[2]Séries_Site!S597","v":0},{"$f":"+[2]Séries_Site!T597","v":161},{"$f":"+[2]Séries_Site!U597","v":9},{"$f":"+[2]Séries_Site!V597","v":205},{"$f":"+[2]Séries_Site!W597","v":195},{"$f":"+[2]Séries_Site!X597","v":10},{"$f":"+[2]Séries_Site!Y597","v":198},{"$f":"+[2]Séries_Site!Z597","v":159},{"$f":"+[2]Séries_Site!AA597","v":0},{"$f":"+[2]Séries_Site!AB597","v":0},{"$f":"+[2]Séries_Site!AC597","v":0},{"$f":"+[2]Séries_Site!AD597","v":0},{"$f":"+[2]Séries_Site!AE597","v":0},{"$f":"+[2]Séries_Site!AF597","v":216},{"$f":"+[2]Séries_Site!AG597","v":216},{"$f":"+[2]Séries_Site!AH597","v":0},{"$f":"+[2]Séries_Site!AI597","v":188},{"$f":"+[2]Séries_Site!AJ597","v":22}]
["2009-05-01",{"$f":"+[2]Séries_Site!B598","v":4016},{"$f":"+[2]Séries_Site!C598","v":3868},{"$f":"+[2]Séries_Site!D598","v":148},{"$f":"+[2]Séries_Site!E598","v":4459},{"$f":"+[2]Séries_Site!F598","v":1237},{"$f":"+[2]Séries_Site!G598","v":3379},{"$f":"+[2]Séries_Site!H598","v":3266},{"$f":"+[2]Séries_Site!I598","v":113},{"$f":"+[2]Séries_Site!J598","v":3823},{"$f":"+[2]Séries_Site!K598","v":1126},{"$f":"+[2]Séries_Site!L598","v":53},{"$f":"+[2]Séries_Site!M598","v":41},{"$f":"+[2]Séries_Site!N598","v":12},{"$f":"+[2]Séries_Site!O598","v":47},{"$f":"+[2]Séries_Site!P598","v":49},{"$f":"+[2]Séries_Site!Q598","v":171},{"$f":"+[2]Séries_Site!R598","v":171},{"$f":"+[2]Séries_Site!S598","v":0},{"$f":"+[2]Séries_Site!T598","v":175},{"$f":"+[2]Séries_Site!U598","v":2},{"$f":"+[2]Séries_Site!V598","v":126},{"$f":"+[2]Séries_Site!W598","v":113},{"$f":"+[2]Séries_Site!X598","v":13},{"$f":"+[2]Séries_Site!Y598","v":60},{"$f":"+[2]Séries_Site!Z598","v":34},{"$f":"+[2]Séries_Site!AA598","v":0},{"$f":"+[2]Séries_Site!AB598","v":0},{"$f":"+[2]Séries_Site!AC598","v":0},{"$f":"+[2]Séries_Site!AD598","v":0},{"$f":"+[2]Séries_Site!AE598","v":0},{"$f":"+[2]Séries_Site!AF598","v":287},{"$f":"+[2]Séries_Site!AG598","v":277},{"$f":"+[2]Séries_Site!AH598","v":10},{"$f":"+[2]Séries_Site!AI598","v":354},{"$f":"+[2]Séries_Site!AJ598","v":26}]
["2009-06-01",{"$f":"+[2]Séries_Site!B599","v":4244},{"$f":"+[2]Séries_Site!C599","v":4080},{"$f":"+[2]Séries_Site!D599","v":164},{"$f":"+[2]Séries_Site!E599","v":4065},{"$f":"+[2]Séries_Site!F599","v":1198},{"$f":"+[2]Séries_Site!G599","v":3534},{"$f":"+[2]Séries_Site!H599","v":3389},{"$f":"+[2]Séries_Site!I599","v":145},{"$f":"+[2]Séries_Site!J599","v":3464},{"$f":"+[2]Séries_Site!K599","v":1028},{"$f":"+[2]Séries_Site!L599","v":47},{"$f":"+[2]Séries_Site!M599","v":33},{"$f":"+[2]Séries_Site!N599","v":14},{"$f":"+[2]Séries_Site!O599","v":70},{"$f":"+[2]Séries_Site!P599","v":63},{"$f":"+[2]Séries_Site!Q599","v":163},{"$f":"+[2]Séries_Site!R599","v":163},{"$f":"+[2]Séries_Site!S599","v":0},{"$f":"+[2]Séries_Site!T599","v":175},{"$f":"+[2]Séries_Site!U599","v":0},{"$f":"+[2]Séries_Site!V599","v":115},{"$f":"+[2]Séries_Site!W599","v":110},{"$f":"+[2]Séries_Site!X599","v":5},{"$f":"+[2]Séries_Site!Y599","v":5},{"$f":"+[2]Séries_Site!Z599","v":74},{"$f":"+[2]Séries_Site!AA599","v":0},{"$f":"+[2]Séries_Site!AB599","v":0},{"$f":"+[2]Séries_Site!AC599","v":0},{"$f":"+[2]Séries_Site!AD599","v":0},{"$f":"+[2]Séries_Site!AE599","v":0},{"$f":"+[2]Séries_Site!AF599","v":385},{"$f":"+[2]Séries_Site!AG599","v":385},{"$f":"+[2]Séries_Site!AH599","v":0},{"$f":"+[2]Séries_Site!AI599","v":351},{"$f":"+[2]Séries_Site!AJ599","v":33}]
["2009-07-01",{"$f":"+[2]Séries_Site!B600","v":4807},{"$f":"+[2]Séries_Site!C600","v":4655},{"$f":"+[2]Séries_Site!D600","v":152},{"$f":"+[2]Séries_Site!E600","v":5586},{"$f":"+[2]Séries_Site!F600","v":946},{"$f":"+[2]Séries_Site!G600","v":4150},{"$f":"+[2]Séries_Site!H600","v":4025},{"$f":"+[2]Séries_Site!I600","v":125},{"$f":"+[2]Séries_Site!J600","v":4739},{"$f":"+[2]Séries_Site!K600","v":777},{"$f":"+[2]Séries_Site!L600","v":39},{"$f":"+[2]Séries_Site!M600","v":31},{"$f":"+[2]Séries_Site!N600","v":8},{"$f":"+[2]Séries_Site!O600","v":88},{"$f":"+[2]Séries_Site!P600","v":54},{"$f":"+[2]Séries_Site!Q600","v":131},{"$f":"+[2]Séries_Site!R600","v":131},{"$f":"+[2]Séries_Site!S600","v":0},{"$f":"+[2]Séries_Site!T600","v":140},{"$f":"+[2]Séries_Site!U600","v":1},{"$f":"+[2]Séries_Site!V600","v":163},{"$f":"+[2]Séries_Site!W600","v":156},{"$f":"+[2]Séries_Site!X600","v":7},{"$f":"+[2]Séries_Site!Y600","v":238},{"$f":"+[2]Séries_Site!Z600","v":85},{"$f":"+[2]Séries_Site!AA600","v":0},{"$f":"+[2]Séries_Site!AB600","v":0},{"$f":"+[2]Séries_Site!AC600","v":0},{"$f":"+[2]Séries_Site!AD600","v":0},{"$f":"+[2]Séries_Site!AE600","v":0},{"$f":"+[2]Séries_Site!AF600","v":324},{"$f":"+[2]Séries_Site!AG600","v":312},{"$f":"+[2]Séries_Site!AH600","v":12},{"$f":"+[2]Séries_Site!AI600","v":381},{"$f":"+[2]Séries_Site!AJ600","v":29}]
["2009-08-01",{"$f":"+[2]Séries_Site!B601","v":5050},{"$f":"+[2]Séries_Site!C601","v":4890},{"$f":"+[2]Séries_Site!D601","v":160},{"$f":"+[2]Séries_Site!E601","v":5695},{"$f":"+[2]Séries_Site!F601","v":858},{"$f":"+[2]Séries_Site!G601","v":4243},{"$f":"+[2]Séries_Site!H601","v":4108},{"$f":"+[2]Séries_Site!I601","v":135},{"$f":"+[2]Séries_Site!J601","v":4751},{"$f":"+[2]Séries_Site!K601","v":702},{"$f":"+[2]Séries_Site!L601","v":68},{"$f":"+[2]Séries_Site!M601","v":62},{"$f":"+[2]Séries_Site!N601","v":6},{"$f":"+[2]Séries_Site!O601","v":96},{"$f":"+[2]Séries_Site!P601","v":57},{"$f":"+[2]Séries_Site!Q601","v":156},{"$f":"+[2]Séries_Site!R601","v":156},{"$f":"+[2]Séries_Site!S601","v":0},{"$f":"+[2]Séries_Site!T601","v":130},{"$f":"+[2]Séries_Site!U601","v":0},{"$f":"+[2]Séries_Site!V601","v":249},{"$f":"+[2]Séries_Site!W601","v":237},{"$f":"+[2]Séries_Site!X601","v":12},{"$f":"+[2]Séries_Site!Y601","v":336},{"$f":"+[2]Séries_Site!Z601","v":48},{"$f":"+[2]Séries_Site!AA601","v":0},{"$f":"+[2]Séries_Site!AB601","v":0},{"$f":"+[2]Séries_Site!AC601","v":0},{"$f":"+[2]Séries_Site!AD601","v":0},{"$f":"+[2]Séries_Site!AE601","v":0},{"$f":"+[2]Séries_Site!AF601","v":334},{"$f":"+[2]Séries_Site!AG601","v":327},{"$f":"+[2]Séries_Site!AH601","v":7},{"$f":"+[2]Séries_Site!AI601","v":382},{"$f":"+[2]Séries_Site!AJ601","v":51}]
["2009-09-01",{"$f":"+[2]Séries_Site!B602","v":5445},{"$f":"+[2]Séries_Site!C602","v":5337},{"$f":"+[2]Séries_Site!D602","v":108},{"$f":"+[2]Séries_Site!E602","v":6087},{"$f":"+[2]Séries_Site!F602","v":1213},{"$f":"+[2]Séries_Site!G602","v":4639},{"$f":"+[2]Séries_Site!H602","v":4555},{"$f":"+[2]Séries_Site!I602","v":84},{"$f":"+[2]Séries_Site!J602","v":5115},{"$f":"+[2]Séries_Site!K602","v":1006},{"$f":"+[2]Séries_Site!L602","v":51},{"$f":"+[2]Séries_Site!M602","v":47},{"$f":"+[2]Séries_Site!N602","v":4},{"$f":"+[2]Séries_Site!O602","v":97},{"$f":"+[2]Séries_Site!P602","v":67},{"$f":"+[2]Séries_Site!Q602","v":118},{"$f":"+[2]Séries_Site!R602","v":118},{"$f":"+[2]Séries_Site!S602","v":0},{"$f":"+[2]Séries_Site!T602","v":160},{"$f":"+[2]Séries_Site!U602","v":1},{"$f":"+[2]Séries_Site!V602","v":349},{"$f":"+[2]Séries_Site!W602","v":337},{"$f":"+[2]Séries_Site!X602","v":12},{"$f":"+[2]Séries_Site!Y602","v":386},{"$f":"+[2]Séries_Site!Z602","v":82},{"$f":"+[2]Séries_Site!AA602","v":0},{"$f":"+[2]Séries_Site!AB602","v":0},{"$f":"+[2]Séries_Site!AC602","v":0},{"$f":"+[2]Séries_Site!AD602","v":0},{"$f":"+[2]Séries_Site!AE602","v":0},{"$f":"+[2]Séries_Site!AF602","v":288},{"$f":"+[2]Séries_Site!AG602","v":280},{"$f":"+[2]Séries_Site!AH602","v":8},{"$f":"+[2]Séries_Site!AI602","v":329},{"$f":"+[2]Séries_Site!AJ602","v":57}]
["2009-10-01",{"$f":"+[2]Séries_Site!B603","v":6160},{"$f":"+[2]Séries_Site!C603","v":6048},{"$f":"+[2]Séries_Site!D603","v":112},{"$f":"+[2]Séries_Site!E603","v":7009},{"$f":"+[2]Séries_Site!F603","v":1055},{"$f":"+[2]Séries_Site!G603","v":5088},{"$f":"+[2]Séries_Site!H603","v":4990},{"$f":"+[2]Séries_Site!I603","v":98},{"$f":"+[2]Séries_Site!J603","v":5831},{"$f":"+[2]Séries_Site!K603","v":890},{"$f":"+[2]Séries_Site!L603","v":83},{"$f":"+[2]Séries_Site!M603","v":78},{"$f":"+[2]Séries_Site!N603","v":5},{"$f":"+[2]Séries_Site!O603","v":105},{"$f":"+[2]Séries_Site!P603","v":64},{"$f":"+[2]Séries_Site!Q603","v":112},{"$f":"+[2]Séries_Site!R603","v":112},{"$f":"+[2]Séries_Site!S603","v":0},{"$f":"+[2]Séries_Site!T603","v":151},{"$f":"+[2]Séries_Site!U603","v":10},{"$f":"+[2]Séries_Site!V603","v":438},{"$f":"+[2]Séries_Site!W603","v":430},{"$f":"+[2]Séries_Site!X603","v":8},{"$f":"+[2]Séries_Site!Y603","v":402},{"$f":"+[2]Séries_Site!Z603","v":57},{"$f":"+[2]Séries_Site!AA603","v":0},{"$f":"+[2]Séries_Site!AB603","v":0},{"$f":"+[2]Séries_Site!AC603","v":0},{"$f":"+[2]Séries_Site!AD603","v":0},{"$f":"+[2]Séries_Site!AE603","v":0},{"$f":"+[2]Séries_Site!AF603","v":439},{"$f":"+[2]Séries_Site!AG603","v":438},{"$f":"+[2]Séries_Site!AH603","v":1},{"$f":"+[2]Séries_Site!AI603","v":520},{"$f":"+[2]Séries_Site!AJ603","v":34}]
["2009-11-01",{"$f":"+[2]Séries_Site!B604","v":5335},{"$f":"+[2]Séries_Site!C604","v":5306},{"$f":"+[2]Séries_Site!D604","v":29},{"$f":"+[2]Séries_Site!E604","v":7259},{"$f":"+[2]Séries_Site!F604","v":1712},{"$f":"+[2]Séries_Site!G604","v":4331},{"$f":"+[2]Séries_Site!H604","v":4306},{"$f":"+[2]Séries_Site!I604","v":25},{"$f":"+[2]Séries_Site!J604","v":5849},{"$f":"+[2]Séries_Site!K604","v":1476},{"$f":"+[2]Séries_Site!L604","v":58},{"$f":"+[2]Séries_Site!M604","v":53},{"$f":"+[2]Séries_Site!N604","v":5},{"$f":"+[2]Séries_Site!O604","v":94},{"$f":"+[2]Séries_Site!P604","v":80},{"$f":"+[2]Séries_Site!Q604","v":165},{"$f":"+[2]Séries_Site!R604","v":165},{"$f":"+[2]Séries_Site!S604","v":0},{"$f":"+[2]Séries_Site!T604","v":195},{"$f":"+[2]Séries_Site!U604","v":14},{"$f":"+[2]Séries_Site!V604","v":455},{"$f":"+[2]Séries_Site!W604","v":456},{"$f":"+[2]Séries_Site!X604","v":-1},{"$f":"+[2]Séries_Site!Y604","v":651},{"$f":"+[2]Séries_Site!Z604","v":75},{"$f":"+[2]Séries_Site!AA604","v":0},{"$f":"+[2]Séries_Site!AB604","v":0},{"$f":"+[2]Séries_Site!AC604","v":0},{"$f":"+[2]Séries_Site!AD604","v":0},{"$f":"+[2]Séries_Site!AE604","v":0},{"$f":"+[2]Séries_Site!AF604","v":326},{"$f":"+[2]Séries_Site!AG604","v":326},{"$f":"+[2]Séries_Site!AH604","v":0},{"$f":"+[2]Séries_Site!AI604","v":470},{"$f":"+[2]Séries_Site!AJ604","v":67}]
["2009-12-01",{"$f":"+[2]Séries_Site!B605","v":5457},{"$f":"+[2]Séries_Site!C605","v":5393},{"$f":"+[2]Séries_Site!D605","v":64},{"$f":"+[2]Séries_Site!E605","v":6155},{"$f":"+[2]Séries_Site!F605","v":1717},{"$f":"+[2]Séries_Site!G605","v":4054},{"$f":"+[2]Séries_Site!H605","v":4024},{"$f":"+[2]Séries_Site!I605","v":30},{"$f":"+[2]Séries_Site!J605","v":4744},{"$f":"+[2]Séries_Site!K605","v":1497},{"$f":"+[2]Séries_Site!L605","v":50},{"$f":"+[2]Séries_Site!M605","v":45},{"$f":"+[2]Séries_Site!N605","v":5},{"$f":"+[2]Séries_Site!O605","v":89},{"$f":"+[2]Séries_Site!P605","v":80},{"$f":"+[2]Séries_Site!Q605","v":210},{"$f":"+[2]Séries_Site!R605","v":210},{"$f":"+[2]Séries_Site!S605","v":0},{"$f":"+[2]Séries_Site!T605","v":100},{"$f":"+[2]Séries_Site!U605","v":2},{"$f":"+[2]Séries_Site!V605","v":791},{"$f":"+[2]Séries_Site!W605","v":762},{"$f":"+[2]Séries_Site!X605","v":29},{"$f":"+[2]Séries_Site!Y605","v":774},{"$f":"+[2]Séries_Site!Z605","v":84},{"$f":"+[2]Séries_Site!AA605","v":0},{"$f":"+[2]Séries_Site!AB605","v":0},{"$f":"+[2]Séries_Site!AC605","v":0},{"$f":"+[2]Séries_Site!AD605","v":0},{"$f":"+[2]Séries_Site!AE605","v":0},{"$f":"+[2]Séries_Site!AF605","v":352},{"$f":"+[2]Séries_Site!AG605","v":352},{"$f":"+[2]Séries_Site!AH605","v":0},{"$f":"+[2]Séries_Site!AI605","v":448},{"$f":"+[2]Séries_Site!AJ605","v":54}]
["2010-01-01",{"$f":"+[2]Séries_Site!B606","v":4576},{"$f":"+[2]Séries_Site!C606","v":4512},{"$f":"+[2]Séries_Site!D606","v":64},{"$f":"+[2]Séries_Site!E606","v":5886},{"$f":"+[2]Séries_Site!F606","v":919},{"$f":"+[2]Séries_Site!G606","v":3545},{"$f":"+[2]Séries_Site!H606","v":3494},{"$f":"+[2]Séries_Site!I606","v":51},{"$f":"+[2]Séries_Site!J606","v":4483},{"$f":"+[2]Séries_Site!K606","v":678},{"$f":"+[2]Séries_Site!L606","v":52},{"$f":"+[2]Séries_Site!M606","v":50},{"$f":"+[2]Séries_Site!N606","v":2},{"$f":"+[2]Séries_Site!O606","v":102},{"$f":"+[2]Séries_Site!P606","v":72},{"$f":"+[2]Séries_Site!Q606","v":91},{"$f":"+[2]Séries_Site!R606","v":91},{"$f":"+[2]Séries_Site!S606","v":0},{"$f":"+[2]Séries_Site!T606","v":90},{"$f":"+[2]Séries_Site!U606","v":42},{"$f":"+[2]Séries_Site!V606","v":565},{"$f":"+[2]Séries_Site!W606","v":558},{"$f":"+[2]Séries_Site!X606","v":7},{"$f":"+[2]Séries_Site!Y606","v":779},{"$f":"+[2]Séries_Site!Z606","v":94},{"$f":"+[2]Séries_Site!AA606","v":0},{"$f":"+[2]Séries_Site!AB606","v":0},{"$f":"+[2]Séries_Site!AC606","v":0},{"$f":"+[2]Séries_Site!AD606","v":0},{"$f":"+[2]Séries_Site!AE606","v":0},{"$f":"+[2]Séries_Site!AF606","v":323},{"$f":"+[2]Séries_Site!AG606","v":319},{"$f":"+[2]Séries_Site!AH606","v":4},{"$f":"+[2]Séries_Site!AI606","v":432},{"$f":"+[2]Séries_Site!AJ606","v":33}]
["2010-02-01",{"$f":"+[2]Séries_Site!B607","v":5329},{"$f":"+[2]Séries_Site!C607","v":5281},{"$f":"+[2]Séries_Site!D607","v":48},{"$f":"+[2]Séries_Site!E607","v":6460},{"$f":"+[2]Séries_Site!F607","v":1123},{"$f":"+[2]Séries_Site!G607","v":4263},{"$f":"+[2]Séries_Site!H607","v":4227},{"$f":"+[2]Séries_Site!I607","v":36},{"$f":"+[2]Séries_Site!J607","v":5003},{"$f":"+[2]Séries_Site!K607","v":737},{"$f":"+[2]Séries_Site!L607","v":77},{"$f":"+[2]Séries_Site!M607","v":74},{"$f":"+[2]Séries_Site!N607","v":3},{"$f":"+[2]Séries_Site!O607","v":128},{"$f":"+[2]Séries_Site!P607","v":68},{"$f":"+[2]Séries_Site!Q607","v":90},{"$f":"+[2]Séries_Site!R607","v":90},{"$f":"+[2]Séries_Site!S607","v":0},{"$f":"+[2]Séries_Site!T607","v":150},{"$f":"+[2]Séries_Site!U607","v":57},{"$f":"+[2]Séries_Site!V607","v":547},{"$f":"+[2]Séries_Site!W607","v":539},{"$f":"+[2]Séries_Site!X607","v":8},{"$f":"+[2]Séries_Site!Y607","v":731},{"$f":"+[2]Séries_Site!Z607","v":217},{"$f":"+[2]Séries_Site!AA607","v":0},{"$f":"+[2]Séries_Site!AB607","v":0},{"$f":"+[2]Séries_Site!AC607","v":0},{"$f":"+[2]Séries_Site!AD607","v":0},{"$f":"+[2]Séries_Site!AE607","v":0},{"$f":"+[2]Séries_Site!AF607","v":352},{"$f":"+[2]Séries_Site!AG607","v":351},{"$f":"+[2]Séries_Site!AH607","v":1},{"$f":"+[2]Séries_Site!AI607","v":448},{"$f":"+[2]Séries_Site!AJ607","v":44}]
["2010-03-01",{"$f":"+[2]Séries_Site!B608","v":6606},{"$f":"+[2]Séries_Site!C608","v":6531},{"$f":"+[2]Séries_Site!D608","v":75},{"$f":"+[2]Séries_Site!E608","v":7902},{"$f":"+[2]Séries_Site!F608","v":1111},{"$f":"+[2]Séries_Site!G608","v":5432},{"$f":"+[2]Séries_Site!H608","v":5371},{"$f":"+[2]Séries_Site!I608","v":61},{"$f":"+[2]Séries_Site!J608","v":6391},{"$f":"+[2]Séries_Site!K608","v":707},{"$f":"+[2]Séries_Site!L608","v":58},{"$f":"+[2]Séries_Site!M608","v":53},{"$f":"+[2]Séries_Site!N608","v":5},{"$f":"+[2]Séries_Site!O608","v":168},{"$f":"+[2]Séries_Site!P608","v":111},{"$f":"+[2]Séries_Site!Q608","v":170},{"$f":"+[2]Séries_Site!R608","v":170},{"$f":"+[2]Séries_Site!S608","v":0},{"$f":"+[2]Séries_Site!T608","v":195},{"$f":"+[2]Séries_Site!U608","v":21},{"$f":"+[2]Séries_Site!V608","v":484},{"$f":"+[2]Séries_Site!W608","v":477},{"$f":"+[2]Séries_Site!X608","v":7},{"$f":"+[2]Séries_Site!Y608","v":573},{"$f":"+[2]Séries_Site!Z608","v":201},{"$f":"+[2]Séries_Site!AA608","v":0},{"$f":"+[2]Séries_Site!AB608","v":0},{"$f":"+[2]Séries_Site!AC608","v":0},{"$f":"+[2]Séries_Site!AD608","v":0},{"$f":"+[2]Séries_Site!AE608","v":0},{"$f":"+[2]Séries_Site!AF608","v":462},{"$f":"+[2]Séries_Site!AG608","v":460},{"$f":"+[2]Séries_Site!AH608","v":2},{"$f":"+[2]Séries_Site!AI608","v":575},{"$f":"+[2]Séries_Site!AJ608","v":71}]
["2010-04-01",{"$f":"+[2]Séries_Site!B609","v":6031},{"$f":"+[2]Séries_Site!C609","v":5986},{"$f":"+[2]Séries_Site!D609","v":45},{"$f":"+[2]Séries_Site!E609","v":7814},{"$f":"+[2]Séries_Site!F609","v":1480},{"$f":"+[2]Séries_Site!G609","v":5144},{"$f":"+[2]Séries_Site!H609","v":5103},{"$f":"+[2]Séries_Site!I609","v":41},{"$f":"+[2]Séries_Site!J609","v":6519},{"$f":"+[2]Séries_Site!K609","v":986},{"$f":"+[2]Séries_Site!L609","v":60},{"$f":"+[2]Séries_Site!M609","v":59},{"$f":"+[2]Séries_Site!N609","v":1},{"$f":"+[2]Séries_Site!O609","v":136},{"$f":"+[2]Séries_Site!P609","v":117},{"$f":"+[2]Séries_Site!Q609","v":158},{"$f":"+[2]Séries_Site!R609","v":158},{"$f":"+[2]Séries_Site!S609","v":0},{"$f":"+[2]Séries_Site!T609","v":177},{"$f":"+[2]Séries_Site!U609","v":5},{"$f":"+[2]Séries_Site!V609","v":210},{"$f":"+[2]Séries_Site!W609","v":207},{"$f":"+[2]Séries_Site!X609","v":3},{"$f":"+[2]Séries_Site!Y609","v":490},{"$f":"+[2]Séries_Site!Z609","v":307},{"$f":"+[2]Séries_Site!AA609","v":0},{"$f":"+[2]Séries_Site!AB609","v":0},{"$f":"+[2]Séries_Site!AC609","v":0},{"$f":"+[2]Séries_Site!AD609","v":0},{"$f":"+[2]Séries_Site!AE609","v":0},{"$f":"+[2]Séries_Site!AF609","v":459},{"$f":"+[2]Séries_Site!AG609","v":459},{"$f":"+[2]Séries_Site!AH609","v":0},{"$f":"+[2]Séries_Site!AI609","v":492},{"$f":"+[2]Séries_Site!AJ609","v":65}]
["2010-05-01",{"$f":"+[2]Séries_Site!B610","v":6381},{"$f":"+[2]Séries_Site!C610","v":6350},{"$f":"+[2]Séries_Site!D610","v":31},{"$f":"+[2]Séries_Site!E610","v":8057},{"$f":"+[2]Séries_Site!F610","v":1989},{"$f":"+[2]Séries_Site!G610","v":5549},{"$f":"+[2]Séries_Site!H610","v":5531},{"$f":"+[2]Séries_Site!I610","v":18},{"$f":"+[2]Séries_Site!J610","v":6917},{"$f":"+[2]Séries_Site!K610","v":1743},{"$f":"+[2]Séries_Site!L610","v":88},{"$f":"+[2]Séries_Site!M610","v":79},{"$f":"+[2]Séries_Site!N610","v":9},{"$f":"+[2]Séries_Site!O610","v":162},{"$f":"+[2]Séries_Site!P610","v":145},{"$f":"+[2]Séries_Site!Q610","v":195},{"$f":"+[2]Séries_Site!R610","v":195},{"$f":"+[2]Séries_Site!S610","v":0},{"$f":"+[2]Séries_Site!T610","v":180},{"$f":"+[2]Séries_Site!U610","v":0},{"$f":"+[2]Séries_Site!V610","v":162},{"$f":"+[2]Séries_Site!W610","v":161},{"$f":"+[2]Séries_Site!X610","v":1},{"$f":"+[2]Séries_Site!Y610","v":271},{"$f":"+[2]Séries_Site!Z610","v":38},{"$f":"+[2]Séries_Site!AA610","v":0},{"$f":"+[2]Séries_Site!AB610","v":0},{"$f":"+[2]Séries_Site!AC610","v":0},{"$f":"+[2]Séries_Site!AD610","v":0},{"$f":"+[2]Séries_Site!AE610","v":0},{"$f":"+[2]Séries_Site!AF610","v":387},{"$f":"+[2]Séries_Site!AG610","v":384},{"$f":"+[2]Séries_Site!AH610","v":3},{"$f":"+[2]Séries_Site!AI610","v":527},{"$f":"+[2]Séries_Site!AJ610","v":63}]
["2010-06-01",{"$f":"+[2]Séries_Site!B611","v":6060},{"$f":"+[2]Séries_Site!C611","v":6015},{"$f":"+[2]Séries_Site!D611","v":45},{"$f":"+[2]Séries_Site!E611","v":7693},{"$f":"+[2]Séries_Site!F611","v":1626},{"$f":"+[2]Séries_Site!G611","v":5139},{"$f":"+[2]Séries_Site!H611","v":5110},{"$f":"+[2]Séries_Site!I611","v":29},{"$f":"+[2]Séries_Site!J611","v":6494},{"$f":"+[2]Séries_Site!K611","v":1310},{"$f":"+[2]Séries_Site!L611","v":110},{"$f":"+[2]Séries_Site!M611","v":95},{"$f":"+[2]Séries_Site!N611","v":15},{"$f":"+[2]Séries_Site!O611","v":172},{"$f":"+[2]Séries_Site!P611","v":132},{"$f":"+[2]Séries_Site!Q611","v":175},{"$f":"+[2]Séries_Site!R611","v":175},{"$f":"+[2]Séries_Site!S611","v":0},{"$f":"+[2]Séries_Site!T611","v":170},{"$f":"+[2]Séries_Site!U611","v":0},{"$f":"+[2]Séries_Site!V611","v":189},{"$f":"+[2]Séries_Site!W611","v":188},{"$f":"+[2]Séries_Site!X611","v":1},{"$f":"+[2]Séries_Site!Y611","v":342},{"$f":"+[2]Séries_Site!Z611","v":83},{"$f":"+[2]Séries_Site!AA611","v":0},{"$f":"+[2]Séries_Site!AB611","v":0},{"$f":"+[2]Séries_Site!AC611","v":0},{"$f":"+[2]Séries_Site!AD611","v":0},{"$f":"+[2]Séries_Site!AE611","v":0},{"$f":"+[2]Séries_Site!AF611","v":447},{"$f":"+[2]Séries_Site!AG611","v":447},{"$f":"+[2]Séries_Site!AH611","v":0},{"$f":"+[2]Séries_Site!AI611","v":515},{"$f":"+[2]Séries_Site!AJ611","v":101}]
["2010-07-01",{"$f":"+[2]Séries_Site!B612","v":6429},{"$f":"+[2]Séries_Site!C612","v":6393},{"$f":"+[2]Séries_Site!D612","v":36},{"$f":"+[2]Séries_Site!E612","v":8544},{"$f":"+[2]Séries_Site!F612","v":1419},{"$f":"+[2]Séries_Site!G612","v":5505},{"$f":"+[2]Séries_Site!H612","v":5476},{"$f":"+[2]Séries_Site!I612","v":29},{"$f":"+[2]Séries_Site!J612","v":7177},{"$f":"+[2]Séries_Site!K612","v":1137},{"$f":"+[2]Séries_Site!L612","v":58},{"$f":"+[2]Séries_Site!M612","v":52},{"$f":"+[2]Séries_Site!N612","v":6},{"$f":"+[2]Séries_Site!O612","v":190},{"$f":"+[2]Séries_Site!P612","v":134},{"$f":"+[2]Séries_Site!Q612","v":166},{"$f":"+[2]Séries_Site!R612","v":166},{"$f":"+[2]Séries_Site!S612","v":0},{"$f":"+[2]Séries_Site!T612","v":180},{"$f":"+[2]Séries_Site!U612","v":3},{"$f":"+[2]Séries_Site!V612","v":200},{"$f":"+[2]Séries_Site!W612","v":199},{"$f":"+[2]Séries_Site!X612","v":1},{"$f":"+[2]Séries_Site!Y612","v":470},{"$f":"+[2]Séries_Site!Z612","v":74},{"$f":"+[2]Séries_Site!AA612","v":0},{"$f":"+[2]Séries_Site!AB612","v":0},{"$f":"+[2]Séries_Site!AC612","v":0},{"$f":"+[2]Séries_Site!AD612","v":0},{"$f":"+[2]Séries_Site!AE612","v":0},{"$f":"+[2]Séries_Site!AF612","v":500},{"$f":"+[2]Séries_Site!AG612","v":500},{"$f":"+[2]Séries_Site!AH612","v":0},{"$f":"+[2]Séries_Site!AI612","v":527},{"$f":"+[2]Séries_Site!AJ612","v":71}]
["2010-08-01",{"$f":"+[2]Séries_Site!B613","v":6532},{"$f":"+[2]Séries_Site!C613","v":6490},{"$f":"+[2]Séries_Site!D613","v":42},{"$f":"+[2]Séries_Site!E613","v":8566},{"$f":"+[2]Séries_Site!F613","v":1670},{"$f":"+[2]Séries_Site!G613","v":5627},{"$f":"+[2]Séries_Site!H613","v":5587},{"$f":"+[2]Séries_Site!I613","v":40},{"$f":"+[2]Séries_Site!J613","v":7131},{"$f":"+[2]Séries_Site!K613","v":1317},{"$f":"+[2]Séries_Site!L613","v":70},{"$f":"+[2]Séries_Site!M613","v":68},{"$f":"+[2]Séries_Site!N613","v":2},{"$f":"+[2]Séries_Site!O613","v":196},{"$f":"+[2]Séries_Site!P613","v":146},{"$f":"+[2]Séries_Site!Q613","v":177},{"$f":"+[2]Séries_Site!R613","v":177},{"$f":"+[2]Séries_Site!S613","v":0},{"$f":"+[2]Séries_Site!T613","v":185},{"$f":"+[2]Séries_Site!U613","v":0},{"$f":"+[2]Séries_Site!V613","v":268},{"$f":"+[2]Séries_Site!W613","v":268},{"$f":"+[2]Séries_Site!X613","v":0},{"$f":"+[2]Séries_Site!Y613","v":527},{"$f":"+[2]Séries_Site!Z613","v":116},{"$f":"+[2]Séries_Site!AA613","v":0},{"$f":"+[2]Séries_Site!AB613","v":0},{"$f":"+[2]Séries_Site!AC613","v":0},{"$f":"+[2]Séries_Site!AD613","v":0},{"$f":"+[2]Séries_Site!AE613","v":0},{"$f":"+[2]Séries_Site!AF613","v":390},{"$f":"+[2]Séries_Site!AG613","v":390},{"$f":"+[2]Séries_Site!AH613","v":0},{"$f":"+[2]Séries_Site!AI613","v":527},{"$f":"+[2]Séries_Site!AJ613","v":91}]
["2010-09-01",{"$f":"+[2]Séries_Site!B614","v":6081},{"$f":"+[2]Séries_Site!C614","v":5942},{"$f":"+[2]Séries_Site!D614","v":139},{"$f":"+[2]Séries_Site!E614","v":8244},{"$f":"+[2]Séries_Site!F614","v":1743},{"$f":"+[2]Séries_Site!G614","v":5015},{"$f":"+[2]Séries_Site!H614","v":4883},{"$f":"+[2]Séries_Site!I614","v":132},{"$f":"+[2]Séries_Site!J614","v":6662},{"$f":"+[2]Séries_Site!K614","v":1279},{"$f":"+[2]Séries_Site!L614","v":67},{"$f":"+[2]Séries_Site!M614","v":60},{"$f":"+[2]Séries_Site!N614","v":7},{"$f":"+[2]Séries_Site!O614","v":216},{"$f":"+[2]Séries_Site!P614","v":181},{"$f":"+[2]Séries_Site!Q614","v":161},{"$f":"+[2]Séries_Site!R614","v":161},{"$f":"+[2]Séries_Site!S614","v":0},{"$f":"+[2]Séries_Site!T614","v":190},{"$f":"+[2]Séries_Site!U614","v":0},{"$f":"+[2]Séries_Site!V614","v":369},{"$f":"+[2]Séries_Site!W614","v":369},{"$f":"+[2]Séries_Site!X614","v":0},{"$f":"+[2]Séries_Site!Y614","v":658},{"$f":"+[2]Séries_Site!Z614","v":195},{"$f":"+[2]Séries_Site!AA614","v":0},{"$f":"+[2]Séries_Site!AB614","v":0},{"$f":"+[2]Séries_Site!AC614","v":0},{"$f":"+[2]Séries_Site!AD614","v":0},{"$f":"+[2]Séries_Site!AE614","v":0},{"$f":"+[2]Séries_Site!AF614","v":469},{"$f":"+[2]Séries_Site!AG614","v":469},{"$f":"+[2]Séries_Site!AH614","v":0},{"$f":"+[2]Séries_Site!AI614","v":518},{"$f":"+[2]Séries_Site!AJ614","v":88}]
["2010-10-01",{"$f":"+[2]Séries_Site!B615","v":5855},{"$f":"+[2]Séries_Site!C615","v":5694},{"$f":"+[2]Séries_Site!D615","v":161},{"$f":"+[2]Séries_Site!E615","v":8148},{"$f":"+[2]Séries_Site!F615","v":2143},{"$f":"+[2]Séries_Site!G615","v":4726},{"$f":"+[2]Séries_Site!H615","v":4577},{"$f":"+[2]Séries_Site!I615","v":149},{"$f":"+[2]Séries_Site!J615","v":6403},{"$f":"+[2]Séries_Site!K615","v":1547},{"$f":"+[2]Séries_Site!L615","v":63},{"$f":"+[2]Séries_Site!M615","v":55},{"$f":"+[2]Séries_Site!N615","v":8},{"$f":"+[2]Séries_Site!O615","v":300},{"$f":"+[2]Séries_Site!P615","v":205},{"$f":"+[2]Séries_Site!Q615","v":133},{"$f":"+[2]Séries_Site!R615","v":133},{"$f":"+[2]Séries_Site!S615","v":0},{"$f":"+[2]Séries_Site!T615","v":170},{"$f":"+[2]Séries_Site!U615","v":0},{"$f":"+[2]Séries_Site!V615","v":527},{"$f":"+[2]Séries_Site!W615","v":523},{"$f":"+[2]Séries_Site!X615","v":4},{"$f":"+[2]Séries_Site!Y615","v":808},{"$f":"+[2]Séries_Site!Z615","v":310},{"$f":"+[2]Séries_Site!AA615","v":0},{"$f":"+[2]Séries_Site!AB615","v":0},{"$f":"+[2]Séries_Site!AC615","v":0},{"$f":"+[2]Séries_Site!AD615","v":0},{"$f":"+[2]Séries_Site!AE615","v":0},{"$f":"+[2]Séries_Site!AF615","v":406},{"$f":"+[2]Séries_Site!AG615","v":406},{"$f":"+[2]Séries_Site!AH615","v":0},{"$f":"+[2]Séries_Site!AI615","v":467},{"$f":"+[2]Séries_Site!AJ615","v":81}]
["2010-11-01",{"$f":"+[2]Séries_Site!B616","v":4765},{"$f":"+[2]Séries_Site!C616","v":4667},{"$f":"+[2]Séries_Site!D616","v":98},{"$f":"+[2]Séries_Site!E616","v":7332},{"$f":"+[2]Séries_Site!F616","v":2138},{"$f":"+[2]Séries_Site!G616","v":3740},{"$f":"+[2]Séries_Site!H616","v":3659},{"$f":"+[2]Séries_Site!I616","v":81},{"$f":"+[2]Séries_Site!J616","v":5808},{"$f":"+[2]Séries_Site!K616","v":1581},{"$f":"+[2]Séries_Site!L616","v":85},{"$f":"+[2]Séries_Site!M616","v":72},{"$f":"+[2]Séries_Site!N616","v":13},{"$f":"+[2]Séries_Site!O616","v":240},{"$f":"+[2]Séries_Site!P616","v":222},{"$f":"+[2]Séries_Site!Q616","v":181},{"$f":"+[2]Séries_Site!R616","v":181},{"$f":"+[2]Séries_Site!S616","v":0},{"$f":"+[2]Séries_Site!T616","v":154},{"$f":"+[2]Séries_Site!U616","v":0},{"$f":"+[2]Séries_Site!V616","v":395},{"$f":"+[2]Séries_Site!W616","v":391},{"$f":"+[2]Séries_Site!X616","v":4},{"$f":"+[2]Séries_Site!Y616","v":676},{"$f":"+[2]Séries_Site!Z616","v":254},{"$f":"+[2]Séries_Site!AA616","v":0},{"$f":"+[2]Séries_Site!AB616","v":0},{"$f":"+[2]Séries_Site!AC616","v":0},{"$f":"+[2]Séries_Site!AD616","v":0},{"$f":"+[2]Séries_Site!AE616","v":0},{"$f":"+[2]Séries_Site!AF616","v":364},{"$f":"+[2]Séries_Site!AG616","v":364},{"$f":"+[2]Séries_Site!AH616","v":0},{"$f":"+[2]Séries_Site!AI616","v":454},{"$f":"+[2]Séries_Site!AJ616","v":81}]
["2010-12-01",{"$f":"+[2]Séries_Site!B617","v":3880},{"$f":"+[2]Séries_Site!C617","v":3810},{"$f":"+[2]Séries_Site!D617","v":70},{"$f":"+[2]Séries_Site!E617","v":4228},{"$f":"+[2]Séries_Site!F617","v":1815},{"$f":"+[2]Séries_Site!G617","v":2735},{"$f":"+[2]Séries_Site!H617","v":2689},{"$f":"+[2]Séries_Site!I617","v":46},{"$f":"+[2]Séries_Site!J617","v":2775},{"$f":"+[2]Séries_Site!K617","v":1149},{"$f":"+[2]Séries_Site!L617","v":90},{"$f":"+[2]Séries_Site!M617","v":72},{"$f":"+[2]Séries_Site!N617","v":18},{"$f":"+[2]Séries_Site!O617","v":224},{"$f":"+[2]Séries_Site!P617","v":221},{"$f":"+[2]Séries_Site!Q617","v":110},{"$f":"+[2]Séries_Site!R617","v":110},{"$f":"+[2]Séries_Site!S617","v":0},{"$f":"+[2]Séries_Site!T617","v":81},{"$f":"+[2]Séries_Site!U617","v":0},{"$f":"+[2]Séries_Site!V617","v":633},{"$f":"+[2]Séries_Site!W617","v":627},{"$f":"+[2]Séries_Site!X617","v":6},{"$f":"+[2]Séries_Site!Y617","v":682},{"$f":"+[2]Séries_Site!Z617","v":372},{"$f":"+[2]Séries_Site!AA617","v":0},{"$f":"+[2]Séries_Site!AB617","v":0},{"$f":"+[2]Séries_Site!AC617","v":0},{"$f":"+[2]Séries_Site!AD617","v":0},{"$f":"+[2]Séries_Site!AE617","v":0},{"$f":"+[2]Séries_Site!AF617","v":312},{"$f":"+[2]Séries_Site!AG617","v":312},{"$f":"+[2]Séries_Site!AH617","v":0},{"$f":"+[2]Séries_Site!AI617","v":466},{"$f":"+[2]Séries_Site!AJ617","v":73}]
["2011-01-01",{"$f":"+[2]Séries_Site!B618","v":4020},{"$f":"+[2]Séries_Site!C618","v":3918},{"$f":"+[2]Séries_Site!D618","v":102},{"$f":"+[2]Séries_Site!E618","v":5302},{"$f":"+[2]Séries_Site!F618","v":1226},{"$f":"+[2]Séries_Site!G618","v":3100},{"$f":"+[2]Séries_Site!H618","v":3022},{"$f":"+[2]Séries_Site!I618","v":78},{"$f":"+[2]Séries_Site!J618","v":3955},{"$f":"+[2]Séries_Site!K618","v":724},{"$f":"+[2]Séries_Site!L618","v":57},{"$f":"+[2]Séries_Site!M618","v":48},{"$f":"+[2]Séries_Site!N618","v":9},{"$f":"+[2]Séries_Site!O618","v":204},{"$f":"+[2]Séries_Site!P618","v":168},{"$f":"+[2]Séries_Site!Q618","v":64},{"$f":"+[2]Séries_Site!R618","v":64},{"$f":"+[2]Séries_Site!S618","v":0},{"$f":"+[2]Séries_Site!T618","v":120},{"$f":"+[2]Séries_Site!U618","v":1},{"$f":"+[2]Séries_Site!V618","v":429},{"$f":"+[2]Séries_Site!W618","v":416},{"$f":"+[2]Séries_Site!X618","v":13},{"$f":"+[2]Séries_Site!Y618","v":709},{"$f":"+[2]Séries_Site!Z618","v":289},{"$f":"+[2]Séries_Site!AA618","v":0},{"$f":"+[2]Séries_Site!AB618","v":0},{"$f":"+[2]Séries_Site!AC618","v":0},{"$f":"+[2]Séries_Site!AD618","v":0},{"$f":"+[2]Séries_Site!AE618","v":0},{"$f":"+[2]Séries_Site!AF618","v":370},{"$f":"+[2]Séries_Site!AG618","v":368},{"$f":"+[2]Séries_Site!AH618","v":2},{"$f":"+[2]Séries_Site!AI618","v":314},{"$f":"+[2]Séries_Site!AJ618","v":44}]
["2011-02-01",{"$f":"+[2]Séries_Site!B619","v":5213},{"$f":"+[2]Séries_Site!C619","v":5134},{"$f":"+[2]Séries_Site!D619","v":79},{"$f":"+[2]Séries_Site!E619","v":6916},{"$f":"+[2]Séries_Site!F619","v":1391},{"$f":"+[2]Séries_Site!G619","v":4221},{"$f":"+[2]Séries_Site!H619","v":4154},{"$f":"+[2]Séries_Site!I619","v":67},{"$f":"+[2]Séries_Site!J619","v":5496},{"$f":"+[2]Séries_Site!K619","v":929},{"$f":"+[2]Séries_Site!L619","v":99},{"$f":"+[2]Séries_Site!M619","v":93},{"$f":"+[2]Séries_Site!N619","v":6},{"$f":"+[2]Séries_Site!O619","v":129},{"$f":"+[2]Séries_Site!P619","v":161},{"$f":"+[2]Séries_Site!Q619","v":69},{"$f":"+[2]Séries_Site!R619","v":69},{"$f":"+[2]Séries_Site!S619","v":0},{"$f":"+[2]Séries_Site!T619","v":120},{"$f":"+[2]Séries_Site!U619","v":0},{"$f":"+[2]Séries_Site!V619","v":457},{"$f":"+[2]Séries_Site!W619","v":451},{"$f":"+[2]Séries_Site!X619","v":6},{"$f":"+[2]Séries_Site!Y619","v":764},{"$f":"+[2]Séries_Site!Z619","v":245},{"$f":"+[2]Séries_Site!AA619","v":0},{"$f":"+[2]Séries_Site!AB619","v":0},{"$f":"+[2]Séries_Site!AC619","v":0},{"$f":"+[2]Séries_Site!AD619","v":0},{"$f":"+[2]Séries_Site!AE619","v":0},{"$f":"+[2]Séries_Site!AF619","v":367},{"$f":"+[2]Séries_Site!AG619","v":367},{"$f":"+[2]Séries_Site!AH619","v":0},{"$f":"+[2]Séries_Site!AI619","v":407},{"$f":"+[2]Séries_Site!AJ619","v":56}]
["2011-03-01",{"$f":"+[2]Séries_Site!B620","v":5907},{"$f":"+[2]Séries_Site!C620","v":5813},{"$f":"+[2]Séries_Site!D620","v":94},{"$f":"+[2]Séries_Site!E620","v":7486},{"$f":"+[2]Séries_Site!F620","v":1521},{"$f":"+[2]Séries_Site!G620","v":4751},{"$f":"+[2]Séries_Site!H620","v":4665},{"$f":"+[2]Séries_Site!I620","v":86},{"$f":"+[2]Séries_Site!J620","v":5916},{"$f":"+[2]Séries_Site!K620","v":1111},{"$f":"+[2]Séries_Site!L620","v":85},{"$f":"+[2]Séries_Site!M620","v":77},{"$f":"+[2]Séries_Site!N620","v":8},{"$f":"+[2]Séries_Site!O620","v":219},{"$f":"+[2]Séries_Site!P620","v":144},{"$f":"+[2]Séries_Site!Q620","v":70},{"$f":"+[2]Séries_Site!R620","v":70},{"$f":"+[2]Séries_Site!S620","v":0},{"$f":"+[2]Séries_Site!T620","v":80},{"$f":"+[2]Séries_Site!U620","v":0},{"$f":"+[2]Séries_Site!V620","v":473},{"$f":"+[2]Séries_Site!W620","v":473},{"$f":"+[2]Séries_Site!X620","v":0},{"$f":"+[2]Séries_Site!Y620","v":711},{"$f":"+[2]Séries_Site!Z620","v":216},{"$f":"+[2]Séries_Site!AA620","v":0},{"$f":"+[2]Séries_Site!AB620","v":0},{"$f":"+[2]Séries_Site!AC620","v":0},{"$f":"+[2]Séries_Site!AD620","v":0},{"$f":"+[2]Séries_Site!AE620","v":0},{"$f":"+[2]Séries_Site!AF620","v":528},{"$f":"+[2]Séries_Site!AG620","v":528},{"$f":"+[2]Séries_Site!AH620","v":0},{"$f":"+[2]Séries_Site!AI620","v":560},{"$f":"+[2]Séries_Site!AJ620","v":50}]
["2011-04-01",{"$f":"+[2]Séries_Site!B621","v":5746},{"$f":"+[2]Séries_Site!C621","v":5625},{"$f":"+[2]Séries_Site!D621","v":121},{"$f":"+[2]Séries_Site!E621","v":6878},{"$f":"+[2]Séries_Site!F621","v":1309},{"$f":"+[2]Séries_Site!G621","v":4751},{"$f":"+[2]Séries_Site!H621","v":4643},{"$f":"+[2]Séries_Site!I621","v":108},{"$f":"+[2]Séries_Site!J621","v":5587},{"$f":"+[2]Séries_Site!K621","v":779},{"$f":"+[2]Séries_Site!L621","v":95},{"$f":"+[2]Séries_Site!M621","v":86},{"$f":"+[2]Séries_Site!N621","v":9},{"$f":"+[2]Séries_Site!O621","v":238},{"$f":"+[2]Séries_Site!P621","v":205},{"$f":"+[2]Séries_Site!Q621","v":84},{"$f":"+[2]Séries_Site!R621","v":84},{"$f":"+[2]Séries_Site!S621","v":0},{"$f":"+[2]Séries_Site!T621","v":55},{"$f":"+[2]Séries_Site!U621","v":0},{"$f":"+[2]Séries_Site!V621","v":343},{"$f":"+[2]Séries_Site!W621","v":341},{"$f":"+[2]Séries_Site!X621","v":2},{"$f":"+[2]Séries_Site!Y621","v":574},{"$f":"+[2]Séries_Site!Z621","v":255},{"$f":"+[2]Séries_Site!AA621","v":0},{"$f":"+[2]Séries_Site!AB621","v":0},{"$f":"+[2]Séries_Site!AC621","v":0},{"$f":"+[2]Séries_Site!AD621","v":0},{"$f":"+[2]Séries_Site!AE621","v":0},{"$f":"+[2]Séries_Site!AF621","v":473},{"$f":"+[2]Séries_Site!AG621","v":471},{"$f":"+[2]Séries_Site!AH621","v":2},{"$f":"+[2]Séries_Site!AI621","v":424},{"$f":"+[2]Séries_Site!AJ621","v":70}]
["2011-05-01",{"$f":"+[2]Séries_Site!B622","v":6075},{"$f":"+[2]Séries_Site!C622","v":5994},{"$f":"+[2]Séries_Site!D622","v":81},{"$f":"+[2]Séries_Site!E622","v":7108},{"$f":"+[2]Séries_Site!F622","v":1668},{"$f":"+[2]Séries_Site!G622","v":5133},{"$f":"+[2]Séries_Site!H622","v":5062},{"$f":"+[2]Séries_Site!I622","v":71},{"$f":"+[2]Séries_Site!J622","v":5975},{"$f":"+[2]Séries_Site!K622","v":1217},{"$f":"+[2]Séries_Site!L622","v":83},{"$f":"+[2]Séries_Site!M622","v":73},{"$f":"+[2]Séries_Site!N622","v":10},{"$f":"+[2]Séries_Site!O622","v":281},{"$f":"+[2]Séries_Site!P622","v":234},{"$f":"+[2]Séries_Site!Q622","v":129},{"$f":"+[2]Séries_Site!R622","v":129},{"$f":"+[2]Séries_Site!S622","v":0},{"$f":"+[2]Séries_Site!T622","v":30},{"$f":"+[2]Séries_Site!U622","v":0},{"$f":"+[2]Séries_Site!V622","v":233},{"$f":"+[2]Séries_Site!W622","v":233},{"$f":"+[2]Séries_Site!X622","v":0},{"$f":"+[2]Séries_Site!Y622","v":251},{"$f":"+[2]Séries_Site!Z622","v":127},{"$f":"+[2]Séries_Site!AA622","v":0},{"$f":"+[2]Séries_Site!AB622","v":0},{"$f":"+[2]Séries_Site!AC622","v":0},{"$f":"+[2]Séries_Site!AD622","v":0},{"$f":"+[2]Séries_Site!AE622","v":0},{"$f":"+[2]Séries_Site!AF622","v":497},{"$f":"+[2]Séries_Site!AG622","v":497},{"$f":"+[2]Séries_Site!AH622","v":0},{"$f":"+[2]Séries_Site!AI622","v":571},{"$f":"+[2]Séries_Site!AJ622","v":90}]
["2011-06-01",{"$f":"+[2]Séries_Site!B623","v":5632},{"$f":"+[2]Séries_Site!C623","v":5501},{"$f":"+[2]Séries_Site!D623","v":131},{"$f":"+[2]Séries_Site!E623","v":6647},{"$f":"+[2]Séries_Site!F623","v":1537},{"$f":"+[2]Séries_Site!G623","v":4605},{"$f":"+[2]Séries_Site!H623","v":4504},{"$f":"+[2]Séries_Site!I623","v":101},{"$f":"+[2]Séries_Site!J623","v":5415},{"$f":"+[2]Séries_Site!K623","v":1193},{"$f":"+[2]Séries_Site!L623","v":110},{"$f":"+[2]Séries_Site!M623","v":83},{"$f":"+[2]Séries_Site!N623","v":27},{"$f":"+[2]Séries_Site!O623","v":299},{"$f":"+[2]Séries_Site!P623","v":213},{"$f":"+[2]Séries_Site!Q623","v":119},{"$f":"+[2]Séries_Site!R623","v":119},{"$f":"+[2]Séries_Site!S623","v":0},{"$f":"+[2]Séries_Site!T623","v":110},{"$f":"+[2]Séries_Site!U623","v":0},{"$f":"+[2]Séries_Site!V623","v":250},{"$f":"+[2]Séries_Site!W623","v":248},{"$f":"+[2]Séries_Site!X623","v":2},{"$f":"+[2]Séries_Site!Y623","v":267},{"$f":"+[2]Séries_Site!Z623","v":114},{"$f":"+[2]Séries_Site!AA623","v":0},{"$f":"+[2]Séries_Site!AB623","v":0},{"$f":"+[2]Séries_Site!AC623","v":0},{"$f":"+[2]Séries_Site!AD623","v":0},{"$f":"+[2]Séries_Site!AE623","v":0},{"$f":"+[2]Séries_Site!AF623","v":548},{"$f":"+[2]Séries_Site!AG623","v":547},{"$f":"+[2]Séries_Site!AH623","v":1},{"$f":"+[2]Séries_Site!AI623","v":556},{"$f":"+[2]Séries_Site!AJ623","v":17}]
["2011-07-01",{"$f":"+[2]Séries_Site!B624","v":5608},{"$f":"+[2]Séries_Site!C624","v":5470},{"$f":"+[2]Séries_Site!D624","v":138},{"$f":"+[2]Séries_Site!E624","v":6726},{"$f":"+[2]Séries_Site!F624","v":1662},{"$f":"+[2]Séries_Site!G624","v":4509},{"$f":"+[2]Séries_Site!H624","v":4383},{"$f":"+[2]Séries_Site!I624","v":126},{"$f":"+[2]Séries_Site!J624","v":5163},{"$f":"+[2]Séries_Site!K624","v":1201},{"$f":"+[2]Séries_Site!L624","v":85},{"$f":"+[2]Séries_Site!M624","v":74},{"$f":"+[2]Séries_Site!N624","v":11},{"$f":"+[2]Séries_Site!O624","v":281},{"$f":"+[2]Séries_Site!P624","v":234},{"$f":"+[2]Séries_Site!Q624","v":135},{"$f":"+[2]Séries_Site!R624","v":135},{"$f":"+[2]Séries_Site!S624","v":0},{"$f":"+[2]Séries_Site!T624","v":135},{"$f":"+[2]Séries_Site!U624","v":0},{"$f":"+[2]Séries_Site!V624","v":341},{"$f":"+[2]Séries_Site!W624","v":340},{"$f":"+[2]Séries_Site!X624","v":1},{"$f":"+[2]Séries_Site!Y624","v":517},{"$f":"+[2]Séries_Site!Z624","v":178},{"$f":"+[2]Séries_Site!AA624","v":0},{"$f":"+[2]Séries_Site!AB624","v":0},{"$f":"+[2]Séries_Site!AC624","v":0},{"$f":"+[2]Séries_Site!AD624","v":0},{"$f":"+[2]Séries_Site!AE624","v":0},{"$f":"+[2]Séries_Site!AF624","v":538},{"$f":"+[2]Séries_Site!AG624","v":538},{"$f":"+[2]Séries_Site!AH624","v":0},{"$f":"+[2]Séries_Site!AI624","v":630},{"$f":"+[2]Séries_Site!AJ624","v":49}]
["2011-08-01",{"$f":"+[2]Séries_Site!B625","v":5928},{"$f":"+[2]Séries_Site!C625","v":5759},{"$f":"+[2]Séries_Site!D625","v":169},{"$f":"+[2]Séries_Site!E625","v":7830},{"$f":"+[2]Séries_Site!F625","v":1576},{"$f":"+[2]Séries_Site!G625","v":4958},{"$f":"+[2]Séries_Site!H625","v":4806},{"$f":"+[2]Séries_Site!I625","v":152},{"$f":"+[2]Séries_Site!J625","v":6238},{"$f":"+[2]Séries_Site!K625","v":1105},{"$f":"+[2]Séries_Site!L625","v":84},{"$f":"+[2]Séries_Site!M625","v":78},{"$f":"+[2]Séries_Site!N625","v":6},{"$f":"+[2]Séries_Site!O625","v":281},{"$f":"+[2]Séries_Site!P625","v":203},{"$f":"+[2]Séries_Site!Q625","v":136},{"$f":"+[2]Séries_Site!R625","v":136},{"$f":"+[2]Séries_Site!S625","v":0},{"$f":"+[2]Séries_Site!T625","v":145},{"$f":"+[2]Séries_Site!U625","v":8},{"$f":"+[2]Séries_Site!V625","v":351},{"$f":"+[2]Séries_Site!W625","v":351},{"$f":"+[2]Séries_Site!X625","v":0},{"$f":"+[2]Séries_Site!Y625","v":533},{"$f":"+[2]Séries_Site!Z625","v":143},{"$f":"+[2]Séries_Site!AA625","v":0},{"$f":"+[2]Séries_Site!AB625","v":0},{"$f":"+[2]Séries_Site!AC625","v":0},{"$f":"+[2]Séries_Site!AD625","v":0},{"$f":"+[2]Séries_Site!AE625","v":0},{"$f":"+[2]Séries_Site!AF625","v":399},{"$f":"+[2]Séries_Site!AG625","v":388},{"$f":"+[2]Séries_Site!AH625","v":11},{"$f":"+[2]Séries_Site!AI625","v":633},{"$f":"+[2]Séries_Site!AJ625","v":117}]
["2011-09-01",{"$f":"+[2]Séries_Site!B626","v":5924},{"$f":"+[2]Séries_Site!C626","v":5773},{"$f":"+[2]Séries_Site!D626","v":151},{"$f":"+[2]Séries_Site!E626","v":6937},{"$f":"+[2]Séries_Site!F626","v":1677},{"$f":"+[2]Séries_Site!G626","v":4889},{"$f":"+[2]Séries_Site!H626","v":4760},{"$f":"+[2]Séries_Site!I626","v":129},{"$f":"+[2]Séries_Site!J626","v":5430},{"$f":"+[2]Séries_Site!K626","v":1256},{"$f":"+[2]Séries_Site!L626","v":112},{"$f":"+[2]Séries_Site!M626","v":92},{"$f":"+[2]Séries_Site!N626","v":20},{"$f":"+[2]Séries_Site!O626","v":259},{"$f":"+[2]Séries_Site!P626","v":217},{"$f":"+[2]Séries_Site!Q626","v":134},{"$f":"+[2]Séries_Site!R626","v":134},{"$f":"+[2]Séries_Site!S626","v":0},{"$f":"+[2]Séries_Site!T626","v":160},{"$f":"+[2]Séries_Site!U626","v":0},{"$f":"+[2]Séries_Site!V626","v":393},{"$f":"+[2]Séries_Site!W626","v":392},{"$f":"+[2]Séries_Site!X626","v":1},{"$f":"+[2]Séries_Site!Y626","v":528},{"$f":"+[2]Séries_Site!Z626","v":134},{"$f":"+[2]Séries_Site!AA626","v":0},{"$f":"+[2]Séries_Site!AB626","v":0},{"$f":"+[2]Séries_Site!AC626","v":0},{"$f":"+[2]Séries_Site!AD626","v":0},{"$f":"+[2]Séries_Site!AE626","v":0},{"$f":"+[2]Séries_Site!AF626","v":396},{"$f":"+[2]Séries_Site!AG626","v":395},{"$f":"+[2]Séries_Site!AH626","v":1},{"$f":"+[2]Séries_Site!AI626","v":560},{"$f":"+[2]Séries_Site!AJ626","v":70}]
["2011-10-01",{"$f":"+[2]Séries_Site!B627","v":6376},{"$f":"+[2]Séries_Site!C627","v":6103},{"$f":"+[2]Séries_Site!D627","v":273},{"$f":"+[2]Séries_Site!E627","v":7460},{"$f":"+[2]Séries_Site!F627","v":1732},{"$f":"+[2]Séries_Site!G627","v":5078},{"$f":"+[2]Séries_Site!H627","v":4818},{"$f":"+[2]Séries_Site!I627","v":260},{"$f":"+[2]Séries_Site!J627","v":5661},{"$f":"+[2]Séries_Site!K627","v":1227},{"$f":"+[2]Séries_Site!L627","v":88},{"$f":"+[2]Séries_Site!M627","v":78},{"$f":"+[2]Séries_Site!N627","v":10},{"$f":"+[2]Séries_Site!O627","v":257},{"$f":"+[2]Séries_Site!P627","v":251},{"$f":"+[2]Séries_Site!Q627","v":132},{"$f":"+[2]Séries_Site!R627","v":132},{"$f":"+[2]Séries_Site!S627","v":0},{"$f":"+[2]Séries_Site!T627","v":155},{"$f":"+[2]Séries_Site!U627","v":10},{"$f":"+[2]Séries_Site!V627","v":671},{"$f":"+[2]Séries_Site!W627","v":668},{"$f":"+[2]Séries_Site!X627","v":3},{"$f":"+[2]Séries_Site!Y627","v":843},{"$f":"+[2]Séries_Site!Z627","v":187},{"$f":"+[2]Séries_Site!AA627","v":0},{"$f":"+[2]Séries_Site!AB627","v":0},{"$f":"+[2]Séries_Site!AC627","v":0},{"$f":"+[2]Séries_Site!AD627","v":0},{"$f":"+[2]Séries_Site!AE627","v":0},{"$f":"+[2]Séries_Site!AF627","v":407},{"$f":"+[2]Séries_Site!AG627","v":407},{"$f":"+[2]Séries_Site!AH627","v":0},{"$f":"+[2]Séries_Site!AI627","v":544},{"$f":"+[2]Séries_Site!AJ627","v":57}]
["2011-11-01",{"$f":"+[2]Séries_Site!B628","v":4854},{"$f":"+[2]Séries_Site!C628","v":4767},{"$f":"+[2]Séries_Site!D628","v":87},{"$f":"+[2]Séries_Site!E628","v":6750},{"$f":"+[2]Séries_Site!F628","v":1434},{"$f":"+[2]Séries_Site!G628","v":3624},{"$f":"+[2]Séries_Site!H628","v":3553},{"$f":"+[2]Séries_Site!I628","v":71},{"$f":"+[2]Séries_Site!J628","v":5013},{"$f":"+[2]Séries_Site!K628","v":894},{"$f":"+[2]Séries_Site!L628","v":74},{"$f":"+[2]Séries_Site!M628","v":63},{"$f":"+[2]Séries_Site!N628","v":11},{"$f":"+[2]Séries_Site!O628","v":237},{"$f":"+[2]Séries_Site!P628","v":201},{"$f":"+[2]Séries_Site!Q628","v":159},{"$f":"+[2]Séries_Site!R628","v":159},{"$f":"+[2]Séries_Site!S628","v":0},{"$f":"+[2]Séries_Site!T628","v":150},{"$f":"+[2]Séries_Site!U628","v":8},{"$f":"+[2]Séries_Site!V628","v":561},{"$f":"+[2]Séries_Site!W628","v":556},{"$f":"+[2]Séries_Site!X628","v":5},{"$f":"+[2]Séries_Site!Y628","v":816},{"$f":"+[2]Séries_Site!Z628","v":245},{"$f":"+[2]Séries_Site!AA628","v":0},{"$f":"+[2]Séries_Site!AB628","v":0},{"$f":"+[2]Séries_Site!AC628","v":0},{"$f":"+[2]Séries_Site!AD628","v":0},{"$f":"+[2]Séries_Site!AE628","v":0},{"$f":"+[2]Séries_Site!AF628","v":436},{"$f":"+[2]Séries_Site!AG628","v":436},{"$f":"+[2]Séries_Site!AH628","v":0},{"$f":"+[2]Séries_Site!AI628","v":534},{"$f":"+[2]Séries_Site!AJ628","v":86}]
["2011-12-01",{"$f":"+[2]Séries_Site!B629","v":4040},{"$f":"+[2]Séries_Site!C629","v":3943},{"$f":"+[2]Séries_Site!D629","v":97},{"$f":"+[2]Séries_Site!E629","v":5473},{"$f":"+[2]Séries_Site!F629","v":1601},{"$f":"+[2]Séries_Site!G629","v":2677},{"$f":"+[2]Séries_Site!H629","v":2596},{"$f":"+[2]Séries_Site!I629","v":81},{"$f":"+[2]Séries_Site!J629","v":3578},{"$f":"+[2]Séries_Site!K629","v":984},{"$f":"+[2]Séries_Site!L629","v":50},{"$f":"+[2]Séries_Site!M629","v":39},{"$f":"+[2]Séries_Site!N629","v":11},{"$f":"+[2]Séries_Site!O629","v":244},{"$f":"+[2]Séries_Site!P629","v":229},{"$f":"+[2]Séries_Site!Q629","v":76},{"$f":"+[2]Séries_Site!R629","v":76},{"$f":"+[2]Séries_Site!S629","v":0},{"$f":"+[2]Séries_Site!T629","v":90},{"$f":"+[2]Séries_Site!U629","v":0},{"$f":"+[2]Séries_Site!V629","v":841},{"$f":"+[2]Séries_Site!W629","v":837},{"$f":"+[2]Séries_Site!X629","v":4},{"$f":"+[2]Séries_Site!Y629","v":1117},{"$f":"+[2]Séries_Site!Z629","v":257},{"$f":"+[2]Séries_Site!AA629","v":0},{"$f":"+[2]Séries_Site!AB629","v":0},{"$f":"+[2]Séries_Site!AC629","v":0},{"$f":"+[2]Séries_Site!AD629","v":0},{"$f":"+[2]Séries_Site!AE629","v":0},{"$f":"+[2]Séries_Site!AF629","v":396},{"$f":"+[2]Séries_Site!AG629","v":395},{"$f":"+[2]Séries_Site!AH629","v":1},{"$f":"+[2]Séries_Site!AI629","v":444},{"$f":"+[2]Séries_Site!AJ629","v":131}]
["2012-01-01",{"$f":"+[2]Séries_Site!B630","v":4431},{"$f":"+[2]Séries_Site!C630","v":4339},{"$f":"+[2]Séries_Site!D630","v":92},{"$f":"+[2]Séries_Site!E630","v":6776},{"$f":"+[2]Séries_Site!F630","v":1523},{"$f":"+[2]Séries_Site!G630","v":3315},{"$f":"+[2]Séries_Site!H630","v":3242},{"$f":"+[2]Séries_Site!I630","v":73},{"$f":"+[2]Séries_Site!J630","v":4611},{"$f":"+[2]Séries_Site!K630","v":862},{"$f":"+[2]Séries_Site!L630","v":87},{"$f":"+[2]Séries_Site!M630","v":69},{"$f":"+[2]Séries_Site!N630","v":18},{"$f":"+[2]Séries_Site!O630","v":339},{"$f":"+[2]Séries_Site!P630","v":230},{"$f":"+[2]Séries_Site!Q630","v":69},{"$f":"+[2]Séries_Site!R630","v":69},{"$f":"+[2]Séries_Site!S630","v":0},{"$f":"+[2]Séries_Site!T630","v":95},{"$f":"+[2]Séries_Site!U630","v":0},{"$f":"+[2]Séries_Site!V630","v":604},{"$f":"+[2]Séries_Site!W630","v":603},{"$f":"+[2]Séries_Site!X630","v":1},{"$f":"+[2]Séries_Site!Y630","v":1128},{"$f":"+[2]Séries_Site!Z630","v":279},{"$f":"+[2]Séries_Site!AA630","v":0},{"$f":"+[2]Séries_Site!AB630","v":0},{"$f":"+[2]Séries_Site!AC630","v":0},{"$f":"+[2]Séries_Site!AD630","v":0},{"$f":"+[2]Séries_Site!AE630","v":0},{"$f":"+[2]Séries_Site!AF630","v":356},{"$f":"+[2]Séries_Site!AG630","v":356},{"$f":"+[2]Séries_Site!AH630","v":0},{"$f":"+[2]Séries_Site!AI630","v":603},{"$f":"+[2]Séries_Site!AJ630","v":152}]
["2012-02-01",{"$f":"+[2]Séries_Site!B631","v":4946},{"$f":"+[2]Séries_Site!C631","v":4860},{"$f":"+[2]Séries_Site!D631","v":86},{"$f":"+[2]Séries_Site!E631","v":6876},{"$f":"+[2]Séries_Site!F631","v":1395},{"$f":"+[2]Séries_Site!G631","v":3863},{"$f":"+[2]Séries_Site!H631","v":3786},{"$f":"+[2]Séries_Site!I631","v":77},{"$f":"+[2]Séries_Site!J631","v":5028},{"$f":"+[2]Séries_Site!K631","v":874},{"$f":"+[2]Séries_Site!L631","v":47},{"$f":"+[2]Séries_Site!M631","v":38},{"$f":"+[2]Séries_Site!N631","v":9},{"$f":"+[2]Séries_Site!O631","v":267},{"$f":"+[2]Séries_Site!P631","v":222},{"$f":"+[2]Séries_Site!Q631","v":116},{"$f":"+[2]Séries_Site!R631","v":116},{"$f":"+[2]Séries_Site!S631","v":0},{"$f":"+[2]Séries_Site!T631","v":95},{"$f":"+[2]Séries_Site!U631","v":0},{"$f":"+[2]Séries_Site!V631","v":534},{"$f":"+[2]Séries_Site!W631","v":534},{"$f":"+[2]Séries_Site!X631","v":0},{"$f":"+[2]Séries_Site!Y631","v":892},{"$f":"+[2]Séries_Site!Z631","v":220},{"$f":"+[2]Séries_Site!AA631","v":0},{"$f":"+[2]Séries_Site!AB631","v":0},{"$f":"+[2]Séries_Site!AC631","v":0},{"$f":"+[2]Séries_Site!AD631","v":0},{"$f":"+[2]Séries_Site!AE631","v":0},{"$f":"+[2]Séries_Site!AF631","v":386},{"$f":"+[2]Séries_Site!AG631","v":386},{"$f":"+[2]Séries_Site!AH631","v":0},{"$f":"+[2]Séries_Site!AI631","v":594},{"$f":"+[2]Séries_Site!AJ631","v":79}]
["2012-03-01",{"$f":"+[2]Séries_Site!B632","v":5352},{"$f":"+[2]Séries_Site!C632","v":5192},{"$f":"+[2]Séries_Site!D632","v":160},{"$f":"+[2]Séries_Site!E632","v":7882},{"$f":"+[2]Séries_Site!F632","v":1842},{"$f":"+[2]Séries_Site!G632","v":4251},{"$f":"+[2]Séries_Site!H632","v":4102},{"$f":"+[2]Séries_Site!I632","v":149},{"$f":"+[2]Séries_Site!J632","v":6086},{"$f":"+[2]Séries_Site!K632","v":1402},{"$f":"+[2]Séries_Site!L632","v":63},{"$f":"+[2]Séries_Site!M632","v":54},{"$f":"+[2]Séries_Site!N632","v":9},{"$f":"+[2]Séries_Site!O632","v":236},{"$f":"+[2]Séries_Site!P632","v":174},{"$f":"+[2]Séries_Site!Q632","v":116},{"$f":"+[2]Séries_Site!R632","v":116},{"$f":"+[2]Séries_Site!S632","v":0},{"$f":"+[2]Séries_Site!T632","v":123},{"$f":"+[2]Séries_Site!U632","v":31},{"$f":"+[2]Séries_Site!V632","v":493},{"$f":"+[2]Séries_Site!W632","v":491},{"$f":"+[2]Séries_Site!X632","v":2},{"$f":"+[2]Séries_Site!Y632","v":717},{"$f":"+[2]Séries_Site!Z632","v":148},{"$f":"+[2]Séries_Site!AA632","v":0},{"$f":"+[2]Séries_Site!AB632","v":0},{"$f":"+[2]Séries_Site!AC632","v":0},{"$f":"+[2]Séries_Site!AD632","v":0},{"$f":"+[2]Séries_Site!AE632","v":0},{"$f":"+[2]Séries_Site!AF632","v":429},{"$f":"+[2]Séries_Site!AG632","v":429},{"$f":"+[2]Séries_Site!AH632","v":0},{"$f":"+[2]Séries_Site!AI632","v":720},{"$f":"+[2]Séries_Site!AJ632","v":87}]
["2012-04-01",{"$f":"+[2]Séries_Site!B633","v":5558},{"$f":"+[2]Séries_Site!C633","v":5437},{"$f":"+[2]Séries_Site!D633","v":121},{"$f":"+[2]Séries_Site!E633","v":7092},{"$f":"+[2]Séries_Site!F633","v":1444},{"$f":"+[2]Séries_Site!G633","v":4654},{"$f":"+[2]Séries_Site!H633","v":4548},{"$f":"+[2]Séries_Site!I633","v":106},{"$f":"+[2]Séries_Site!J633","v":5666},{"$f":"+[2]Séries_Site!K633","v":1081},{"$f":"+[2]Séries_Site!L633","v":84},{"$f":"+[2]Séries_Site!M633","v":71},{"$f":"+[2]Séries_Site!N633","v":13},{"$f":"+[2]Séries_Site!O633","v":215},{"$f":"+[2]Séries_Site!P633","v":181},{"$f":"+[2]Séries_Site!Q633","v":124},{"$f":"+[2]Séries_Site!R633","v":124},{"$f":"+[2]Séries_Site!S633","v":0},{"$f":"+[2]Séries_Site!T633","v":136},{"$f":"+[2]Séries_Site!U633","v":0},{"$f":"+[2]Séries_Site!V633","v":296},{"$f":"+[2]Séries_Site!W633","v":294},{"$f":"+[2]Séries_Site!X633","v":2},{"$f":"+[2]Séries_Site!Y633","v":402},{"$f":"+[2]Séries_Site!Z633","v":114},{"$f":"+[2]Séries_Site!AA633","v":0},{"$f":"+[2]Séries_Site!AB633","v":0},{"$f":"+[2]Séries_Site!AC633","v":0},{"$f":"+[2]Séries_Site!AD633","v":0},{"$f":"+[2]Séries_Site!AE633","v":0},{"$f":"+[2]Séries_Site!AF633","v":400},{"$f":"+[2]Séries_Site!AG633","v":400},{"$f":"+[2]Séries_Site!AH633","v":0},{"$f":"+[2]Séries_Site!AI633","v":673},{"$f":"+[2]Séries_Site!AJ633","v":68}]
["2012-05-01",{"$f":"+[2]Séries_Site!B634","v":5633},{"$f":"+[2]Séries_Site!C634","v":5415},{"$f":"+[2]Séries_Site!D634","v":218},{"$f":"+[2]Séries_Site!E634","v":6788},{"$f":"+[2]Séries_Site!F634","v":1178},{"$f":"+[2]Séries_Site!G634","v":4731},{"$f":"+[2]Séries_Site!H634","v":4526},{"$f":"+[2]Séries_Site!I634","v":205},{"$f":"+[2]Séries_Site!J634","v":5394},{"$f":"+[2]Séries_Site!K634","v":886},{"$f":"+[2]Séries_Site!L634","v":123},{"$f":"+[2]Séries_Site!M634","v":111},{"$f":"+[2]Séries_Site!N634","v":12},{"$f":"+[2]Séries_Site!O634","v":253},{"$f":"+[2]Séries_Site!P634","v":190},{"$f":"+[2]Séries_Site!Q634","v":143},{"$f":"+[2]Séries_Site!R634","v":143},{"$f":"+[2]Séries_Site!S634","v":0},{"$f":"+[2]Séries_Site!T634","v":135},{"$f":"+[2]Séries_Site!U634","v":1},{"$f":"+[2]Séries_Site!V634","v":148},{"$f":"+[2]Séries_Site!W634","v":147},{"$f":"+[2]Séries_Site!X634","v":1},{"$f":"+[2]Séries_Site!Y634","v":310},{"$f":"+[2]Séries_Site!Z634","v":11},{"$f":"+[2]Séries_Site!AA634","v":0},{"$f":"+[2]Séries_Site!AB634","v":0},{"$f":"+[2]Séries_Site!AC634","v":0},{"$f":"+[2]Séries_Site!AD634","v":0},{"$f":"+[2]Séries_Site!AE634","v":0},{"$f":"+[2]Séries_Site!AF634","v":488},{"$f":"+[2]Séries_Site!AG634","v":488},{"$f":"+[2]Séries_Site!AH634","v":0},{"$f":"+[2]Séries_Site!AI634","v":696},{"$f":"+[2]Séries_Site!AJ634","v":90}]
["2012-06-01",{"$f":"+[2]Séries_Site!B635","v":5834},{"$f":"+[2]Séries_Site!C635","v":5643},{"$f":"+[2]Séries_Site!D635","v":191},{"$f":"+[2]Séries_Site!E635","v":6347},{"$f":"+[2]Séries_Site!F635","v":1222},{"$f":"+[2]Séries_Site!G635","v":4753},{"$f":"+[2]Séries_Site!H635","v":4593},{"$f":"+[2]Séries_Site!I635","v":160},{"$f":"+[2]Séries_Site!J635","v":5002},{"$f":"+[2]Séries_Site!K635","v":895},{"$f":"+[2]Séries_Site!L635","v":128},{"$f":"+[2]Séries_Site!M635","v":100},{"$f":"+[2]Séries_Site!N635","v":28},{"$f":"+[2]Séries_Site!O635","v":236},{"$f":"+[2]Séries_Site!P635","v":183},{"$f":"+[2]Séries_Site!Q635","v":159},{"$f":"+[2]Séries_Site!R635","v":159},{"$f":"+[2]Séries_Site!S635","v":0},{"$f":"+[2]Séries_Site!T635","v":155},{"$f":"+[2]Séries_Site!U635","v":0},{"$f":"+[2]Séries_Site!V635","v":253},{"$f":"+[2]Séries_Site!W635","v":250},{"$f":"+[2]Séries_Site!X635","v":3},{"$f":"+[2]Séries_Site!Y635","v":326},{"$f":"+[2]Séries_Site!Z635","v":66},{"$f":"+[2]Séries_Site!AA635","v":0},{"$f":"+[2]Séries_Site!AB635","v":0},{"$f":"+[2]Séries_Site!AC635","v":0},{"$f":"+[2]Séries_Site!AD635","v":0},{"$f":"+[2]Séries_Site!AE635","v":0},{"$f":"+[2]Séries_Site!AF635","v":541},{"$f":"+[2]Séries_Site!AG635","v":541},{"$f":"+[2]Séries_Site!AH635","v":0},{"$f":"+[2]Séries_Site!AI635","v":628},{"$f":"+[2]Séries_Site!AJ635","v":78}]
["2012-07-01",{"$f":"+[2]Séries_Site!B636","v":6342},{"$f":"+[2]Séries_Site!C636","v":6181},{"$f":"+[2]Séries_Site!D636","v":161},{"$f":"+[2]Séries_Site!E636","v":7560},{"$f":"+[2]Séries_Site!F636","v":1251},{"$f":"+[2]Séries_Site!G636","v":5183},{"$f":"+[2]Séries_Site!H636","v":5048},{"$f":"+[2]Séries_Site!I636","v":135},{"$f":"+[2]Séries_Site!J636","v":6027},{"$f":"+[2]Séries_Site!K636","v":978},{"$f":"+[2]Séries_Site!L636","v":132},{"$f":"+[2]Séries_Site!M636","v":110},{"$f":"+[2]Séries_Site!N636","v":22},{"$f":"+[2]Séries_Site!O636","v":278},{"$f":"+[2]Séries_Site!P636","v":184},{"$f":"+[2]Séries_Site!Q636","v":172},{"$f":"+[2]Séries_Site!R636","v":172},{"$f":"+[2]Séries_Site!S636","v":0},{"$f":"+[2]Séries_Site!T636","v":165},{"$f":"+[2]Séries_Site!U636","v":0},{"$f":"+[2]Séries_Site!V636","v":351},{"$f":"+[2]Séries_Site!W636","v":347},{"$f":"+[2]Séries_Site!X636","v":4},{"$f":"+[2]Séries_Site!Y636","v":451},{"$f":"+[2]Séries_Site!Z636","v":71},{"$f":"+[2]Séries_Site!AA636","v":0},{"$f":"+[2]Séries_Site!AB636","v":0},{"$f":"+[2]Séries_Site!AC636","v":0},{"$f":"+[2]Séries_Site!AD636","v":0},{"$f":"+[2]Séries_Site!AE636","v":0},{"$f":"+[2]Séries_Site!AF636","v":504},{"$f":"+[2]Séries_Site!AG636","v":504},{"$f":"+[2]Séries_Site!AH636","v":0},{"$f":"+[2]Séries_Site!AI636","v":639},{"$f":"+[2]Séries_Site!AJ636","v":18}]
["2012-08-01",{"$f":"+[2]Séries_Site!B637","v":6644},{"$f":"+[2]Séries_Site!C637","v":6507},{"$f":"+[2]Séries_Site!D637","v":137},{"$f":"+[2]Séries_Site!E637","v":7538},{"$f":"+[2]Séries_Site!F637","v":1140},{"$f":"+[2]Séries_Site!G637","v":5443},{"$f":"+[2]Séries_Site!H637","v":5317},{"$f":"+[2]Séries_Site!I637","v":126},{"$f":"+[2]Séries_Site!J637","v":5900},{"$f":"+[2]Séries_Site!K637","v":830},{"$f":"+[2]Séries_Site!L637","v":80},{"$f":"+[2]Séries_Site!M637","v":69},{"$f":"+[2]Séries_Site!N637","v":11},{"$f":"+[2]Séries_Site!O637","v":313},{"$f":"+[2]Séries_Site!P637","v":229},{"$f":"+[2]Séries_Site!Q637","v":168},{"$f":"+[2]Séries_Site!R637","v":168},{"$f":"+[2]Séries_Site!S637","v":0},{"$f":"+[2]Séries_Site!T637","v":175},{"$f":"+[2]Séries_Site!U637","v":2},{"$f":"+[2]Séries_Site!V637","v":414},{"$f":"+[2]Séries_Site!W637","v":414},{"$f":"+[2]Séries_Site!X637","v":0},{"$f":"+[2]Séries_Site!Y637","v":454},{"$f":"+[2]Séries_Site!Z637","v":46},{"$f":"+[2]Séries_Site!AA637","v":0},{"$f":"+[2]Séries_Site!AB637","v":0},{"$f":"+[2]Séries_Site!AC637","v":0},{"$f":"+[2]Séries_Site!AD637","v":0},{"$f":"+[2]Séries_Site!AE637","v":0},{"$f":"+[2]Séries_Site!AF637","v":539},{"$f":"+[2]Séries_Site!AG637","v":539},{"$f":"+[2]Séries_Site!AH637","v":0},{"$f":"+[2]Séries_Site!AI637","v":696},{"$f":"+[2]Séries_Site!AJ637","v":33}]
["2012-09-01",{"$f":"+[2]Séries_Site!B638","v":6309},{"$f":"+[2]Séries_Site!C638","v":6009},{"$f":"+[2]Séries_Site!D638","v":300},{"$f":"+[2]Séries_Site!E638","v":6485},{"$f":"+[2]Séries_Site!F638","v":1138},{"$f":"+[2]Séries_Site!G638","v":5159},{"$f":"+[2]Séries_Site!H638","v":4899},{"$f":"+[2]Séries_Site!I638","v":260},{"$f":"+[2]Séries_Site!J638","v":5070},{"$f":"+[2]Séries_Site!K638","v":809},{"$f":"+[2]Séries_Site!L638","v":90},{"$f":"+[2]Séries_Site!M638","v":71},{"$f":"+[2]Séries_Site!N638","v":19},{"$f":"+[2]Séries_Site!O638","v":228},{"$f":"+[2]Séries_Site!P638","v":181},{"$f":"+[2]Séries_Site!Q638","v":84},{"$f":"+[2]Séries_Site!R638","v":84},{"$f":"+[2]Séries_Site!S638","v":0},{"$f":"+[2]Séries_Site!T638","v":168},{"$f":"+[2]Séries_Site!U638","v":5},{"$f":"+[2]Séries_Site!V638","v":536},{"$f":"+[2]Séries_Site!W638","v":515},{"$f":"+[2]Séries_Site!X638","v":21},{"$f":"+[2]Séries_Site!Y638","v":453},{"$f":"+[2]Séries_Site!Z638","v":52},{"$f":"+[2]Séries_Site!AA638","v":0},{"$f":"+[2]Séries_Site!AB638","v":0},{"$f":"+[2]Séries_Site!AC638","v":0},{"$f":"+[2]Séries_Site!AD638","v":0},{"$f":"+[2]Séries_Site!AE638","v":0},{"$f":"+[2]Séries_Site!AF638","v":440},{"$f":"+[2]Séries_Site!AG638","v":440},{"$f":"+[2]Séries_Site!AH638","v":0},{"$f":"+[2]Séries_Site!AI638","v":566},{"$f":"+[2]Séries_Site!AJ638","v":91}]
["2012-10-01",{"$f":"+[2]Séries_Site!B639","v":7498},{"$f":"+[2]Séries_Site!C639","v":7105},{"$f":"+[2]Séries_Site!D639","v":393},{"$f":"+[2]Séries_Site!E639","v":7722},{"$f":"+[2]Séries_Site!F639","v":1476},{"$f":"+[2]Séries_Site!G639","v":5992},{"$f":"+[2]Séries_Site!H639","v":5637},{"$f":"+[2]Séries_Site!I639","v":355},{"$f":"+[2]Séries_Site!J639","v":5914},{"$f":"+[2]Séries_Site!K639","v":1090},{"$f":"+[2]Séries_Site!L639","v":88},{"$f":"+[2]Séries_Site!M639","v":77},{"$f":"+[2]Séries_Site!N639","v":11},{"$f":"+[2]Séries_Site!O639","v":285},{"$f":"+[2]Séries_Site!P639","v":198},{"$f":"+[2]Séries_Site!Q639","v":64},{"$f":"+[2]Séries_Site!R639","v":64},{"$f":"+[2]Séries_Site!S639","v":0},{"$f":"+[2]Séries_Site!T639","v":105},{"$f":"+[2]Séries_Site!U639","v":0},{"$f":"+[2]Séries_Site!V639","v":821},{"$f":"+[2]Séries_Site!W639","v":794},{"$f":"+[2]Séries_Site!X639","v":27},{"$f":"+[2]Séries_Site!Y639","v":753},{"$f":"+[2]Séries_Site!Z639","v":77},{"$f":"+[2]Séries_Site!AA639","v":0},{"$f":"+[2]Séries_Site!AB639","v":0},{"$f":"+[2]Séries_Site!AC639","v":0},{"$f":"+[2]Séries_Site!AD639","v":0},{"$f":"+[2]Séries_Site!AE639","v":0},{"$f":"+[2]Séries_Site!AF639","v":533},{"$f":"+[2]Séries_Site!AG639","v":533},{"$f":"+[2]Séries_Site!AH639","v":0},{"$f":"+[2]Séries_Site!AI639","v":665},{"$f":"+[2]Séries_Site!AJ639","v":111}]
["2012-11-01",{"$f":"+[2]Séries_Site!B640","v":5863},{"$f":"+[2]Séries_Site!C640","v":5729},{"$f":"+[2]Séries_Site!D640","v":134},{"$f":"+[2]Séries_Site!E640","v":6858},{"$f":"+[2]Séries_Site!F640","v":1783},{"$f":"+[2]Séries_Site!G640","v":4423},{"$f":"+[2]Séries_Site!H640","v":4304},{"$f":"+[2]Séries_Site!I640","v":119},{"$f":"+[2]Séries_Site!J640","v":5234},{"$f":"+[2]Séries_Site!K640","v":1272},{"$f":"+[2]Séries_Site!L640","v":61},{"$f":"+[2]Séries_Site!M640","v":55},{"$f":"+[2]Séries_Site!N640","v":6},{"$f":"+[2]Séries_Site!O640","v":217},{"$f":"+[2]Séries_Site!P640","v":177},{"$f":"+[2]Séries_Site!Q640","v":68},{"$f":"+[2]Séries_Site!R640","v":68},{"$f":"+[2]Séries_Site!S640","v":0},{"$f":"+[2]Séries_Site!T640","v":52},{"$f":"+[2]Séries_Site!U640","v":0},{"$f":"+[2]Séries_Site!V640","v":773},{"$f":"+[2]Séries_Site!W640","v":764},{"$f":"+[2]Séries_Site!X640","v":9},{"$f":"+[2]Séries_Site!Y640","v":732},{"$f":"+[2]Séries_Site!Z640","v":80},{"$f":"+[2]Séries_Site!AA640","v":0},{"$f":"+[2]Séries_Site!AB640","v":0},{"$f":"+[2]Séries_Site!AC640","v":0},{"$f":"+[2]Séries_Site!AD640","v":0},{"$f":"+[2]Séries_Site!AE640","v":0},{"$f":"+[2]Séries_Site!AF640","v":538},{"$f":"+[2]Séries_Site!AG640","v":538},{"$f":"+[2]Séries_Site!AH640","v":0},{"$f":"+[2]Séries_Site!AI640","v":623},{"$f":"+[2]Séries_Site!AJ640","v":254}]
["2012-12-01",{"$f":"+[2]Séries_Site!B641","v":5729},{"$f":"+[2]Séries_Site!C641","v":5542},{"$f":"+[2]Séries_Site!D641","v":187},{"$f":"+[2]Séries_Site!E641","v":5780},{"$f":"+[2]Séries_Site!F641","v":1523},{"$f":"+[2]Séries_Site!G641","v":4052},{"$f":"+[2]Séries_Site!H641","v":3891},{"$f":"+[2]Séries_Site!I641","v":161},{"$f":"+[2]Séries_Site!J641","v":4524},{"$f":"+[2]Séries_Site!K641","v":1188},{"$f":"+[2]Séries_Site!L641","v":79},{"$f":"+[2]Séries_Site!M641","v":74},{"$f":"+[2]Séries_Site!N641","v":5},{"$f":"+[2]Séries_Site!O641","v":72},{"$f":"+[2]Séries_Site!P641","v":116},{"$f":"+[2]Séries_Site!Q641","v":65},{"$f":"+[2]Séries_Site!R641","v":65},{"$f":"+[2]Séries_Site!S641","v":0},{"$f":"+[2]Séries_Site!T641","v":0},{"$f":"+[2]Séries_Site!U641","v":0},{"$f":"+[2]Séries_Site!V641","v":1055},{"$f":"+[2]Séries_Site!W641","v":1034},{"$f":"+[2]Séries_Site!X641","v":21},{"$f":"+[2]Séries_Site!Y641","v":867},{"$f":"+[2]Séries_Site!Z641","v":74},{"$f":"+[2]Séries_Site!AA641","v":0},{"$f":"+[2]Séries_Site!AB641","v":0},{"$f":"+[2]Séries_Site!AC641","v":0},{"$f":"+[2]Séries_Site!AD641","v":0},{"$f":"+[2]Séries_Site!AE641","v":0},{"$f":"+[2]Séries_Site!AF641","v":478},{"$f":"+[2]Séries_Site!AG641","v":478},{"$f":"+[2]Séries_Site!AH641","v":0},{"$f":"+[2]Séries_Site!AI641","v":317},{"$f":"+[2]Séries_Site!AJ641","v":145}]
["2013-01-01",{"$f":"+[2]Séries_Site!B642","v":5554},{"$f":"+[2]Séries_Site!C642","v":5419},{"$f":"+[2]Séries_Site!D642","v":135},{"$f":"+[2]Séries_Site!E642","v":6286},{"$f":"+[2]Séries_Site!F642","v":820},{"$f":"+[2]Séries_Site!G642","v":3877},{"$f":"+[2]Séries_Site!H642","v":3788},{"$f":"+[2]Séries_Site!I642","v":89},{"$f":"+[2]Séries_Site!J642","v":4509},{"$f":"+[2]Séries_Site!K642","v":434},{"$f":"+[2]Séries_Site!L642","v":54},{"$f":"+[2]Séries_Site!M642","v":50},{"$f":"+[2]Séries_Site!N642","v":4},{"$f":"+[2]Séries_Site!O642","v":86},{"$f":"+[2]Séries_Site!P642","v":57},{"$f":"+[2]Séries_Site!Q642","v":121},{"$f":"+[2]Séries_Site!R642","v":121},{"$f":"+[2]Séries_Site!S642","v":0},{"$f":"+[2]Séries_Site!T642","v":66},{"$f":"+[2]Séries_Site!U642","v":0},{"$f":"+[2]Séries_Site!V642","v":890},{"$f":"+[2]Séries_Site!W642","v":848},{"$f":"+[2]Séries_Site!X642","v":42},{"$f":"+[2]Séries_Site!Y642","v":947},{"$f":"+[2]Séries_Site!Z642","v":120},{"$f":"+[2]Séries_Site!AA642","v":155},{"$f":"+[2]Séries_Site!AB642","v":155},{"$f":"+[2]Séries_Site!AC642","v":0},{"$f":"+[2]Séries_Site!AD642","v":153},{"$f":"+[2]Séries_Site!AE642","v":3},{"$f":"+[2]Séries_Site!AF642","v":457},{"$f":"+[2]Séries_Site!AG642","v":457},{"$f":"+[2]Séries_Site!AH642","v":0},{"$f":"+[2]Séries_Site!AI642","v":525},{"$f":"+[2]Séries_Site!AJ642","v":206}]
["2013-02-01",{"$f":"+[2]Séries_Site!B643","v":6355},{"$f":"+[2]Séries_Site!C643","v":6219},{"$f":"+[2]Séries_Site!D643","v":136},{"$f":"+[2]Séries_Site!E643","v":7894},{"$f":"+[2]Séries_Site!F643","v":998},{"$f":"+[2]Séries_Site!G643","v":4791},{"$f":"+[2]Séries_Site!H643","v":4668},{"$f":"+[2]Séries_Site!I643","v":123},{"$f":"+[2]Séries_Site!J643","v":5860},{"$f":"+[2]Séries_Site!K643","v":705},{"$f":"+[2]Séries_Site!L643","v":59},{"$f":"+[2]Séries_Site!M643","v":56},{"$f":"+[2]Séries_Site!N643","v":3},{"$f":"+[2]Séries_Site!O643","v":169},{"$f":"+[2]Séries_Site!P643","v":140},{"$f":"+[2]Séries_Site!Q643","v":80},{"$f":"+[2]Séries_Site!R643","v":80},{"$f":"+[2]Séries_Site!S643","v":0},{"$f":"+[2]Séries_Site!T643","v":140},{"$f":"+[2]Séries_Site!U643","v":0},{"$f":"+[2]Séries_Site!V643","v":847},{"$f":"+[2]Séries_Site!W643","v":837},{"$f":"+[2]Séries_Site!X643","v":10},{"$f":"+[2]Séries_Site!Y643","v":936},{"$f":"+[2]Séries_Site!Z643","v":124},{"$f":"+[2]Séries_Site!AA643","v":147},{"$f":"+[2]Séries_Site!AB643","v":147},{"$f":"+[2]Séries_Site!AC643","v":0},{"$f":"+[2]Séries_Site!AD643","v":151},{"$f":"+[2]Séries_Site!AE643","v":9},{"$f":"+[2]Séries_Site!AF643","v":431},{"$f":"+[2]Séries_Site!AG643","v":431},{"$f":"+[2]Séries_Site!AH643","v":0},{"$f":"+[2]Séries_Site!AI643","v":638},{"$f":"+[2]Séries_Site!AJ643","v":20}]
["2013-03-01",{"$f":"+[2]Séries_Site!B644","v":7513},{"$f":"+[2]Séries_Site!C644","v":7355},{"$f":"+[2]Séries_Site!D644","v":158},{"$f":"+[2]Séries_Site!E644","v":8739},{"$f":"+[2]Séries_Site!F644","v":1155},{"$f":"+[2]Séries_Site!G644","v":5813},{"$f":"+[2]Séries_Site!H644","v":5684},{"$f":"+[2]Séries_Site!I644","v":129},{"$f":"+[2]Séries_Site!J644","v":6517},{"$f":"+[2]Séries_Site!K644","v":828},{"$f":"+[2]Séries_Site!L644","v":80},{"$f":"+[2]Séries_Site!M644","v":79},{"$f":"+[2]Séries_Site!N644","v":1},{"$f":"+[2]Séries_Site!O644","v":226},{"$f":"+[2]Séries_Site!P644","v":160},{"$f":"+[2]Séries_Site!Q644","v":139},{"$f":"+[2]Séries_Site!R644","v":139},{"$f":"+[2]Séries_Site!S644","v":0},{"$f":"+[2]Séries_Site!T644","v":105},{"$f":"+[2]Séries_Site!U644","v":6},{"$f":"+[2]Séries_Site!V644","v":795},{"$f":"+[2]Séries_Site!W644","v":767},{"$f":"+[2]Séries_Site!X644","v":28},{"$f":"+[2]Séries_Site!Y644","v":963},{"$f":"+[2]Séries_Site!Z644","v":95},{"$f":"+[2]Séries_Site!AA644","v":190},{"$f":"+[2]Séries_Site!AB644","v":190},{"$f":"+[2]Séries_Site!AC644","v":0},{"$f":"+[2]Séries_Site!AD644","v":184},{"$f":"+[2]Séries_Site!AE644","v":6},{"$f":"+[2]Séries_Site!AF644","v":496},{"$f":"+[2]Séries_Site!AG644","v":496},{"$f":"+[2]Séries_Site!AH644","v":0},{"$f":"+[2]Séries_Site!AI644","v":744},{"$f":"+[2]Séries_Site!AJ644","v":60}]
["2013-04-01",{"$f":"+[2]Séries_Site!B645","v":7540},{"$f":"+[2]Séries_Site!C645","v":7384},{"$f":"+[2]Séries_Site!D645","v":156},{"$f":"+[2]Séries_Site!E645","v":9280},{"$f":"+[2]Séries_Site!F645","v":1596},{"$f":"+[2]Séries_Site!G645","v":6055},{"$f":"+[2]Séries_Site!H645","v":5929},{"$f":"+[2]Séries_Site!I645","v":126},{"$f":"+[2]Séries_Site!J645","v":7291},{"$f":"+[2]Séries_Site!K645","v":1239},{"$f":"+[2]Séries_Site!L645","v":84},{"$f":"+[2]Séries_Site!M645","v":67},{"$f":"+[2]Séries_Site!N645","v":17},{"$f":"+[2]Séries_Site!O645","v":209},{"$f":"+[2]Séries_Site!P645","v":135},{"$f":"+[2]Séries_Site!Q645","v":133},{"$f":"+[2]Séries_Site!R645","v":133},{"$f":"+[2]Séries_Site!S645","v":0},{"$f":"+[2]Séries_Site!T645","v":145},{"$f":"+[2]Séries_Site!U645","v":0},{"$f":"+[2]Séries_Site!V645","v":511},{"$f":"+[2]Séries_Site!W645","v":498},{"$f":"+[2]Séries_Site!X645","v":13},{"$f":"+[2]Séries_Site!Y645","v":537},{"$f":"+[2]Séries_Site!Z645","v":86},{"$f":"+[2]Séries_Site!AA645","v":179},{"$f":"+[2]Séries_Site!AB645","v":179},{"$f":"+[2]Séries_Site!AC645","v":0},{"$f":"+[2]Séries_Site!AD645","v":184},{"$f":"+[2]Séries_Site!AE645","v":35},{"$f":"+[2]Séries_Site!AF645","v":578},{"$f":"+[2]Séries_Site!AG645","v":578},{"$f":"+[2]Séries_Site!AH645","v":0},{"$f":"+[2]Séries_Site!AI645","v":914},{"$f":"+[2]Séries_Site!AJ645","v":101}]
["2013-05-01",{"$f":"+[2]Séries_Site!B646","v":7631},{"$f":"+[2]Séries_Site!C646","v":7479},{"$f":"+[2]Séries_Site!D646","v":152},{"$f":"+[2]Séries_Site!E646","v":8672},{"$f":"+[2]Séries_Site!F646","v":1286},{"$f":"+[2]Séries_Site!G646","v":5986},{"$f":"+[2]Séries_Site!H646","v":5849},{"$f":"+[2]Séries_Site!I646","v":137},{"$f":"+[2]Séries_Site!J646","v":6832},{"$f":"+[2]Séries_Site!K646","v":948},{"$f":"+[2]Séries_Site!L646","v":109},{"$f":"+[2]Séries_Site!M646","v":98},{"$f":"+[2]Séries_Site!N646","v":11},{"$f":"+[2]Séries_Site!O646","v":189},{"$f":"+[2]Séries_Site!P646","v":111},{"$f":"+[2]Séries_Site!Q646","v":130},{"$f":"+[2]Séries_Site!R646","v":130},{"$f":"+[2]Séries_Site!S646","v":0},{"$f":"+[2]Séries_Site!T646","v":124},{"$f":"+[2]Séries_Site!U646","v":0},{"$f":"+[2]Séries_Site!V646","v":382},{"$f":"+[2]Séries_Site!W646","v":378},{"$f":"+[2]Séries_Site!X646","v":4},{"$f":"+[2]Séries_Site!Y646","v":543},{"$f":"+[2]Séries_Site!Z646","v":35},{"$f":"+[2]Séries_Site!AA646","v":153},{"$f":"+[2]Séries_Site!AB646","v":153},{"$f":"+[2]Séries_Site!AC646","v":0},{"$f":"+[2]Séries_Site!AD646","v":154},{"$f":"+[2]Séries_Site!AE646","v":4},{"$f":"+[2]Séries_Site!AF646","v":871},{"$f":"+[2]Séries_Site!AG646","v":871},{"$f":"+[2]Séries_Site!AH646","v":0},{"$f":"+[2]Séries_Site!AI646","v":830},{"$f":"+[2]Séries_Site!AJ646","v":188}]
["2013-06-01",{"$f":"+[2]Séries_Site!B647","v":7449},{"$f":"+[2]Séries_Site!C647","v":7223},{"$f":"+[2]Séries_Site!D647","v":226},{"$f":"+[2]Séries_Site!E647","v":8405},{"$f":"+[2]Séries_Site!F647","v":1243},{"$f":"+[2]Séries_Site!G647","v":6023},{"$f":"+[2]Séries_Site!H647","v":5804},{"$f":"+[2]Séries_Site!I647","v":219},{"$f":"+[2]Séries_Site!J647","v":6605},{"$f":"+[2]Séries_Site!K647","v":971},{"$f":"+[2]Séries_Site!L647","v":69},{"$f":"+[2]Séries_Site!M647","v":67},{"$f":"+[2]Séries_Site!N647","v":2},{"$f":"+[2]Séries_Site!O647","v":193},{"$f":"+[2]Séries_Site!P647","v":120},{"$f":"+[2]Séries_Site!Q647","v":131},{"$f":"+[2]Séries_Site!R647","v":131},{"$f":"+[2]Séries_Site!S647","v":0},{"$f":"+[2]Séries_Site!T647","v":130},{"$f":"+[2]Séries_Site!U647","v":0},{"$f":"+[2]Séries_Site!V647","v":504},{"$f":"+[2]Séries_Site!W647","v":499},{"$f":"+[2]Séries_Site!X647","v":5},{"$f":"+[2]Séries_Site!Y647","v":583},{"$f":"+[2]Séries_Site!Z647","v":63},{"$f":"+[2]Séries_Site!AA647","v":84},{"$f":"+[2]Séries_Site!AB647","v":84},{"$f":"+[2]Séries_Site!AC647","v":0},{"$f":"+[2]Séries_Site!AD647","v":73},{"$f":"+[2]Séries_Site!AE647","v":25},{"$f":"+[2]Séries_Site!AF647","v":638},{"$f":"+[2]Séries_Site!AG647","v":638},{"$f":"+[2]Séries_Site!AH647","v":0},{"$f":"+[2]Séries_Site!AI647","v":821},{"$f":"+[2]Séries_Site!AJ647","v":64}]
["2013-07-01",{"$f":"+[2]Séries_Site!B648","v":7665},{"$f":"+[2]Séries_Site!C648","v":7530},{"$f":"+[2]Séries_Site!D648","v":135},{"$f":"+[2]Séries_Site!E648","v":9581},{"$f":"+[2]Séries_Site!F648","v":1399},{"$f":"+[2]Séries_Site!G648","v":6076},{"$f":"+[2]Séries_Site!H648","v":5956},{"$f":"+[2]Séries_Site!I648","v":120},{"$f":"+[2]Séries_Site!J648","v":7515},{"$f":"+[2]Séries_Site!K648","v":909},{"$f":"+[2]Séries_Site!L648","v":102},{"$f":"+[2]Séries_Site!M648","v":93},{"$f":"+[2]Séries_Site!N648","v":9},{"$f":"+[2]Séries_Site!O648","v":205},{"$f":"+[2]Séries_Site!P648","v":152},{"$f":"+[2]Séries_Site!Q648","v":138},{"$f":"+[2]Séries_Site!R648","v":138},{"$f":"+[2]Séries_Site!S648","v":0},{"$f":"+[2]Séries_Site!T648","v":130},{"$f":"+[2]Séries_Site!U648","v":0},{"$f":"+[2]Séries_Site!V648","v":513},{"$f":"+[2]Séries_Site!W648","v":507},{"$f":"+[2]Séries_Site!X648","v":6},{"$f":"+[2]Séries_Site!Y648","v":732},{"$f":"+[2]Séries_Site!Z648","v":81},{"$f":"+[2]Séries_Site!AA648","v":55},{"$f":"+[2]Séries_Site!AB648","v":55},{"$f":"+[2]Séries_Site!AC648","v":0},{"$f":"+[2]Séries_Site!AD648","v":58},{"$f":"+[2]Séries_Site!AE648","v":44},{"$f":"+[2]Séries_Site!AF648","v":781},{"$f":"+[2]Séries_Site!AG648","v":781},{"$f":"+[2]Séries_Site!AH648","v":0},{"$f":"+[2]Séries_Site!AI648","v":941},{"$f":"+[2]Séries_Site!AJ648","v":213}]
["2013-08-01",{"$f":"+[2]Séries_Site!B649","v":7877},{"$f":"+[2]Séries_Site!C649","v":7705},{"$f":"+[2]Séries_Site!D649","v":172},{"$f":"+[2]Séries_Site!E649","v":9282},{"$f":"+[2]Séries_Site!F649","v":1535},{"$f":"+[2]Séries_Site!G649","v":6315},{"$f":"+[2]Séries_Site!H649","v":6175},{"$f":"+[2]Séries_Site!I649","v":140},{"$f":"+[2]Séries_Site!J649","v":7218},{"$f":"+[2]Séries_Site!K649","v":1037},{"$f":"+[2]Séries_Site!L649","v":82},{"$f":"+[2]Séries_Site!M649","v":69},{"$f":"+[2]Séries_Site!N649","v":13},{"$f":"+[2]Séries_Site!O649","v":212},{"$f":"+[2]Séries_Site!P649","v":171},{"$f":"+[2]Séries_Site!Q649","v":140},{"$f":"+[2]Séries_Site!R649","v":140},{"$f":"+[2]Séries_Site!S649","v":0},{"$f":"+[2]Séries_Site!T649","v":123},{"$f":"+[2]Séries_Site!U649","v":3},{"$f":"+[2]Séries_Site!V649","v":550},{"$f":"+[2]Séries_Site!W649","v":531},{"$f":"+[2]Séries_Site!X649","v":19},{"$f":"+[2]Séries_Site!Y649","v":831},{"$f":"+[2]Séries_Site!Z649","v":67},{"$f":"+[2]Séries_Site!AA649","v":75},{"$f":"+[2]Séries_Site!AB649","v":75},{"$f":"+[2]Séries_Site!AC649","v":0},{"$f":"+[2]Séries_Site!AD649","v":87},{"$f":"+[2]Séries_Site!AE649","v":23},{"$f":"+[2]Séries_Site!AF649","v":715},{"$f":"+[2]Séries_Site!AG649","v":715},{"$f":"+[2]Séries_Site!AH649","v":0},{"$f":"+[2]Séries_Site!AI649","v":811},{"$f":"+[2]Séries_Site!AJ649","v":234}]
["2013-09-01",{"$f":"+[2]Séries_Site!B650","v":7461},{"$f":"+[2]Séries_Site!C650","v":7283},{"$f":"+[2]Séries_Site!D650","v":178},{"$f":"+[2]Séries_Site!E650","v":8899},{"$f":"+[2]Séries_Site!F650","v":1684},{"$f":"+[2]Séries_Site!G650","v":5969},{"$f":"+[2]Séries_Site!H650","v":5829},{"$f":"+[2]Séries_Site!I650","v":140},{"$f":"+[2]Séries_Site!J650","v":6929},{"$f":"+[2]Séries_Site!K650","v":1239},{"$f":"+[2]Séries_Site!L650","v":90},{"$f":"+[2]Séries_Site!M650","v":86},{"$f":"+[2]Séries_Site!N650","v":4},{"$f":"+[2]Séries_Site!O650","v":164},{"$f":"+[2]Séries_Site!P650","v":115},{"$f":"+[2]Séries_Site!Q650","v":178},{"$f":"+[2]Séries_Site!R650","v":178},{"$f":"+[2]Séries_Site!S650","v":0},{"$f":"+[2]Séries_Site!T650","v":175},{"$f":"+[2]Séries_Site!U650","v":0},{"$f":"+[2]Séries_Site!V650","v":661},{"$f":"+[2]Séries_Site!W650","v":627},{"$f":"+[2]Séries_Site!X650","v":34},{"$f":"+[2]Séries_Site!Y650","v":789},{"$f":"+[2]Séries_Site!Z650","v":87},{"$f":"+[2]Séries_Site!AA650","v":81},{"$f":"+[2]Séries_Site!AB650","v":81},{"$f":"+[2]Séries_Site!AC650","v":0},{"$f":"+[2]Séries_Site!AD650","v":79},{"$f":"+[2]Séries_Site!AE650","v":52},{"$f":"+[2]Séries_Site!AF650","v":482},{"$f":"+[2]Séries_Site!AG650","v":482},{"$f":"+[2]Séries_Site!AH650","v":0},{"$f":"+[2]Séries_Site!AI650","v":763},{"$f":"+[2]Séries_Site!AJ650","v":191}]
["2013-10-01",{"$f":"+[2]Séries_Site!B651","v":7376},{"$f":"+[2]Séries_Site!C651","v":7285},{"$f":"+[2]Séries_Site!D651","v":91},{"$f":"+[2]Séries_Site!E651","v":10030},{"$f":"+[2]Séries_Site!F651","v":1697},{"$f":"+[2]Séries_Site!G651","v":5908},{"$f":"+[2]Séries_Site!H651","v":5841},{"$f":"+[2]Séries_Site!I651","v":67},{"$f":"+[2]Séries_Site!J651","v":7637},{"$f":"+[2]Séries_Site!K651","v":1195},{"$f":"+[2]Séries_Site!L651","v":64},{"$f":"+[2]Séries_Site!M651","v":60},{"$f":"+[2]Séries_Site!N651","v":4},{"$f":"+[2]Séries_Site!O651","v":254},{"$f":"+[2]Séries_Site!P651","v":171},{"$f":"+[2]Séries_Site!Q651","v":169},{"$f":"+[2]Séries_Site!R651","v":169},{"$f":"+[2]Séries_Site!S651","v":0},{"$f":"+[2]Séries_Site!T651","v":177},{"$f":"+[2]Séries_Site!U651","v":1},{"$f":"+[2]Séries_Site!V651","v":728},{"$f":"+[2]Séries_Site!W651","v":708},{"$f":"+[2]Séries_Site!X651","v":20},{"$f":"+[2]Séries_Site!Y651","v":1004},{"$f":"+[2]Séries_Site!Z651","v":146},{"$f":"+[2]Séries_Site!AA651","v":92},{"$f":"+[2]Séries_Site!AB651","v":92},{"$f":"+[2]Séries_Site!AC651","v":0},{"$f":"+[2]Séries_Site!AD651","v":103},{"$f":"+[2]Séries_Site!AE651","v":27},{"$f":"+[2]Séries_Site!AF651","v":415},{"$f":"+[2]Séries_Site!AG651","v":415},{"$f":"+[2]Séries_Site!AH651","v":0},{"$f":"+[2]Séries_Site!AI651","v":855},{"$f":"+[2]Séries_Site!AJ651","v":157}]
["2013-11-01",{"$f":"+[2]Séries_Site!B652","v":6049},{"$f":"+[2]Séries_Site!C652","v":5979},{"$f":"+[2]Séries_Site!D652","v":70},{"$f":"+[2]Séries_Site!E652","v":8308},{"$f":"+[2]Séries_Site!F652","v":1333},{"$f":"+[2]Séries_Site!G652","v":4315},{"$f":"+[2]Séries_Site!H652","v":4310},{"$f":"+[2]Séries_Site!I652","v":5},{"$f":"+[2]Séries_Site!J652","v":6079},{"$f":"+[2]Séries_Site!K652","v":893},{"$f":"+[2]Séries_Site!L652","v":51},{"$f":"+[2]Séries_Site!M652","v":49},{"$f":"+[2]Séries_Site!N652","v":2},{"$f":"+[2]Séries_Site!O652","v":232},{"$f":"+[2]Séries_Site!P652","v":127},{"$f":"+[2]Séries_Site!Q652","v":141},{"$f":"+[2]Séries_Site!R652","v":141},{"$f":"+[2]Séries_Site!S652","v":0},{"$f":"+[2]Séries_Site!T652","v":190},{"$f":"+[2]Séries_Site!U652","v":0},{"$f":"+[2]Séries_Site!V652","v":937},{"$f":"+[2]Séries_Site!W652","v":874},{"$f":"+[2]Séries_Site!X652","v":63},{"$f":"+[2]Séries_Site!Y652","v":1033},{"$f":"+[2]Séries_Site!Z652","v":136},{"$f":"+[2]Séries_Site!AA652","v":45},{"$f":"+[2]Séries_Site!AB652","v":45},{"$f":"+[2]Séries_Site!AC652","v":0},{"$f":"+[2]Séries_Site!AD652","v":67},{"$f":"+[2]Séries_Site!AE652","v":13},{"$f":"+[2]Séries_Site!AF652","v":560},{"$f":"+[2]Séries_Site!AG652","v":560},{"$f":"+[2]Séries_Site!AH652","v":0},{"$f":"+[2]Séries_Site!AI652","v":707},{"$f":"+[2]Séries_Site!AJ652","v":164}]
["2013-12-01",{"$f":"+[2]Séries_Site!B653","v":5928},{"$f":"+[2]Séries_Site!C653","v":5900},{"$f":"+[2]Séries_Site!D653","v":28},{"$f":"+[2]Séries_Site!E653","v":6669},{"$f":"+[2]Séries_Site!F653","v":1176},{"$f":"+[2]Séries_Site!G653","v":3961},{"$f":"+[2]Séries_Site!H653","v":3953},{"$f":"+[2]Séries_Site!I653","v":8},{"$f":"+[2]Séries_Site!J653","v":4605},{"$f":"+[2]Séries_Site!K653","v":819},{"$f":"+[2]Séries_Site!L653","v":98},{"$f":"+[2]Séries_Site!M653","v":89},{"$f":"+[2]Séries_Site!N653","v":9},{"$f":"+[2]Séries_Site!O653","v":198},{"$f":"+[2]Séries_Site!P653","v":121},{"$f":"+[2]Séries_Site!Q653","v":118},{"$f":"+[2]Séries_Site!R653","v":118},{"$f":"+[2]Séries_Site!S653","v":0},{"$f":"+[2]Séries_Site!T653","v":90},{"$f":"+[2]Séries_Site!U653","v":0},{"$f":"+[2]Séries_Site!V653","v":1221},{"$f":"+[2]Séries_Site!W653","v":1211},{"$f":"+[2]Séries_Site!X653","v":10},{"$f":"+[2]Séries_Site!Y653","v":1208},{"$f":"+[2]Séries_Site!Z653","v":103},{"$f":"+[2]Séries_Site!AA653","v":150},{"$f":"+[2]Séries_Site!AB653","v":150},{"$f":"+[2]Séries_Site!AC653","v":0},{"$f":"+[2]Séries_Site!AD653","v":167},{"$f":"+[2]Séries_Site!AE653","v":1},{"$f":"+[2]Séries_Site!AF653","v":380},{"$f":"+[2]Séries_Site!AG653","v":379},{"$f":"+[2]Séries_Site!AH653","v":1},{"$f":"+[2]Séries_Site!AI653","v":401},{"$f":"+[2]Séries_Site!AJ653","v":132}]
["2014-01-01",{"$f":"+[2]Séries_Site!B654","v":3907},{"$f":"+[2]Séries_Site!C654","v":3892},{"$f":"+[2]Séries_Site!D654","v":15},{"$f":"+[2]Séries_Site!E654","v":5351},{"$f":"+[2]Séries_Site!F654","v":562},{"$f":"+[2]Séries_Site!G654","v":2664},{"$f":"+[2]Séries_Site!H654","v":2652},{"$f":"+[2]Séries_Site!I654","v":12},{"$f":"+[2]Séries_Site!J654","v":3361},{"$f":"+[2]Séries_Site!K654","v":248},{"$f":"+[2]Séries_Site!L654","v":81},{"$f":"+[2]Séries_Site!M654","v":81},{"$f":"+[2]Séries_Site!N654","v":0},{"$f":"+[2]Séries_Site!O654","v":254},{"$f":"+[2]Séries_Site!P654","v":119},{"$f":"+[2]Séries_Site!Q654","v":118},{"$f":"+[2]Séries_Site!R654","v":118},{"$f":"+[2]Séries_Site!S654","v":0},{"$f":"+[2]Séries_Site!T654","v":128},{"$f":"+[2]Séries_Site!U654","v":5},{"$f":"+[2]Séries_Site!V654","v":625},{"$f":"+[2]Séries_Site!W654","v":622},{"$f":"+[2]Séries_Site!X654","v":3},{"$f":"+[2]Séries_Site!Y654","v":929},{"$f":"+[2]Séries_Site!Z654","v":88},{"$f":"+[2]Séries_Site!AA654","v":138},{"$f":"+[2]Séries_Site!AB654","v":138},{"$f":"+[2]Séries_Site!AC654","v":0},{"$f":"+[2]Séries_Site!AD654","v":156},{"$f":"+[2]Séries_Site!AE654","v":5},{"$f":"+[2]Séries_Site!AF654","v":281},{"$f":"+[2]Séries_Site!AG654","v":281},{"$f":"+[2]Séries_Site!AH654","v":0},{"$f":"+[2]Séries_Site!AI654","v":523},{"$f":"+[2]Séries_Site!AJ654","v":97}]
["2014-02-01",{"$f":"+[2]Séries_Site!B655","v":5759},{"$f":"+[2]Séries_Site!C655","v":5744},{"$f":"+[2]Séries_Site!D655","v":15},{"$f":"+[2]Séries_Site!E655","v":7884},{"$f":"+[2]Séries_Site!F655","v":1069},{"$f":"+[2]Séries_Site!G655","v":4317},{"$f":"+[2]Séries_Site!H655","v":4308},{"$f":"+[2]Séries_Site!I655","v":9},{"$f":"+[2]Séries_Site!J655","v":6050},{"$f":"+[2]Séries_Site!K655","v":615},{"$f":"+[2]Séries_Site!L655","v":59},{"$f":"+[2]Séries_Site!M655","v":56},{"$f":"+[2]Séries_Site!N655","v":3},{"$f":"+[2]Séries_Site!O655","v":242},{"$f":"+[2]Séries_Site!P655","v":229},{"$f":"+[2]Séries_Site!Q655","v":154},{"$f":"+[2]Séries_Site!R655","v":154},{"$f":"+[2]Séries_Site!S655","v":0},{"$f":"+[2]Séries_Site!T655","v":136},{"$f":"+[2]Séries_Site!U655","v":0},{"$f":"+[2]Séries_Site!V655","v":693},{"$f":"+[2]Séries_Site!W655","v":690},{"$f":"+[2]Séries_Site!X655","v":3},{"$f":"+[2]Séries_Site!Y655","v":682},{"$f":"+[2]Séries_Site!Z655","v":107},{"$f":"+[2]Séries_Site!AA655","v":159},{"$f":"+[2]Séries_Site!AB655","v":159},{"$f":"+[2]Séries_Site!AC655","v":0},{"$f":"+[2]Séries_Site!AD655","v":190},{"$f":"+[2]Séries_Site!AE655","v":27},{"$f":"+[2]Séries_Site!AF655","v":377},{"$f":"+[2]Séries_Site!AG655","v":377},{"$f":"+[2]Séries_Site!AH655","v":0},{"$f":"+[2]Séries_Site!AI655","v":584},{"$f":"+[2]Séries_Site!AJ655","v":91}]
["2014-03-01",{"$f":"+[2]Séries_Site!B656","v":5643},{"$f":"+[2]Séries_Site!C656","v":5623},{"$f":"+[2]Séries_Site!D656","v":20},{"$f":"+[2]Séries_Site!E656","v":7143},{"$f":"+[2]Séries_Site!F656","v":1165},{"$f":"+[2]Séries_Site!G656","v":4342},{"$f":"+[2]Séries_Site!H656","v":4328},{"$f":"+[2]Séries_Site!I656","v":14},{"$f":"+[2]Séries_Site!J656","v":5273},{"$f":"+[2]Séries_Site!K656","v":763},{"$f":"+[2]Séries_Site!L656","v":51},{"$f":"+[2]Séries_Site!M656","v":48},{"$f":"+[2]Séries_Site!N656","v":3},{"$f":"+[2]Séries_Site!O656","v":232},{"$f":"+[2]Séries_Site!P656","v":186},{"$f":"+[2]Séries_Site!Q656","v":63},{"$f":"+[2]Séries_Site!R656","v":63},{"$f":"+[2]Séries_Site!S656","v":0},{"$f":"+[2]Séries_Site!T656","v":190},{"$f":"+[2]Séries_Site!U656","v":0},{"$f":"+[2]Séries_Site!V656","v":698},{"$f":"+[2]Séries_Site!W656","v":695},{"$f":"+[2]Séries_Site!X656","v":3},{"$f":"+[2]Séries_Site!Y656","v":654},{"$f":"+[2]Séries_Site!Z656","v":79},{"$f":"+[2]Séries_Site!AA656","v":118},{"$f":"+[2]Séries_Site!AB656","v":118},{"$f":"+[2]Séries_Site!AC656","v":0},{"$f":"+[2]Séries_Site!AD656","v":159},{"$f":"+[2]Séries_Site!AE656","v":4},{"$f":"+[2]Séries_Site!AF656","v":371},{"$f":"+[2]Séries_Site!AG656","v":371},{"$f":"+[2]Séries_Site!AH656","v":0},{"$f":"+[2]Séries_Site!AI656","v":635},{"$f":"+[2]Séries_Site!AJ656","v":133}]
["2014-04-01",{"$f":"+[2]Séries_Site!B657","v":6173},{"$f":"+[2]Séries_Site!C657","v":6155},{"$f":"+[2]Séries_Site!D657","v":18},{"$f":"+[2]Séries_Site!E657","v":7186},{"$f":"+[2]Séries_Site!F657","v":1181},{"$f":"+[2]Séries_Site!G657","v":5214},{"$f":"+[2]Séries_Site!H657","v":5204},{"$f":"+[2]Séries_Site!I657","v":10},{"$f":"+[2]Séries_Site!J657","v":5731},{"$f":"+[2]Séries_Site!K657","v":695},{"$f":"+[2]Séries_Site!L657","v":49},{"$f":"+[2]Séries_Site!M657","v":42},{"$f":"+[2]Séries_Site!N657","v":7},{"$f":"+[2]Séries_Site!O657","v":260},{"$f":"+[2]Séries_Site!P657","v":223},{"$f":"+[2]Séries_Site!Q657","v":113},{"$f":"+[2]Séries_Site!R657","v":113},{"$f":"+[2]Séries_Site!S657","v":0},{"$f":"+[2]Séries_Site!T657","v":150},{"$f":"+[2]Séries_Site!U657","v":0},{"$f":"+[2]Séries_Site!V657","v":336},{"$f":"+[2]Séries_Site!W657","v":335},{"$f":"+[2]Séries_Site!X657","v":1},{"$f":"+[2]Séries_Site!Y657","v":413},{"$f":"+[2]Séries_Site!Z657","v":90},{"$f":"+[2]Séries_Site!AA657","v":109},{"$f":"+[2]Séries_Site!AB657","v":109},{"$f":"+[2]Séries_Site!AC657","v":0},{"$f":"+[2]Séries_Site!AD657","v":129},{"$f":"+[2]Séries_Site!AE657","v":14},{"$f":"+[2]Séries_Site!AF657","v":352},{"$f":"+[2]Séries_Site!AG657","v":352},{"$f":"+[2]Séries_Site!AH657","v":0},{"$f":"+[2]Séries_Site!AI657","v":503},{"$f":"+[2]Séries_Site!AJ657","v":159}]
["2014-05-01",{"$f":"+[2]Séries_Site!B658","v":6219},{"$f":"+[2]Séries_Site!C658","v":6200},{"$f":"+[2]Séries_Site!D658","v":19},{"$f":"+[2]Séries_Site!E658","v":7707},{"$f":"+[2]Séries_Site!F658","v":1447},{"$f":"+[2]Séries_Site!G658","v":5387},{"$f":"+[2]Séries_Site!H658","v":5371},{"$f":"+[2]Séries_Site!I658","v":16},{"$f":"+[2]Séries_Site!J658","v":6367},{"$f":"+[2]Séries_Site!K658","v":1012},{"$f":"+[2]Séries_Site!L658","v":73},{"$f":"+[2]Séries_Site!M658","v":71},{"$f":"+[2]Séries_Site!N658","v":2},{"$f":"+[2]Séries_Site!O658","v":285},{"$f":"+[2]Séries_Site!P658","v":212},{"$f":"+[2]Séries_Site!Q658","v":137},{"$f":"+[2]Séries_Site!R658","v":137},{"$f":"+[2]Séries_Site!S658","v":0},{"$f":"+[2]Séries_Site!T658","v":60},{"$f":"+[2]Séries_Site!U658","v":0},{"$f":"+[2]Séries_Site!V658","v":199},{"$f":"+[2]Séries_Site!W658","v":198},{"$f":"+[2]Séries_Site!X658","v":1},{"$f":"+[2]Séries_Site!Y658","v":395},{"$f":"+[2]Séries_Site!Z658","v":67},{"$f":"+[2]Séries_Site!AA658","v":67},{"$f":"+[2]Séries_Site!AB658","v":67},{"$f":"+[2]Séries_Site!AC658","v":0},{"$f":"+[2]Séries_Site!AD658","v":84},{"$f":"+[2]Séries_Site!AE658","v":12},{"$f":"+[2]Séries_Site!AF658","v":356},{"$f":"+[2]Séries_Site!AG658","v":356},{"$f":"+[2]Séries_Site!AH658","v":0},{"$f":"+[2]Séries_Site!AI658","v":516},{"$f":"+[2]Séries_Site!AJ658","v":144}]
["2014-06-01",{"$f":"+[2]Séries_Site!B659","v":5936},{"$f":"+[2]Séries_Site!C659","v":5906},{"$f":"+[2]Séries_Site!D659","v":30},{"$f":"+[2]Séries_Site!E659","v":5856},{"$f":"+[2]Séries_Site!F659","v":1223},{"$f":"+[2]Séries_Site!G659","v":4907},{"$f":"+[2]Séries_Site!H659","v":4884},{"$f":"+[2]Séries_Site!I659","v":23},{"$f":"+[2]Séries_Site!J659","v":4605},{"$f":"+[2]Séries_Site!K659","v":900},{"$f":"+[2]Séries_Site!L659","v":94},{"$f":"+[2]Séries_Site!M659","v":87},{"$f":"+[2]Séries_Site!N659","v":7},{"$f":"+[2]Séries_Site!O659","v":228},{"$f":"+[2]Séries_Site!P659","v":160},{"$f":"+[2]Séries_Site!Q659","v":129},{"$f":"+[2]Séries_Site!R659","v":129},{"$f":"+[2]Séries_Site!S659","v":0},{"$f":"+[2]Séries_Site!T659","v":74},{"$f":"+[2]Séries_Site!U659","v":0},{"$f":"+[2]Séries_Site!V659","v":354},{"$f":"+[2]Séries_Site!W659","v":354},{"$f":"+[2]Séries_Site!X659","v":0},{"$f":"+[2]Séries_Site!Y659","v":483},{"$f":"+[2]Séries_Site!Z659","v":44},{"$f":"+[2]Séries_Site!AA659","v":43},{"$f":"+[2]Séries_Site!AB659","v":43},{"$f":"+[2]Séries_Site!AC659","v":0},{"$f":"+[2]Séries_Site!AD659","v":23},{"$f":"+[2]Séries_Site!AE659","v":13},{"$f":"+[2]Séries_Site!AF659","v":409},{"$f":"+[2]Séries_Site!AG659","v":409},{"$f":"+[2]Séries_Site!AH659","v":0},{"$f":"+[2]Séries_Site!AI659","v":443},{"$f":"+[2]Séries_Site!AJ659","v":106}]
["2014-07-01",{"$f":"+[2]Séries_Site!B660","v":6468},{"$f":"+[2]Séries_Site!C660","v":6458},{"$f":"+[2]Séries_Site!D660","v":10},{"$f":"+[2]Séries_Site!E660","v":8836},{"$f":"+[2]Séries_Site!F660","v":1350},{"$f":"+[2]Séries_Site!G660","v":5366},{"$f":"+[2]Séries_Site!H660","v":5356},{"$f":"+[2]Séries_Site!I660","v":10},{"$f":"+[2]Séries_Site!J660","v":7188},{"$f":"+[2]Séries_Site!K660","v":994},{"$f":"+[2]Séries_Site!L660","v":85},{"$f":"+[2]Séries_Site!M660","v":85},{"$f":"+[2]Séries_Site!N660","v":0},{"$f":"+[2]Séries_Site!O660","v":268},{"$f":"+[2]Séries_Site!P660","v":157},{"$f":"+[2]Séries_Site!Q660","v":185},{"$f":"+[2]Séries_Site!R660","v":185},{"$f":"+[2]Séries_Site!S660","v":0},{"$f":"+[2]Séries_Site!T660","v":159},{"$f":"+[2]Séries_Site!U660","v":0},{"$f":"+[2]Séries_Site!V660","v":482},{"$f":"+[2]Séries_Site!W660","v":482},{"$f":"+[2]Séries_Site!X660","v":0},{"$f":"+[2]Séries_Site!Y660","v":696},{"$f":"+[2]Séries_Site!Z660","v":75},{"$f":"+[2]Séries_Site!AA660","v":53},{"$f":"+[2]Séries_Site!AB660","v":53},{"$f":"+[2]Séries_Site!AC660","v":0},{"$f":"+[2]Séries_Site!AD660","v":33},{"$f":"+[2]Séries_Site!AE660","v":39},{"$f":"+[2]Séries_Site!AF660","v":297},{"$f":"+[2]Séries_Site!AG660","v":297},{"$f":"+[2]Séries_Site!AH660","v":0},{"$f":"+[2]Séries_Site!AI660","v":492},{"$f":"+[2]Séries_Site!AJ660","v":85}]
["2014-08-01",{"$f":"+[2]Séries_Site!B661","v":6540},{"$f":"+[2]Séries_Site!C661","v":6446},{"$f":"+[2]Séries_Site!D661","v":94},{"$f":"+[2]Séries_Site!E661","v":8086},{"$f":"+[2]Séries_Site!F661","v":1361},{"$f":"+[2]Séries_Site!G661","v":5439},{"$f":"+[2]Séries_Site!H661","v":5354},{"$f":"+[2]Séries_Site!I661","v":85},{"$f":"+[2]Séries_Site!J661","v":6574},{"$f":"+[2]Séries_Site!K661","v":976},{"$f":"+[2]Séries_Site!L661","v":87},{"$f":"+[2]Séries_Site!M661","v":78},{"$f":"+[2]Séries_Site!N661","v":9},{"$f":"+[2]Séries_Site!O661","v":226},{"$f":"+[2]Séries_Site!P661","v":155},{"$f":"+[2]Séries_Site!Q661","v":138},{"$f":"+[2]Séries_Site!R661","v":138},{"$f":"+[2]Séries_Site!S661","v":0},{"$f":"+[2]Séries_Site!T661","v":155},{"$f":"+[2]Séries_Site!U661","v":0},{"$f":"+[2]Séries_Site!V661","v":479},{"$f":"+[2]Séries_Site!W661","v":479},{"$f":"+[2]Séries_Site!X661","v":0},{"$f":"+[2]Séries_Site!Y661","v":596},{"$f":"+[2]Séries_Site!Z661","v":36},{"$f":"+[2]Séries_Site!AA661","v":39},{"$f":"+[2]Séries_Site!AB661","v":39},{"$f":"+[2]Séries_Site!AC661","v":0},{"$f":"+[2]Séries_Site!AD661","v":27},{"$f":"+[2]Séries_Site!AE661","v":31},{"$f":"+[2]Séries_Site!AF661","v":358},{"$f":"+[2]Séries_Site!AG661","v":358},{"$f":"+[2]Séries_Site!AH661","v":0},{"$f":"+[2]Séries_Site!AI661","v":508},{"$f":"+[2]Séries_Site!AJ661","v":163}]
["2014-09-01",{"$f":"+[2]Séries_Site!B662","v":6672},{"$f":"+[2]Séries_Site!C662","v":6573},{"$f":"+[2]Séries_Site!D662","v":99},{"$f":"+[2]Séries_Site!E662","v":7264},{"$f":"+[2]Séries_Site!F662","v":1400},{"$f":"+[2]Séries_Site!G662","v":5318},{"$f":"+[2]Séries_Site!H662","v":5219},{"$f":"+[2]Séries_Site!I662","v":99},{"$f":"+[2]Séries_Site!J662","v":5762},{"$f":"+[2]Séries_Site!K662","v":1020},{"$f":"+[2]Séries_Site!L662","v":102},{"$f":"+[2]Séries_Site!M662","v":102},{"$f":"+[2]Séries_Site!N662","v":0},{"$f":"+[2]Séries_Site!O662","v":224},{"$f":"+[2]Séries_Site!P662","v":106},{"$f":"+[2]Séries_Site!Q662","v":158},{"$f":"+[2]Séries_Site!R662","v":158},{"$f":"+[2]Séries_Site!S662","v":0},{"$f":"+[2]Séries_Site!T662","v":132},{"$f":"+[2]Séries_Site!U662","v":0},{"$f":"+[2]Séries_Site!V662","v":617},{"$f":"+[2]Séries_Site!W662","v":617},{"$f":"+[2]Séries_Site!X662","v":0},{"$f":"+[2]Séries_Site!Y662","v":612},{"$f":"+[2]Séries_Site!Z662","v":76},{"$f":"+[2]Séries_Site!AA662","v":33},{"$f":"+[2]Séries_Site!AB662","v":33},{"$f":"+[2]Séries_Site!AC662","v":0},{"$f":"+[2]Séries_Site!AD662","v":57},{"$f":"+[2]Séries_Site!AE662","v":20},{"$f":"+[2]Séries_Site!AF662","v":444},{"$f":"+[2]Séries_Site!AG662","v":444},{"$f":"+[2]Séries_Site!AH662","v":0},{"$f":"+[2]Séries_Site!AI662","v":477},{"$f":"+[2]Séries_Site!AJ662","v":178}]
["2014-10-01",{"$f":"+[2]Séries_Site!B663","v":6728},{"$f":"+[2]Séries_Site!C663","v":6661},{"$f":"+[2]Séries_Site!D663","v":67},{"$f":"+[2]Séries_Site!E663","v":7997},{"$f":"+[2]Séries_Site!F663","v":1315},{"$f":"+[2]Séries_Site!G663","v":5457},{"$f":"+[2]Séries_Site!H663","v":5390},{"$f":"+[2]Séries_Site!I663","v":67},{"$f":"+[2]Séries_Site!J663","v":6155},{"$f":"+[2]Séries_Site!K663","v":958},{"$f":"+[2]Séries_Site!L663","v":62},{"$f":"+[2]Séries_Site!M663","v":62},{"$f":"+[2]Séries_Site!N663","v":0},{"$f":"+[2]Séries_Site!O663","v":253},{"$f":"+[2]Séries_Site!P663","v":136},{"$f":"+[2]Séries_Site!Q663","v":126},{"$f":"+[2]Séries_Site!R663","v":126},{"$f":"+[2]Séries_Site!S663","v":0},{"$f":"+[2]Séries_Site!T663","v":158},{"$f":"+[2]Séries_Site!U663","v":0},{"$f":"+[2]Séries_Site!V663","v":733},{"$f":"+[2]Séries_Site!W663","v":733},{"$f":"+[2]Séries_Site!X663","v":0},{"$f":"+[2]Séries_Site!Y663","v":861},{"$f":"+[2]Séries_Site!Z663","v":78},{"$f":"+[2]Séries_Site!AA663","v":74},{"$f":"+[2]Séries_Site!AB663","v":74},{"$f":"+[2]Séries_Site!AC663","v":0},{"$f":"+[2]Séries_Site!AD663","v":71},{"$f":"+[2]Séries_Site!AE663","v":10},{"$f":"+[2]Séries_Site!AF663","v":276},{"$f":"+[2]Séries_Site!AG663","v":276},{"$f":"+[2]Séries_Site!AH663","v":0},{"$f":"+[2]Séries_Site!AI663","v":499},{"$f":"+[2]Séries_Site!AJ663","v":133}]
["2014-11-01",{"$f":"+[2]Séries_Site!B664","v":5303},{"$f":"+[2]Séries_Site!C664","v":5289},{"$f":"+[2]Séries_Site!D664","v":14},{"$f":"+[2]Séries_Site!E664","v":6246},{"$f":"+[2]Séries_Site!F664","v":1056},{"$f":"+[2]Séries_Site!G664","v":4119},{"$f":"+[2]Séries_Site!H664","v":4105},{"$f":"+[2]Séries_Site!I664","v":14},{"$f":"+[2]Séries_Site!J664","v":4999},{"$f":"+[2]Séries_Site!K664","v":684},{"$f":"+[2]Séries_Site!L664","v":53},{"$f":"+[2]Séries_Site!M664","v":53},{"$f":"+[2]Séries_Site!N664","v":0},{"$f":"+[2]Séries_Site!O664","v":151},{"$f":"+[2]Séries_Site!P664","v":84},{"$f":"+[2]Séries_Site!Q664","v":123},{"$f":"+[2]Séries_Site!R664","v":123},{"$f":"+[2]Séries_Site!S664","v":0},{"$f":"+[2]Séries_Site!T664","v":138},{"$f":"+[2]Séries_Site!U664","v":0},{"$f":"+[2]Séries_Site!V664","v":587},{"$f":"+[2]Séries_Site!W664","v":587},{"$f":"+[2]Séries_Site!X664","v":0},{"$f":"+[2]Séries_Site!Y664","v":677},{"$f":"+[2]Séries_Site!Z664","v":156},{"$f":"+[2]Séries_Site!AA664","v":43},{"$f":"+[2]Séries_Site!AB664","v":43},{"$f":"+[2]Séries_Site!AC664","v":0},{"$f":"+[2]Séries_Site!AD664","v":48},{"$f":"+[2]Séries_Site!AE664","v":4},{"$f":"+[2]Séries_Site!AF664","v":378},{"$f":"+[2]Séries_Site!AG664","v":378},{"$f":"+[2]Séries_Site!AH664","v":0},{"$f":"+[2]Séries_Site!AI664","v":233},{"$f":"+[2]Séries_Site!AJ664","v":128}]
["2014-12-01",{"$f":"+[2]Séries_Site!B665","v":4243},{"$f":"+[2]Séries_Site!C665","v":4216},{"$f":"+[2]Séries_Site!D665","v":27},{"$f":"+[2]Séries_Site!E665","v":3797},{"$f":"+[2]Séries_Site!F665","v":829},{"$f":"+[2]Séries_Site!G665","v":3082},{"$f":"+[2]Séries_Site!H665","v":3059},{"$f":"+[2]Séries_Site!I665","v":23},{"$f":"+[2]Séries_Site!J665","v":2728},{"$f":"+[2]Séries_Site!K665","v":563},{"$f":"+[2]Séries_Site!L665","v":39},{"$f":"+[2]Séries_Site!M665","v":39},{"$f":"+[2]Séries_Site!N665","v":0},{"$f":"+[2]Séries_Site!O665","v":142},{"$f":"+[2]Séries_Site!P665","v":102},{"$f":"+[2]Séries_Site!Q665","v":109},{"$f":"+[2]Séries_Site!R665","v":109},{"$f":"+[2]Séries_Site!S665","v":0},{"$f":"+[2]Séries_Site!T665","v":86},{"$f":"+[2]Séries_Site!U665","v":0},{"$f":"+[2]Séries_Site!V665","v":645},{"$f":"+[2]Séries_Site!W665","v":641},{"$f":"+[2]Séries_Site!X665","v":4},{"$f":"+[2]Séries_Site!Y665","v":625},{"$f":"+[2]Séries_Site!Z665","v":130},{"$f":"+[2]Séries_Site!AA665","v":106},{"$f":"+[2]Séries_Site!AB665","v":106},{"$f":"+[2]Séries_Site!AC665","v":0},{"$f":"+[2]Séries_Site!AD665","v":48},{"$f":"+[2]Séries_Site!AE665","v":28},{"$f":"+[2]Séries_Site!AF665","v":262},{"$f":"+[2]Séries_Site!AG665","v":262},{"$f":"+[2]Séries_Site!AH665","v":0},{"$f":"+[2]Séries_Site!AI665","v":168},{"$f":"+[2]Séries_Site!AJ665","v":6}]
["2015-01-01",{"$f":"+[2]Séries_Site!B666","v":3436},{"$f":"+[2]Séries_Site!C666","v":3437},{"$f":"+[2]Séries_Site!D666","v":-1},{"$f":"+[2]Séries_Site!E666","v":4678},{"$f":"+[2]Séries_Site!F666","v":554},{"$f":"+[2]Séries_Site!G666","v":2571},{"$f":"+[2]Séries_Site!H666","v":2572},{"$f":"+[2]Séries_Site!I666","v":-1},{"$f":"+[2]Séries_Site!J666","v":3111},{"$f":"+[2]Séries_Site!K666","v":242},{"$f":"+[2]Séries_Site!L666","v":35},{"$f":"+[2]Séries_Site!M666","v":35},{"$f":"+[2]Séries_Site!N666","v":0},{"$f":"+[2]Séries_Site!O666","v":162},{"$f":"+[2]Séries_Site!P666","v":52},{"$f":"+[2]Séries_Site!Q666","v":96},{"$f":"+[2]Séries_Site!R666","v":96},{"$f":"+[2]Séries_Site!S666","v":0},{"$f":"+[2]Séries_Site!T666","v":120},{"$f":"+[2]Séries_Site!U666","v":1},{"$f":"+[2]Séries_Site!V666","v":384},{"$f":"+[2]Séries_Site!W666","v":384},{"$f":"+[2]Séries_Site!X666","v":0},{"$f":"+[2]Séries_Site!Y666","v":462},{"$f":"+[2]Séries_Site!Z666","v":110},{"$f":"+[2]Séries_Site!AA666","v":83},{"$f":"+[2]Séries_Site!AB666","v":83},{"$f":"+[2]Séries_Site!AC666","v":0},{"$f":"+[2]Séries_Site!AD666","v":70},{"$f":"+[2]Séries_Site!AE666","v":2},{"$f":"+[2]Séries_Site!AF666","v":267},{"$f":"+[2]Séries_Site!AG666","v":267},{"$f":"+[2]Séries_Site!AH666","v":0},{"$f":"+[2]Séries_Site!AI666","v":753},{"$f":"+[2]Séries_Site!AJ666","v":147}]
["2015-02-01",{"$f":"+[2]Séries_Site!B667","v":3789},{"$f":"+[2]Séries_Site!C667","v":3782},{"$f":"+[2]Séries_Site!D667","v":7},{"$f":"+[2]Séries_Site!E667","v":4978},{"$f":"+[2]Séries_Site!F667","v":831},{"$f":"+[2]Séries_Site!G667","v":3054},{"$f":"+[2]Séries_Site!H667","v":3048},{"$f":"+[2]Séries_Site!I667","v":6},{"$f":"+[2]Séries_Site!J667","v":3830},{"$f":"+[2]Séries_Site!K667","v":505},{"$f":"+[2]Séries_Site!L667","v":28},{"$f":"+[2]Séries_Site!M667","v":28},{"$f":"+[2]Séries_Site!N667","v":0},{"$f":"+[2]Séries_Site!O667","v":132},{"$f":"+[2]Séries_Site!P667","v":98},{"$f":"+[2]Séries_Site!Q667","v":49},{"$f":"+[2]Séries_Site!R667","v":49},{"$f":"+[2]Séries_Site!S667","v":0},{"$f":"+[2]Séries_Site!T667","v":136},{"$f":"+[2]Séries_Site!U667","v":60},{"$f":"+[2]Séries_Site!V667","v":373},{"$f":"+[2]Séries_Site!W667","v":372},{"$f":"+[2]Séries_Site!X667","v":1},{"$f":"+[2]Séries_Site!Y667","v":394},{"$f":"+[2]Séries_Site!Z667","v":39},{"$f":"+[2]Séries_Site!AA667","v":95},{"$f":"+[2]Séries_Site!AB667","v":95},{"$f":"+[2]Séries_Site!AC667","v":0},{"$f":"+[2]Séries_Site!AD667","v":115},{"$f":"+[2]Séries_Site!AE667","v":2},{"$f":"+[2]Séries_Site!AF667","v":190},{"$f":"+[2]Séries_Site!AG667","v":190},{"$f":"+[2]Séries_Site!AH667","v":0},{"$f":"+[2]Séries_Site!AI667","v":371},{"$f":"+[2]Séries_Site!AJ667","v":127}]
["2015-03-01",{"$f":"+[2]Séries_Site!B668","v":4957},{"$f":"+[2]Séries_Site!C668","v":4943},{"$f":"+[2]Séries_Site!D668","v":14},{"$f":"+[2]Séries_Site!E668","v":6000},{"$f":"+[2]Séries_Site!F668","v":984},{"$f":"+[2]Séries_Site!G668","v":4124},{"$f":"+[2]Séries_Site!H668","v":4114},{"$f":"+[2]Séries_Site!I668","v":10},{"$f":"+[2]Séries_Site!J668","v":4790},{"$f":"+[2]Séries_Site!K668","v":693},{"$f":"+[2]Séries_Site!L668","v":47},{"$f":"+[2]Séries_Site!M668","v":47},{"$f":"+[2]Séries_Site!N668","v":0},{"$f":"+[2]Séries_Site!O668","v":133},{"$f":"+[2]Séries_Site!P668","v":98},{"$f":"+[2]Séries_Site!Q668","v":49},{"$f":"+[2]Séries_Site!R668","v":49},{"$f":"+[2]Séries_Site!S668","v":0},{"$f":"+[2]Séries_Site!T668","v":94},{"$f":"+[2]Séries_Site!U668","v":20},{"$f":"+[2]Séries_Site!V668","v":417},{"$f":"+[2]Séries_Site!W668","v":413},{"$f":"+[2]Séries_Site!X668","v":4},{"$f":"+[2]Séries_Site!Y668","v":404},{"$f":"+[2]Séries_Site!Z668","v":40},{"$f":"+[2]Séries_Site!AA668","v":125},{"$f":"+[2]Séries_Site!AB668","v":125},{"$f":"+[2]Séries_Site!AC668","v":0},{"$f":"+[2]Séries_Site!AD668","v":88},{"$f":"+[2]Séries_Site!AE668","v":6},{"$f":"+[2]Séries_Site!AF668","v":195},{"$f":"+[2]Séries_Site!AG668","v":195},{"$f":"+[2]Séries_Site!AH668","v":0},{"$f":"+[2]Séries_Site!AI668","v":491},{"$f":"+[2]Séries_Site!AJ668","v":127}]
["2015-04-01",{"$f":"+[2]Séries_Site!B669","v":4338},{"$f":"+[2]Séries_Site!C669","v":4300},{"$f":"+[2]Séries_Site!D669","v":38},{"$f":"+[2]Séries_Site!E669","v":5745},{"$f":"+[2]Séries_Site!F669","v":948},{"$f":"+[2]Séries_Site!G669","v":3801},{"$f":"+[2]Séries_Site!H669","v":3770},{"$f":"+[2]Séries_Site!I669","v":31},{"$f":"+[2]Séries_Site!J669","v":4508},{"$f":"+[2]Séries_Site!K669","v":641},{"$f":"+[2]Séries_Site!L669","v":22},{"$f":"+[2]Séries_Site!M669","v":19},{"$f":"+[2]Séries_Site!N669","v":3},{"$f":"+[2]Séries_Site!O669","v":146},{"$f":"+[2]Séries_Site!P669","v":66},{"$f":"+[2]Séries_Site!Q669","v":39},{"$f":"+[2]Séries_Site!R669","v":39},{"$f":"+[2]Séries_Site!S669","v":0},{"$f":"+[2]Séries_Site!T669","v":65},{"$f":"+[2]Séries_Site!U669","v":0},{"$f":"+[2]Séries_Site!V669","v":200},{"$f":"+[2]Séries_Site!W669","v":196},{"$f":"+[2]Séries_Site!X669","v":4},{"$f":"+[2]Séries_Site!Y669","v":256},{"$f":"+[2]Séries_Site!Z669","v":10},{"$f":"+[2]Séries_Site!AA669","v":83},{"$f":"+[2]Séries_Site!AB669","v":83},{"$f":"+[2]Séries_Site!AC669","v":0},{"$f":"+[2]Séries_Site!AD669","v":95},{"$f":"+[2]Séries_Site!AE669","v":7},{"$f":"+[2]Séries_Site!AF669","v":193},{"$f":"+[2]Séries_Site!AG669","v":193},{"$f":"+[2]Séries_Site!AH669","v":0},{"$f":"+[2]Séries_Site!AI669","v":675},{"$f":"+[2]Séries_Site!AJ669","v":224}]
["2015-05-01",{"$f":"+[2]Séries_Site!B670","v":4169},{"$f":"+[2]Séries_Site!C670","v":4139},{"$f":"+[2]Séries_Site!D670","v":30},{"$f":"+[2]Séries_Site!E670","v":5852},{"$f":"+[2]Séries_Site!F670","v":945},{"$f":"+[2]Séries_Site!G670","v":3514},{"$f":"+[2]Séries_Site!H670","v":3485},{"$f":"+[2]Séries_Site!I670","v":29},{"$f":"+[2]Séries_Site!J670","v":4588},{"$f":"+[2]Séries_Site!K670","v":742},{"$f":"+[2]Séries_Site!L670","v":27},{"$f":"+[2]Séries_Site!M670","v":27},{"$f":"+[2]Séries_Site!N670","v":0},{"$f":"+[2]Séries_Site!O670","v":125},{"$f":"+[2]Séries_Site!P670","v":67},{"$f":"+[2]Séries_Site!Q670","v":88},{"$f":"+[2]Séries_Site!R670","v":88},{"$f":"+[2]Séries_Site!S670","v":0},{"$f":"+[2]Séries_Site!T670","v":43},{"$f":"+[2]Séries_Site!U670","v":0},{"$f":"+[2]Séries_Site!V670","v":278},{"$f":"+[2]Séries_Site!W670","v":277},{"$f":"+[2]Séries_Site!X670","v":1},{"$f":"+[2]Séries_Site!Y670","v":343},{"$f":"+[2]Séries_Site!Z670","v":18},{"$f":"+[2]Séries_Site!AA670","v":26},{"$f":"+[2]Séries_Site!AB670","v":26},{"$f":"+[2]Séries_Site!AC670","v":0},{"$f":"+[2]Séries_Site!AD670","v":39},{"$f":"+[2]Séries_Site!AE670","v":5},{"$f":"+[2]Séries_Site!AF670","v":236},{"$f":"+[2]Séries_Site!AG670","v":236},{"$f":"+[2]Séries_Site!AH670","v":0},{"$f":"+[2]Séries_Site!AI670","v":714},{"$f":"+[2]Séries_Site!AJ670","v":113}]
["2015-06-01",{"$f":"+[2]Séries_Site!B671","v":4436},{"$f":"+[2]Séries_Site!C671","v":4392},{"$f":"+[2]Séries_Site!D671","v":44},{"$f":"+[2]Séries_Site!E671","v":3632},{"$f":"+[2]Séries_Site!F671","v":1108},{"$f":"+[2]Séries_Site!G671","v":3721},{"$f":"+[2]Séries_Site!H671","v":3677},{"$f":"+[2]Séries_Site!I671","v":44},{"$f":"+[2]Séries_Site!J671","v":2820},{"$f":"+[2]Séries_Site!K671","v":805},{"$f":"+[2]Séries_Site!L671","v":47},{"$f":"+[2]Séries_Site!M671","v":47},{"$f":"+[2]Séries_Site!N671","v":0},{"$f":"+[2]Séries_Site!O671","v":105},{"$f":"+[2]Séries_Site!P671","v":63},{"$f":"+[2]Séries_Site!Q671","v":134},{"$f":"+[2]Séries_Site!R671","v":134},{"$f":"+[2]Séries_Site!S671","v":0},{"$f":"+[2]Séries_Site!T671","v":63},{"$f":"+[2]Séries_Site!U671","v":0},{"$f":"+[2]Séries_Site!V671","v":317},{"$f":"+[2]Séries_Site!W671","v":317},{"$f":"+[2]Séries_Site!X671","v":0},{"$f":"+[2]Séries_Site!Y671","v":224},{"$f":"+[2]Séries_Site!Z671","v":15},{"$f":"+[2]Séries_Site!AA671","v":26},{"$f":"+[2]Séries_Site!AB671","v":26},{"$f":"+[2]Séries_Site!AC671","v":0},{"$f":"+[2]Séries_Site!AD671","v":17},{"$f":"+[2]Séries_Site!AE671","v":8},{"$f":"+[2]Séries_Site!AF671","v":191},{"$f":"+[2]Séries_Site!AG671","v":191},{"$f":"+[2]Séries_Site!AH671","v":0},{"$f":"+[2]Séries_Site!AI671","v":403},{"$f":"+[2]Séries_Site!AJ671","v":217}]
["2015-07-01",{"$f":"+[2]Séries_Site!B672","v":3997},{"$f":"+[2]Séries_Site!C672","v":3940},{"$f":"+[2]Séries_Site!D672","v":57},{"$f":"+[2]Séries_Site!E672","v":5172},{"$f":"+[2]Séries_Site!F672","v":813},{"$f":"+[2]Séries_Site!G672","v":3237},{"$f":"+[2]Séries_Site!H672","v":3180},{"$f":"+[2]Séries_Site!I672","v":57},{"$f":"+[2]Séries_Site!J672","v":4217},{"$f":"+[2]Séries_Site!K672","v":609},{"$f":"+[2]Séries_Site!L672","v":46},{"$f":"+[2]Séries_Site!M672","v":46},{"$f":"+[2]Séries_Site!N672","v":0},{"$f":"+[2]Séries_Site!O672","v":118},{"$f":"+[2]Séries_Site!P672","v":52},{"$f":"+[2]Séries_Site!Q672","v":98},{"$f":"+[2]Séries_Site!R672","v":98},{"$f":"+[2]Séries_Site!S672","v":0},{"$f":"+[2]Séries_Site!T672","v":134},{"$f":"+[2]Séries_Site!U672","v":1},{"$f":"+[2]Séries_Site!V672","v":376},{"$f":"+[2]Séries_Site!W672","v":376},{"$f":"+[2]Séries_Site!X672","v":0},{"$f":"+[2]Séries_Site!Y672","v":332},{"$f":"+[2]Séries_Site!Z672","v":6},{"$f":"+[2]Séries_Site!AA672","v":33},{"$f":"+[2]Séries_Site!AB672","v":33},{"$f":"+[2]Séries_Site!AC672","v":0},{"$f":"+[2]Séries_Site!AD672","v":47},{"$f":"+[2]Séries_Site!AE672","v":12},{"$f":"+[2]Séries_Site!AF672","v":207},{"$f":"+[2]Séries_Site!AG672","v":207},{"$f":"+[2]Séries_Site!AH672","v":0},{"$f":"+[2]Séries_Site!AI672","v":324},{"$f":"+[2]Séries_Site!AJ672","v":133}]
["2015-08-01",{"$f":"+[2]Séries_Site!B673","v":4236},{"$f":"+[2]Séries_Site!C673","v":4201},{"$f":"+[2]Séries_Site!D673","v":35},{"$f":"+[2]Séries_Site!E673","v":5072},{"$f":"+[2]Séries_Site!F673","v":722},{"$f":"+[2]Séries_Site!G673","v":3625},{"$f":"+[2]Séries_Site!H673","v":3590},{"$f":"+[2]Séries_Site!I673","v":35},{"$f":"+[2]Séries_Site!J673","v":4444},{"$f":"+[2]Séries_Site!K673","v":564},{"$f":"+[2]Séries_Site!L673","v":38},{"$f":"+[2]Séries_Site!M673","v":38},{"$f":"+[2]Séries_Site!N673","v":0},{"$f":"+[2]Séries_Site!O673","v":100},{"$f":"+[2]Séries_Site!P673","v":53},{"$f":"+[2]Séries_Site!Q673","v":121},{"$f":"+[2]Séries_Site!R673","v":121},{"$f":"+[2]Séries_Site!S673","v":0},{"$f":"+[2]Séries_Site!T673","v":110},{"$f":"+[2]Séries_Site!U673","v":0},{"$f":"+[2]Séries_Site!V673","v":271},{"$f":"+[2]Séries_Site!W673","v":271},{"$f":"+[2]Séries_Site!X673","v":0},{"$f":"+[2]Séries_Site!Y673","v":281},{"$f":"+[2]Séries_Site!Z673","v":14},{"$f":"+[2]Séries_Site!AA673","v":25},{"$f":"+[2]Séries_Site!AB673","v":25},{"$f":"+[2]Séries_Site!AC673","v":0},{"$f":"+[2]Séries_Site!AD673","v":37},{"$f":"+[2]Séries_Site!AE673","v":27},{"$f":"+[2]Séries_Site!AF673","v":156},{"$f":"+[2]Séries_Site!AG673","v":156},{"$f":"+[2]Séries_Site!AH673","v":0},{"$f":"+[2]Séries_Site!AI673","v":100},{"$f":"+[2]Séries_Site!AJ673","v":64}]
["2015-09-01",{"$f":"+[2]Séries_Site!B674","v":3958},{"$f":"+[2]Séries_Site!C674","v":3952},{"$f":"+[2]Séries_Site!D674","v":6},{"$f":"+[2]Séries_Site!E674","v":5080},{"$f":"+[2]Séries_Site!F674","v":889},{"$f":"+[2]Séries_Site!G674","v":3241},{"$f":"+[2]Séries_Site!H674","v":3235},{"$f":"+[2]Séries_Site!I674","v":6},{"$f":"+[2]Séries_Site!J674","v":4332},{"$f":"+[2]Séries_Site!K674","v":657},{"$f":"+[2]Séries_Site!L674","v":32},{"$f":"+[2]Séries_Site!M674","v":32},{"$f":"+[2]Séries_Site!N674","v":0},{"$f":"+[2]Séries_Site!O674","v":92},{"$f":"+[2]Séries_Site!P674","v":80},{"$f":"+[2]Séries_Site!Q674","v":121},{"$f":"+[2]Séries_Site!R674","v":121},{"$f":"+[2]Séries_Site!S674","v":0},{"$f":"+[2]Séries_Site!T674","v":112},{"$f":"+[2]Séries_Site!U674","v":0},{"$f":"+[2]Séries_Site!V674","v":307},{"$f":"+[2]Séries_Site!W674","v":307},{"$f":"+[2]Séries_Site!X674","v":0},{"$f":"+[2]Séries_Site!Y674","v":328},{"$f":"+[2]Séries_Site!Z674","v":34},{"$f":"+[2]Séries_Site!AA674","v":34},{"$f":"+[2]Séries_Site!AB674","v":34},{"$f":"+[2]Séries_Site!AC674","v":0},{"$f":"+[2]Séries_Site!AD674","v":43},{"$f":"+[2]Séries_Site!AE674","v":26},{"$f":"+[2]Séries_Site!AF674","v":223},{"$f":"+[2]Séries_Site!AG674","v":223},{"$f":"+[2]Séries_Site!AH674","v":0},{"$f":"+[2]Séries_Site!AI674","v":173},{"$f":"+[2]Séries_Site!AJ674","v":92}]
["2015-10-01",{"$f":"+[2]Séries_Site!B675","v":3838},{"$f":"+[2]Séries_Site!C675","v":3835},{"$f":"+[2]Séries_Site!D675","v":3},{"$f":"+[2]Séries_Site!E675","v":4928},{"$f":"+[2]Séries_Site!F675","v":704},{"$f":"+[2]Séries_Site!G675","v":3135},{"$f":"+[2]Séries_Site!H675","v":3132},{"$f":"+[2]Séries_Site!I675","v":3},{"$f":"+[2]Séries_Site!J675","v":4081},{"$f":"+[2]Séries_Site!K675","v":522},{"$f":"+[2]Séries_Site!L675","v":25},{"$f":"+[2]Séries_Site!M675","v":25},{"$f":"+[2]Séries_Site!N675","v":0},{"$f":"+[2]Séries_Site!O675","v":77},{"$f":"+[2]Séries_Site!P675","v":89},{"$f":"+[2]Séries_Site!Q675","v":99},{"$f":"+[2]Séries_Site!R675","v":99},{"$f":"+[2]Séries_Site!S675","v":0},{"$f":"+[2]Séries_Site!T675","v":107},{"$f":"+[2]Séries_Site!U675","v":0},{"$f":"+[2]Séries_Site!V675","v":336},{"$f":"+[2]Séries_Site!W675","v":336},{"$f":"+[2]Séries_Site!X675","v":0},{"$f":"+[2]Séries_Site!Y675","v":352},{"$f":"+[2]Séries_Site!Z675","v":22},{"$f":"+[2]Séries_Site!AA675","v":87},{"$f":"+[2]Séries_Site!AB675","v":87},{"$f":"+[2]Séries_Site!AC675","v":0},{"$f":"+[2]Séries_Site!AD675","v":89},{"$f":"+[2]Séries_Site!AE675","v":5},{"$f":"+[2]Séries_Site!AF675","v":156},{"$f":"+[2]Séries_Site!AG675","v":156},{"$f":"+[2]Séries_Site!AH675","v":0},{"$f":"+[2]Séries_Site!AI675","v":222},{"$f":"+[2]Séries_Site!AJ675","v":66}]
["2015-11-01",{"$f":"+[2]Séries_Site!B676","v":2271},{"$f":"+[2]Séries_Site!C676","v":2180},{"$f":"+[2]Séries_Site!D676","v":91},{"$f":"+[2]Séries_Site!E676","v":3890},{"$f":"+[2]Séries_Site!F676","v":1091},{"$f":"+[2]Séries_Site!G676","v":1745},{"$f":"+[2]Séries_Site!H676","v":1654},{"$f":"+[2]Séries_Site!I676","v":91},{"$f":"+[2]Séries_Site!J676","v":3110},{"$f":"+[2]Séries_Site!K676","v":944},{"$f":"+[2]Séries_Site!L676","v":17},{"$f":"+[2]Séries_Site!M676","v":17},{"$f":"+[2]Séries_Site!N676","v":0},{"$f":"+[2]Séries_Site!O676","v":130},{"$f":"+[2]Séries_Site!P676","v":66},{"$f":"+[2]Séries_Site!Q676","v":118},{"$f":"+[2]Séries_Site!R676","v":118},{"$f":"+[2]Séries_Site!S676","v":0},{"$f":"+[2]Séries_Site!T676","v":90},{"$f":"+[2]Séries_Site!U676","v":0},{"$f":"+[2]Séries_Site!V676","v":243},{"$f":"+[2]Séries_Site!W676","v":243},{"$f":"+[2]Séries_Site!X676","v":0},{"$f":"+[2]Séries_Site!Y676","v":312},{"$f":"+[2]Séries_Site!Z676","v":45},{"$f":"+[2]Séries_Site!AA676","v":37},{"$f":"+[2]Séries_Site!AB676","v":37},{"$f":"+[2]Séries_Site!AC676","v":0},{"$f":"+[2]Séries_Site!AD676","v":31},{"$f":"+[2]Séries_Site!AE676","v":2},{"$f":"+[2]Séries_Site!AF676","v":111},{"$f":"+[2]Séries_Site!AG676","v":111},{"$f":"+[2]Séries_Site!AH676","v":0},{"$f":"+[2]Séries_Site!AI676","v":217},{"$f":"+[2]Séries_Site!AJ676","v":34}]
["2015-12-01",{"$f":"+[2]Séries_Site!B677","v":2283},{"$f":"+[2]Séries_Site!C677","v":2167},{"$f":"+[2]Séries_Site!D677","v":116},{"$f":"+[2]Séries_Site!E677","v":911},{"$f":"+[2]Séries_Site!F677","v":593},{"$f":"+[2]Séries_Site!G677","v":1613},{"$f":"+[2]Séries_Site!H677","v":1502},{"$f":"+[2]Séries_Site!I677","v":111},{"$f":"+[2]Séries_Site!J677","v":518},{"$f":"+[2]Séries_Site!K677","v":414},{"$f":"+[2]Séries_Site!L677","v":16},{"$f":"+[2]Séries_Site!M677","v":11},{"$f":"+[2]Séries_Site!N677","v":5},{"$f":"+[2]Séries_Site!O677","v":93},{"$f":"+[2]Séries_Site!P677","v":101},{"$f":"+[2]Séries_Site!Q677","v":47},{"$f":"+[2]Séries_Site!R677","v":47},{"$f":"+[2]Séries_Site!S677","v":0},{"$f":"+[2]Séries_Site!T677","v":88},{"$f":"+[2]Séries_Site!U677","v":0},{"$f":"+[2]Séries_Site!V677","v":415},{"$f":"+[2]Séries_Site!W677","v":415},{"$f":"+[2]Séries_Site!X677","v":0},{"$f":"+[2]Séries_Site!Y677","v":201},{"$f":"+[2]Séries_Site!Z677","v":30},{"$f":"+[2]Séries_Site!AA677","v":59},{"$f":"+[2]Séries_Site!AB677","v":59},{"$f":"+[2]Séries_Site!AC677","v":0},{"$f":"+[2]Séries_Site!AD677","v":5},{"$f":"+[2]Séries_Site!AE677","v":3},{"$f":"+[2]Séries_Site!AF677","v":133},{"$f":"+[2]Séries_Site!AG677","v":133},{"$f":"+[2]Séries_Site!AH677","v":0},{"$f":"+[2]Séries_Site!AI677","v":6},{"$f":"+[2]Séries_Site!AJ677","v":45}]
["2016-01-01",{"$f":"+[2]Séries_Site!B678","v":1593},{"$f":"+[2]Séries_Site!C678","v":1590},{"$f":"+[2]Séries_Site!D678","v":3},{"$f":"+[2]Séries_Site!E678","v":1653},{"$f":"+[2]Séries_Site!F678","v":335},{"$f":"+[2]Séries_Site!G678","v":1080},{"$f":"+[2]Séries_Site!H678","v":1079},{"$f":"+[2]Séries_Site!I678","v":1},{"$f":"+[2]Séries_Site!J678","v":1097},{"$f":"+[2]Séries_Site!K678","v":143},{"$f":"+[2]Séries_Site!L678","v":16},{"$f":"+[2]Séries_Site!M678","v":14},{"$f":"+[2]Séries_Site!N678","v":2},{"$f":"+[2]Séries_Site!O678","v":119},{"$f":"+[2]Séries_Site!P678","v":97},{"$f":"+[2]Séries_Site!Q678","v":24},{"$f":"+[2]Séries_Site!R678","v":24},{"$f":"+[2]Séries_Site!S678","v":0},{"$f":"+[2]Séries_Site!T678","v":12},{"$f":"+[2]Séries_Site!U678","v":1},{"$f":"+[2]Séries_Site!V678","v":335},{"$f":"+[2]Séries_Site!W678","v":335},{"$f":"+[2]Séries_Site!X678","v":0},{"$f":"+[2]Séries_Site!Y678","v":268},{"$f":"+[2]Séries_Site!Z678","v":33},{"$f":"+[2]Séries_Site!AA678","v":36},{"$f":"+[2]Séries_Site!AB678","v":36},{"$f":"+[2]Séries_Site!AC678","v":0},{"$f":"+[2]Séries_Site!AD678","v":31},{"$f":"+[2]Séries_Site!AE678","v":8},{"$f":"+[2]Séries_Site!AF678","v":102},{"$f":"+[2]Séries_Site!AG678","v":102},{"$f":"+[2]Séries_Site!AH678","v":0},{"$f":"+[2]Séries_Site!AI678","v":126},{"$f":"+[2]Séries_Site!AJ678","v":53}]
["2016-02-01",{"$f":"+[2]Séries_Site!B679","v":2423},{"$f":"+[2]Séries_Site!C679","v":2411},{"$f":"+[2]Séries_Site!D679","v":12},{"$f":"+[2]Séries_Site!E679","v":3037},{"$f":"+[2]Séries_Site!F679","v":623},{"$f":"+[2]Séries_Site!G679","v":1894},{"$f":"+[2]Séries_Site!H679","v":1886},{"$f":"+[2]Séries_Site!I679","v":8},{"$f":"+[2]Séries_Site!J679","v":2387},{"$f":"+[2]Séries_Site!K679","v":316},{"$f":"+[2]Séries_Site!L679","v":10},{"$f":"+[2]Séries_Site!M679","v":6},{"$f":"+[2]Séries_Site!N679","v":4},{"$f":"+[2]Séries_Site!O679","v":96},{"$f":"+[2]Séries_Site!P679","v":134},{"$f":"+[2]Séries_Site!Q679","v":37},{"$f":"+[2]Séries_Site!R679","v":37},{"$f":"+[2]Séries_Site!S679","v":0},{"$f":"+[2]Séries_Site!T679","v":5},{"$f":"+[2]Séries_Site!U679","v":6},{"$f":"+[2]Séries_Site!V679","v":320},{"$f":"+[2]Séries_Site!W679","v":320},{"$f":"+[2]Séries_Site!X679","v":0},{"$f":"+[2]Séries_Site!Y679","v":267},{"$f":"+[2]Séries_Site!Z679","v":56},{"$f":"+[2]Séries_Site!AA679","v":94},{"$f":"+[2]Séries_Site!AB679","v":94},{"$f":"+[2]Séries_Site!AC679","v":0},{"$f":"+[2]Séries_Site!AD679","v":101},{"$f":"+[2]Séries_Site!AE679","v":5},{"$f":"+[2]Séries_Site!AF679","v":68},{"$f":"+[2]Séries_Site!AG679","v":68},{"$f":"+[2]Séries_Site!AH679","v":0},{"$f":"+[2]Séries_Site!AI679","v":181},{"$f":"+[2]Séries_Site!AJ679","v":106}]
["2016-03-01",{"$f":"+[2]Séries_Site!B680","v":2896},{"$f":"+[2]Séries_Site!C680","v":2885},{"$f":"+[2]Séries_Site!D680","v":11},{"$f":"+[2]Séries_Site!E680","v":2933},{"$f":"+[2]Séries_Site!F680","v":1025},{"$f":"+[2]Séries_Site!G680","v":2292},{"$f":"+[2]Séries_Site!H680","v":2285},{"$f":"+[2]Séries_Site!I680","v":7},{"$f":"+[2]Séries_Site!J680","v":1998},{"$f":"+[2]Séries_Site!K680","v":695},{"$f":"+[2]Séries_Site!L680","v":20},{"$f":"+[2]Séries_Site!M680","v":16},{"$f":"+[2]Séries_Site!N680","v":4},{"$f":"+[2]Séries_Site!O680","v":130},{"$f":"+[2]Séries_Site!P680","v":115},{"$f":"+[2]Séries_Site!Q680","v":46},{"$f":"+[2]Séries_Site!R680","v":46},{"$f":"+[2]Séries_Site!S680","v":0},{"$f":"+[2]Séries_Site!T680","v":39},{"$f":"+[2]Séries_Site!U680","v":0},{"$f":"+[2]Séries_Site!V680","v":305},{"$f":"+[2]Séries_Site!W680","v":305},{"$f":"+[2]Séries_Site!X680","v":0},{"$f":"+[2]Séries_Site!Y680","v":363},{"$f":"+[2]Séries_Site!Z680","v":40},{"$f":"+[2]Séries_Site!AA680","v":130},{"$f":"+[2]Séries_Site!AB680","v":130},{"$f":"+[2]Séries_Site!AC680","v":0},{"$f":"+[2]Séries_Site!AD680","v":127},{"$f":"+[2]Séries_Site!AE680","v":2},{"$f":"+[2]Séries_Site!AF680","v":103},{"$f":"+[2]Séries_Site!AG680","v":103},{"$f":"+[2]Séries_Site!AH680","v":0},{"$f":"+[2]Séries_Site!AI680","v":276},{"$f":"+[2]Séries_Site!AJ680","v":173}]
["2016-04-01",{"$f":"+[2]Séries_Site!B681","v":3016},{"$f":"+[2]Séries_Site!C681","v":3004},{"$f":"+[2]Séries_Site!D681","v":12},{"$f":"+[2]Séries_Site!E681","v":3996},{"$f":"+[2]Séries_Site!F681","v":716},{"$f":"+[2]Séries_Site!G681","v":2618},{"$f":"+[2]Séries_Site!H681","v":2614},{"$f":"+[2]Séries_Site!I681","v":4},{"$f":"+[2]Séries_Site!J681","v":3271},{"$f":"+[2]Séries_Site!K681","v":520},{"$f":"+[2]Séries_Site!L681","v":27},{"$f":"+[2]Séries_Site!M681","v":20},{"$f":"+[2]Séries_Site!N681","v":7},{"$f":"+[2]Séries_Site!O681","v":89},{"$f":"+[2]Séries_Site!P681","v":66},{"$f":"+[2]Séries_Site!Q681","v":40},{"$f":"+[2]Séries_Site!R681","v":40},{"$f":"+[2]Séries_Site!S681","v":0},{"$f":"+[2]Séries_Site!T681","v":81},{"$f":"+[2]Séries_Site!U681","v":5},{"$f":"+[2]Séries_Site!V681","v":118},{"$f":"+[2]Séries_Site!W681","v":117},{"$f":"+[2]Séries_Site!X681","v":1},{"$f":"+[2]Séries_Site!Y681","v":117},{"$f":"+[2]Séries_Site!Z681","v":10},{"$f":"+[2]Séries_Site!AA681","v":130},{"$f":"+[2]Séries_Site!AB681","v":130},{"$f":"+[2]Séries_Site!AC681","v":0},{"$f":"+[2]Séries_Site!AD681","v":150},{"$f":"+[2]Séries_Site!AE681","v":7},{"$f":"+[2]Séries_Site!AF681","v":83},{"$f":"+[2]Séries_Site!AG681","v":83},{"$f":"+[2]Séries_Site!AH681","v":0},{"$f":"+[2]Séries_Site!AI681","v":288},{"$f":"+[2]Séries_Site!AJ681","v":108}]
["2016-05-01",{"$f":"+[2]Séries_Site!B682","v":3482},{"$f":"+[2]Séries_Site!C682","v":3477},{"$f":"+[2]Séries_Site!D682","v":5},{"$f":"+[2]Séries_Site!E682","v":4198},{"$f":"+[2]Séries_Site!F682","v":765},{"$f":"+[2]Séries_Site!G682","v":2998},{"$f":"+[2]Séries_Site!H682","v":2993},{"$f":"+[2]Séries_Site!I682","v":5},{"$f":"+[2]Séries_Site!J682","v":3380},{"$f":"+[2]Séries_Site!K682","v":460},{"$f":"+[2]Séries_Site!L682","v":29},{"$f":"+[2]Séries_Site!M682","v":29},{"$f":"+[2]Séries_Site!N682","v":0},{"$f":"+[2]Séries_Site!O682","v":94},{"$f":"+[2]Séries_Site!P682","v":55},{"$f":"+[2]Séries_Site!Q682","v":47},{"$f":"+[2]Séries_Site!R682","v":47},{"$f":"+[2]Séries_Site!S682","v":0},{"$f":"+[2]Séries_Site!T682","v":66},{"$f":"+[2]Séries_Site!U682","v":66},{"$f":"+[2]Séries_Site!V682","v":242},{"$f":"+[2]Séries_Site!W682","v":242},{"$f":"+[2]Séries_Site!X682","v":0},{"$f":"+[2]Séries_Site!Y682","v":265},{"$f":"+[2]Séries_Site!Z682","v":26},{"$f":"+[2]Séries_Site!AA682","v":58},{"$f":"+[2]Séries_Site!AB682","v":58},{"$f":"+[2]Séries_Site!AC682","v":0},{"$f":"+[2]Séries_Site!AD682","v":107},{"$f":"+[2]Séries_Site!AE682","v":47},{"$f":"+[2]Séries_Site!AF682","v":108},{"$f":"+[2]Séries_Site!AG682","v":108},{"$f":"+[2]Séries_Site!AH682","v":0},{"$f":"+[2]Séries_Site!AI682","v":286},{"$f":"+[2]Séries_Site!AJ682","v":111}]
["2016-06-01",{"$f":"+[2]Séries_Site!B683","v":4102},{"$f":"+[2]Séries_Site!C683","v":4090},{"$f":"+[2]Séries_Site!D683","v":12},{"$f":"+[2]Séries_Site!E683","v":4664},{"$f":"+[2]Séries_Site!F683","v":1002},{"$f":"+[2]Séries_Site!G683","v":3452},{"$f":"+[2]Séries_Site!H683","v":3447},{"$f":"+[2]Séries_Site!I683","v":5},{"$f":"+[2]Séries_Site!J683","v":3768},{"$f":"+[2]Séries_Site!K683","v":719},{"$f":"+[2]Séries_Site!L683","v":33},{"$f":"+[2]Séries_Site!M683","v":26},{"$f":"+[2]Séries_Site!N683","v":7},{"$f":"+[2]Séries_Site!O683","v":105},{"$f":"+[2]Séries_Site!P683","v":65},{"$f":"+[2]Séries_Site!Q683","v":85},{"$f":"+[2]Séries_Site!R683","v":85},{"$f":"+[2]Séries_Site!S683","v":0},{"$f":"+[2]Séries_Site!T683","v":83},{"$f":"+[2]Séries_Site!U683","v":0},{"$f":"+[2]Séries_Site!V683","v":359},{"$f":"+[2]Séries_Site!W683","v":359},{"$f":"+[2]Séries_Site!X683","v":0},{"$f":"+[2]Séries_Site!Y683","v":305},{"$f":"+[2]Séries_Site!Z683","v":39},{"$f":"+[2]Séries_Site!AA683","v":52},{"$f":"+[2]Séries_Site!AB683","v":52},{"$f":"+[2]Séries_Site!AC683","v":0},{"$f":"+[2]Séries_Site!AD683","v":77},{"$f":"+[2]Séries_Site!AE683","v":4},{"$f":"+[2]Séries_Site!AF683","v":121},{"$f":"+[2]Séries_Site!AG683","v":121},{"$f":"+[2]Séries_Site!AH683","v":0},{"$f":"+[2]Séries_Site!AI683","v":326},{"$f":"+[2]Séries_Site!AJ683","v":175}]
["2016-07-01",{"$f":"+[2]Séries_Site!B684","v":4042},{"$f":"+[2]Séries_Site!C684","v":4034},{"$f":"+[2]Séries_Site!D684","v":8},{"$f":"+[2]Séries_Site!E684","v":4978},{"$f":"+[2]Séries_Site!F684","v":755},{"$f":"+[2]Séries_Site!G684","v":3480},{"$f":"+[2]Séries_Site!H684","v":3476},{"$f":"+[2]Séries_Site!I684","v":4},{"$f":"+[2]Séries_Site!J684","v":4182},{"$f":"+[2]Séries_Site!K684","v":533},{"$f":"+[2]Séries_Site!L684","v":35},{"$f":"+[2]Séries_Site!M684","v":31},{"$f":"+[2]Séries_Site!N684","v":4},{"$f":"+[2]Séries_Site!O684","v":91},{"$f":"+[2]Séries_Site!P684","v":79},{"$f":"+[2]Séries_Site!Q684","v":94},{"$f":"+[2]Séries_Site!R684","v":94},{"$f":"+[2]Séries_Site!S684","v":0},{"$f":"+[2]Séries_Site!T684","v":95},{"$f":"+[2]Séries_Site!U684","v":0},{"$f":"+[2]Séries_Site!V684","v":284},{"$f":"+[2]Séries_Site!W684","v":284},{"$f":"+[2]Séries_Site!X684","v":0},{"$f":"+[2]Séries_Site!Y684","v":389},{"$f":"+[2]Séries_Site!Z684","v":16},{"$f":"+[2]Séries_Site!AA684","v":46},{"$f":"+[2]Séries_Site!AB684","v":46},{"$f":"+[2]Séries_Site!AC684","v":0},{"$f":"+[2]Séries_Site!AD684","v":56},{"$f":"+[2]Séries_Site!AE684","v":1},{"$f":"+[2]Séries_Site!AF684","v":103},{"$f":"+[2]Séries_Site!AG684","v":103},{"$f":"+[2]Séries_Site!AH684","v":0},{"$f":"+[2]Séries_Site!AI684","v":165},{"$f":"+[2]Séries_Site!AJ684","v":126}]
["2016-08-01",{"$f":"+[2]Séries_Site!B685","v":4568},{"$f":"+[2]Séries_Site!C685","v":4560},{"$f":"+[2]Séries_Site!D685","v":8},{"$f":"+[2]Séries_Site!E685","v":5929},{"$f":"+[2]Séries_Site!F685","v":921},{"$f":"+[2]Séries_Site!G685","v":3808},{"$f":"+[2]Séries_Site!H685","v":3804},{"$f":"+[2]Séries_Site!I685","v":4},{"$f":"+[2]Séries_Site!J685","v":4904},{"$f":"+[2]Séries_Site!K685","v":571},{"$f":"+[2]Séries_Site!L685","v":27},{"$f":"+[2]Séries_Site!M685","v":23},{"$f":"+[2]Séries_Site!N685","v":4},{"$f":"+[2]Séries_Site!O685","v":109},{"$f":"+[2]Séries_Site!P685","v":96},{"$f":"+[2]Séries_Site!Q685","v":115},{"$f":"+[2]Séries_Site!R685","v":115},{"$f":"+[2]Séries_Site!S685","v":0},{"$f":"+[2]Séries_Site!T685","v":120},{"$f":"+[2]Séries_Site!U685","v":0},{"$f":"+[2]Séries_Site!V685","v":359},{"$f":"+[2]Séries_Site!W685","v":359},{"$f":"+[2]Séries_Site!X685","v":0},{"$f":"+[2]Séries_Site!Y685","v":432},{"$f":"+[2]Séries_Site!Z685","v":41},{"$f":"+[2]Séries_Site!AA685","v":50},{"$f":"+[2]Séries_Site!AB685","v":50},{"$f":"+[2]Séries_Site!AC685","v":0},{"$f":"+[2]Séries_Site!AD685","v":46},{"$f":"+[2]Séries_Site!AE685","v":6},{"$f":"+[2]Séries_Site!AF685","v":209},{"$f":"+[2]Séries_Site!AG685","v":209},{"$f":"+[2]Séries_Site!AH685","v":0},{"$f":"+[2]Séries_Site!AI685","v":318},{"$f":"+[2]Séries_Site!AJ685","v":207}]
["2016-09-01",{"$f":"+[2]Séries_Site!B686","v":4853},{"$f":"+[2]Séries_Site!C686","v":4842},{"$f":"+[2]Séries_Site!D686","v":11},{"$f":"+[2]Séries_Site!E686","v":5174},{"$f":"+[2]Séries_Site!F686","v":988},{"$f":"+[2]Séries_Site!G686","v":4174},{"$f":"+[2]Séries_Site!H686","v":4169},{"$f":"+[2]Séries_Site!I686","v":5},{"$f":"+[2]Séries_Site!J686","v":4169},{"$f":"+[2]Séries_Site!K686","v":664},{"$f":"+[2]Séries_Site!L686","v":24},{"$f":"+[2]Séries_Site!M686","v":18},{"$f":"+[2]Séries_Site!N686","v":6},{"$f":"+[2]Séries_Site!O686","v":102},{"$f":"+[2]Séries_Site!P686","v":98},{"$f":"+[2]Séries_Site!Q686","v":108},{"$f":"+[2]Séries_Site!R686","v":108},{"$f":"+[2]Séries_Site!S686","v":0},{"$f":"+[2]Séries_Site!T686","v":105},{"$f":"+[2]Séries_Site!U686","v":0},{"$f":"+[2]Séries_Site!V686","v":392},{"$f":"+[2]Séries_Site!W686","v":392},{"$f":"+[2]Séries_Site!X686","v":0},{"$f":"+[2]Séries_Site!Y686","v":497},{"$f":"+[2]Séries_Site!Z686","v":39},{"$f":"+[2]Séries_Site!AA686","v":61},{"$f":"+[2]Séries_Site!AB686","v":61},{"$f":"+[2]Séries_Site!AC686","v":0},{"$f":"+[2]Séries_Site!AD686","v":49},{"$f":"+[2]Séries_Site!AE686","v":11},{"$f":"+[2]Séries_Site!AF686","v":94},{"$f":"+[2]Séries_Site!AG686","v":94},{"$f":"+[2]Séries_Site!AH686","v":0},{"$f":"+[2]Séries_Site!AI686","v":252},{"$f":"+[2]Séries_Site!AJ686","v":176}]
["2016-10-01",{"$f":"+[2]Séries_Site!B687","v":4929},{"$f":"+[2]Séries_Site!C687","v":4918},{"$f":"+[2]Séries_Site!D687","v":11},{"$f":"+[2]Séries_Site!E687","v":6241},{"$f":"+[2]Séries_Site!F687","v":782},{"$f":"+[2]Séries_Site!G687","v":4132},{"$f":"+[2]Séries_Site!H687","v":4127},{"$f":"+[2]Séries_Site!I687","v":5},{"$f":"+[2]Séries_Site!J687","v":5190},{"$f":"+[2]Séries_Site!K687","v":503},{"$f":"+[2]Séries_Site!L687","v":26},{"$f":"+[2]Séries_Site!M687","v":20},{"$f":"+[2]Séries_Site!N687","v":6},{"$f":"+[2]Séries_Site!O687","v":81},{"$f":"+[2]Séries_Site!P687","v":64},{"$f":"+[2]Séries_Site!Q687","v":69},{"$f":"+[2]Séries_Site!R687","v":69},{"$f":"+[2]Séries_Site!S687","v":0},{"$f":"+[2]Séries_Site!T687","v":76},{"$f":"+[2]Séries_Site!U687","v":5},{"$f":"+[2]Séries_Site!V687","v":530},{"$f":"+[2]Séries_Site!W687","v":530},{"$f":"+[2]Séries_Site!X687","v":0},{"$f":"+[2]Séries_Site!Y687","v":588},{"$f":"+[2]Séries_Site!Z687","v":40},{"$f":"+[2]Séries_Site!AA687","v":119},{"$f":"+[2]Séries_Site!AB687","v":119},{"$f":"+[2]Séries_Site!AC687","v":0},{"$f":"+[2]Séries_Site!AD687","v":60},{"$f":"+[2]Séries_Site!AE687","v":1},{"$f":"+[2]Séries_Site!AF687","v":53},{"$f":"+[2]Séries_Site!AG687","v":53},{"$f":"+[2]Séries_Site!AH687","v":0},{"$f":"+[2]Séries_Site!AI687","v":246},{"$f":"+[2]Séries_Site!AJ687","v":169}]
["2016-11-01",{"$f":"+[2]Séries_Site!B688","v":3600},{"$f":"+[2]Séries_Site!C688","v":3586},{"$f":"+[2]Séries_Site!D688","v":14},{"$f":"+[2]Séries_Site!E688","v":5534},{"$f":"+[2]Séries_Site!F688","v":736},{"$f":"+[2]Séries_Site!G688","v":2884},{"$f":"+[2]Séries_Site!H688","v":2880},{"$f":"+[2]Séries_Site!I688","v":4},{"$f":"+[2]Séries_Site!J688","v":4518},{"$f":"+[2]Séries_Site!K688","v":481},{"$f":"+[2]Séries_Site!L688","v":29},{"$f":"+[2]Séries_Site!M688","v":20},{"$f":"+[2]Séries_Site!N688","v":9},{"$f":"+[2]Séries_Site!O688","v":67},{"$f":"+[2]Séries_Site!P688","v":47},{"$f":"+[2]Séries_Site!Q688","v":60},{"$f":"+[2]Séries_Site!R688","v":60},{"$f":"+[2]Séries_Site!S688","v":0},{"$f":"+[2]Séries_Site!T688","v":78},{"$f":"+[2]Séries_Site!U688","v":0},{"$f":"+[2]Séries_Site!V688","v":482},{"$f":"+[2]Séries_Site!W688","v":481},{"$f":"+[2]Séries_Site!X688","v":1},{"$f":"+[2]Séries_Site!Y688","v":582},{"$f":"+[2]Séries_Site!Z688","v":50},{"$f":"+[2]Séries_Site!AA688","v":32},{"$f":"+[2]Séries_Site!AB688","v":32},{"$f":"+[2]Séries_Site!AC688","v":0},{"$f":"+[2]Séries_Site!AD688","v":52},{"$f":"+[2]Séries_Site!AE688","v":5},{"$f":"+[2]Séries_Site!AF688","v":113},{"$f":"+[2]Séries_Site!AG688","v":113},{"$f":"+[2]Séries_Site!AH688","v":0},{"$f":"+[2]Séries_Site!AI688","v":237},{"$f":"+[2]Séries_Site!AJ688","v":153}]
["2016-12-01",{"$f":"+[2]Séries_Site!B689","v":4197},{"$f":"+[2]Séries_Site!C689","v":4189},{"$f":"+[2]Séries_Site!D689","v":8},{"$f":"+[2]Séries_Site!E689","v":5695},{"$f":"+[2]Séries_Site!F689","v":950},{"$f":"+[2]Séries_Site!G689","v":3144},{"$f":"+[2]Séries_Site!H689","v":3140},{"$f":"+[2]Séries_Site!I689","v":4},{"$f":"+[2]Séries_Site!J689","v":4578},{"$f":"+[2]Séries_Site!K689","v":672},{"$f":"+[2]Séries_Site!L689","v":26},{"$f":"+[2]Séries_Site!M689","v":22},{"$f":"+[2]Séries_Site!N689","v":4},{"$f":"+[2]Séries_Site!O689","v":69},{"$f":"+[2]Séries_Site!P689","v":64},{"$f":"+[2]Séries_Site!Q689","v":22},{"$f":"+[2]Séries_Site!R689","v":22},{"$f":"+[2]Séries_Site!S689","v":0},{"$f":"+[2]Séries_Site!T689","v":43},{"$f":"+[2]Séries_Site!U689","v":0},{"$f":"+[2]Séries_Site!V689","v":772},{"$f":"+[2]Séries_Site!W689","v":772},{"$f":"+[2]Séries_Site!X689","v":0},{"$f":"+[2]Séries_Site!Y689","v":816},{"$f":"+[2]Séries_Site!Z689","v":41},{"$f":"+[2]Séries_Site!AA689","v":102},{"$f":"+[2]Séries_Site!AB689","v":102},{"$f":"+[2]Séries_Site!AC689","v":0},{"$f":"+[2]Séries_Site!AD689","v":14},{"$f":"+[2]Séries_Site!AE689","v":1},{"$f":"+[2]Séries_Site!AF689","v":131},{"$f":"+[2]Séries_Site!AG689","v":131},{"$f":"+[2]Séries_Site!AH689","v":0},{"$f":"+[2]Séries_Site!AI689","v":175},{"$f":"+[2]Séries_Site!AJ689","v":172}]
["2017-01-01",{"$f":"+[2]Séries_Site!B690","v":2637},{"$f":"+[2]Séries_Site!C690","v":2635},{"$f":"+[2]Séries_Site!D690","v":2},{"$f":"+[2]Séries_Site!E690","v":2199},{"$f":"+[2]Séries_Site!F690","v":424},{"$f":"+[2]Séries_Site!G690","v":2140},{"$f":"+[2]Séries_Site!H690","v":2140},{"$f":"+[2]Séries_Site!I690","v":0},{"$f":"+[2]Séries_Site!J690","v":1568},{"$f":"+[2]Séries_Site!K690","v":179},{"$f":"+[2]Séries_Site!L690","v":10},{"$f":"+[2]Séries_Site!M690","v":8},{"$f":"+[2]Séries_Site!N690","v":2},{"$f":"+[2]Séries_Site!O690","v":51},{"$f":"+[2]Séries_Site!P690","v":67},{"$f":"+[2]Séries_Site!Q690","v":0},{"$f":"+[2]Séries_Site!R690","v":0},{"$f":"+[2]Séries_Site!S690","v":0},{"$f":"+[2]Séries_Site!T690","v":0},{"$f":"+[2]Séries_Site!U690","v":0},{"$f":"+[2]Séries_Site!V690","v":381},{"$f":"+[2]Séries_Site!W690","v":381},{"$f":"+[2]Séries_Site!X690","v":0},{"$f":"+[2]Séries_Site!Y690","v":274},{"$f":"+[2]Séries_Site!Z690","v":25},{"$f":"+[2]Séries_Site!AA690","v":80},{"$f":"+[2]Séries_Site!AB690","v":80},{"$f":"+[2]Séries_Site!AC690","v":0},{"$f":"+[2]Séries_Site!AD690","v":95},{"$f":"+[2]Séries_Site!AE690","v":0},{"$f":"+[2]Séries_Site!AF690","v":26},{"$f":"+[2]Séries_Site!AG690","v":26},{"$f":"+[2]Séries_Site!AH690","v":0},{"$f":"+[2]Séries_Site!AI690","v":211},{"$f":"+[2]Séries_Site!AJ690","v":153}]
["2017-02-01",{"$f":"+[2]Séries_Site!B691","v":3097},{"$f":"+[2]Séries_Site!C691","v":3089},{"$f":"+[2]Séries_Site!D691","v":8},{"$f":"+[2]Séries_Site!E691","v":4345},{"$f":"+[2]Séries_Site!F691","v":743},{"$f":"+[2]Séries_Site!G691","v":2482},{"$f":"+[2]Séries_Site!H691","v":2478},{"$f":"+[2]Séries_Site!I691","v":4},{"$f":"+[2]Séries_Site!J691","v":3329},{"$f":"+[2]Séries_Site!K691","v":418},{"$f":"+[2]Séries_Site!L691","v":12},{"$f":"+[2]Séries_Site!M691","v":8},{"$f":"+[2]Séries_Site!N691","v":4},{"$f":"+[2]Séries_Site!O691","v":82},{"$f":"+[2]Séries_Site!P691","v":61},{"$f":"+[2]Séries_Site!Q691","v":0},{"$f":"+[2]Séries_Site!R691","v":0},{"$f":"+[2]Séries_Site!S691","v":0},{"$f":"+[2]Séries_Site!T691","v":0},{"$f":"+[2]Séries_Site!U691","v":0},{"$f":"+[2]Séries_Site!V691","v":468},{"$f":"+[2]Séries_Site!W691","v":468},{"$f":"+[2]Séries_Site!X691","v":0},{"$f":"+[2]Séries_Site!Y691","v":598},{"$f":"+[2]Séries_Site!Z691","v":88},{"$f":"+[2]Séries_Site!AA691","v":72},{"$f":"+[2]Séries_Site!AB691","v":72},{"$f":"+[2]Séries_Site!AC691","v":0},{"$f":"+[2]Séries_Site!AD691","v":112},{"$f":"+[2]Séries_Site!AE691","v":6},{"$f":"+[2]Séries_Site!AF691","v":63},{"$f":"+[2]Séries_Site!AG691","v":63},{"$f":"+[2]Séries_Site!AH691","v":0},{"$f":"+[2]Séries_Site!AI691","v":224},{"$f":"+[2]Séries_Site!AJ691","v":170}]
["2017-03-01",{"$f":"+[2]Séries_Site!B692","v":3564},{"$f":"+[2]Séries_Site!C692","v":3550},{"$f":"+[2]Séries_Site!D692","v":14},{"$f":"+[2]Séries_Site!E692","v":5340},{"$f":"+[2]Séries_Site!F692","v":1034},{"$f":"+[2]Séries_Site!G692","v":2912},{"$f":"+[2]Séries_Site!H692","v":2902},{"$f":"+[2]Séries_Site!I692","v":10},{"$f":"+[2]Séries_Site!J692","v":4366},{"$f":"+[2]Séries_Site!K692","v":760},{"$f":"+[2]Séries_Site!L692","v":24},{"$f":"+[2]Séries_Site!M692","v":20},{"$f":"+[2]Séries_Site!N692","v":4},{"$f":"+[2]Séries_Site!O692","v":117},{"$f":"+[2]Séries_Site!P692","v":121},{"$f":"+[2]Séries_Site!Q692","v":0},{"$f":"+[2]Séries_Site!R692","v":0},{"$f":"+[2]Séries_Site!S692","v":0},{"$f":"+[2]Séries_Site!T692","v":0},{"$f":"+[2]Séries_Site!U692","v":0},{"$f":"+[2]Séries_Site!V692","v":410},{"$f":"+[2]Séries_Site!W692","v":410},{"$f":"+[2]Séries_Site!X692","v":0},{"$f":"+[2]Séries_Site!Y692","v":527},{"$f":"+[2]Séries_Site!Z692","v":117},{"$f":"+[2]Séries_Site!AA692","v":127},{"$f":"+[2]Séries_Site!AB692","v":127},{"$f":"+[2]Séries_Site!AC692","v":0},{"$f":"+[2]Séries_Site!AD692","v":120},{"$f":"+[2]Séries_Site!AE692","v":10},{"$f":"+[2]Séries_Site!AF692","v":91},{"$f":"+[2]Séries_Site!AG692","v":91},{"$f":"+[2]Séries_Site!AH692","v":0},{"$f":"+[2]Séries_Site!AI692","v":210},{"$f":"+[2]Séries_Site!AJ692","v":26}]
["2017-04-01",{"$f":"+[2]Séries_Site!B693","v":3278},{"$f":"+[2]Séries_Site!C693","v":3269},{"$f":"+[2]Séries_Site!D693","v":9},{"$f":"+[2]Séries_Site!E693","v":5000},{"$f":"+[2]Séries_Site!F693","v":957},{"$f":"+[2]Séries_Site!G693","v":2934},{"$f":"+[2]Séries_Site!H693","v":2932},{"$f":"+[2]Séries_Site!I693","v":2},{"$f":"+[2]Séries_Site!J693","v":4120},{"$f":"+[2]Séries_Site!K693","v":563},{"$f":"+[2]Séries_Site!L693","v":13},{"$f":"+[2]Séries_Site!M693","v":6},{"$f":"+[2]Séries_Site!N693","v":7},{"$f":"+[2]Séries_Site!O693","v":129},{"$f":"+[2]Séries_Site!P693","v":137},{"$f":"+[2]Séries_Site!Q693","v":0},{"$f":"+[2]Séries_Site!R693","v":0},{"$f":"+[2]Séries_Site!S693","v":0},{"$f":"+[2]Séries_Site!T693","v":0},{"$f":"+[2]Séries_Site!U693","v":0},{"$f":"+[2]Séries_Site!V693","v":177},{"$f":"+[2]Séries_Site!W693","v":177},{"$f":"+[2]Séries_Site!X693","v":0},{"$f":"+[2]Séries_Site!Y693","v":361},{"$f":"+[2]Séries_Site!Z693","v":70},{"$f":"+[2]Séries_Site!AA693","v":66},{"$f":"+[2]Séries_Site!AB693","v":66},{"$f":"+[2]Séries_Site!AC693","v":0},{"$f":"+[2]Séries_Site!AD693","v":163},{"$f":"+[2]Séries_Site!AE693","v":3},{"$f":"+[2]Séries_Site!AF693","v":88},{"$f":"+[2]Séries_Site!AG693","v":88},{"$f":"+[2]Séries_Site!AH693","v":0},{"$f":"+[2]Séries_Site!AI693","v":227},{"$f":"+[2]Séries_Site!AJ693","v":184}]
["2017-05-01",{"$f":"+[2]Séries_Site!B694","v":3904},{"$f":"+[2]Séries_Site!C694","v":3897},{"$f":"+[2]Séries_Site!D694","v":7},{"$f":"+[2]Séries_Site!E694","v":5772},{"$f":"+[2]Séries_Site!F694","v":1329},{"$f":"+[2]Séries_Site!G694","v":3569},{"$f":"+[2]Séries_Site!H694","v":3566},{"$f":"+[2]Séries_Site!I694","v":3},{"$f":"+[2]Séries_Site!J694","v":4711},{"$f":"+[2]Séries_Site!K694","v":840},{"$f":"+[2]Séries_Site!L694","v":30},{"$f":"+[2]Séries_Site!M694","v":26},{"$f":"+[2]Séries_Site!N694","v":4},{"$f":"+[2]Séries_Site!O694","v":201},{"$f":"+[2]Séries_Site!P694","v":181},{"$f":"+[2]Séries_Site!Q694","v":0},{"$f":"+[2]Séries_Site!R694","v":0},{"$f":"+[2]Séries_Site!S694","v":0},{"$f":"+[2]Séries_Site!T694","v":0},{"$f":"+[2]Séries_Site!U694","v":0},{"$f":"+[2]Séries_Site!V694","v":190},{"$f":"+[2]Séries_Site!W694","v":190},{"$f":"+[2]Séries_Site!X694","v":0},{"$f":"+[2]Séries_Site!Y694","v":371},{"$f":"+[2]Séries_Site!Z694","v":55},{"$f":"+[2]Séries_Site!AA694","v":38},{"$f":"+[2]Séries_Site!AB694","v":38},{"$f":"+[2]Séries_Site!AC694","v":0},{"$f":"+[2]Séries_Site!AD694","v":101},{"$f":"+[2]Séries_Site!AE694","v":5},{"$f":"+[2]Séries_Site!AF694","v":77},{"$f":"+[2]Séries_Site!AG694","v":77},{"$f":"+[2]Séries_Site!AH694","v":0},{"$f":"+[2]Séries_Site!AI694","v":388},{"$f":"+[2]Séries_Site!AJ694","v":248}]
["2017-06-01",{"$f":"+[2]Séries_Site!B695","v":3844},{"$f":"+[2]Séries_Site!C695","v":3828},{"$f":"+[2]Séries_Site!D695","v":16},{"$f":"+[2]Séries_Site!E695","v":5178},{"$f":"+[2]Séries_Site!F695","v":1513},{"$f":"+[2]Séries_Site!G695","v":3342},{"$f":"+[2]Séries_Site!H695","v":3338},{"$f":"+[2]Séries_Site!I695","v":4},{"$f":"+[2]Séries_Site!J695","v":4323},{"$f":"+[2]Séries_Site!K695","v":1013},{"$f":"+[2]Séries_Site!L695","v":35},{"$f":"+[2]Séries_Site!M695","v":23},{"$f":"+[2]Séries_Site!N695","v":12},{"$f":"+[2]Séries_Site!O695","v":163},{"$f":"+[2]Séries_Site!P695","v":140},{"$f":"+[2]Séries_Site!Q695","v":0},{"$f":"+[2]Séries_Site!R695","v":0},{"$f":"+[2]Séries_Site!S695","v":0},{"$f":"+[2]Séries_Site!T695","v":0},{"$f":"+[2]Séries_Site!U695","v":0},{"$f":"+[2]Séries_Site!V695","v":289},{"$f":"+[2]Séries_Site!W695","v":289},{"$f":"+[2]Séries_Site!X695","v":0},{"$f":"+[2]Séries_Site!Y695","v":362},{"$f":"+[2]Séries_Site!Z695","v":120},{"$f":"+[2]Séries_Site!AA695","v":56},{"$f":"+[2]Séries_Site!AB695","v":56},{"$f":"+[2]Séries_Site!AC695","v":0},{"$f":"+[2]Séries_Site!AD695","v":50},{"$f":"+[2]Séries_Site!AE695","v":13},{"$f":"+[2]Séries_Site!AF695","v":122},{"$f":"+[2]Séries_Site!AG695","v":122},{"$f":"+[2]Séries_Site!AH695","v":0},{"$f":"+[2]Séries_Site!AI695","v":280},{"$f":"+[2]Séries_Site!AJ695","v":227}]
["2017-07-01",{"$f":"+[2]Séries_Site!B696","v":3726},{"$f":"+[2]Séries_Site!C696","v":3709},{"$f":"+[2]Séries_Site!D696","v":17},{"$f":"+[2]Séries_Site!E696","v":5422},{"$f":"+[2]Séries_Site!F696","v":1282},{"$f":"+[2]Séries_Site!G696","v":3314},{"$f":"+[2]Séries_Site!H696","v":3305},{"$f":"+[2]Séries_Site!I696","v":9},{"$f":"+[2]Séries_Site!J696","v":4467},{"$f":"+[2]Séries_Site!K696","v":861},{"$f":"+[2]Séries_Site!L696","v":28},{"$f":"+[2]Séries_Site!M696","v":20},{"$f":"+[2]Séries_Site!N696","v":8},{"$f":"+[2]Séries_Site!O696","v":201},{"$f":"+[2]Séries_Site!P696","v":125},{"$f":"+[2]Séries_Site!Q696","v":0},{"$f":"+[2]Séries_Site!R696","v":0},{"$f":"+[2]Séries_Site!S696","v":0},{"$f":"+[2]Séries_Site!T696","v":0},{"$f":"+[2]Séries_Site!U696","v":0},{"$f":"+[2]Séries_Site!V696","v":208},{"$f":"+[2]Séries_Site!W696","v":208},{"$f":"+[2]Séries_Site!X696","v":0},{"$f":"+[2]Séries_Site!Y696","v":403},{"$f":"+[2]Séries_Site!Z696","v":51},{"$f":"+[2]Séries_Site!AA696","v":35},{"$f":"+[2]Séries_Site!AB696","v":35},{"$f":"+[2]Séries_Site!AC696","v":0},{"$f":"+[2]Séries_Site!AD696","v":43},{"$f":"+[2]Séries_Site!AE696","v":22},{"$f":"+[2]Séries_Site!AF696","v":141},{"$f":"+[2]Séries_Site!AG696","v":141},{"$f":"+[2]Séries_Site!AH696","v":0},{"$f":"+[2]Séries_Site!AI696","v":308},{"$f":"+[2]Séries_Site!AJ696","v":223}]
["2017-08-01",{"$f":"+[2]Séries_Site!B697","v":3847},{"$f":"+[2]Séries_Site!C697","v":3827},{"$f":"+[2]Séries_Site!D697","v":20},{"$f":"+[2]Séries_Site!E697","v":4938},{"$f":"+[2]Séries_Site!F697","v":1240},{"$f":"+[2]Séries_Site!G697","v":3425},{"$f":"+[2]Séries_Site!H697","v":3411},{"$f":"+[2]Séries_Site!I697","v":14},{"$f":"+[2]Séries_Site!J697","v":3875},{"$f":"+[2]Séries_Site!K697","v":734},{"$f":"+[2]Séries_Site!L697","v":28},{"$f":"+[2]Séries_Site!M697","v":22},{"$f":"+[2]Séries_Site!N697","v":6},{"$f":"+[2]Séries_Site!O697","v":206},{"$f":"+[2]Séries_Site!P697","v":206},{"$f":"+[2]Séries_Site!Q697","v":0},{"$f":"+[2]Séries_Site!R697","v":0},{"$f":"+[2]Séries_Site!S697","v":0},{"$f":"+[2]Séries_Site!T697","v":0},{"$f":"+[2]Séries_Site!U697","v":0},{"$f":"+[2]Séries_Site!V697","v":254},{"$f":"+[2]Séries_Site!W697","v":254},{"$f":"+[2]Séries_Site!X697","v":0},{"$f":"+[2]Séries_Site!Y697","v":440},{"$f":"+[2]Séries_Site!Z697","v":54},{"$f":"+[2]Séries_Site!AA697","v":13},{"$f":"+[2]Séries_Site!AB697","v":13},{"$f":"+[2]Séries_Site!AC697","v":0},{"$f":"+[2]Séries_Site!AD697","v":94},{"$f":"+[2]Séries_Site!AE697","v":48},{"$f":"+[2]Séries_Site!AF697","v":127},{"$f":"+[2]Séries_Site!AG697","v":127},{"$f":"+[2]Séries_Site!AH697","v":0},{"$f":"+[2]Séries_Site!AI697","v":323},{"$f":"+[2]Séries_Site!AJ697","v":198}]
["2017-09-01",{"$f":"+[2]Séries_Site!B698","v":4186},{"$f":"+[2]Séries_Site!C698","v":4173},{"$f":"+[2]Séries_Site!D698","v":13},{"$f":"+[2]Séries_Site!E698","v":4120},{"$f":"+[2]Séries_Site!F698","v":1434},{"$f":"+[2]Séries_Site!G698","v":3553},{"$f":"+[2]Séries_Site!H698","v":3542},{"$f":"+[2]Séries_Site!I698","v":11},{"$f":"+[2]Séries_Site!J698","v":3101},{"$f":"+[2]Séries_Site!K698","v":891},{"$f":"+[2]Séries_Site!L698","v":27},{"$f":"+[2]Séries_Site!M698","v":25},{"$f":"+[2]Séries_Site!N698","v":2},{"$f":"+[2]Séries_Site!O698","v":183},{"$f":"+[2]Séries_Site!P698","v":189},{"$f":"+[2]Séries_Site!Q698","v":0},{"$f":"+[2]Séries_Site!R698","v":0},{"$f":"+[2]Séries_Site!S698","v":0},{"$f":"+[2]Séries_Site!T698","v":0},{"$f":"+[2]Séries_Site!U698","v":0},{"$f":"+[2]Séries_Site!V698","v":422},{"$f":"+[2]Séries_Site!W698","v":422},{"$f":"+[2]Séries_Site!X698","v":0},{"$f":"+[2]Séries_Site!Y698","v":499},{"$f":"+[2]Séries_Site!Z698","v":82},{"$f":"+[2]Séries_Site!AA698","v":50},{"$f":"+[2]Séries_Site!AB698","v":50},{"$f":"+[2]Séries_Site!AC698","v":0},{"$f":"+[2]Séries_Site!AD698","v":64},{"$f":"+[2]Séries_Site!AE698","v":37},{"$f":"+[2]Séries_Site!AF698","v":134},{"$f":"+[2]Séries_Site!AG698","v":134},{"$f":"+[2]Séries_Site!AH698","v":0},{"$f":"+[2]Séries_Site!AI698","v":273},{"$f":"+[2]Séries_Site!AJ698","v":235}]
["2017-10-01",{"$f":"+[2]Séries_Site!B699","v":3730},{"$f":"+[2]Séries_Site!C699","v":3715},{"$f":"+[2]Séries_Site!D699","v":15},{"$f":"+[2]Séries_Site!E699","v":4306},{"$f":"+[2]Séries_Site!F699","v":1402},{"$f":"+[2]Séries_Site!G699","v":3000},{"$f":"+[2]Séries_Site!H699","v":2985},{"$f":"+[2]Séries_Site!I699","v":15},{"$f":"+[2]Séries_Site!J699","v":2990},{"$f":"+[2]Séries_Site!K699","v":792},{"$f":"+[2]Séries_Site!L699","v":24},{"$f":"+[2]Séries_Site!M699","v":24},{"$f":"+[2]Séries_Site!N699","v":0},{"$f":"+[2]Séries_Site!O699","v":243},{"$f":"+[2]Séries_Site!P699","v":224},{"$f":"+[2]Séries_Site!Q699","v":0},{"$f":"+[2]Séries_Site!R699","v":0},{"$f":"+[2]Séries_Site!S699","v":0},{"$f":"+[2]Séries_Site!T699","v":0},{"$f":"+[2]Séries_Site!U699","v":0},{"$f":"+[2]Séries_Site!V699","v":546},{"$f":"+[2]Séries_Site!W699","v":546},{"$f":"+[2]Séries_Site!X699","v":0},{"$f":"+[2]Séries_Site!Y699","v":699},{"$f":"+[2]Séries_Site!Z699","v":120},{"$f":"+[2]Séries_Site!AA699","v":61},{"$f":"+[2]Séries_Site!AB699","v":61},{"$f":"+[2]Séries_Site!AC699","v":0},{"$f":"+[2]Séries_Site!AD699","v":60},{"$f":"+[2]Séries_Site!AE699","v":17},{"$f":"+[2]Séries_Site!AF699","v":99},{"$f":"+[2]Séries_Site!AG699","v":99},{"$f":"+[2]Séries_Site!AH699","v":0},{"$f":"+[2]Séries_Site!AI699","v":314},{"$f":"+[2]Séries_Site!AJ699","v":249}]
["2017-11-01",{"$f":"+[2]Séries_Site!B700","v":2944},{"$f":"+[2]Séries_Site!C700","v":2933},{"$f":"+[2]Séries_Site!D700","v":11},{"$f":"+[2]Séries_Site!E700","v":3820},{"$f":"+[2]Séries_Site!F700","v":1314},{"$f":"+[2]Séries_Site!G700","v":2305},{"$f":"+[2]Séries_Site!H700","v":2300},{"$f":"+[2]Séries_Site!I700","v":5},{"$f":"+[2]Séries_Site!J700","v":2679},{"$f":"+[2]Séries_Site!K700","v":752},{"$f":"+[2]Séries_Site!L700","v":31},{"$f":"+[2]Séries_Site!M700","v":26},{"$f":"+[2]Séries_Site!N700","v":5},{"$f":"+[2]Séries_Site!O700","v":272},{"$f":"+[2]Séries_Site!P700","v":206},{"$f":"+[2]Séries_Site!Q700","v":0},{"$f":"+[2]Séries_Site!R700","v":0},{"$f":"+[2]Séries_Site!S700","v":0},{"$f":"+[2]Séries_Site!T700","v":0},{"$f":"+[2]Séries_Site!U700","v":0},{"$f":"+[2]Séries_Site!V700","v":474},{"$f":"+[2]Séries_Site!W700","v":473},{"$f":"+[2]Séries_Site!X700","v":1},{"$f":"+[2]Séries_Site!Y700","v":534},{"$f":"+[2]Séries_Site!Z700","v":100},{"$f":"+[2]Séries_Site!AA700","v":31},{"$f":"+[2]Séries_Site!AB700","v":31},{"$f":"+[2]Séries_Site!AC700","v":0},{"$f":"+[2]Séries_Site!AD700","v":44},{"$f":"+[2]Séries_Site!AE700","v":18},{"$f":"+[2]Séries_Site!AF700","v":103},{"$f":"+[2]Séries_Site!AG700","v":103},{"$f":"+[2]Séries_Site!AH700","v":0},{"$f":"+[2]Séries_Site!AI700","v":291},{"$f":"+[2]Séries_Site!AJ700","v":238}]
["2017-12-01",{"$f":"+[2]Séries_Site!B701","v":3634},{"$f":"+[2]Séries_Site!C701","v":3607},{"$f":"+[2]Séries_Site!D701","v":27},{"$f":"+[2]Séries_Site!E701","v":2603},{"$f":"+[2]Séries_Site!F701","v":1287},{"$f":"+[2]Séries_Site!G701","v":2646},{"$f":"+[2]Séries_Site!H701","v":2627},{"$f":"+[2]Séries_Site!I701","v":19},{"$f":"+[2]Séries_Site!J701","v":1564},{"$f":"+[2]Séries_Site!K701","v":638},{"$f":"+[2]Séries_Site!L701","v":29},{"$f":"+[2]Séries_Site!M701","v":21},{"$f":"+[2]Séries_Site!N701","v":8},{"$f":"+[2]Séries_Site!O701","v":259},{"$f":"+[2]Séries_Site!P701","v":302},{"$f":"+[2]Séries_Site!Q701","v":0},{"$f":"+[2]Séries_Site!R701","v":0},{"$f":"+[2]Séries_Site!S701","v":0},{"$f":"+[2]Séries_Site!T701","v":0},{"$f":"+[2]Séries_Site!U701","v":0},{"$f":"+[2]Séries_Site!V701","v":718},{"$f":"+[2]Séries_Site!W701","v":718},{"$f":"+[2]Séries_Site!X701","v":0},{"$f":"+[2]Séries_Site!Y701","v":445},{"$f":"+[2]Séries_Site!Z701","v":124},{"$f":"+[2]Séries_Site!AA701","v":92},{"$f":"+[2]Séries_Site!AB701","v":92},{"$f":"+[2]Séries_Site!AC701","v":0},{"$f":"+[2]Séries_Site!AD701","v":93},{"$f":"+[2]Séries_Site!AE701","v":6},{"$f":"+[2]Séries_Site!AF701","v":149},{"$f":"+[2]Séries_Site!AG701","v":149},{"$f":"+[2]Séries_Site!AH701","v":0},{"$f":"+[2]Séries_Site!AI701","v":242},{"$f":"+[2]Séries_Site!AJ701","v":217}]
["2018-01-01",{"$f":"+[2]Séries_Site!B702","v":1602},{"$f":"+[2]Séries_Site!C702","v":1583},{"$f":"+[2]Séries_Site!D702","v":19},{"$f":"+[2]Séries_Site!E702","v":2724},{"$f":"+[2]Séries_Site!F702","v":775},{"$f":"+[2]Séries_Site!G702","v":1157},{"$f":"+[2]Séries_Site!H702","v":1145},{"$f":"+[2]Séries_Site!I702","v":12},{"$f":"+[2]Séries_Site!J702","v":1683},{"$f":"+[2]Séries_Site!K702","v":281},{"$f":"+[2]Séries_Site!L702","v":23},{"$f":"+[2]Séries_Site!M702","v":16},{"$f":"+[2]Séries_Site!N702","v":7},{"$f":"+[2]Séries_Site!O702","v":278},{"$f":"+[2]Séries_Site!P702","v":237},{"$f":"+[2]Séries_Site!Q702","v":0},{"$f":"+[2]Séries_Site!R702","v":0},{"$f":"+[2]Séries_Site!S702","v":0},{"$f":"+[2]Séries_Site!T702","v":0},{"$f":"+[2]Séries_Site!U702","v":0},{"$f":"+[2]Séries_Site!V702","v":270},{"$f":"+[2]Séries_Site!W702","v":270},{"$f":"+[2]Séries_Site!X702","v":0},{"$f":"+[2]Séries_Site!Y702","v":413},{"$f":"+[2]Séries_Site!Z702","v":84},{"$f":"+[2]Séries_Site!AA702","v":80},{"$f":"+[2]Séries_Site!AB702","v":80},{"$f":"+[2]Séries_Site!AC702","v":0},{"$f":"+[2]Séries_Site!AD702","v":95},{"$f":"+[2]Séries_Site!AE702","v":5},{"$f":"+[2]Séries_Site!AF702","v":72},{"$f":"+[2]Séries_Site!AG702","v":72},{"$f":"+[2]Séries_Site!AH702","v":0},{"$f":"+[2]Séries_Site!AI702","v":255},{"$f":"+[2]Séries_Site!AJ702","v":168}]
["2018-02-01",{"$f":"+[2]Séries_Site!B703","v":2399},{"$f":"+[2]Séries_Site!C703","v":2380},{"$f":"+[2]Séries_Site!D703","v":19},{"$f":"+[2]Séries_Site!E703","v":3905},{"$f":"+[2]Séries_Site!F703","v":933},{"$f":"+[2]Séries_Site!G703","v":1873},{"$f":"+[2]Séries_Site!H703","v":1859},{"$f":"+[2]Séries_Site!I703","v":14},{"$f":"+[2]Séries_Site!J703","v":2727},{"$f":"+[2]Séries_Site!K703","v":379},{"$f":"+[2]Séries_Site!L703","v":33},{"$f":"+[2]Séries_Site!M703","v":29},{"$f":"+[2]Séries_Site!N703","v":4},{"$f":"+[2]Séries_Site!O703","v":301},{"$f":"+[2]Séries_Site!P703","v":224},{"$f":"+[2]Séries_Site!Q703","v":0},{"$f":"+[2]Séries_Site!R703","v":0},{"$f":"+[2]Séries_Site!S703","v":0},{"$f":"+[2]Séries_Site!T703","v":0},{"$f":"+[2]Séries_Site!U703","v":0},{"$f":"+[2]Séries_Site!V703","v":329},{"$f":"+[2]Séries_Site!W703","v":328},{"$f":"+[2]Séries_Site!X703","v":1},{"$f":"+[2]Séries_Site!Y703","v":471},{"$f":"+[2]Séries_Site!Z703","v":118},{"$f":"+[2]Séries_Site!AA703","v":44},{"$f":"+[2]Séries_Site!AB703","v":44},{"$f":"+[2]Séries_Site!AC703","v":0},{"$f":"+[2]Séries_Site!AD703","v":96},{"$f":"+[2]Séries_Site!AE703","v":10},{"$f":"+[2]Séries_Site!AF703","v":120},{"$f":"+[2]Séries_Site!AG703","v":120},{"$f":"+[2]Séries_Site!AH703","v":0},{"$f":"+[2]Séries_Site!AI703","v":310},{"$f":"+[2]Séries_Site!AJ703","v":202}]
["2018-03-01",{"$f":"+[2]Séries_Site!B704","v":3522},{"$f":"+[2]Séries_Site!C704","v":3502},{"$f":"+[2]Séries_Site!D704","v":20},{"$f":"+[2]Séries_Site!E704","v":5371},{"$f":"+[2]Séries_Site!F704","v":1228},{"$f":"+[2]Séries_Site!G704","v":2859},{"$f":"+[2]Séries_Site!H704","v":2843},{"$f":"+[2]Séries_Site!I704","v":16},{"$f":"+[2]Séries_Site!J704","v":4100},{"$f":"+[2]Séries_Site!K704","v":621},{"$f":"+[2]Séries_Site!L704","v":36},{"$f":"+[2]Séries_Site!M704","v":32},{"$f":"+[2]Séries_Site!N704","v":4},{"$f":"+[2]Séries_Site!O704","v":305},{"$f":"+[2]Séries_Site!P704","v":260},{"$f":"+[2]Séries_Site!Q704","v":0},{"$f":"+[2]Séries_Site!R704","v":0},{"$f":"+[2]Séries_Site!S704","v":0},{"$f":"+[2]Séries_Site!T704","v":0},{"$f":"+[2]Séries_Site!U704","v":0},{"$f":"+[2]Séries_Site!V704","v":419},{"$f":"+[2]Séries_Site!W704","v":419},{"$f":"+[2]Séries_Site!X704","v":0},{"$f":"+[2]Séries_Site!Y704","v":487},{"$f":"+[2]Séries_Site!Z704","v":82},{"$f":"+[2]Séries_Site!AA704","v":84},{"$f":"+[2]Séries_Site!AB704","v":84},{"$f":"+[2]Séries_Site!AC704","v":0},{"$f":"+[2]Séries_Site!AD704","v":90},{"$f":"+[2]Séries_Site!AE704","v":33},{"$f":"+[2]Séries_Site!AF704","v":124},{"$f":"+[2]Séries_Site!AG704","v":124},{"$f":"+[2]Séries_Site!AH704","v":0},{"$f":"+[2]Séries_Site!AI704","v":389},{"$f":"+[2]Séries_Site!AJ704","v":232}]
["2018-04-01",{"$f":"+[2]Séries_Site!B705","v":4137},{"$f":"+[2]Séries_Site!C705","v":4104},{"$f":"+[2]Séries_Site!D705","v":33},{"$f":"+[2]Séries_Site!E705","v":5005},{"$f":"+[2]Séries_Site!F705","v":1124},{"$f":"+[2]Séries_Site!G705","v":3520},{"$f":"+[2]Séries_Site!H705","v":3492},{"$f":"+[2]Séries_Site!I705","v":28},{"$f":"+[2]Séries_Site!J705","v":3821},{"$f":"+[2]Séries_Site!K705","v":659},{"$f":"+[2]Séries_Site!L705","v":42},{"$f":"+[2]Séries_Site!M705","v":37},{"$f":"+[2]Séries_Site!N705","v":5},{"$f":"+[2]Séries_Site!O705","v":351},{"$f":"+[2]Séries_Site!P705","v":218},{"$f":"+[2]Séries_Site!Q705","v":0},{"$f":"+[2]Séries_Site!R705","v":0},{"$f":"+[2]Séries_Site!S705","v":0},{"$f":"+[2]Séries_Site!T705","v":0},{"$f":"+[2]Séries_Site!U705","v":0},{"$f":"+[2]Séries_Site!V705","v":354},{"$f":"+[2]Séries_Site!W705","v":354},{"$f":"+[2]Séries_Site!X705","v":0},{"$f":"+[2]Séries_Site!Y705","v":416},{"$f":"+[2]Séries_Site!Z705","v":60},{"$f":"+[2]Séries_Site!AA705","v":89},{"$f":"+[2]Séries_Site!AB705","v":89},{"$f":"+[2]Séries_Site!AC705","v":0},{"$f":"+[2]Séries_Site!AD705","v":44},{"$f":"+[2]Séries_Site!AE705","v":26},{"$f":"+[2]Séries_Site!AF705","v":132},{"$f":"+[2]Séries_Site!AG705","v":132},{"$f":"+[2]Séries_Site!AH705","v":0},{"$f":"+[2]Séries_Site!AI705","v":373},{"$f":"+[2]Séries_Site!AJ705","v":161}]
["2018-05-01",{"$f":"+[2]Séries_Site!B706","v":3278},{"$f":"+[2]Séries_Site!C706","v":3274},{"$f":"+[2]Séries_Site!D706","v":4},{"$f":"+[2]Séries_Site!E706","v":4588},{"$f":"+[2]Séries_Site!F706","v":1055},{"$f":"+[2]Séries_Site!G706","v":2832},{"$f":"+[2]Séries_Site!H706","v":2830},{"$f":"+[2]Séries_Site!I706","v":2},{"$f":"+[2]Séries_Site!J706","v":3499},{"$f":"+[2]Séries_Site!K706","v":508},{"$f":"+[2]Séries_Site!L706","v":24},{"$f":"+[2]Séries_Site!M706","v":22},{"$f":"+[2]Séries_Site!N706","v":2},{"$f":"+[2]Séries_Site!O706","v":311},{"$f":"+[2]Séries_Site!P706","v":327},{"$f":"+[2]Séries_Site!Q706","v":0},{"$f":"+[2]Séries_Site!R706","v":0},{"$f":"+[2]Séries_Site!S706","v":0},{"$f":"+[2]Séries_Site!T706","v":0},{"$f":"+[2]Séries_Site!U706","v":0},{"$f":"+[2]Séries_Site!V706","v":248},{"$f":"+[2]Séries_Site!W706","v":248},{"$f":"+[2]Séries_Site!X706","v":0},{"$f":"+[2]Séries_Site!Y706","v":385},{"$f":"+[2]Séries_Site!Z706","v":47},{"$f":"+[2]Séries_Site!AA706","v":37},{"$f":"+[2]Séries_Site!AB706","v":37},{"$f":"+[2]Séries_Site!AC706","v":0},{"$f":"+[2]Séries_Site!AD706","v":82},{"$f":"+[2]Séries_Site!AE706","v":7},{"$f":"+[2]Séries_Site!AF706","v":137},{"$f":"+[2]Séries_Site!AG706","v":137},{"$f":"+[2]Séries_Site!AH706","v":0},{"$f":"+[2]Séries_Site!AI706","v":311},{"$f":"+[2]Séries_Site!AJ706","v":166}]
["2018-06-01",{"$f":"+[2]Séries_Site!B707","v":4925},{"$f":"+[2]Séries_Site!C707","v":4918},{"$f":"+[2]Séries_Site!D707","v":7},{"$f":"+[2]Séries_Site!E707","v":5307},{"$f":"+[2]Séries_Site!F707","v":1082},{"$f":"+[2]Séries_Site!G707","v":4190},{"$f":"+[2]Séries_Site!H707","v":4184},{"$f":"+[2]Séries_Site!I707","v":6},{"$f":"+[2]Séries_Site!J707","v":4002},{"$f":"+[2]Séries_Site!K707","v":568},{"$f":"+[2]Séries_Site!L707","v":56},{"$f":"+[2]Séries_Site!M707","v":55},{"$f":"+[2]Séries_Site!N707","v":1},{"$f":"+[2]Séries_Site!O707","v":308},{"$f":"+[2]Séries_Site!P707","v":240},{"$f":"+[2]Séries_Site!Q707","v":0},{"$f":"+[2]Séries_Site!R707","v":0},{"$f":"+[2]Séries_Site!S707","v":0},{"$f":"+[2]Séries_Site!T707","v":0},{"$f":"+[2]Séries_Site!U707","v":0},{"$f":"+[2]Séries_Site!V707","v":480},{"$f":"+[2]Séries_Site!W707","v":480},{"$f":"+[2]Séries_Site!X707","v":0},{"$f":"+[2]Séries_Site!Y707","v":578},{"$f":"+[2]Séries_Site!Z707","v":47},{"$f":"+[2]Séries_Site!AA707","v":33},{"$f":"+[2]Séries_Site!AB707","v":33},{"$f":"+[2]Séries_Site!AC707","v":0},{"$f":"+[2]Séries_Site!AD707","v":59},{"$f":"+[2]Séries_Site!AE707","v":21},{"$f":"+[2]Séries_Site!AF707","v":166},{"$f":"+[2]Séries_Site!AG707","v":166},{"$f":"+[2]Séries_Site!AH707","v":0},{"$f":"+[2]Séries_Site!AI707","v":360},{"$f":"+[2]Séries_Site!AJ707","v":206}]
["2018-07-01",{"$f":"+[2]Séries_Site!B708","v":4738},{"$f":"+[2]Séries_Site!C708","v":4722},{"$f":"+[2]Séries_Site!D708","v":16},{"$f":"+[2]Séries_Site!E708","v":6740},{"$f":"+[2]Séries_Site!F708","v":1218},{"$f":"+[2]Séries_Site!G708","v":4037},{"$f":"+[2]Séries_Site!H708","v":4023},{"$f":"+[2]Séries_Site!I708","v":14},{"$f":"+[2]Séries_Site!J708","v":5223},{"$f":"+[2]Séries_Site!K708","v":636},{"$f":"+[2]Séries_Site!L708","v":42},{"$f":"+[2]Séries_Site!M708","v":40},{"$f":"+[2]Séries_Site!N708","v":2},{"$f":"+[2]Séries_Site!O708","v":368},{"$f":"+[2]Séries_Site!P708","v":336},{"$f":"+[2]Séries_Site!Q708","v":0},{"$f":"+[2]Séries_Site!R708","v":0},{"$f":"+[2]Séries_Site!S708","v":0},{"$f":"+[2]Séries_Site!T708","v":0},{"$f":"+[2]Séries_Site!U708","v":0},{"$f":"+[2]Séries_Site!V708","v":405},{"$f":"+[2]Séries_Site!W708","v":405},{"$f":"+[2]Séries_Site!X708","v":0},{"$f":"+[2]Séries_Site!Y708","v":663},{"$f":"+[2]Séries_Site!Z708","v":54},{"$f":"+[2]Séries_Site!AA708","v":30},{"$f":"+[2]Séries_Site!AB708","v":30},{"$f":"+[2]Séries_Site!AC708","v":0},{"$f":"+[2]Séries_Site!AD708","v":84},{"$f":"+[2]Séries_Site!AE708","v":28},{"$f":"+[2]Séries_Site!AF708","v":224},{"$f":"+[2]Séries_Site!AG708","v":224},{"$f":"+[2]Séries_Site!AH708","v":0},{"$f":"+[2]Séries_Site!AI708","v":402},{"$f":"+[2]Séries_Site!AJ708","v":164}]
["2018-08-01",{"$f":"+[2]Séries_Site!B709","v":5037},{"$f":"+[2]Séries_Site!C709","v":4970},{"$f":"+[2]Séries_Site!D709","v":67},{"$f":"+[2]Séries_Site!E709","v":6783},{"$f":"+[2]Séries_Site!F709","v":1206},{"$f":"+[2]Séries_Site!G709","v":4299},{"$f":"+[2]Séries_Site!H709","v":4235},{"$f":"+[2]Séries_Site!I709","v":64},{"$f":"+[2]Séries_Site!J709","v":5279},{"$f":"+[2]Séries_Site!K709","v":610},{"$f":"+[2]Séries_Site!L709","v":62},{"$f":"+[2]Séries_Site!M709","v":59},{"$f":"+[2]Séries_Site!N709","v":3},{"$f":"+[2]Séries_Site!O709","v":450},{"$f":"+[2]Séries_Site!P709","v":360},{"$f":"+[2]Séries_Site!Q709","v":0},{"$f":"+[2]Séries_Site!R709","v":0},{"$f":"+[2]Séries_Site!S709","v":0},{"$f":"+[2]Séries_Site!T709","v":0},{"$f":"+[2]Séries_Site!U709","v":0},{"$f":"+[2]Séries_Site!V709","v":417},{"$f":"+[2]Séries_Site!W709","v":417},{"$f":"+[2]Séries_Site!X709","v":0},{"$f":"+[2]Séries_Site!Y709","v":579},{"$f":"+[2]Séries_Site!Z709","v":30},{"$f":"+[2]Séries_Site!AA709","v":34},{"$f":"+[2]Séries_Site!AB709","v":34},{"$f":"+[2]Séries_Site!AC709","v":0},{"$f":"+[2]Séries_Site!AD709","v":60},{"$f":"+[2]Séries_Site!AE709","v":34},{"$f":"+[2]Séries_Site!AF709","v":225},{"$f":"+[2]Séries_Site!AG709","v":225},{"$f":"+[2]Séries_Site!AH709","v":0},{"$f":"+[2]Séries_Site!AI709","v":415},{"$f":"+[2]Séries_Site!AJ709","v":172}]
["2018-09-01",{"$f":"+[2]Séries_Site!B710","v":4913},{"$f":"+[2]Séries_Site!C710","v":4879},{"$f":"+[2]Séries_Site!D710","v":34},{"$f":"+[2]Séries_Site!E710","v":5750},{"$f":"+[2]Séries_Site!F710","v":1092},{"$f":"+[2]Séries_Site!G710","v":4058},{"$f":"+[2]Séries_Site!H710","v":4025},{"$f":"+[2]Séries_Site!I710","v":33},{"$f":"+[2]Séries_Site!J710","v":4285},{"$f":"+[2]Séries_Site!K710","v":559},{"$f":"+[2]Séries_Site!L710","v":38},{"$f":"+[2]Séries_Site!M710","v":38},{"$f":"+[2]Séries_Site!N710","v":0},{"$f":"+[2]Séries_Site!O710","v":341},{"$f":"+[2]Séries_Site!P710","v":270},{"$f":"+[2]Séries_Site!Q710","v":0},{"$f":"+[2]Séries_Site!R710","v":0},{"$f":"+[2]Séries_Site!S710","v":0},{"$f":"+[2]Séries_Site!T710","v":0},{"$f":"+[2]Séries_Site!U710","v":0},{"$f":"+[2]Séries_Site!V710","v":536},{"$f":"+[2]Séries_Site!W710","v":535},{"$f":"+[2]Séries_Site!X710","v":1},{"$f":"+[2]Séries_Site!Y710","v":581},{"$f":"+[2]Séries_Site!Z710","v":67},{"$f":"+[2]Séries_Site!AA710","v":39},{"$f":"+[2]Séries_Site!AB710","v":39},{"$f":"+[2]Séries_Site!AC710","v":0},{"$f":"+[2]Séries_Site!AD710","v":184},{"$f":"+[2]Séries_Site!AE710","v":26},{"$f":"+[2]Séries_Site!AF710","v":242},{"$f":"+[2]Séries_Site!AG710","v":242},{"$f":"+[2]Séries_Site!AH710","v":0},{"$f":"+[2]Séries_Site!AI710","v":359},{"$f":"+[2]Séries_Site!AJ710","v":170}]
["2018-10-01",{"$f":"+[2]Séries_Site!B711","v":5030},{"$f":"+[2]Séries_Site!C711","v":5000},{"$f":"+[2]Séries_Site!D711","v":30},{"$f":"+[2]Séries_Site!E711","v":7448},{"$f":"+[2]Séries_Site!F711","v":1020},{"$f":"+[2]Séries_Site!G711","v":4029},{"$f":"+[2]Séries_Site!H711","v":3999},{"$f":"+[2]Séries_Site!I711","v":30},{"$f":"+[2]Séries_Site!J711","v":5874},{"$f":"+[2]Séries_Site!K711","v":630},{"$f":"+[2]Séries_Site!L711","v":32},{"$f":"+[2]Séries_Site!M711","v":32},{"$f":"+[2]Séries_Site!N711","v":0},{"$f":"+[2]Séries_Site!O711","v":362},{"$f":"+[2]Séries_Site!P711","v":143},{"$f":"+[2]Séries_Site!Q711","v":0},{"$f":"+[2]Séries_Site!R711","v":0},{"$f":"+[2]Séries_Site!S711","v":0},{"$f":"+[2]Séries_Site!T711","v":0},{"$f":"+[2]Séries_Site!U711","v":0},{"$f":"+[2]Séries_Site!V711","v":638},{"$f":"+[2]Séries_Site!W711","v":638},{"$f":"+[2]Séries_Site!X711","v":0},{"$f":"+[2]Séries_Site!Y711","v":749},{"$f":"+[2]Séries_Site!Z711","v":47},{"$f":"+[2]Séries_Site!AA711","v":93},{"$f":"+[2]Séries_Site!AB711","v":93},{"$f":"+[2]Séries_Site!AC711","v":0},{"$f":"+[2]Séries_Site!AD711","v":56},{"$f":"+[2]Séries_Site!AE711","v":30},{"$f":"+[2]Séries_Site!AF711","v":238},{"$f":"+[2]Séries_Site!AG711","v":238},{"$f":"+[2]Séries_Site!AH711","v":0},{"$f":"+[2]Séries_Site!AI711","v":407},{"$f":"+[2]Séries_Site!AJ711","v":170}]
["2018-11-01",{"$f":"+[2]Séries_Site!B712","v":3747},{"$f":"+[2]Séries_Site!C712","v":3733},{"$f":"+[2]Séries_Site!D712","v":14},{"$f":"+[2]Séries_Site!E712","v":6491},{"$f":"+[2]Séries_Site!F712","v":1061},{"$f":"+[2]Séries_Site!G712","v":2833},{"$f":"+[2]Séries_Site!H712","v":2819},{"$f":"+[2]Séries_Site!I712","v":14},{"$f":"+[2]Séries_Site!J712","v":5013},{"$f":"+[2]Séries_Site!K712","v":456},{"$f":"+[2]Séries_Site!L712","v":33},{"$f":"+[2]Séries_Site!M712","v":33},{"$f":"+[2]Séries_Site!N712","v":0},{"$f":"+[2]Séries_Site!O712","v":386},{"$f":"+[2]Séries_Site!P712","v":378},{"$f":"+[2]Séries_Site!Q712","v":0},{"$f":"+[2]Séries_Site!R712","v":0},{"$f":"+[2]Séries_Site!S712","v":0},{"$f":"+[2]Séries_Site!T712","v":0},{"$f":"+[2]Séries_Site!U712","v":0},{"$f":"+[2]Séries_Site!V712","v":684},{"$f":"+[2]Séries_Site!W712","v":684},{"$f":"+[2]Séries_Site!X712","v":0},{"$f":"+[2]Séries_Site!Y712","v":655},{"$f":"+[2]Séries_Site!Z712","v":79},{"$f":"+[2]Séries_Site!AA712","v":23},{"$f":"+[2]Séries_Site!AB712","v":23},{"$f":"+[2]Séries_Site!AC712","v":0},{"$f":"+[2]Séries_Site!AD712","v":69},{"$f":"+[2]Séries_Site!AE712","v":0},{"$f":"+[2]Séries_Site!AF712","v":174},{"$f":"+[2]Séries_Site!AG712","v":174},{"$f":"+[2]Séries_Site!AH712","v":0},{"$f":"+[2]Séries_Site!AI712","v":368},{"$f":"+[2]Séries_Site!AJ712","v":148}]
["2018-12-01",{"$f":"+[2]Séries_Site!B713","v":4403},{"$f":"+[2]Séries_Site!C713","v":4373},{"$f":"+[2]Séries_Site!D713","v":30},{"$f":"+[2]Séries_Site!E713","v":5544},{"$f":"+[2]Séries_Site!F713","v":884},{"$f":"+[2]Séries_Site!G713","v":3116},{"$f":"+[2]Séries_Site!H713","v":3087},{"$f":"+[2]Séries_Site!I713","v":29},{"$f":"+[2]Séries_Site!J713","v":4345},{"$f":"+[2]Séries_Site!K713","v":364},{"$f":"+[2]Séries_Site!L713","v":45},{"$f":"+[2]Séries_Site!M713","v":45},{"$f":"+[2]Séries_Site!N713","v":0},{"$f":"+[2]Séries_Site!O713","v":310},{"$f":"+[2]Séries_Site!P713","v":304},{"$f":"+[2]Séries_Site!Q713","v":0},{"$f":"+[2]Séries_Site!R713","v":0},{"$f":"+[2]Séries_Site!S713","v":0},{"$f":"+[2]Séries_Site!T713","v":0},{"$f":"+[2]Séries_Site!U713","v":0},{"$f":"+[2]Séries_Site!V713","v":979},{"$f":"+[2]Séries_Site!W713","v":978},{"$f":"+[2]Séries_Site!X713","v":1},{"$f":"+[2]Séries_Site!Y713","v":575},{"$f":"+[2]Séries_Site!Z713","v":44},{"$f":"+[2]Séries_Site!AA713","v":57},{"$f":"+[2]Séries_Site!AB713","v":57},{"$f":"+[2]Séries_Site!AC713","v":0},{"$f":"+[2]Séries_Site!AD713","v":63},{"$f":"+[2]Séries_Site!AE713","v":13},{"$f":"+[2]Séries_Site!AF713","v":206},{"$f":"+[2]Séries_Site!AG713","v":206},{"$f":"+[2]Séries_Site!AH713","v":0},{"$f":"+[2]Séries_Site!AI713","v":251},{"$f":"+[2]Séries_Site!AJ713","v":159}]
["2019-01-01",{"$f":"+[2]Séries_Site!B714","v":2657},{"$f":"+[2]Séries_Site!C714","v":2631},{"$f":"+[2]Séries_Site!D714","v":26},{"$f":"+[2]Séries_Site!E714","v":2906},{"$f":"+[2]Séries_Site!F714","v":740},{"$f":"+[2]Séries_Site!G714","v":1990},{"$f":"+[2]Séries_Site!H714","v":1964},{"$f":"+[2]Séries_Site!I714","v":26},{"$f":"+[2]Séries_Site!J714","v":1638},{"$f":"+[2]Séries_Site!K714","v":240},{"$f":"+[2]Séries_Site!L714","v":20},{"$f":"+[2]Séries_Site!M714","v":20},{"$f":"+[2]Séries_Site!N714","v":0},{"$f":"+[2]Séries_Site!O714","v":342},{"$f":"+[2]Séries_Site!P714","v":333},{"$f":"+[2]Séries_Site!Q714","v":0},{"$f":"+[2]Séries_Site!R714","v":0},{"$f":"+[2]Séries_Site!S714","v":0},{"$f":"+[2]Séries_Site!T714","v":0},{"$f":"+[2]Séries_Site!U714","v":0},{"$f":"+[2]Séries_Site!V714","v":448},{"$f":"+[2]Séries_Site!W714","v":448},{"$f":"+[2]Séries_Site!X714","v":0},{"$f":"+[2]Séries_Site!Y714","v":502},{"$f":"+[2]Séries_Site!Z714","v":29},{"$f":"+[2]Séries_Site!AA714","v":53},{"$f":"+[2]Séries_Site!AB714","v":53},{"$f":"+[2]Séries_Site!AC714","v":0},{"$f":"+[2]Séries_Site!AD714","v":79},{"$f":"+[2]Séries_Site!AE714","v":7},{"$f":"+[2]Séries_Site!AF714","v":146},{"$f":"+[2]Séries_Site!AG714","v":146},{"$f":"+[2]Séries_Site!AH714","v":0},{"$f":"+[2]Séries_Site!AI714","v":345},{"$f":"+[2]Séries_Site!AJ714","v":131}]
["2019-02-01",{"$f":"+[2]Séries_Site!B715","v":2875},{"$f":"+[2]Séries_Site!C715","v":2869},{"$f":"+[2]Séries_Site!D715","v":6},{"$f":"+[2]Séries_Site!E715","v":3448},{"$f":"+[2]Séries_Site!F715","v":832},{"$f":"+[2]Séries_Site!G715","v":1952},{"$f":"+[2]Séries_Site!H715","v":1946},{"$f":"+[2]Séries_Site!I715","v":6},{"$f":"+[2]Séries_Site!J715","v":1906},{"$f":"+[2]Séries_Site!K715","v":318},{"$f":"+[2]Séries_Site!L715","v":31},{"$f":"+[2]Séries_Site!M715","v":31},{"$f":"+[2]Séries_Site!N715","v":0},{"$f":"+[2]Séries_Site!O715","v":357},{"$f":"+[2]Séries_Site!P715","v":227},{"$f":"+[2]Séries_Site!Q715","v":0},{"$f":"+[2]Séries_Site!R715","v":0},{"$f":"+[2]Séries_Site!S715","v":0},{"$f":"+[2]Séries_Site!T715","v":0},{"$f":"+[2]Séries_Site!U715","v":0},{"$f":"+[2]Séries_Site!V715","v":561},{"$f":"+[2]Séries_Site!W715","v":561},{"$f":"+[2]Séries_Site!X715","v":0},{"$f":"+[2]Séries_Site!Y715","v":631},{"$f":"+[2]Séries_Site!Z715","v":42},{"$f":"+[2]Séries_Site!AA715","v":89},{"$f":"+[2]Séries_Site!AB715","v":89},{"$f":"+[2]Séries_Site!AC715","v":0},{"$f":"+[2]Séries_Site!AD715","v":108},{"$f":"+[2]Séries_Site!AE715","v":2},{"$f":"+[2]Séries_Site!AF715","v":242},{"$f":"+[2]Séries_Site!AG715","v":242},{"$f":"+[2]Séries_Site!AH715","v":0},{"$f":"+[2]Séries_Site!AI715","v":446},{"$f":"+[2]Séries_Site!AJ715","v":243}]
["2019-03-01",{"$f":"+[2]Séries_Site!B716","v":3753},{"$f":"+[2]Séries_Site!C716","v":3751},{"$f":"+[2]Séries_Site!D716","v":2},{"$f":"+[2]Séries_Site!E716","v":4462},{"$f":"+[2]Séries_Site!F716","v":1112},{"$f":"+[2]Séries_Site!G716","v":2823},{"$f":"+[2]Séries_Site!H716","v":2821},{"$f":"+[2]Séries_Site!I716","v":2},{"$f":"+[2]Séries_Site!J716","v":2914},{"$f":"+[2]Séries_Site!K716","v":486},{"$f":"+[2]Séries_Site!L716","v":28},{"$f":"+[2]Séries_Site!M716","v":28},{"$f":"+[2]Séries_Site!N716","v":0},{"$f":"+[2]Séries_Site!O716","v":403},{"$f":"+[2]Séries_Site!P716","v":378},{"$f":"+[2]Séries_Site!Q716","v":0},{"$f":"+[2]Séries_Site!R716","v":0},{"$f":"+[2]Séries_Site!S716","v":0},{"$f":"+[2]Séries_Site!T716","v":0},{"$f":"+[2]Séries_Site!U716","v":0},{"$f":"+[2]Séries_Site!V716","v":593},{"$f":"+[2]Séries_Site!W716","v":593},{"$f":"+[2]Séries_Site!X716","v":0},{"$f":"+[2]Séries_Site!Y716","v":585},{"$f":"+[2]Séries_Site!Z716","v":47},{"$f":"+[2]Séries_Site!AA716","v":67},{"$f":"+[2]Séries_Site!AB716","v":67},{"$f":"+[2]Séries_Site!AC716","v":0},{"$f":"+[2]Séries_Site!AD716","v":76},{"$f":"+[2]Séries_Site!AE716","v":6},{"$f":"+[2]Séries_Site!AF716","v":242},{"$f":"+[2]Séries_Site!AG716","v":242},{"$f":"+[2]Séries_Site!AH716","v":0},{"$f":"+[2]Séries_Site!AI716","v":484},{"$f":"+[2]Séries_Site!AJ716","v":195}]
["2019-04-01",{"$f":"+[2]Séries_Site!B717","v":3157},{"$f":"+[2]Séries_Site!C717","v":3148},{"$f":"+[2]Séries_Site!D717","v":9},{"$f":"+[2]Séries_Site!E717","v":4418},{"$f":"+[2]Séries_Site!F717","v":1258},{"$f":"+[2]Séries_Site!G717","v":2494},{"$f":"+[2]Séries_Site!H717","v":2485},{"$f":"+[2]Séries_Site!I717","v":9},{"$f":"+[2]Séries_Site!J717","v":3062},{"$f":"+[2]Séries_Site!K717","v":550},{"$f":"+[2]Séries_Site!L717","v":36},{"$f":"+[2]Séries_Site!M717","v":36},{"$f":"+[2]Séries_Site!N717","v":0},{"$f":"+[2]Séries_Site!O717","v":412},{"$f":"+[2]Séries_Site!P717","v":390},{"$f":"+[2]Séries_Site!Q717","v":0},{"$f":"+[2]Séries_Site!R717","v":0},{"$f":"+[2]Séries_Site!S717","v":0},{"$f":"+[2]Séries_Site!T717","v":0},{"$f":"+[2]Séries_Site!U717","v":0},{"$f":"+[2]Séries_Site!V717","v":247},{"$f":"+[2]Séries_Site!W717","v":247},{"$f":"+[2]Séries_Site!X717","v":0},{"$f":"+[2]Séries_Site!Y717","v":377},{"$f":"+[2]Séries_Site!Z717","v":48},{"$f":"+[2]Séries_Site!AA717","v":92},{"$f":"+[2]Séries_Site!AB717","v":92},{"$f":"+[2]Séries_Site!AC717","v":0},{"$f":"+[2]Séries_Site!AD717","v":58},{"$f":"+[2]Séries_Site!AE717","v":7},{"$f":"+[2]Séries_Site!AF717","v":288},{"$f":"+[2]Séries_Site!AG717","v":288},{"$f":"+[2]Séries_Site!AH717","v":0},{"$f":"+[2]Séries_Site!AI717","v":509},{"$f":"+[2]Séries_Site!AJ717","v":263}]
["2019-05-01",{"$f":"+[2]Séries_Site!B718","v":3128},{"$f":"+[2]Séries_Site!C718","v":3097},{"$f":"+[2]Séries_Site!D718","v":31},{"$f":"+[2]Séries_Site!E718","v":5072},{"$f":"+[2]Séries_Site!F718","v":1233},{"$f":"+[2]Séries_Site!G718","v":2557},{"$f":"+[2]Séries_Site!H718","v":2526},{"$f":"+[2]Séries_Site!I718","v":31},{"$f":"+[2]Séries_Site!J718","v":3534},{"$f":"+[2]Séries_Site!K718","v":671},{"$f":"+[2]Séries_Site!L718","v":53},{"$f":"+[2]Séries_Site!M718","v":53},{"$f":"+[2]Séries_Site!N718","v":0},{"$f":"+[2]Séries_Site!O718","v":498},{"$f":"+[2]Séries_Site!P718","v":390},{"$f":"+[2]Séries_Site!Q718","v":0},{"$f":"+[2]Séries_Site!R718","v":0},{"$f":"+[2]Séries_Site!S718","v":0},{"$f":"+[2]Séries_Site!T718","v":0},{"$f":"+[2]Séries_Site!U718","v":0},{"$f":"+[2]Séries_Site!V718","v":146},{"$f":"+[2]Séries_Site!W718","v":146},{"$f":"+[2]Séries_Site!X718","v":0},{"$f":"+[2]Séries_Site!Y718","v":363},{"$f":"+[2]Séries_Site!Z718","v":14},{"$f":"+[2]Séries_Site!AA718","v":55},{"$f":"+[2]Séries_Site!AB718","v":55},{"$f":"+[2]Séries_Site!AC718","v":0},{"$f":"+[2]Séries_Site!AD718","v":71},{"$f":"+[2]Séries_Site!AE718","v":3},{"$f":"+[2]Séries_Site!AF718","v":317},{"$f":"+[2]Séries_Site!AG718","v":317},{"$f":"+[2]Séries_Site!AH718","v":0},{"$f":"+[2]Séries_Site!AI718","v":606},{"$f":"+[2]Séries_Site!AJ718","v":155}]
["2019-06-01",{"$f":"+[2]Séries_Site!B719","v":4326},{"$f":"+[2]Séries_Site!C719","v":4284},{"$f":"+[2]Séries_Site!D719","v":42},{"$f":"+[2]Séries_Site!E719","v":4418},{"$f":"+[2]Séries_Site!F719","v":898},{"$f":"+[2]Séries_Site!G719","v":3412},{"$f":"+[2]Séries_Site!H719","v":3370},{"$f":"+[2]Séries_Site!I719","v":42},{"$f":"+[2]Séries_Site!J719","v":3040},{"$f":"+[2]Séries_Site!K719","v":635},{"$f":"+[2]Séries_Site!L719","v":40},{"$f":"+[2]Séries_Site!M719","v":40},{"$f":"+[2]Séries_Site!N719","v":0},{"$f":"+[2]Séries_Site!O719","v":336},{"$f":"+[2]Séries_Site!P719","v":127},{"$f":"+[2]Séries_Site!Q719","v":0},{"$f":"+[2]Séries_Site!R719","v":0},{"$f":"+[2]Séries_Site!S719","v":0},{"$f":"+[2]Séries_Site!T719","v":0},{"$f":"+[2]Séries_Site!U719","v":0},{"$f":"+[2]Séries_Site!V719","v":527},{"$f":"+[2]Séries_Site!W719","v":527},{"$f":"+[2]Séries_Site!X719","v":0},{"$f":"+[2]Séries_Site!Y719","v":472},{"$f":"+[2]Séries_Site!Z719","v":25},{"$f":"+[2]Séries_Site!AA719","v":20},{"$f":"+[2]Séries_Site!AB719","v":20},{"$f":"+[2]Séries_Site!AC719","v":0},{"$f":"+[2]Séries_Site!AD719","v":58},{"$f":"+[2]Séries_Site!AE719","v":20},{"$f":"+[2]Séries_Site!AF719","v":327},{"$f":"+[2]Séries_Site!AG719","v":327},{"$f":"+[2]Séries_Site!AH719","v":0},{"$f":"+[2]Séries_Site!AI719","v":512},{"$f":"+[2]Séries_Site!AJ719","v":91}]
["2019-07-01",{"$f":"+[2]Séries_Site!B720","v":3941},{"$f":"+[2]Séries_Site!C720","v":3911},{"$f":"+[2]Séries_Site!D720","v":30},{"$f":"+[2]Séries_Site!E720","v":6151},{"$f":"+[2]Séries_Site!F720","v":1439},{"$f":"+[2]Séries_Site!G720","v":3219},{"$f":"+[2]Séries_Site!H720","v":3189},{"$f":"+[2]Séries_Site!I720","v":30},{"$f":"+[2]Séries_Site!J720","v":4451},{"$f":"+[2]Séries_Site!K720","v":778},{"$f":"+[2]Séries_Site!L720","v":57},{"$f":"+[2]Séries_Site!M720","v":57},{"$f":"+[2]Séries_Site!N720","v":0},{"$f":"+[2]Séries_Site!O720","v":359},{"$f":"+[2]Séries_Site!P720","v":348},{"$f":"+[2]Séries_Site!Q720","v":0},{"$f":"+[2]Séries_Site!R720","v":0},{"$f":"+[2]Séries_Site!S720","v":0},{"$f":"+[2]Séries_Site!T720","v":0},{"$f":"+[2]Séries_Site!U720","v":0},{"$f":"+[2]Séries_Site!V720","v":311},{"$f":"+[2]Séries_Site!W720","v":311},{"$f":"+[2]Séries_Site!X720","v":0},{"$f":"+[2]Séries_Site!Y720","v":659},{"$f":"+[2]Séries_Site!Z720","v":33},{"$f":"+[2]Séries_Site!AA720","v":19},{"$f":"+[2]Séries_Site!AB720","v":19},{"$f":"+[2]Séries_Site!AC720","v":0},{"$f":"+[2]Séries_Site!AD720","v":93},{"$f":"+[2]Séries_Site!AE720","v":33},{"$f":"+[2]Séries_Site!AF720","v":335},{"$f":"+[2]Séries_Site!AG720","v":335},{"$f":"+[2]Séries_Site!AH720","v":0},{"$f":"+[2]Séries_Site!AI720","v":589},{"$f":"+[2]Séries_Site!AJ720","v":247}]
["2019-08-01",{"$f":"+[2]Séries_Site!B721","v":4181},{"$f":"+[2]Séries_Site!C721","v":4129},{"$f":"+[2]Séries_Site!D721","v":52},{"$f":"+[2]Séries_Site!E721","v":5593},{"$f":"+[2]Séries_Site!F721","v":1202},{"$f":"+[2]Séries_Site!G721","v":3335},{"$f":"+[2]Séries_Site!H721","v":3284},{"$f":"+[2]Séries_Site!I721","v":51},{"$f":"+[2]Séries_Site!J721","v":3927},{"$f":"+[2]Séries_Site!K721","v":596},{"$f":"+[2]Séries_Site!L721","v":72},{"$f":"+[2]Séries_Site!M721","v":71},{"$f":"+[2]Séries_Site!N721","v":1},{"$f":"+[2]Séries_Site!O721","v":381},{"$f":"+[2]Séries_Site!P721","v":334},{"$f":"+[2]Séries_Site!Q721","v":0},{"$f":"+[2]Séries_Site!R721","v":0},{"$f":"+[2]Séries_Site!S721","v":0},{"$f":"+[2]Séries_Site!T721","v":0},{"$f":"+[2]Séries_Site!U721","v":0},{"$f":"+[2]Séries_Site!V721","v":422},{"$f":"+[2]Séries_Site!W721","v":422},{"$f":"+[2]Séries_Site!X721","v":0},{"$f":"+[2]Séries_Site!Y721","v":586},{"$f":"+[2]Séries_Site!Z721","v":32},{"$f":"+[2]Séries_Site!AA721","v":34},{"$f":"+[2]Séries_Site!AB721","v":34},{"$f":"+[2]Séries_Site!AC721","v":0},{"$f":"+[2]Séries_Site!AD721","v":55},{"$f":"+[2]Séries_Site!AE721","v":43},{"$f":"+[2]Séries_Site!AF721","v":318},{"$f":"+[2]Séries_Site!AG721","v":318},{"$f":"+[2]Séries_Site!AH721","v":0},{"$f":"+[2]Séries_Site!AI721","v":644},{"$f":"+[2]Séries_Site!AJ721","v":197}]
["2019-09-01",{"$f":"+[2]Séries_Site!B722","v":4977},{"$f":"+[2]Séries_Site!C722","v":4930},{"$f":"+[2]Séries_Site!D722","v":47},{"$f":"+[2]Séries_Site!E722","v":4795},{"$f":"+[2]Séries_Site!F722","v":962},{"$f":"+[2]Séries_Site!G722","v":3734},{"$f":"+[2]Séries_Site!H722","v":3687},{"$f":"+[2]Séries_Site!I722","v":47},{"$f":"+[2]Séries_Site!J722","v":3126},{"$f":"+[2]Séries_Site!K722","v":487},{"$f":"+[2]Séries_Site!L722","v":53},{"$f":"+[2]Séries_Site!M722","v":53},{"$f":"+[2]Séries_Site!N722","v":0},{"$f":"+[2]Séries_Site!O722","v":339},{"$f":"+[2]Séries_Site!P722","v":254},{"$f":"+[2]Séries_Site!Q722","v":0},{"$f":"+[2]Séries_Site!R722","v":0},{"$f":"+[2]Séries_Site!S722","v":0},{"$f":"+[2]Séries_Site!T722","v":0},{"$f":"+[2]Séries_Site!U722","v":0},{"$f":"+[2]Séries_Site!V722","v":685},{"$f":"+[2]Séries_Site!W722","v":685},{"$f":"+[2]Séries_Site!X722","v":0},{"$f":"+[2]Séries_Site!Y722","v":684},{"$f":"+[2]Séries_Site!Z722","v":35},{"$f":"+[2]Séries_Site!AA722","v":70},{"$f":"+[2]Séries_Site!AB722","v":70},{"$f":"+[2]Séries_Site!AC722","v":0},{"$f":"+[2]Séries_Site!AD722","v":67},{"$f":"+[2]Séries_Site!AE722","v":40},{"$f":"+[2]Séries_Site!AF722","v":435},{"$f":"+[2]Séries_Site!AG722","v":435},{"$f":"+[2]Séries_Site!AH722","v":0},{"$f":"+[2]Séries_Site!AI722","v":579},{"$f":"+[2]Séries_Site!AJ722","v":146}]
["2019-10-01",{"$f":"+[2]Séries_Site!B723","v":4224},{"$f":"+[2]Séries_Site!C723","v":4205},{"$f":"+[2]Séries_Site!D723","v":19},{"$f":"+[2]Séries_Site!E723","v":5189},{"$f":"+[2]Séries_Site!F723","v":1134},{"$f":"+[2]Séries_Site!G723","v":3187},{"$f":"+[2]Séries_Site!H723","v":3168},{"$f":"+[2]Séries_Site!I723","v":19},{"$f":"+[2]Séries_Site!J723","v":3516},{"$f":"+[2]Séries_Site!K723","v":617},{"$f":"+[2]Séries_Site!L723","v":52},{"$f":"+[2]Séries_Site!M723","v":52},{"$f":"+[2]Séries_Site!N723","v":0},{"$f":"+[2]Séries_Site!O723","v":308},{"$f":"+[2]Séries_Site!P723","v":217},{"$f":"+[2]Séries_Site!Q723","v":0},{"$f":"+[2]Séries_Site!R723","v":0},{"$f":"+[2]Séries_Site!S723","v":0},{"$f":"+[2]Séries_Site!T723","v":0},{"$f":"+[2]Séries_Site!U723","v":0},{"$f":"+[2]Séries_Site!V723","v":393},{"$f":"+[2]Séries_Site!W723","v":393},{"$f":"+[2]Séries_Site!X723","v":0},{"$f":"+[2]Séries_Site!Y723","v":670},{"$f":"+[2]Séries_Site!Z723","v":64},{"$f":"+[2]Séries_Site!AA723","v":73},{"$f":"+[2]Séries_Site!AB723","v":73},{"$f":"+[2]Séries_Site!AC723","v":0},{"$f":"+[2]Séries_Site!AD723","v":66},{"$f":"+[2]Séries_Site!AE723","v":34},{"$f":"+[2]Séries_Site!AF723","v":519},{"$f":"+[2]Séries_Site!AG723","v":519},{"$f":"+[2]Séries_Site!AH723","v":0},{"$f":"+[2]Séries_Site!AI723","v":629},{"$f":"+[2]Séries_Site!AJ723","v":202}]
["2019-11-01",{"$f":"+[2]Séries_Site!B724","v":3295},{"$f":"+[2]Séries_Site!C724","v":3272},{"$f":"+[2]Séries_Site!D724","v":23},{"$f":"+[2]Séries_Site!E724","v":4386},{"$f":"+[2]Séries_Site!F724","v":1114},{"$f":"+[2]Séries_Site!G724","v":2371},{"$f":"+[2]Séries_Site!H724","v":2348},{"$f":"+[2]Séries_Site!I724","v":23},{"$f":"+[2]Séries_Site!J724","v":3020},{"$f":"+[2]Séries_Site!K724","v":619},{"$f":"+[2]Séries_Site!L724","v":56},{"$f":"+[2]Séries_Site!M724","v":56},{"$f":"+[2]Séries_Site!N724","v":0},{"$f":"+[2]Séries_Site!O724","v":311},{"$f":"+[2]Séries_Site!P724","v":298},{"$f":"+[2]Séries_Site!Q724","v":0},{"$f":"+[2]Séries_Site!R724","v":0},{"$f":"+[2]Séries_Site!S724","v":0},{"$f":"+[2]Séries_Site!T724","v":0},{"$f":"+[2]Séries_Site!U724","v":0},{"$f":"+[2]Séries_Site!V724","v":491},{"$f":"+[2]Séries_Site!W724","v":491},{"$f":"+[2]Séries_Site!X724","v":0},{"$f":"+[2]Séries_Site!Y724","v":508},{"$f":"+[2]Séries_Site!Z724","v":32},{"$f":"+[2]Séries_Site!AA724","v":23},{"$f":"+[2]Séries_Site!AB724","v":23},{"$f":"+[2]Séries_Site!AC724","v":0},{"$f":"+[2]Séries_Site!AD724","v":60},{"$f":"+[2]Séries_Site!AE724","v":2},{"$f":"+[2]Séries_Site!AF724","v":354},{"$f":"+[2]Séries_Site!AG724","v":354},{"$f":"+[2]Séries_Site!AH724","v":0},{"$f":"+[2]Séries_Site!AI724","v":487},{"$f":"+[2]Séries_Site!AJ724","v":163}]
["2019-12-01",{"$f":"+[2]Séries_Site!B725","v":3341},{"$f":"+[2]Séries_Site!C725","v":3223},{"$f":"+[2]Séries_Site!D725","v":118},{"$f":"+[2]Séries_Site!E725","v":2287},{"$f":"+[2]Séries_Site!F725","v":951},{"$f":"+[2]Séries_Site!G725","v":2074},{"$f":"+[2]Séries_Site!H725","v":1958},{"$f":"+[2]Séries_Site!I725","v":116},{"$f":"+[2]Séries_Site!J725","v":1438},{"$f":"+[2]Séries_Site!K725","v":500},{"$f":"+[2]Séries_Site!L725","v":55},{"$f":"+[2]Séries_Site!M725","v":54},{"$f":"+[2]Séries_Site!N725","v":1},{"$f":"+[2]Séries_Site!O725","v":216},{"$f":"+[2]Séries_Site!P725","v":251},{"$f":"+[2]Séries_Site!Q725","v":0},{"$f":"+[2]Séries_Site!R725","v":0},{"$f":"+[2]Séries_Site!S725","v":0},{"$f":"+[2]Séries_Site!T725","v":0},{"$f":"+[2]Séries_Site!U725","v":0},{"$f":"+[2]Séries_Site!V725","v":756},{"$f":"+[2]Séries_Site!W725","v":755},{"$f":"+[2]Séries_Site!X725","v":1},{"$f":"+[2]Séries_Site!Y725","v":273},{"$f":"+[2]Séries_Site!Z725","v":85},{"$f":"+[2]Séries_Site!AA725","v":50},{"$f":"+[2]Séries_Site!AB725","v":50},{"$f":"+[2]Séries_Site!AC725","v":0},{"$f":"+[2]Séries_Site!AD725","v":41},{"$f":"+[2]Séries_Site!AE725","v":6},{"$f":"+[2]Séries_Site!AF725","v":406},{"$f":"+[2]Séries_Site!AG725","v":406},{"$f":"+[2]Séries_Site!AH725","v":0},{"$f":"+[2]Séries_Site!AI725","v":319},{"$f":"+[2]Séries_Site!AJ725","v":109}]
["2020-01-01",{"$f":"+[2]Séries_Site!B726","v":2493},{"$f":"+[2]Séries_Site!C726","v":2422},{"$f":"+[2]Séries_Site!D726","v":71},{"$f":"+[2]Séries_Site!E726","v":2491},{"$f":"+[2]Séries_Site!F726","v":543},{"$f":"+[2]Séries_Site!G726","v":1769},{"$f":"+[2]Séries_Site!H726","v":1698},{"$f":"+[2]Séries_Site!I726","v":71},{"$f":"+[2]Séries_Site!J726","v":1392},{"$f":"+[2]Séries_Site!K726","v":284},{"$f":"+[2]Séries_Site!L726","v":47},{"$f":"+[2]Séries_Site!M726","v":47},{"$f":"+[2]Séries_Site!N726","v":0},{"$f":"+[2]Séries_Site!O726","v":193},{"$f":"+[2]Séries_Site!P726","v":118},{"$f":"+[2]Séries_Site!Q726","v":0},{"$f":"+[2]Séries_Site!R726","v":0},{"$f":"+[2]Séries_Site!S726","v":0},{"$f":"+[2]Séries_Site!T726","v":0},{"$f":"+[2]Séries_Site!U726","v":0},{"$f":"+[2]Séries_Site!V726","v":340},{"$f":"+[2]Séries_Site!W726","v":340},{"$f":"+[2]Séries_Site!X726","v":0},{"$f":"+[2]Séries_Site!Y726","v":432},{"$f":"+[2]Séries_Site!Z726","v":52},{"$f":"+[2]Séries_Site!AA726","v":77},{"$f":"+[2]Séries_Site!AB726","v":77},{"$f":"+[2]Séries_Site!AC726","v":0},{"$f":"+[2]Séries_Site!AD726","v":108},{"$f":"+[2]Séries_Site!AE726","v":10},{"$f":"+[2]Séries_Site!AF726","v":260},{"$f":"+[2]Séries_Site!AG726","v":260},{"$f":"+[2]Séries_Site!AH726","v":0},{"$f":"+[2]Séries_Site!AI726","v":366},{"$f":"+[2]Séries_Site!AJ726","v":79}]
["2020-02-01",{"$f":"+[2]Séries_Site!B727","v":2834},{"$f":"+[2]Séries_Site!C727","v":2822},{"$f":"+[2]Séries_Site!D727","v":12},{"$f":"+[2]Séries_Site!E727","v":3585},{"$f":"+[2]Séries_Site!F727","v":824},{"$f":"+[2]Séries_Site!G727","v":1962},{"$f":"+[2]Séries_Site!H727","v":1951},{"$f":"+[2]Séries_Site!I727","v":11},{"$f":"+[2]Séries_Site!J727","v":2346},{"$f":"+[2]Séries_Site!K727","v":456},{"$f":"+[2]Séries_Site!L727","v":79},{"$f":"+[2]Séries_Site!M727","v":78},{"$f":"+[2]Séries_Site!N727","v":1},{"$f":"+[2]Séries_Site!O727","v":260},{"$f":"+[2]Séries_Site!P727","v":186},{"$f":"+[2]Séries_Site!Q727","v":0},{"$f":"+[2]Séries_Site!R727","v":0},{"$f":"+[2]Séries_Site!S727","v":0},{"$f":"+[2]Séries_Site!T727","v":0},{"$f":"+[2]Séries_Site!U727","v":0},{"$f":"+[2]Séries_Site!V727","v":342},{"$f":"+[2]Séries_Site!W727","v":342},{"$f":"+[2]Séries_Site!X727","v":0},{"$f":"+[2]Séries_Site!Y727","v":373},{"$f":"+[2]Séries_Site!Z727","v":65},{"$f":"+[2]Séries_Site!AA727","v":112},{"$f":"+[2]Séries_Site!AB727","v":112},{"$f":"+[2]Séries_Site!AC727","v":0},{"$f":"+[2]Séries_Site!AD727","v":121},{"$f":"+[2]Séries_Site!AE727","v":10},{"$f":"+[2]Séries_Site!AF727","v":339},{"$f":"+[2]Séries_Site!AG727","v":339},{"$f":"+[2]Séries_Site!AH727","v":0},{"$f":"+[2]Séries_Site!AI727","v":485},{"$f":"+[2]Séries_Site!AJ727","v":107}]
["2020-03-01",{"$f":"+[2]Séries_Site!B728","v":4126},{"$f":"+[2]Séries_Site!C728","v":3971},{"$f":"+[2]Séries_Site!D728","v":155},{"$f":"+[2]Séries_Site!E728","v":4271},{"$f":"+[2]Séries_Site!F728","v":975},{"$f":"+[2]Séries_Site!G728","v":3112},{"$f":"+[2]Séries_Site!H728","v":2962},{"$f":"+[2]Séries_Site!I728","v":150},{"$f":"+[2]Séries_Site!J728","v":2982},{"$f":"+[2]Séries_Site!K728","v":563},{"$f":"+[2]Séries_Site!L728","v":78},{"$f":"+[2]Séries_Site!M728","v":74},{"$f":"+[2]Séries_Site!N728","v":4},{"$f":"+[2]Séries_Site!O728","v":304},{"$f":"+[2]Séries_Site!P728","v":223},{"$f":"+[2]Séries_Site!Q728","v":0},{"$f":"+[2]Séries_Site!R728","v":0},{"$f":"+[2]Séries_Site!S728","v":0},{"$f":"+[2]Séries_Site!T728","v":0},{"$f":"+[2]Séries_Site!U728","v":0},{"$f":"+[2]Séries_Site!V728","v":389},{"$f":"+[2]Séries_Site!W728","v":388},{"$f":"+[2]Séries_Site!X728","v":1},{"$f":"+[2]Séries_Site!Y728","v":351},{"$f":"+[2]Séries_Site!Z728","v":50},{"$f":"+[2]Séries_Site!AA728","v":176},{"$f":"+[2]Séries_Site!AB728","v":176},{"$f":"+[2]Séries_Site!AC728","v":0},{"$f":"+[2]Séries_Site!AD728","v":115},{"$f":"+[2]Séries_Site!AE728","v":11},{"$f":"+[2]Séries_Site!AF728","v":371},{"$f":"+[2]Séries_Site!AG728","v":371},{"$f":"+[2]Séries_Site!AH728","v":0},{"$f":"+[2]Séries_Site!AI728","v":519},{"$f":"+[2]Séries_Site!AJ728","v":128}]
["2020-04-01",{"$f":"+[2]Séries_Site!B729","v":2400},{"$f":"+[2]Séries_Site!C729","v":2240},{"$f":"+[2]Séries_Site!D729","v":160},{"$f":"+[2]Séries_Site!E729","v":1820},{"$f":"+[2]Séries_Site!F729","v":476},{"$f":"+[2]Séries_Site!G729","v":1931},{"$f":"+[2]Séries_Site!H729","v":1784},{"$f":"+[2]Séries_Site!I729","v":147},{"$f":"+[2]Séries_Site!J729","v":1301},{"$f":"+[2]Séries_Site!K729","v":250},{"$f":"+[2]Séries_Site!L729","v":39},{"$f":"+[2]Séries_Site!M729","v":28},{"$f":"+[2]Séries_Site!N729","v":11},{"$f":"+[2]Séries_Site!O729","v":169},{"$f":"+[2]Séries_Site!P729","v":108},{"$f":"+[2]Séries_Site!Q729","v":0},{"$f":"+[2]Séries_Site!R729","v":0},{"$f":"+[2]Séries_Site!S729","v":0},{"$f":"+[2]Séries_Site!T729","v":0},{"$f":"+[2]Séries_Site!U729","v":0},{"$f":"+[2]Séries_Site!V729","v":172},{"$f":"+[2]Séries_Site!W729","v":170},{"$f":"+[2]Séries_Site!X729","v":2},{"$f":"+[2]Séries_Site!Y729","v":52},{"$f":"+[2]Séries_Site!Z729","v":44},{"$f":"+[2]Séries_Site!AA729","v":34},{"$f":"+[2]Séries_Site!AB729","v":34},{"$f":"+[2]Séries_Site!AC729","v":0},{"$f":"+[2]Séries_Site!AD729","v":20},{"$f":"+[2]Séries_Site!AE729","v":7},{"$f":"+[2]Séries_Site!AF729","v":224},{"$f":"+[2]Séries_Site!AG729","v":224},{"$f":"+[2]Séries_Site!AH729","v":0},{"$f":"+[2]Séries_Site!AI729","v":278},{"$f":"+[2]Séries_Site!AJ729","v":67}]
["2020-05-01",{"$f":"+[2]Séries_Site!B730","v":3876},{"$f":"+[2]Séries_Site!C730","v":3782},{"$f":"+[2]Séries_Site!D730","v":94},{"$f":"+[2]Séries_Site!E730","v":3649},{"$f":"+[2]Séries_Site!F730","v":758},{"$f":"+[2]Séries_Site!G730","v":3074},{"$f":"+[2]Séries_Site!H730","v":2980},{"$f":"+[2]Séries_Site!I730","v":94},{"$f":"+[2]Séries_Site!J730","v":2714},{"$f":"+[2]Séries_Site!K730","v":394},{"$f":"+[2]Séries_Site!L730","v":94},{"$f":"+[2]Séries_Site!M730","v":94},{"$f":"+[2]Séries_Site!N730","v":0},{"$f":"+[2]Séries_Site!O730","v":261},{"$f":"+[2]Séries_Site!P730","v":198},{"$f":"+[2]Séries_Site!Q730","v":0},{"$f":"+[2]Séries_Site!R730","v":0},{"$f":"+[2]Séries_Site!S730","v":0},{"$f":"+[2]Séries_Site!T730","v":0},{"$f":"+[2]Séries_Site!U730","v":0},{"$f":"+[2]Séries_Site!V730","v":318},{"$f":"+[2]Séries_Site!W730","v":318},{"$f":"+[2]Séries_Site!X730","v":0},{"$f":"+[2]Séries_Site!Y730","v":213},{"$f":"+[2]Séries_Site!Z730","v":68},{"$f":"+[2]Séries_Site!AA730","v":16},{"$f":"+[2]Séries_Site!AB730","v":16},{"$f":"+[2]Séries_Site!AC730","v":0},{"$f":"+[2]Séries_Site!AD730","v":24},{"$f":"+[2]Séries_Site!AE730","v":2},{"$f":"+[2]Séries_Site!AF730","v":374},{"$f":"+[2]Séries_Site!AG730","v":374},{"$f":"+[2]Séries_Site!AH730","v":0},{"$f":"+[2]Séries_Site!AI730","v":437},{"$f":"+[2]Séries_Site!AJ730","v":96}]
["2020-06-01",{"$f":"+[2]Séries_Site!B731","v":3902},{"$f":"+[2]Séries_Site!C731","v":3862},{"$f":"+[2]Séries_Site!D731","v":40},{"$f":"+[2]Séries_Site!E731","v":3319},{"$f":"+[2]Séries_Site!F731","v":614},{"$f":"+[2]Séries_Site!G731","v":2616},{"$f":"+[2]Séries_Site!H731","v":2576},{"$f":"+[2]Séries_Site!I731","v":40},{"$f":"+[2]Séries_Site!J731","v":2414},{"$f":"+[2]Séries_Site!K731","v":409},{"$f":"+[2]Séries_Site!L731","v":90},{"$f":"+[2]Séries_Site!M731","v":90},{"$f":"+[2]Séries_Site!N731","v":0},{"$f":"+[2]Séries_Site!O731","v":117},{"$f":"+[2]Séries_Site!P731","v":96},{"$f":"+[2]Séries_Site!Q731","v":0},{"$f":"+[2]Séries_Site!R731","v":0},{"$f":"+[2]Séries_Site!S731","v":0},{"$f":"+[2]Séries_Site!T731","v":0},{"$f":"+[2]Séries_Site!U731","v":0},{"$f":"+[2]Séries_Site!V731","v":734},{"$f":"+[2]Séries_Site!W731","v":734},{"$f":"+[2]Séries_Site!X731","v":0},{"$f":"+[2]Séries_Site!Y731","v":320},{"$f":"+[2]Séries_Site!Z731","v":22},{"$f":"+[2]Séries_Site!AA731","v":52},{"$f":"+[2]Séries_Site!AB731","v":52},{"$f":"+[2]Séries_Site!AC731","v":0},{"$f":"+[2]Séries_Site!AD731","v":45},{"$f":"+[2]Séries_Site!AE731","v":6},{"$f":"+[2]Séries_Site!AF731","v":410},{"$f":"+[2]Séries_Site!AG731","v":410},{"$f":"+[2]Séries_Site!AH731","v":0},{"$f":"+[2]Séries_Site!AI731","v":423},{"$f":"+[2]Séries_Site!AJ731","v":81}]
["2020-07-01",{"$f":"+[2]Séries_Site!B732","v":4500},{"$f":"+[2]Séries_Site!C732","v":4427},{"$f":"+[2]Séries_Site!D732","v":73},{"$f":"+[2]Séries_Site!E732","v":5123},{"$f":"+[2]Séries_Site!F732","v":843},{"$f":"+[2]Séries_Site!G732","v":3759},{"$f":"+[2]Séries_Site!H732","v":3686},{"$f":"+[2]Séries_Site!I732","v":73},{"$f":"+[2]Séries_Site!J732","v":4014},{"$f":"+[2]Séries_Site!K732","v":537},{"$f":"+[2]Séries_Site!L732","v":63},{"$f":"+[2]Séries_Site!M732","v":63},{"$f":"+[2]Séries_Site!N732","v":0},{"$f":"+[2]Séries_Site!O732","v":216},{"$f":"+[2]Séries_Site!P732","v":170},{"$f":"+[2]Séries_Site!Q732","v":0},{"$f":"+[2]Séries_Site!R732","v":0},{"$f":"+[2]Séries_Site!S732","v":0},{"$f":"+[2]Séries_Site!T732","v":0},{"$f":"+[2]Séries_Site!U732","v":0},{"$f":"+[2]Séries_Site!V732","v":317},{"$f":"+[2]Séries_Site!W732","v":317},{"$f":"+[2]Séries_Site!X732","v":0},{"$f":"+[2]Séries_Site!Y732","v":402},{"$f":"+[2]Séries_Site!Z732","v":12},{"$f":"+[2]Séries_Site!AA732","v":26},{"$f":"+[2]Séries_Site!AB732","v":26},{"$f":"+[2]Séries_Site!AC732","v":0},{"$f":"+[2]Séries_Site!AD732","v":57},{"$f":"+[2]Séries_Site!AE732","v":27},{"$f":"+[2]Séries_Site!AF732","v":335},{"$f":"+[2]Séries_Site!AG732","v":335},{"$f":"+[2]Séries_Site!AH732","v":0},{"$f":"+[2]Séries_Site!AI732","v":434},{"$f":"+[2]Séries_Site!AJ732","v":97}]
["2020-08-01",{"$f":"+[2]Séries_Site!B733","v":4374},{"$f":"+[2]Séries_Site!C733","v":4192},{"$f":"+[2]Séries_Site!D733","v":182},{"$f":"+[2]Séries_Site!E733","v":4357},{"$f":"+[2]Séries_Site!F733","v":664},{"$f":"+[2]Séries_Site!G733","v":3558},{"$f":"+[2]Séries_Site!H733","v":3377},{"$f":"+[2]Séries_Site!I733","v":181},{"$f":"+[2]Séries_Site!J733","v":3356},{"$f":"+[2]Séries_Site!K733","v":423},{"$f":"+[2]Séries_Site!L733","v":62},{"$f":"+[2]Séries_Site!M733","v":62},{"$f":"+[2]Séries_Site!N733","v":0},{"$f":"+[2]Séries_Site!O733","v":187},{"$f":"+[2]Séries_Site!P733","v":133},{"$f":"+[2]Séries_Site!Q733","v":0},{"$f":"+[2]Séries_Site!R733","v":0},{"$f":"+[2]Séries_Site!S733","v":0},{"$f":"+[2]Séries_Site!T733","v":0},{"$f":"+[2]Séries_Site!U733","v":0},{"$f":"+[2]Séries_Site!V733","v":289},{"$f":"+[2]Séries_Site!W733","v":288},{"$f":"+[2]Séries_Site!X733","v":1},{"$f":"+[2]Séries_Site!Y733","v":304},{"$f":"+[2]Séries_Site!Z733","v":7},{"$f":"+[2]Séries_Site!AA733","v":37},{"$f":"+[2]Séries_Site!AB733","v":37},{"$f":"+[2]Séries_Site!AC733","v":0},{"$f":"+[2]Séries_Site!AD733","v":80},{"$f":"+[2]Séries_Site!AE733","v":25},{"$f":"+[2]Séries_Site!AF733","v":428},{"$f":"+[2]Séries_Site!AG733","v":428},{"$f":"+[2]Séries_Site!AH733","v":0},{"$f":"+[2]Séries_Site!AI733","v":430},{"$f":"+[2]Séries_Site!AJ733","v":76}]
["2020-09-01",{"$f":"+[2]Séries_Site!B734","v":4769},{"$f":"+[2]Séries_Site!C734","v":4378},{"$f":"+[2]Séries_Site!D734","v":391},{"$f":"+[2]Séries_Site!E734","v":4513},{"$f":"+[2]Séries_Site!F734","v":744},{"$f":"+[2]Séries_Site!G734","v":3644},{"$f":"+[2]Séries_Site!H734","v":3261},{"$f":"+[2]Séries_Site!I734","v":383},{"$f":"+[2]Séries_Site!J734","v":3150},{"$f":"+[2]Séries_Site!K734","v":481},{"$f":"+[2]Séries_Site!L734","v":72},{"$f":"+[2]Séries_Site!M734","v":72},{"$f":"+[2]Séries_Site!N734","v":0},{"$f":"+[2]Séries_Site!O734","v":287},{"$f":"+[2]Séries_Site!P734","v":121},{"$f":"+[2]Séries_Site!Q734","v":0},{"$f":"+[2]Séries_Site!R734","v":0},{"$f":"+[2]Séries_Site!S734","v":0},{"$f":"+[2]Séries_Site!T734","v":0},{"$f":"+[2]Séries_Site!U734","v":0},{"$f":"+[2]Séries_Site!V734","v":575},{"$f":"+[2]Séries_Site!W734","v":567},{"$f":"+[2]Séries_Site!X734","v":8},{"$f":"+[2]Séries_Site!Y734","v":508},{"$f":"+[2]Séries_Site!Z734","v":14},{"$f":"+[2]Séries_Site!AA734","v":64},{"$f":"+[2]Séries_Site!AB734","v":64},{"$f":"+[2]Séries_Site!AC734","v":0},{"$f":"+[2]Séries_Site!AD734","v":62},{"$f":"+[2]Séries_Site!AE734","v":15},{"$f":"+[2]Séries_Site!AF734","v":414},{"$f":"+[2]Séries_Site!AG734","v":414},{"$f":"+[2]Séries_Site!AH734","v":0},{"$f":"+[2]Séries_Site!AI734","v":506},{"$f":"+[2]Séries_Site!AJ734","v":113}]
["2020-10-01",{"$f":"+[2]Séries_Site!B735","v":4530},{"$f":"+[2]Séries_Site!C735","v":4368},{"$f":"+[2]Séries_Site!D735","v":162},{"$f":"+[2]Séries_Site!E735","v":4853},{"$f":"+[2]Séries_Site!F735","v":797},{"$f":"+[2]Séries_Site!G735","v":3362},{"$f":"+[2]Séries_Site!H735","v":3204},{"$f":"+[2]Séries_Site!I735","v":158},{"$f":"+[2]Séries_Site!J735","v":3419},{"$f":"+[2]Séries_Site!K735","v":485},{"$f":"+[2]Séries_Site!L735","v":82},{"$f":"+[2]Séries_Site!M735","v":78},{"$f":"+[2]Séries_Site!N735","v":4},{"$f":"+[2]Séries_Site!O735","v":241},{"$f":"+[2]Séries_Site!P735","v":161},{"$f":"+[2]Séries_Site!Q735","v":0},{"$f":"+[2]Séries_Site!R735","v":0},{"$f":"+[2]Séries_Site!S735","v":0},{"$f":"+[2]Séries_Site!T735","v":0},{"$f":"+[2]Séries_Site!U735","v":0},{"$f":"+[2]Séries_Site!V735","v":596},{"$f":"+[2]Séries_Site!W735","v":596},{"$f":"+[2]Séries_Site!X735","v":0},{"$f":"+[2]Séries_Site!Y735","v":660},{"$f":"+[2]Séries_Site!Z735","v":10},{"$f":"+[2]Séries_Site!AA735","v":47},{"$f":"+[2]Séries_Site!AB735","v":47},{"$f":"+[2]Séries_Site!AC735","v":0},{"$f":"+[2]Séries_Site!AD735","v":37},{"$f":"+[2]Séries_Site!AE735","v":18},{"$f":"+[2]Séries_Site!AF735","v":443},{"$f":"+[2]Séries_Site!AG735","v":443},{"$f":"+[2]Séries_Site!AH735","v":0},{"$f":"+[2]Séries_Site!AI735","v":496},{"$f":"+[2]Séries_Site!AJ735","v":123}]
["2020-11-01",{"$f":"+[2]Séries_Site!B736","v":4269},{"$f":"+[2]Séries_Site!C736","v":4194},{"$f":"+[2]Séries_Site!D736","v":75},{"$f":"+[2]Séries_Site!E736","v":4961},{"$f":"+[2]Séries_Site!F736","v":737},{"$f":"+[2]Séries_Site!G736","v":3071},{"$f":"+[2]Séries_Site!H736","v":2996},{"$f":"+[2]Séries_Site!I736","v":75},{"$f":"+[2]Séries_Site!J736","v":3451},{"$f":"+[2]Séries_Site!K736","v":346},{"$f":"+[2]Séries_Site!L736","v":104},{"$f":"+[2]Séries_Site!M736","v":104},{"$f":"+[2]Séries_Site!N736","v":0},{"$f":"+[2]Séries_Site!O736","v":250},{"$f":"+[2]Séries_Site!P736","v":219},{"$f":"+[2]Séries_Site!Q736","v":0},{"$f":"+[2]Séries_Site!R736","v":0},{"$f":"+[2]Séries_Site!S736","v":0},{"$f":"+[2]Séries_Site!T736","v":0},{"$f":"+[2]Séries_Site!U736","v":0},{"$f":"+[2]Séries_Site!V736","v":662},{"$f":"+[2]Séries_Site!W736","v":662},{"$f":"+[2]Séries_Site!X736","v":0},{"$f":"+[2]Séries_Site!Y736","v":666},{"$f":"+[2]Séries_Site!Z736","v":17},{"$f":"+[2]Séries_Site!AA736","v":51},{"$f":"+[2]Séries_Site!AB736","v":51},{"$f":"+[2]Séries_Site!AC736","v":0},{"$f":"+[2]Séries_Site!AD736","v":70},{"$f":"+[2]Séries_Site!AE736","v":7},{"$f":"+[2]Séries_Site!AF736","v":381},{"$f":"+[2]Séries_Site!AG736","v":381},{"$f":"+[2]Séries_Site!AH736","v":0},{"$f":"+[2]Séries_Site!AI736","v":524},{"$f":"+[2]Séries_Site!AJ736","v":148}]
["2020-12-01",{"$f":"+[2]Séries_Site!B737","v":5004},{"$f":"+[2]Séries_Site!C737","v":4967},{"$f":"+[2]Séries_Site!D737","v":37},{"$f":"+[2]Séries_Site!E737","v":4977},{"$f":"+[2]Séries_Site!F737","v":619},{"$f":"+[2]Séries_Site!G737","v":3508},{"$f":"+[2]Séries_Site!H737","v":3472},{"$f":"+[2]Séries_Site!I737","v":36},{"$f":"+[2]Séries_Site!J737","v":3462},{"$f":"+[2]Séries_Site!K737","v":324},{"$f":"+[2]Séries_Site!L737","v":134},{"$f":"+[2]Séries_Site!M737","v":134},{"$f":"+[2]Séries_Site!N737","v":0},{"$f":"+[2]Séries_Site!O737","v":284},{"$f":"+[2]Séries_Site!P737","v":139},{"$f":"+[2]Séries_Site!Q737","v":0},{"$f":"+[2]Séries_Site!R737","v":0},{"$f":"+[2]Séries_Site!S737","v":0},{"$f":"+[2]Séries_Site!T737","v":0},{"$f":"+[2]Séries_Site!U737","v":0},{"$f":"+[2]Séries_Site!V737","v":881},{"$f":"+[2]Séries_Site!W737","v":880},{"$f":"+[2]Séries_Site!X737","v":1},{"$f":"+[2]Séries_Site!Y737","v":682},{"$f":"+[2]Séries_Site!Z737","v":37},{"$f":"+[2]Séries_Site!AA737","v":78},{"$f":"+[2]Séries_Site!AB737","v":78},{"$f":"+[2]Séries_Site!AC737","v":0},{"$f":"+[2]Séries_Site!AD737","v":41},{"$f":"+[2]Séries_Site!AE737","v":1},{"$f":"+[2]Séries_Site!AF737","v":403},{"$f":"+[2]Séries_Site!AG737","v":403},{"$f":"+[2]Séries_Site!AH737","v":0},{"$f":"+[2]Séries_Site!AI737","v":508},{"$f":"+[2]Séries_Site!AJ737","v":118}]